{"text_format":"1","workbook":"xlsx","n_sheets":16,"sheets":["Structure","Resource","List","Timing","Source","Pop","Piv","Piv2","Rank","Calc","Map","Gauge","Line","Bar","Check","Dash"],"not_rendered":{"charts":1,"images":4,"macros":1,"external_links":0,"defined_names":5,"comments":2,"pivot_tables":0},"unopened":[],"bounds":{"document_bytes":16777216,"sheet_cells":100000,"rows_first":2000,"rows_last":500,"rows_between":2000,"halvings":0,"cell_chars":16384,"cell_head_chars":4096},"cells_cut":0,"cells_raw":0,"read":"whole","date_system":"1900"}

{"sheet":"Structure","index":0,"n_rows":16,"n_cols":7,"rows_kept":16,"cut":false,"hidden":false,"merged":[]}
[null,null,null,null,"Sheets","Desc","Link"]
[null,null,null,null,"Resource","Model Resources",{"$f":"HYPERLINK(\"#\"&E2&\"!A2\",E2)","v":"Resource"}]
[null,null,null,null,"List","Main Assumptions","List"]
[null,null,null,null,"Timing","Timing Assumptions","Timing"]
[null,null,null,null,"Source","Raw Data (John Hopkings University)","Source"]
[null,null,null,null,"Pop","Population Data","Pop"]
[null,null,null,null,"Map","Details for the Dashboard Map Chart","Map"]
[null,null,null,null,"Gauge","Calcs for the Gauge Chart","Gauge"]
[null,null,null,null,"Line","Calcs for the Line Chart","Line"]
[null,null,null,null,"Bar","Calcs for the Bar Chart","Bar"]
[null,null,null,null,"Piv","Main Data Pivot Tables","Piv"]
[null,null,null,null,"Piv2","Pivot Tables Less N Days","Piv2"]
[null,null,null,null,"Rank","Desending Rank for Confirmed, Death, Recovered","Rank"]
[null,null,null,null,"Calc","Key Data for the Dashboard Page","Calc"]
[null,null,null,null,"Check","Integrity Checks and Balances for the Model","Check"]
[null,null,null,null,"Dash","Main Covid19 Output Dashboard","Dash"]

{"sheet":"Resource","index":1,"n_rows":16,"n_cols":2,"rows_kept":16,"cut":false,"hidden":false,"merged":[]}
["Type","Source"]
["Cases, Recovered Deaths by Country","John Hopkins University data repository (See List sheet )"]
["Total Cases that Double by day","https://ourworldindata.org/coronavirus"]
["Closed Cases","https://www.worldometers.info/coronavirus/#news"]
["Bar Charting Inspiration","ClearlyandSimply.com (Robert Mundigl)"]
[]
[]
[]
[]
[]
[]
["Workings","The Model is Updated via the button - then by choosing a valid date"]
[null,"in the cell adjacent."]
[]
[null,"Be sure to check the reconciliation of the model in case new "]
[null,"countries emerge."]

{"sheet":"List","index":2,"n_rows":7,"n_cols":25,"rows_kept":7,"cut":false,"hidden":false,"merged":[]}
[null,"Reports","URLs",null,"Confirmed","Deaths","Recovered","Active",null,"Min","Max",null,"Active","Inactive",null,"Metric","Chart Ref",null,"< Days",null,"Map",null,"Offset",null,"Model Check"]
[null,"Confirmed","https://raw.githubusercontent.com/CSSEGISandData/COVID-19/master/csse_covid_19_data/csse_covid_19_time_series/time_series_covid19_confirmed_global.csv",null,0,1,1,1,null,1,{"$f":"MAX(Rank!$A$1:$A$200)-COUNTA(Dash!$B$9:$B$24)","v":187},null,60,100,null,"Half",2,null,14,null,9000,null,1,null,"Check Model"]
[null,"Deaths","https://raw.githubusercontent.com/CSSEGISandData/COVID-19/master/csse_covid_19_data/csse_covid_19_time_series/time_series_covid19_deaths_global.csv",null,null,null,null,null,null,null,null,null,null,null,null,null,null,null,{"$f":"\" ▲  Last \"&S2&\" Days\"","v":" ▲  Last 14 Days"},null,null,null,null,null,"Check Charts"]
[null,"Recovered","https://raw.githubusercontent.com/CSSEGISandData/COVID-19/master/csse_covid_19_data/csse_covid_19_time_series/time_series_covid19_recovered_global.csv",null,null,null,null,null,null,null,null,null,null,null,null,null,null,null,null,null,null,null,null,null,"Model In Balance"]
[null,null,null,null,null,null,null,null,null,null,null,null,null,null,null,null,null,null,null,null,null,null,null,null,"Charts In Balance"]
[null,null,null,null,null,null,null,null,null,null,null,null,null,null,null,null,null,null,null,null,null,null,null,null,"Check Countries"]
[null,null,null,null,null,null,null,null,null,null,null,null,null,null,null,null,null,null,null,null,null,null,null,null,"Countries Balance"]

{"sheet":"Timing","index":3,"n_rows":255,"n_cols":5,"rows_kept":255,"cut":false,"hidden":false,"merged":[]}
[null,"Chart Dates",null,"Day - Month","< 1 Week"]
[null,"2020-01-22",null,"2020-04-06",{"$f":"Date-List!$S$2","v":"2020-04-18"}]
[null,"2020-01-23",null,"2020-04-07"]
[null,"2020-01-24",null,"2020-04-08"]
[null,"2020-01-25",null,"2020-04-09"]
[null,"2020-01-26",null,"2020-04-10"]
[null,"2020-01-27",null,"2020-04-11"]
[null,"2020-01-28",null,"2020-04-12"]
[null,"2020-01-29",null,"2020-04-13"]
[null,"2020-01-30",null,"2020-04-14"]
[null,"2020-01-31",null,"2020-04-15"]
[null,"2020-02-01",null,"2020-04-16"]
[null,"2020-02-02",null,"2020-04-17"]
[null,"2020-02-03",null,"2020-04-18"]
[null,"2020-02-04",null,"2020-04-19"]
[null,"2020-02-05",null,"2020-04-20"]
[null,"2020-02-06",null,"2020-04-21"]
[null,"2020-02-07",null,"2020-04-22"]
[null,"2020-02-08",null,"2020-04-23"]
[null,"2020-02-09",null,"2020-04-24"]
[null,"2020-02-10",null,"2020-04-25"]
[null,"2020-02-11",null,"2020-04-26"]
[null,"2020-02-12",null,"2020-04-27"]
[null,"2020-02-13",null,"2020-04-28"]
[null,"2020-02-14",null,"2020-04-29"]
[null,"2020-02-15",null,"2020-04-30"]
[null,"2020-02-16",null,"2020-05-01"]
[null,"2020-02-17",null,"2020-05-02"]
[null,"2020-02-18",null,"2020-05-03"]
[null,"2020-02-19",null,"2020-05-04"]
[null,"2020-02-20",null,"2020-05-05"]
[null,"2020-02-21",null,"2020-05-06"]
[null,"2020-02-22",null,"2020-05-07"]
[null,"2020-02-23",null,"2020-05-08"]
[null,"2020-02-24",null,"2020-05-09"]
[null,"2020-02-25",null,"2020-05-10"]
[null,"2020-02-26"]
[null,"2020-02-27"]
[null,"2020-02-28"]
[null,"2020-02-29"]
[null,"2020-03-01"]
[null,"2020-03-02"]
[null,"2020-03-03"]
[null,"2020-03-04"]
[null,"2020-03-05"]
[null,"2020-03-06"]
[null,"2020-03-07"]
[null,"2020-03-08"]
[null,"2020-03-09"]
[null,"2020-03-10"]
[null,"2020-03-11"]
[null,"2020-03-12"]
[null,"2020-03-13"]
[null,"2020-03-14"]
[null,"2020-03-15"]
[null,"2020-03-16"]
[null,"2020-03-17"]
[null,"2020-03-18"]
[null,"2020-03-19"]
[null,"2020-03-20"]
[null,"2020-03-21"]
[null,"2020-03-22"]
[null,"2020-03-23"]
[null,"2020-03-24"]
[null,"2020-03-25"]
[null,"2020-03-26"]
[null,"2020-03-27"]
[null,"2020-03-28"]
[null,"2020-03-29"]
[null,"2020-03-30"]
[null,"2020-03-31"]
[null,"2020-04-01"]
[null,"2020-04-02"]
[null,"2020-04-03"]
[null,"2020-04-04"]
[null,"2020-04-05"]
[null,"2020-04-06"]
[null,"2020-04-07"]
[null,"2020-04-08"]
[null,"2020-04-09"]
[null,"2020-04-10"]
[null,"2020-04-11"]
[null,"2020-04-12"]
[null,"2020-04-13"]
[null,"2020-04-14"]
[null,"2020-04-15"]
[null,"2020-04-16"]
[null,"2020-04-17"]
[null,"2020-04-18"]
[null,"2020-04-19"]
[null,"2020-04-20"]
[null,"2020-04-21"]
[null,"2020-04-22"]
[null,"2020-04-23"]
[null,"2020-04-24"]
[null,"2020-04-25"]
[null,"2020-04-26"]
[null,"2020-04-27"]
[null,"2020-04-28"]
[null,"2020-04-29"]
[null,"2020-04-30"]
[null,"2020-05-01"]
[null,"2020-05-02"]
[null,"2020-05-03"]
[null,"2020-05-04"]
[null,"2020-05-05"]
[null,"2020-05-06"]
[null,"2020-05-07"]
[null,"2020-05-08"]
[null,"2020-05-09"]
[null,"2020-05-10"]
[null,"2020-05-11"]
[null,"2020-05-12"]
[null,"2020-05-13"]
[null,"2020-05-14"]
[null,"2020-05-15"]
[null,"2020-05-16"]
[null,"2020-05-17"]
[null,"2020-05-18"]
[null,"2020-05-19"]
[null,"2020-05-20"]
[null,"2020-05-21"]
[null,"2020-05-22"]
[null,"2020-05-23"]
[null,"2020-05-24"]
[null,"2020-05-25"]
[null,"2020-05-26"]
[null,"2020-05-27"]
[null,"2020-05-28"]
[null,"2020-05-29"]
[null,"2020-05-30"]
[null,"2020-05-31"]
[null,"2020-06-01"]
[null,"2020-06-02"]
[null,"2020-06-03"]
[null,"2020-06-04"]
[null,"2020-06-05"]
[null,"2020-06-06"]
[null,"2020-06-07"]
[null,"2020-06-08"]
[null,"2020-06-09"]
[null,"2020-06-10"]
[null,"2020-06-11"]
[null,"2020-06-12"]
[null,"2020-06-13"]
[null,"2020-06-14"]
[null,"2020-06-15"]
[null,"2020-06-16"]
[null,"2020-06-17"]
[null,"2020-06-18"]
[null,"2020-06-19"]
[null,"2020-06-20"]
[null,"2020-06-21"]
[null,"2020-06-22"]
[null,"2020-06-23"]
[null,"2020-06-24"]
[null,"2020-06-25"]
[null,"2020-06-26"]
[null,"2020-06-27"]
[null,"2020-06-28"]
[null,"2020-06-29"]
[null,"2020-06-30"]
[null,"2020-07-01"]
[null,"2020-07-02"]
[null,"2020-07-03"]
[null,"2020-07-04"]
[null,"2020-07-05"]
[null,"2020-07-06"]
[null,"2020-07-07"]
[null,"2020-07-08"]
[null,"2020-07-09"]
[null,"2020-07-10"]
[null,"2020-07-11"]
[null,"2020-07-12"]
[null,"2020-07-13"]
[null,"2020-07-14"]
[null,"2020-07-15"]
[null,"2020-07-16"]
[null,"2020-07-17"]
[null,"2020-07-18"]
[null,"2020-07-19"]
[null,"2020-07-20"]
[null,"2020-07-21"]
[null,"2020-07-22"]
[null,"2020-07-23"]
[null,"2020-07-24"]
[null,"2020-07-25"]
[null,"2020-07-26"]
[null,"2020-07-27"]
[null,"2020-07-28"]
[null,"2020-07-29"]
[null,"2020-07-30"]
[null,"2020-07-31"]
[null,"2020-08-01"]
[null,"2020-08-02"]
[null,"2020-08-03"]
[null,"2020-08-04"]
[null,"2020-08-05"]
[null,"2020-08-06"]
[null,"2020-08-07"]
[null,"2020-08-08"]
[null,"2020-08-09"]
[null,"2020-08-10"]
[null,"2020-08-11"]
[null,"2020-08-12"]
[null,"2020-08-13"]
[null,"2020-08-14"]
[null,"2020-08-15"]
[null,"2020-08-16"]
[null,"2020-08-17"]
[null,"2020-08-18"]
[null,"2020-08-19"]
[null,"2020-08-20"]
[null,"2020-08-21"]
[null,"2020-08-22"]
[null,"2020-08-23"]
[null,"2020-08-24"]
[null,"2020-08-25"]
[null,"2020-08-26"]
[null,"2020-08-27"]
[null,"2020-08-28"]
[null,"2020-08-29"]
[null,"2020-08-30"]
[null,"2020-08-31"]
[null,"2020-09-01"]
[null,"2020-09-02"]
[null,"2020-09-03"]
[null,"2020-09-04"]
[null,"2020-09-05"]
[null,"2020-09-06"]
[null,"2020-09-07"]
[null,"2020-09-08"]
[null,"2020-09-09"]
[null,"2020-09-10"]
[null,"2020-09-11"]
[null,"2020-09-12"]
[null,"2020-09-13"]
[null,"2020-09-14"]
[null,"2020-09-15"]
[null,"2020-09-16"]
[null,"2020-09-17"]
[null,"2020-09-18"]
[null,"2020-09-19"]
[null,"2020-09-20"]
[null,"2020-09-21"]
[null,"2020-09-22"]
[null,"2020-09-23"]
[null,"2020-09-24"]
[null,"2020-09-25"]
[null,"2020-09-26"]
[null,"2020-09-27"]
[null,"2020-09-28"]
[null,"2020-09-29"]
[null,"2020-09-30"]
[null,"2020-10-01"]

{"sheet":"Source","index":4,"n_rows":79969,"n_cols":8,"rows_kept":4500,"cut":true,"hidden":false,"merged":[],"bounds":{"rows_first":2000,"rows_last":500,"rows_between":2000,"halvings":0}}
["Reports","Province/State","Country/Region","Lat","Long","Date","Data","Support"]
["Confirmed","","Afghanistan",33,65,"2020-01-22",0,{"$f":"VALUE(URL_2[[#This Row],[Data]])","v":0}]
["Confirmed","","Afghanistan",33,65,"2020-01-23",0,{"$f":"VALUE(URL_2[[#This Row],[Data]])","v":0}]
["Confirmed","","Afghanistan",33,65,"2020-01-24",0,{"$f":"VALUE(URL_2[[#This Row],[Data]])","v":0}]
["Confirmed","","Afghanistan",33,65,"2020-01-25",0,{"$f":"VALUE(URL_2[[#This Row],[Data]])","v":0}]
["Confirmed","","Afghanistan",33,65,"2020-01-26",0,{"$f":"VALUE(URL_2[[#This Row],[Data]])","v":0}]
["Confirmed","","Afghanistan",33,65,"2020-01-27",0,{"$f":"VALUE(URL_2[[#This Row],[Data]])","v":0}]
["Confirmed","","Afghanistan",33,65,"2020-01-28",0,{"$f":"VALUE(URL_2[[#This Row],[Data]])","v":0}]
["Confirmed","","Afghanistan",33,65,"2020-01-29",0,{"$f":"VALUE(URL_2[[#This Row],[Data]])","v":0}]
["Confirmed","","Afghanistan",33,65,"2020-01-30",0,{"$f":"VALUE(URL_2[[#This Row],[Data]])","v":0}]
["Confirmed","","Afghanistan",33,65,"2020-01-31",0,{"$f":"VALUE(URL_2[[#This Row],[Data]])","v":0}]
["Confirmed","","Afghanistan",33,65,"2020-02-01",0,{"$f":"VALUE(URL_2[[#This Row],[Data]])","v":0}]
["Confirmed","","Afghanistan",33,65,"2020-02-02",0,{"$f":"VALUE(URL_2[[#This Row],[Data]])","v":0}]
["Confirmed","","Afghanistan",33,65,"2020-02-03",0,{"$f":"VALUE(URL_2[[#This Row],[Data]])","v":0}]
["Confirmed","","Afghanistan",33,65,"2020-02-04",0,{"$f":"VALUE(URL_2[[#This Row],[Data]])","v":0}]
["Confirmed","","Afghanistan",33,65,"2020-02-05",0,{"$f":"VALUE(URL_2[[#This Row],[Data]])","v":0}]
["Confirmed","","Afghanistan",33,65,"2020-02-06",0,{"$f":"VALUE(URL_2[[#This Row],[Data]])","v":0}]
["Confirmed","","Afghanistan",33,65,"2020-02-07",0,{"$f":"VALUE(URL_2[[#This Row],[Data]])","v":0}]
["Confirmed","","Afghanistan",33,65,"2020-02-08",0,{"$f":"VALUE(URL_2[[#This Row],[Data]])","v":0}]
["Confirmed","","Afghanistan",33,65,"2020-02-09",0,{"$f":"VALUE(URL_2[[#This Row],[Data]])","v":0}]
["Confirmed","","Afghanistan",33,65,"2020-02-10",0,{"$f":"VALUE(URL_2[[#This Row],[Data]])","v":0}]
["Confirmed","","Afghanistan",33,65,"2020-02-11",0,{"$f":"VALUE(URL_2[[#This Row],[Data]])","v":0}]
["Confirmed","","Afghanistan",33,65,"2020-02-12",0,{"$f":"VALUE(URL_2[[#This Row],[Data]])","v":0}]
["Confirmed","","Afghanistan",33,65,"2020-02-13",0,{"$f":"VALUE(URL_2[[#This Row],[Data]])","v":0}]
["Confirmed","","Afghanistan",33,65,"2020-02-14",0,{"$f":"VALUE(URL_2[[#This Row],[Data]])","v":0}]
["Confirmed","","Afghanistan",33,65,"2020-02-15",0,{"$f":"VALUE(URL_2[[#This Row],[Data]])","v":0}]
["Confirmed","","Afghanistan",33,65,"2020-02-16",0,{"$f":"VALUE(URL_2[[#This Row],[Data]])","v":0}]
["Confirmed","","Afghanistan",33,65,"2020-02-17",0,{"$f":"VALUE(URL_2[[#This Row],[Data]])","v":0}]
["Confirmed","","Afghanistan",33,65,"2020-02-18",0,{"$f":"VALUE(URL_2[[#This Row],[Data]])","v":0}]
["Confirmed","","Afghanistan",33,65,"2020-02-19",0,{"$f":"VALUE(URL_2[[#This Row],[Data]])","v":0}]
["Confirmed","","Afghanistan",33,65,"2020-02-20",0,{"$f":"VALUE(URL_2[[#This Row],[Data]])","v":0}]
["Confirmed","","Afghanistan",33,65,"2020-02-21",0,{"$f":"VALUE(URL_2[[#This Row],[Data]])","v":0}]
["Confirmed","","Afghanistan",33,65,"2020-02-22",0,{"$f":"VALUE(URL_2[[#This Row],[Data]])","v":0}]
["Confirmed","","Afghanistan",33,65,"2020-02-23",0,{"$f":"VALUE(URL_2[[#This Row],[Data]])","v":0}]
["Confirmed","","Albania",41.153300000000002,20.168299999999999,"2020-01-22",0,{"$f":"VALUE(URL_2[[#This Row],[Data]])","v":0}]
["Confirmed","","Albania",41.153300000000002,20.168299999999999,"2020-01-23",0,{"$f":"VALUE(URL_2[[#This Row],[Data]])","v":0}]
["Confirmed","","Albania",41.153300000000002,20.168299999999999,"2020-01-24",0,{"$f":"VALUE(URL_2[[#This Row],[Data]])","v":0}]
["Confirmed","","Albania",41.153300000000002,20.168299999999999,"2020-01-25",0,{"$f":"VALUE(URL_2[[#This Row],[Data]])","v":0}]
["Confirmed","","Albania",41.153300000000002,20.168299999999999,"2020-01-26",0,{"$f":"VALUE(URL_2[[#This Row],[Data]])","v":0}]
["Confirmed","","Albania",41.153300000000002,20.168299999999999,"2020-01-27",0,{"$f":"VALUE(URL_2[[#This Row],[Data]])","v":0}]
["Confirmed","","Albania",41.153300000000002,20.168299999999999,"2020-01-28",0,{"$f":"VALUE(URL_2[[#This Row],[Data]])","v":0}]
["Confirmed","","Albania",41.153300000000002,20.168299999999999,"2020-01-29",0,{"$f":"VALUE(URL_2[[#This Row],[Data]])","v":0}]
["Confirmed","","Albania",41.153300000000002,20.168299999999999,"2020-01-30",0,{"$f":"VALUE(URL_2[[#This Row],[Data]])","v":0}]
["Confirmed","","Albania",41.153300000000002,20.168299999999999,"2020-01-31",0,{"$f":"VALUE(URL_2[[#This Row],[Data]])","v":0}]
["Confirmed","","Albania",41.153300000000002,20.168299999999999,"2020-02-01",0,{"$f":"VALUE(URL_2[[#This Row],[Data]])","v":0}]
["Confirmed","","Albania",41.153300000000002,20.168299999999999,"2020-02-02",0,{"$f":"VALUE(URL_2[[#This Row],[Data]])","v":0}]
["Confirmed","","Albania",41.153300000000002,20.168299999999999,"2020-02-03",0,{"$f":"VALUE(URL_2[[#This Row],[Data]])","v":0}]
["Confirmed","","Albania",41.153300000000002,20.168299999999999,"2020-02-04",0,{"$f":"VALUE(URL_2[[#This Row],[Data]])","v":0}]
["Confirmed","","Albania",41.153300000000002,20.168299999999999,"2020-02-05",0,{"$f":"VALUE(URL_2[[#This Row],[Data]])","v":0}]
["Confirmed","","Albania",41.153300000000002,20.168299999999999,"2020-02-06",0,{"$f":"VALUE(URL_2[[#This Row],[Data]])","v":0}]
["Confirmed","","Albania",41.153300000000002,20.168299999999999,"2020-02-07",0,{"$f":"VALUE(URL_2[[#This Row],[Data]])","v":0}]
["Confirmed","","Albania",41.153300000000002,20.168299999999999,"2020-02-08",0,{"$f":"VALUE(URL_2[[#This Row],[Data]])","v":0}]
["Confirmed","","Albania",41.153300000000002,20.168299999999999,"2020-02-09",0,{"$f":"VALUE(URL_2[[#This Row],[Data]])","v":0}]
["Confirmed","","Albania",41.153300000000002,20.168299999999999,"2020-02-10",0,{"$f":"VALUE(URL_2[[#This Row],[Data]])","v":0}]
["Confirmed","","Albania",41.153300000000002,20.168299999999999,"2020-02-11",0,{"$f":"VALUE(URL_2[[#This Row],[Data]])","v":0}]
["Confirmed","","Albania",41.153300000000002,20.168299999999999,"2020-02-12",0,{"$f":"VALUE(URL_2[[#This Row],[Data]])","v":0}]
["Confirmed","","Albania",41.153300000000002,20.168299999999999,"2020-02-13",0,{"$f":"VALUE(URL_2[[#This Row],[Data]])","v":0}]
["Confirmed","","Albania",41.153300000000002,20.168299999999999,"2020-02-14",0,{"$f":"VALUE(URL_2[[#This Row],[Data]])","v":0}]
["Confirmed","","Albania",41.153300000000002,20.168299999999999,"2020-02-15",0,{"$f":"VALUE(URL_2[[#This Row],[Data]])","v":0}]
["Confirmed","","Albania",41.153300000000002,20.168299999999999,"2020-02-16",0,{"$f":"VALUE(URL_2[[#This Row],[Data]])","v":0}]
["Confirmed","","Albania",41.153300000000002,20.168299999999999,"2020-02-17",0,{"$f":"VALUE(URL_2[[#This Row],[Data]])","v":0}]
["Confirmed","","Albania",41.153300000000002,20.168299999999999,"2020-02-18",0,{"$f":"VALUE(URL_2[[#This Row],[Data]])","v":0}]
["Confirmed","","Albania",41.153300000000002,20.168299999999999,"2020-02-19",0,{"$f":"VALUE(URL_2[[#This Row],[Data]])","v":0}]
["Confirmed","","Albania",41.153300000000002,20.168299999999999,"2020-02-20",0,{"$f":"VALUE(URL_2[[#This Row],[Data]])","v":0}]
["Confirmed","","Albania",41.153300000000002,20.168299999999999,"2020-02-21",0,{"$f":"VALUE(URL_2[[#This Row],[Data]])","v":0}]
["Confirmed","","Albania",41.153300000000002,20.168299999999999,"2020-02-22",0,{"$f":"VALUE(URL_2[[#This Row],[Data]])","v":0}]
["Confirmed","","Albania",41.153300000000002,20.168299999999999,"2020-02-23",0,{"$f":"VALUE(URL_2[[#This Row],[Data]])","v":0}]
["Confirmed","","Albania",41.153300000000002,20.168299999999999,"2020-02-24",0,{"$f":"VALUE(URL_2[[#This Row],[Data]])","v":0}]
["Confirmed","","Albania",41.153300000000002,20.168299999999999,"2020-02-25",0,{"$f":"VALUE(URL_2[[#This Row],[Data]])","v":0}]
["Confirmed","","Albania",41.153300000000002,20.168299999999999,"2020-02-26",0,{"$f":"VALUE(URL_2[[#This Row],[Data]])","v":0}]
["Confirmed","","Albania",41.153300000000002,20.168299999999999,"2020-02-27",0,{"$f":"VALUE(URL_2[[#This Row],[Data]])","v":0}]
["Confirmed","","Albania",41.153300000000002,20.168299999999999,"2020-02-28",0,{"$f":"VALUE(URL_2[[#This Row],[Data]])","v":0}]
["Confirmed","","Albania",41.153300000000002,20.168299999999999,"2020-02-29",0,{"$f":"VALUE(URL_2[[#This Row],[Data]])","v":0}]
["Confirmed","","Albania",41.153300000000002,20.168299999999999,"2020-03-01",0,{"$f":"VALUE(URL_2[[#This Row],[Data]])","v":0}]
["Confirmed","","Albania",41.153300000000002,20.168299999999999,"2020-03-02",0,{"$f":"VALUE(URL_2[[#This Row],[Data]])","v":0}]
["Confirmed","","Albania",41.153300000000002,20.168299999999999,"2020-03-03",0,{"$f":"VALUE(URL_2[[#This Row],[Data]])","v":0}]
["Confirmed","","Albania",41.153300000000002,20.168299999999999,"2020-03-04",0,{"$f":"VALUE(URL_2[[#This Row],[Data]])","v":0}]
["Confirmed","","Albania",41.153300000000002,20.168299999999999,"2020-03-05",0,{"$f":"VALUE(URL_2[[#This Row],[Data]])","v":0}]
["Confirmed","","Albania",41.153300000000002,20.168299999999999,"2020-03-06",0,{"$f":"VALUE(URL_2[[#This Row],[Data]])","v":0}]
["Confirmed","","Albania",41.153300000000002,20.168299999999999,"2020-03-07",0,{"$f":"VALUE(URL_2[[#This Row],[Data]])","v":0}]
["Confirmed","","Albania",41.153300000000002,20.168299999999999,"2020-03-08",0,{"$f":"VALUE(URL_2[[#This Row],[Data]])","v":0}]
["Confirmed","","Algeria",28.033899999999999,1.6596,"2020-01-22",0,{"$f":"VALUE(URL_2[[#This Row],[Data]])","v":0}]
["Confirmed","","Algeria",28.033899999999999,1.6596,"2020-01-23",0,{"$f":"VALUE(URL_2[[#This Row],[Data]])","v":0}]
["Confirmed","","Algeria",28.033899999999999,1.6596,"2020-01-24",0,{"$f":"VALUE(URL_2[[#This Row],[Data]])","v":0}]
["Confirmed","","Algeria",28.033899999999999,1.6596,"2020-01-25",0,{"$f":"VALUE(URL_2[[#This Row],[Data]])","v":0}]
["Confirmed","","Algeria",28.033899999999999,1.6596,"2020-01-26",0,{"$f":"VALUE(URL_2[[#This Row],[Data]])","v":0}]
["Confirmed","","Algeria",28.033899999999999,1.6596,"2020-01-27",0,{"$f":"VALUE(URL_2[[#This Row],[Data]])","v":0}]
["Confirmed","","Algeria",28.033899999999999,1.6596,"2020-01-28",0,{"$f":"VALUE(URL_2[[#This Row],[Data]])","v":0}]
["Confirmed","","Algeria",28.033899999999999,1.6596,"2020-01-29",0,{"$f":"VALUE(URL_2[[#This Row],[Data]])","v":0}]
["Confirmed","","Algeria",28.033899999999999,1.6596,"2020-01-30",0,{"$f":"VALUE(URL_2[[#This Row],[Data]])","v":0}]
["Confirmed","","Algeria",28.033899999999999,1.6596,"2020-01-31",0,{"$f":"VALUE(URL_2[[#This Row],[Data]])","v":0}]
["Confirmed","","Algeria",28.033899999999999,1.6596,"2020-02-01",0,{"$f":"VALUE(URL_2[[#This Row],[Data]])","v":0}]
["Confirmed","","Algeria",28.033899999999999,1.6596,"2020-02-02",0,{"$f":"VALUE(URL_2[[#This Row],[Data]])","v":0}]
["Confirmed","","Algeria",28.033899999999999,1.6596,"2020-02-03",0,{"$f":"VALUE(URL_2[[#This Row],[Data]])","v":0}]
["Confirmed","","Algeria",28.033899999999999,1.6596,"2020-02-04",0,{"$f":"VALUE(URL_2[[#This Row],[Data]])","v":0}]
["Confirmed","","Algeria",28.033899999999999,1.6596,"2020-02-05",0,{"$f":"VALUE(URL_2[[#This Row],[Data]])","v":0}]
["Confirmed","","Algeria",28.033899999999999,1.6596,"2020-02-06",0,{"$f":"VALUE(URL_2[[#This Row],[Data]])","v":0}]
["Confirmed","","Algeria",28.033899999999999,1.6596,"2020-02-07",0,{"$f":"VALUE(URL_2[[#This Row],[Data]])","v":0}]
["Confirmed","","Algeria",28.033899999999999,1.6596,"2020-02-08",0,{"$f":"VALUE(URL_2[[#This Row],[Data]])","v":0}]
["Confirmed","","Algeria",28.033899999999999,1.6596,"2020-02-09",0,{"$f":"VALUE(URL_2[[#This Row],[Data]])","v":0}]
["Confirmed","","Algeria",28.033899999999999,1.6596,"2020-02-10",0,{"$f":"VALUE(URL_2[[#This Row],[Data]])","v":0}]
["Confirmed","","Algeria",28.033899999999999,1.6596,"2020-02-11",0,{"$f":"VALUE(URL_2[[#This Row],[Data]])","v":0}]
["Confirmed","","Algeria",28.033899999999999,1.6596,"2020-02-12",0,{"$f":"VALUE(URL_2[[#This Row],[Data]])","v":0}]
["Confirmed","","Algeria",28.033899999999999,1.6596,"2020-02-13",0,{"$f":"VALUE(URL_2[[#This Row],[Data]])","v":0}]
["Confirmed","","Algeria",28.033899999999999,1.6596,"2020-02-14",0,{"$f":"VALUE(URL_2[[#This Row],[Data]])","v":0}]
["Confirmed","","Algeria",28.033899999999999,1.6596,"2020-02-15",0,{"$f":"VALUE(URL_2[[#This Row],[Data]])","v":0}]
["Confirmed","","Algeria",28.033899999999999,1.6596,"2020-02-16",0,{"$f":"VALUE(URL_2[[#This Row],[Data]])","v":0}]
["Confirmed","","Algeria",28.033899999999999,1.6596,"2020-02-17",0,{"$f":"VALUE(URL_2[[#This Row],[Data]])","v":0}]
["Confirmed","","Algeria",28.033899999999999,1.6596,"2020-02-18",0,{"$f":"VALUE(URL_2[[#This Row],[Data]])","v":0}]
["Confirmed","","Algeria",28.033899999999999,1.6596,"2020-02-19",0,{"$f":"VALUE(URL_2[[#This Row],[Data]])","v":0}]
["Confirmed","","Algeria",28.033899999999999,1.6596,"2020-02-20",0,{"$f":"VALUE(URL_2[[#This Row],[Data]])","v":0}]
["Confirmed","","Algeria",28.033899999999999,1.6596,"2020-02-21",0,{"$f":"VALUE(URL_2[[#This Row],[Data]])","v":0}]
["Confirmed","","Algeria",28.033899999999999,1.6596,"2020-02-22",0,{"$f":"VALUE(URL_2[[#This Row],[Data]])","v":0}]
["Confirmed","","Algeria",28.033899999999999,1.6596,"2020-02-23",0,{"$f":"VALUE(URL_2[[#This Row],[Data]])","v":0}]
["Confirmed","","Algeria",28.033899999999999,1.6596,"2020-02-24",0,{"$f":"VALUE(URL_2[[#This Row],[Data]])","v":0}]
["Confirmed","","Andorra",42.506300000000003,1.5218,"2020-01-22",0,{"$f":"VALUE(URL_2[[#This Row],[Data]])","v":0}]
["Confirmed","","Andorra",42.506300000000003,1.5218,"2020-01-23",0,{"$f":"VALUE(URL_2[[#This Row],[Data]])","v":0}]
["Confirmed","","Andorra",42.506300000000003,1.5218,"2020-01-24",0,{"$f":"VALUE(URL_2[[#This Row],[Data]])","v":0}]
["Confirmed","","Andorra",42.506300000000003,1.5218,"2020-01-25",0,{"$f":"VALUE(URL_2[[#This Row],[Data]])","v":0}]
["Confirmed","","Andorra",42.506300000000003,1.5218,"2020-01-26",0,{"$f":"VALUE(URL_2[[#This Row],[Data]])","v":0}]
["Confirmed","","Andorra",42.506300000000003,1.5218,"2020-01-27",0,{"$f":"VALUE(URL_2[[#This Row],[Data]])","v":0}]
["Confirmed","","Andorra",42.506300000000003,1.5218,"2020-01-28",0,{"$f":"VALUE(URL_2[[#This Row],[Data]])","v":0}]
["Confirmed","","Andorra",42.506300000000003,1.5218,"2020-01-29",0,{"$f":"VALUE(URL_2[[#This Row],[Data]])","v":0}]
["Confirmed","","Andorra",42.506300000000003,1.5218,"2020-01-30",0,{"$f":"VALUE(URL_2[[#This Row],[Data]])","v":0}]
["Confirmed","","Andorra",42.506300000000003,1.5218,"2020-01-31",0,{"$f":"VALUE(URL_2[[#This Row],[Data]])","v":0}]
["Confirmed","","Andorra",42.506300000000003,1.5218,"2020-02-01",0,{"$f":"VALUE(URL_2[[#This Row],[Data]])","v":0}]
["Confirmed","","Andorra",42.506300000000003,1.5218,"2020-02-02",0,{"$f":"VALUE(URL_2[[#This Row],[Data]])","v":0}]
["Confirmed","","Andorra",42.506300000000003,1.5218,"2020-02-03",0,{"$f":"VALUE(URL_2[[#This Row],[Data]])","v":0}]
["Confirmed","","Andorra",42.506300000000003,1.5218,"2020-02-04",0,{"$f":"VALUE(URL_2[[#This Row],[Data]])","v":0}]
["Confirmed","","Andorra",42.506300000000003,1.5218,"2020-02-05",0,{"$f":"VALUE(URL_2[[#This Row],[Data]])","v":0}]
["Confirmed","","Andorra",42.506300000000003,1.5218,"2020-02-06",0,{"$f":"VALUE(URL_2[[#This Row],[Data]])","v":0}]
["Confirmed","","Andorra",42.506300000000003,1.5218,"2020-02-07",0,{"$f":"VALUE(URL_2[[#This Row],[Data]])","v":0}]
["Confirmed","","Andorra",42.506300000000003,1.5218,"2020-02-08",0,{"$f":"VALUE(URL_2[[#This Row],[Data]])","v":0}]
["Confirmed","","Andorra",42.506300000000003,1.5218,"2020-02-09",0,{"$f":"VALUE(URL_2[[#This Row],[Data]])","v":0}]
["Confirmed","","Andorra",42.506300000000003,1.5218,"2020-02-10",0,{"$f":"VALUE(URL_2[[#This Row],[Data]])","v":0}]
["Confirmed","","Andorra",42.506300000000003,1.5218,"2020-02-11",0,{"$f":"VALUE(URL_2[[#This Row],[Data]])","v":0}]
["Confirmed","","Andorra",42.506300000000003,1.5218,"2020-02-12",0,{"$f":"VALUE(URL_2[[#This Row],[Data]])","v":0}]
["Confirmed","","Andorra",42.506300000000003,1.5218,"2020-02-13",0,{"$f":"VALUE(URL_2[[#This Row],[Data]])","v":0}]
["Confirmed","","Andorra",42.506300000000003,1.5218,"2020-02-14",0,{"$f":"VALUE(URL_2[[#This Row],[Data]])","v":0}]
["Confirmed","","Andorra",42.506300000000003,1.5218,"2020-02-15",0,{"$f":"VALUE(URL_2[[#This Row],[Data]])","v":0}]
["Confirmed","","Andorra",42.506300000000003,1.5218,"2020-02-16",0,{"$f":"VALUE(URL_2[[#This Row],[Data]])","v":0}]
["Confirmed","","Andorra",42.506300000000003,1.5218,"2020-02-17",0,{"$f":"VALUE(URL_2[[#This Row],[Data]])","v":0}]
["Confirmed","","Andorra",42.506300000000003,1.5218,"2020-02-18",0,{"$f":"VALUE(URL_2[[#This Row],[Data]])","v":0}]
["Confirmed","","Andorra",42.506300000000003,1.5218,"2020-02-19",0,{"$f":"VALUE(URL_2[[#This Row],[Data]])","v":0}]
["Confirmed","","Andorra",42.506300000000003,1.5218,"2020-02-20",0,{"$f":"VALUE(URL_2[[#This Row],[Data]])","v":0}]
["Confirmed","","Andorra",42.506300000000003,1.5218,"2020-02-21",0,{"$f":"VALUE(URL_2[[#This Row],[Data]])","v":0}]
["Confirmed","","Andorra",42.506300000000003,1.5218,"2020-02-22",0,{"$f":"VALUE(URL_2[[#This Row],[Data]])","v":0}]
["Confirmed","","Andorra",42.506300000000003,1.5218,"2020-02-23",0,{"$f":"VALUE(URL_2[[#This Row],[Data]])","v":0}]
["Confirmed","","Andorra",42.506300000000003,1.5218,"2020-02-24",0,{"$f":"VALUE(URL_2[[#This Row],[Data]])","v":0}]
["Confirmed","","Andorra",42.506300000000003,1.5218,"2020-02-25",0,{"$f":"VALUE(URL_2[[#This Row],[Data]])","v":0}]
["Confirmed","","Andorra",42.506300000000003,1.5218,"2020-02-26",0,{"$f":"VALUE(URL_2[[#This Row],[Data]])","v":0}]
["Confirmed","","Andorra",42.506300000000003,1.5218,"2020-02-27",0,{"$f":"VALUE(URL_2[[#This Row],[Data]])","v":0}]
["Confirmed","","Andorra",42.506300000000003,1.5218,"2020-02-28",0,{"$f":"VALUE(URL_2[[#This Row],[Data]])","v":0}]
["Confirmed","","Andorra",42.506300000000003,1.5218,"2020-02-29",0,{"$f":"VALUE(URL_2[[#This Row],[Data]])","v":0}]
["Confirmed","","Andorra",42.506300000000003,1.5218,"2020-03-01",0,{"$f":"VALUE(URL_2[[#This Row],[Data]])","v":0}]
["Confirmed","","Angola",-11.2027,17.873899999999999,"2020-01-22",0,{"$f":"VALUE(URL_2[[#This Row],[Data]])","v":0}]
["Confirmed","","Angola",-11.2027,17.873899999999999,"2020-01-23",0,{"$f":"VALUE(URL_2[[#This Row],[Data]])","v":0}]
["Confirmed","","Angola",-11.2027,17.873899999999999,"2020-01-24",0,{"$f":"VALUE(URL_2[[#This Row],[Data]])","v":0}]
["Confirmed","","Angola",-11.2027,17.873899999999999,"2020-01-25",0,{"$f":"VALUE(URL_2[[#This Row],[Data]])","v":0}]
["Confirmed","","Angola",-11.2027,17.873899999999999,"2020-01-26",0,{"$f":"VALUE(URL_2[[#This Row],[Data]])","v":0}]
["Confirmed","","Angola",-11.2027,17.873899999999999,"2020-01-27",0,{"$f":"VALUE(URL_2[[#This Row],[Data]])","v":0}]
["Confirmed","","Angola",-11.2027,17.873899999999999,"2020-01-28",0,{"$f":"VALUE(URL_2[[#This Row],[Data]])","v":0}]
["Confirmed","","Angola",-11.2027,17.873899999999999,"2020-01-29",0,{"$f":"VALUE(URL_2[[#This Row],[Data]])","v":0}]
["Confirmed","","Angola",-11.2027,17.873899999999999,"2020-01-30",0,{"$f":"VALUE(URL_2[[#This Row],[Data]])","v":0}]
["Confirmed","","Angola",-11.2027,17.873899999999999,"2020-01-31",0,{"$f":"VALUE(URL_2[[#This Row],[Data]])","v":0}]
["Confirmed","","Angola",-11.2027,17.873899999999999,"2020-02-01",0,{"$f":"VALUE(URL_2[[#This Row],[Data]])","v":0}]
["Confirmed","","Angola",-11.2027,17.873899999999999,"2020-02-02",0,{"$f":"VALUE(URL_2[[#This Row],[Data]])","v":0}]
["Confirmed","","Angola",-11.2027,17.873899999999999,"2020-02-03",0,{"$f":"VALUE(URL_2[[#This Row],[Data]])","v":0}]
["Confirmed","","Angola",-11.2027,17.873899999999999,"2020-02-04",0,{"$f":"VALUE(URL_2[[#This Row],[Data]])","v":0}]
["Confirmed","","Angola",-11.2027,17.873899999999999,"2020-02-05",0,{"$f":"VALUE(URL_2[[#This Row],[Data]])","v":0}]
["Confirmed","","Angola",-11.2027,17.873899999999999,"2020-02-06",0,{"$f":"VALUE(URL_2[[#This Row],[Data]])","v":0}]
["Confirmed","","Angola",-11.2027,17.873899999999999,"2020-02-07",0,{"$f":"VALUE(URL_2[[#This Row],[Data]])","v":0}]
["Confirmed","","Angola",-11.2027,17.873899999999999,"2020-02-08",0,{"$f":"VALUE(URL_2[[#This Row],[Data]])","v":0}]
["Confirmed","","Angola",-11.2027,17.873899999999999,"2020-02-09",0,{"$f":"VALUE(URL_2[[#This Row],[Data]])","v":0}]
["Confirmed","","Angola",-11.2027,17.873899999999999,"2020-02-10",0,{"$f":"VALUE(URL_2[[#This Row],[Data]])","v":0}]
["Confirmed","","Angola",-11.2027,17.873899999999999,"2020-02-11",0,{"$f":"VALUE(URL_2[[#This Row],[Data]])","v":0}]
["Confirmed","","Angola",-11.2027,17.873899999999999,"2020-02-12",0,{"$f":"VALUE(URL_2[[#This Row],[Data]])","v":0}]
["Confirmed","","Angola",-11.2027,17.873899999999999,"2020-02-13",0,{"$f":"VALUE(URL_2[[#This Row],[Data]])","v":0}]
["Confirmed","","Angola",-11.2027,17.873899999999999,"2020-02-14",0,{"$f":"VALUE(URL_2[[#This Row],[Data]])","v":0}]
["Confirmed","","Angola",-11.2027,17.873899999999999,"2020-02-15",0,{"$f":"VALUE(URL_2[[#This Row],[Data]])","v":0}]
["Confirmed","","Angola",-11.2027,17.873899999999999,"2020-02-16",0,{"$f":"VALUE(URL_2[[#This Row],[Data]])","v":0}]
["Confirmed","","Angola",-11.2027,17.873899999999999,"2020-02-17",0,{"$f":"VALUE(URL_2[[#This Row],[Data]])","v":0}]
["Confirmed","","Angola",-11.2027,17.873899999999999,"2020-02-18",0,{"$f":"VALUE(URL_2[[#This Row],[Data]])","v":0}]
["Confirmed","","Angola",-11.2027,17.873899999999999,"2020-02-19",0,{"$f":"VALUE(URL_2[[#This Row],[Data]])","v":0}]
["Confirmed","","Angola",-11.2027,17.873899999999999,"2020-02-20",0,{"$f":"VALUE(URL_2[[#This Row],[Data]])","v":0}]
["Confirmed","","Angola",-11.2027,17.873899999999999,"2020-02-21",0,{"$f":"VALUE(URL_2[[#This Row],[Data]])","v":0}]
["Confirmed","","Angola",-11.2027,17.873899999999999,"2020-02-22",0,{"$f":"VALUE(URL_2[[#This Row],[Data]])","v":0}]
["Confirmed","","Angola",-11.2027,17.873899999999999,"2020-02-23",0,{"$f":"VALUE(URL_2[[#This Row],[Data]])","v":0}]
["Confirmed","","Angola",-11.2027,17.873899999999999,"2020-02-24",0,{"$f":"VALUE(URL_2[[#This Row],[Data]])","v":0}]
["Confirmed","","Angola",-11.2027,17.873899999999999,"2020-02-25",0,{"$f":"VALUE(URL_2[[#This Row],[Data]])","v":0}]
["Confirmed","","Angola",-11.2027,17.873899999999999,"2020-02-26",0,{"$f":"VALUE(URL_2[[#This Row],[Data]])","v":0}]
["Confirmed","","Angola",-11.2027,17.873899999999999,"2020-02-27",0,{"$f":"VALUE(URL_2[[#This Row],[Data]])","v":0}]
["Confirmed","","Angola",-11.2027,17.873899999999999,"2020-02-28",0,{"$f":"VALUE(URL_2[[#This Row],[Data]])","v":0}]
["Confirmed","","Angola",-11.2027,17.873899999999999,"2020-02-29",0,{"$f":"VALUE(URL_2[[#This Row],[Data]])","v":0}]
["Confirmed","","Angola",-11.2027,17.873899999999999,"2020-03-01",0,{"$f":"VALUE(URL_2[[#This Row],[Data]])","v":0}]
["Confirmed","","Angola",-11.2027,17.873899999999999,"2020-03-02",0,{"$f":"VALUE(URL_2[[#This Row],[Data]])","v":0}]
["Confirmed","","Angola",-11.2027,17.873899999999999,"2020-03-03",0,{"$f":"VALUE(URL_2[[#This Row],[Data]])","v":0}]
["Confirmed","","Angola",-11.2027,17.873899999999999,"2020-03-04",0,{"$f":"VALUE(URL_2[[#This Row],[Data]])","v":0}]
["Confirmed","","Angola",-11.2027,17.873899999999999,"2020-03-05",0,{"$f":"VALUE(URL_2[[#This Row],[Data]])","v":0}]
["Confirmed","","Angola",-11.2027,17.873899999999999,"2020-03-06",0,{"$f":"VALUE(URL_2[[#This Row],[Data]])","v":0}]
["Confirmed","","Angola",-11.2027,17.873899999999999,"2020-03-07",0,{"$f":"VALUE(URL_2[[#This Row],[Data]])","v":0}]
["Confirmed","","Angola",-11.2027,17.873899999999999,"2020-03-08",0,{"$f":"VALUE(URL_2[[#This Row],[Data]])","v":0}]
["Confirmed","","Angola",-11.2027,17.873899999999999,"2020-03-09",0,{"$f":"VALUE(URL_2[[#This Row],[Data]])","v":0}]
["Confirmed","","Angola",-11.2027,17.873899999999999,"2020-03-10",0,{"$f":"VALUE(URL_2[[#This Row],[Data]])","v":0}]
["Confirmed","","Angola",-11.2027,17.873899999999999,"2020-03-11",0,{"$f":"VALUE(URL_2[[#This Row],[Data]])","v":0}]
["Confirmed","","Angola",-11.2027,17.873899999999999,"2020-03-12",0,{"$f":"VALUE(URL_2[[#This Row],[Data]])","v":0}]
["Confirmed","","Angola",-11.2027,17.873899999999999,"2020-03-13",0,{"$f":"VALUE(URL_2[[#This Row],[Data]])","v":0}]
["Confirmed","","Angola",-11.2027,17.873899999999999,"2020-03-14",0,{"$f":"VALUE(URL_2[[#This Row],[Data]])","v":0}]
["Confirmed","","Angola",-11.2027,17.873899999999999,"2020-03-15",0,{"$f":"VALUE(URL_2[[#This Row],[Data]])","v":0}]
["Confirmed","","Angola",-11.2027,17.873899999999999,"2020-03-16",0,{"$f":"VALUE(URL_2[[#This Row],[Data]])","v":0}]
["Confirmed","","Angola",-11.2027,17.873899999999999,"2020-03-17",0,{"$f":"VALUE(URL_2[[#This Row],[Data]])","v":0}]
["Confirmed","","Angola",-11.2027,17.873899999999999,"2020-03-18",0,{"$f":"VALUE(URL_2[[#This Row],[Data]])","v":0}]
["Confirmed","","Angola",-11.2027,17.873899999999999,"2020-03-19",0,{"$f":"VALUE(URL_2[[#This Row],[Data]])","v":0}]
["Confirmed","","Antigua and Barbuda",17.0608,-61.796399999999998,"2020-01-22",0,{"$f":"VALUE(URL_2[[#This Row],[Data]])","v":0}]
["Confirmed","","Antigua and Barbuda",17.0608,-61.796399999999998,"2020-01-23",0,{"$f":"VALUE(URL_2[[#This Row],[Data]])","v":0}]
["Confirmed","","Antigua and Barbuda",17.0608,-61.796399999999998,"2020-01-24",0,{"$f":"VALUE(URL_2[[#This Row],[Data]])","v":0}]
["Confirmed","","Antigua and Barbuda",17.0608,-61.796399999999998,"2020-01-25",0,{"$f":"VALUE(URL_2[[#This Row],[Data]])","v":0}]
["Confirmed","","Antigua and Barbuda",17.0608,-61.796399999999998,"2020-01-26",0,{"$f":"VALUE(URL_2[[#This Row],[Data]])","v":0}]
["Confirmed","","Antigua and Barbuda",17.0608,-61.796399999999998,"2020-01-27",0,{"$f":"VALUE(URL_2[[#This Row],[Data]])","v":0}]
["Confirmed","","Antigua and Barbuda",17.0608,-61.796399999999998,"2020-01-28",0,{"$f":"VALUE(URL_2[[#This Row],[Data]])","v":0}]
["Confirmed","","Antigua and Barbuda",17.0608,-61.796399999999998,"2020-01-29",0,{"$f":"VALUE(URL_2[[#This Row],[Data]])","v":0}]
["Confirmed","","Antigua and Barbuda",17.0608,-61.796399999999998,"2020-01-30",0,{"$f":"VALUE(URL_2[[#This Row],[Data]])","v":0}]
["Confirmed","","Antigua and Barbuda",17.0608,-61.796399999999998,"2020-01-31",0,{"$f":"VALUE(URL_2[[#This Row],[Data]])","v":0}]
["Confirmed","","Antigua and Barbuda",17.0608,-61.796399999999998,"2020-02-01",0,{"$f":"VALUE(URL_2[[#This Row],[Data]])","v":0}]
["Confirmed","","Antigua and Barbuda",17.0608,-61.796399999999998,"2020-02-02",0,{"$f":"VALUE(URL_2[[#This Row],[Data]])","v":0}]
["Confirmed","","Antigua and Barbuda",17.0608,-61.796399999999998,"2020-02-03",0,{"$f":"VALUE(URL_2[[#This Row],[Data]])","v":0}]
["Confirmed","","Antigua and Barbuda",17.0608,-61.796399999999998,"2020-02-04",0,{"$f":"VALUE(URL_2[[#This Row],[Data]])","v":0}]
["Confirmed","","Antigua and Barbuda",17.0608,-61.796399999999998,"2020-02-05",0,{"$f":"VALUE(URL_2[[#This Row],[Data]])","v":0}]
["Confirmed","","Antigua and Barbuda",17.0608,-61.796399999999998,"2020-02-06",0,{"$f":"VALUE(URL_2[[#This Row],[Data]])","v":0}]
["Confirmed","","Antigua and Barbuda",17.0608,-61.796399999999998,"2020-02-07",0,{"$f":"VALUE(URL_2[[#This Row],[Data]])","v":0}]
["Confirmed","","Antigua and Barbuda",17.0608,-61.796399999999998,"2020-02-08",0,{"$f":"VALUE(URL_2[[#This Row],[Data]])","v":0}]
["Confirmed","","Antigua and Barbuda",17.0608,-61.796399999999998,"2020-02-09",0,{"$f":"VALUE(URL_2[[#This Row],[Data]])","v":0}]
["Confirmed","","Antigua and Barbuda",17.0608,-61.796399999999998,"2020-02-10",0,{"$f":"VALUE(URL_2[[#This Row],[Data]])","v":0}]
["Confirmed","","Antigua and Barbuda",17.0608,-61.796399999999998,"2020-02-11",0,{"$f":"VALUE(URL_2[[#This Row],[Data]])","v":0}]
["Confirmed","","Antigua and Barbuda",17.0608,-61.796399999999998,"2020-02-12",0,{"$f":"VALUE(URL_2[[#This Row],[Data]])","v":0}]
["Confirmed","","Antigua and Barbuda",17.0608,-61.796399999999998,"2020-02-13",0,{"$f":"VALUE(URL_2[[#This Row],[Data]])","v":0}]
["Confirmed","","Antigua and Barbuda",17.0608,-61.796399999999998,"2020-02-14",0,{"$f":"VALUE(URL_2[[#This Row],[Data]])","v":0}]
["Confirmed","","Antigua and Barbuda",17.0608,-61.796399999999998,"2020-02-15",0,{"$f":"VALUE(URL_2[[#This Row],[Data]])","v":0}]
["Confirmed","","Antigua and Barbuda",17.0608,-61.796399999999998,"2020-02-16",0,{"$f":"VALUE(URL_2[[#This Row],[Data]])","v":0}]
["Confirmed","","Antigua and Barbuda",17.0608,-61.796399999999998,"2020-02-17",0,{"$f":"VALUE(URL_2[[#This Row],[Data]])","v":0}]
["Confirmed","","Antigua and Barbuda",17.0608,-61.796399999999998,"2020-02-18",0,{"$f":"VALUE(URL_2[[#This Row],[Data]])","v":0}]
["Confirmed","","Antigua and Barbuda",17.0608,-61.796399999999998,"2020-02-19",0,{"$f":"VALUE(URL_2[[#This Row],[Data]])","v":0}]
["Confirmed","","Antigua and Barbuda",17.0608,-61.796399999999998,"2020-02-20",0,{"$f":"VALUE(URL_2[[#This Row],[Data]])","v":0}]
["Confirmed","","Antigua and Barbuda",17.0608,-61.796399999999998,"2020-02-21",0,{"$f":"VALUE(URL_2[[#This Row],[Data]])","v":0}]
["Confirmed","","Antigua and Barbuda",17.0608,-61.796399999999998,"2020-02-22",0,{"$f":"VALUE(URL_2[[#This Row],[Data]])","v":0}]
["Confirmed","","Antigua and Barbuda",17.0608,-61.796399999999998,"2020-02-23",0,{"$f":"VALUE(URL_2[[#This Row],[Data]])","v":0}]
["Confirmed","","Antigua and Barbuda",17.0608,-61.796399999999998,"2020-02-24",0,{"$f":"VALUE(URL_2[[#This Row],[Data]])","v":0}]
["Confirmed","","Antigua and Barbuda",17.0608,-61.796399999999998,"2020-02-25",0,{"$f":"VALUE(URL_2[[#This Row],[Data]])","v":0}]
["Confirmed","","Antigua and Barbuda",17.0608,-61.796399999999998,"2020-02-26",0,{"$f":"VALUE(URL_2[[#This Row],[Data]])","v":0}]
["Confirmed","","Antigua and Barbuda",17.0608,-61.796399999999998,"2020-02-27",0,{"$f":"VALUE(URL_2[[#This Row],[Data]])","v":0}]
["Confirmed","","Antigua and Barbuda",17.0608,-61.796399999999998,"2020-02-28",0,{"$f":"VALUE(URL_2[[#This Row],[Data]])","v":0}]
["Confirmed","","Antigua and Barbuda",17.0608,-61.796399999999998,"2020-02-29",0,{"$f":"VALUE(URL_2[[#This Row],[Data]])","v":0}]
["Confirmed","","Antigua and Barbuda",17.0608,-61.796399999999998,"2020-03-01",0,{"$f":"VALUE(URL_2[[#This Row],[Data]])","v":0}]
["Confirmed","","Antigua and Barbuda",17.0608,-61.796399999999998,"2020-03-02",0,{"$f":"VALUE(URL_2[[#This Row],[Data]])","v":0}]
["Confirmed","","Antigua and Barbuda",17.0608,-61.796399999999998,"2020-03-03",0,{"$f":"VALUE(URL_2[[#This Row],[Data]])","v":0}]
["Confirmed","","Antigua and Barbuda",17.0608,-61.796399999999998,"2020-03-04",0,{"$f":"VALUE(URL_2[[#This Row],[Data]])","v":0}]
["Confirmed","","Antigua and Barbuda",17.0608,-61.796399999999998,"2020-03-05",0,{"$f":"VALUE(URL_2[[#This Row],[Data]])","v":0}]
["Confirmed","","Antigua and Barbuda",17.0608,-61.796399999999998,"2020-03-06",0,{"$f":"VALUE(URL_2[[#This Row],[Data]])","v":0}]
["Confirmed","","Antigua and Barbuda",17.0608,-61.796399999999998,"2020-03-07",0,{"$f":"VALUE(URL_2[[#This Row],[Data]])","v":0}]
["Confirmed","","Antigua and Barbuda",17.0608,-61.796399999999998,"2020-03-08",0,{"$f":"VALUE(URL_2[[#This Row],[Data]])","v":0}]
["Confirmed","","Antigua and Barbuda",17.0608,-61.796399999999998,"2020-03-09",0,{"$f":"VALUE(URL_2[[#This Row],[Data]])","v":0}]
["Confirmed","","Antigua and Barbuda",17.0608,-61.796399999999998,"2020-03-10",0,{"$f":"VALUE(URL_2[[#This Row],[Data]])","v":0}]
["Confirmed","","Antigua and Barbuda",17.0608,-61.796399999999998,"2020-03-11",0,{"$f":"VALUE(URL_2[[#This Row],[Data]])","v":0}]
["Confirmed","","Antigua and Barbuda",17.0608,-61.796399999999998,"2020-03-12",0,{"$f":"VALUE(URL_2[[#This Row],[Data]])","v":0}]
["Confirmed","","Argentina",-38.4161,-63.616700000000002,"2020-01-22",0,{"$f":"VALUE(URL_2[[#This Row],[Data]])","v":0}]
["Confirmed","","Argentina",-38.4161,-63.616700000000002,"2020-01-23",0,{"$f":"VALUE(URL_2[[#This Row],[Data]])","v":0}]
["Confirmed","","Argentina",-38.4161,-63.616700000000002,"2020-01-24",0,{"$f":"VALUE(URL_2[[#This Row],[Data]])","v":0}]
["Confirmed","","Argentina",-38.4161,-63.616700000000002,"2020-01-25",0,{"$f":"VALUE(URL_2[[#This Row],[Data]])","v":0}]
["Confirmed","","Argentina",-38.4161,-63.616700000000002,"2020-01-26",0,{"$f":"VALUE(URL_2[[#This Row],[Data]])","v":0}]
["Confirmed","","Argentina",-38.4161,-63.616700000000002,"2020-01-27",0,{"$f":"VALUE(URL_2[[#This Row],[Data]])","v":0}]
["Confirmed","","Argentina",-38.4161,-63.616700000000002,"2020-01-28",0,{"$f":"VALUE(URL_2[[#This Row],[Data]])","v":0}]
["Confirmed","","Argentina",-38.4161,-63.616700000000002,"2020-01-29",0,{"$f":"VALUE(URL_2[[#This Row],[Data]])","v":0}]
["Confirmed","","Argentina",-38.4161,-63.616700000000002,"2020-01-30",0,{"$f":"VALUE(URL_2[[#This Row],[Data]])","v":0}]
["Confirmed","","Argentina",-38.4161,-63.616700000000002,"2020-01-31",0,{"$f":"VALUE(URL_2[[#This Row],[Data]])","v":0}]
["Confirmed","","Argentina",-38.4161,-63.616700000000002,"2020-02-01",0,{"$f":"VALUE(URL_2[[#This Row],[Data]])","v":0}]
["Confirmed","","Argentina",-38.4161,-63.616700000000002,"2020-02-02",0,{"$f":"VALUE(URL_2[[#This Row],[Data]])","v":0}]
["Confirmed","","Argentina",-38.4161,-63.616700000000002,"2020-02-03",0,{"$f":"VALUE(URL_2[[#This Row],[Data]])","v":0}]
["Confirmed","","Argentina",-38.4161,-63.616700000000002,"2020-02-04",0,{"$f":"VALUE(URL_2[[#This Row],[Data]])","v":0}]
["Confirmed","","Argentina",-38.4161,-63.616700000000002,"2020-02-05",0,{"$f":"VALUE(URL_2[[#This Row],[Data]])","v":0}]
["Confirmed","","Argentina",-38.4161,-63.616700000000002,"2020-02-06",0,{"$f":"VALUE(URL_2[[#This Row],[Data]])","v":0}]
["Confirmed","","Argentina",-38.4161,-63.616700000000002,"2020-02-07",0,{"$f":"VALUE(URL_2[[#This Row],[Data]])","v":0}]
["Confirmed","","Argentina",-38.4161,-63.616700000000002,"2020-02-08",0,{"$f":"VALUE(URL_2[[#This Row],[Data]])","v":0}]
["Confirmed","","Argentina",-38.4161,-63.616700000000002,"2020-02-09",0,{"$f":"VALUE(URL_2[[#This Row],[Data]])","v":0}]
["Confirmed","","Argentina",-38.4161,-63.616700000000002,"2020-02-10",0,{"$f":"VALUE(URL_2[[#This Row],[Data]])","v":0}]
["Confirmed","","Argentina",-38.4161,-63.616700000000002,"2020-02-11",0,{"$f":"VALUE(URL_2[[#This Row],[Data]])","v":0}]
["Confirmed","","Argentina",-38.4161,-63.616700000000002,"2020-02-12",0,{"$f":"VALUE(URL_2[[#This Row],[Data]])","v":0}]
["Confirmed","","Argentina",-38.4161,-63.616700000000002,"2020-02-13",0,{"$f":"VALUE(URL_2[[#This Row],[Data]])","v":0}]
["Confirmed","","Argentina",-38.4161,-63.616700000000002,"2020-02-14",0,{"$f":"VALUE(URL_2[[#This Row],[Data]])","v":0}]
["Confirmed","","Argentina",-38.4161,-63.616700000000002,"2020-02-15",0,{"$f":"VALUE(URL_2[[#This Row],[Data]])","v":0}]
["Confirmed","","Argentina",-38.4161,-63.616700000000002,"2020-02-16",0,{"$f":"VALUE(URL_2[[#This Row],[Data]])","v":0}]
["Confirmed","","Argentina",-38.4161,-63.616700000000002,"2020-02-17",0,{"$f":"VALUE(URL_2[[#This Row],[Data]])","v":0}]
["Confirmed","","Argentina",-38.4161,-63.616700000000002,"2020-02-18",0,{"$f":"VALUE(URL_2[[#This Row],[Data]])","v":0}]
["Confirmed","","Argentina",-38.4161,-63.616700000000002,"2020-02-19",0,{"$f":"VALUE(URL_2[[#This Row],[Data]])","v":0}]
["Confirmed","","Argentina",-38.4161,-63.616700000000002,"2020-02-20",0,{"$f":"VALUE(URL_2[[#This Row],[Data]])","v":0}]
["Confirmed","","Argentina",-38.4161,-63.616700000000002,"2020-02-21",0,{"$f":"VALUE(URL_2[[#This Row],[Data]])","v":0}]
["Confirmed","","Argentina",-38.4161,-63.616700000000002,"2020-02-22",0,{"$f":"VALUE(URL_2[[#This Row],[Data]])","v":0}]
["Confirmed","","Argentina",-38.4161,-63.616700000000002,"2020-02-23",0,{"$f":"VALUE(URL_2[[#This Row],[Data]])","v":0}]
["Confirmed","","Argentina",-38.4161,-63.616700000000002,"2020-02-24",0,{"$f":"VALUE(URL_2[[#This Row],[Data]])","v":0}]
["Confirmed","","Argentina",-38.4161,-63.616700000000002,"2020-02-25",0,{"$f":"VALUE(URL_2[[#This Row],[Data]])","v":0}]
["Confirmed","","Argentina",-38.4161,-63.616700000000002,"2020-02-26",0,{"$f":"VALUE(URL_2[[#This Row],[Data]])","v":0}]
["Confirmed","","Argentina",-38.4161,-63.616700000000002,"2020-02-27",0,{"$f":"VALUE(URL_2[[#This Row],[Data]])","v":0}]
["Confirmed","","Argentina",-38.4161,-63.616700000000002,"2020-02-28",0,{"$f":"VALUE(URL_2[[#This Row],[Data]])","v":0}]
["Confirmed","","Argentina",-38.4161,-63.616700000000002,"2020-02-29",0,{"$f":"VALUE(URL_2[[#This Row],[Data]])","v":0}]
["Confirmed","","Argentina",-38.4161,-63.616700000000002,"2020-03-01",0,{"$f":"VALUE(URL_2[[#This Row],[Data]])","v":0}]
["Confirmed","","Argentina",-38.4161,-63.616700000000002,"2020-03-02",0,{"$f":"VALUE(URL_2[[#This Row],[Data]])","v":0}]
["Confirmed","","Armenia",40.069099999999999,45.038200000000003,"2020-01-22",0,{"$f":"VALUE(URL_2[[#This Row],[Data]])","v":0}]
["Confirmed","","Armenia",40.069099999999999,45.038200000000003,"2020-01-23",0,{"$f":"VALUE(URL_2[[#This Row],[Data]])","v":0}]
["Confirmed","","Armenia",40.069099999999999,45.038200000000003,"2020-01-24",0,{"$f":"VALUE(URL_2[[#This Row],[Data]])","v":0}]
["Confirmed","","Armenia",40.069099999999999,45.038200000000003,"2020-01-25",0,{"$f":"VALUE(URL_2[[#This Row],[Data]])","v":0}]
["Confirmed","","Armenia",40.069099999999999,45.038200000000003,"2020-01-26",0,{"$f":"VALUE(URL_2[[#This Row],[Data]])","v":0}]
["Confirmed","","Armenia",40.069099999999999,45.038200000000003,"2020-01-27",0,{"$f":"VALUE(URL_2[[#This Row],[Data]])","v":0}]
["Confirmed","","Armenia",40.069099999999999,45.038200000000003,"2020-01-28",0,{"$f":"VALUE(URL_2[[#This Row],[Data]])","v":0}]
["Confirmed","","Armenia",40.069099999999999,45.038200000000003,"2020-01-29",0,{"$f":"VALUE(URL_2[[#This Row],[Data]])","v":0}]
["Confirmed","","Armenia",40.069099999999999,45.038200000000003,"2020-01-30",0,{"$f":"VALUE(URL_2[[#This Row],[Data]])","v":0}]
["Confirmed","","Armenia",40.069099999999999,45.038200000000003,"2020-01-31",0,{"$f":"VALUE(URL_2[[#This Row],[Data]])","v":0}]
["Confirmed","","Armenia",40.069099999999999,45.038200000000003,"2020-02-01",0,{"$f":"VALUE(URL_2[[#This Row],[Data]])","v":0}]
["Confirmed","","Armenia",40.069099999999999,45.038200000000003,"2020-02-02",0,{"$f":"VALUE(URL_2[[#This Row],[Data]])","v":0}]
["Confirmed","","Armenia",40.069099999999999,45.038200000000003,"2020-02-03",0,{"$f":"VALUE(URL_2[[#This Row],[Data]])","v":0}]
["Confirmed","","Armenia",40.069099999999999,45.038200000000003,"2020-02-04",0,{"$f":"VALUE(URL_2[[#This Row],[Data]])","v":0}]
["Confirmed","","Armenia",40.069099999999999,45.038200000000003,"2020-02-05",0,{"$f":"VALUE(URL_2[[#This Row],[Data]])","v":0}]
["Confirmed","","Armenia",40.069099999999999,45.038200000000003,"2020-02-06",0,{"$f":"VALUE(URL_2[[#This Row],[Data]])","v":0}]
["Confirmed","","Armenia",40.069099999999999,45.038200000000003,"2020-02-07",0,{"$f":"VALUE(URL_2[[#This Row],[Data]])","v":0}]
["Confirmed","","Armenia",40.069099999999999,45.038200000000003,"2020-02-08",0,{"$f":"VALUE(URL_2[[#This Row],[Data]])","v":0}]
["Confirmed","","Armenia",40.069099999999999,45.038200000000003,"2020-02-09",0,{"$f":"VALUE(URL_2[[#This Row],[Data]])","v":0}]
["Confirmed","","Armenia",40.069099999999999,45.038200000000003,"2020-02-10",0,{"$f":"VALUE(URL_2[[#This Row],[Data]])","v":0}]
["Confirmed","","Armenia",40.069099999999999,45.038200000000003,"2020-02-11",0,{"$f":"VALUE(URL_2[[#This Row],[Data]])","v":0}]
["Confirmed","","Armenia",40.069099999999999,45.038200000000003,"2020-02-12",0,{"$f":"VALUE(URL_2[[#This Row],[Data]])","v":0}]
["Confirmed","","Armenia",40.069099999999999,45.038200000000003,"2020-02-13",0,{"$f":"VALUE(URL_2[[#This Row],[Data]])","v":0}]
["Confirmed","","Armenia",40.069099999999999,45.038200000000003,"2020-02-14",0,{"$f":"VALUE(URL_2[[#This Row],[Data]])","v":0}]
["Confirmed","","Armenia",40.069099999999999,45.038200000000003,"2020-02-15",0,{"$f":"VALUE(URL_2[[#This Row],[Data]])","v":0}]
["Confirmed","","Armenia",40.069099999999999,45.038200000000003,"2020-02-16",0,{"$f":"VALUE(URL_2[[#This Row],[Data]])","v":0}]
["Confirmed","","Armenia",40.069099999999999,45.038200000000003,"2020-02-17",0,{"$f":"VALUE(URL_2[[#This Row],[Data]])","v":0}]
["Confirmed","","Armenia",40.069099999999999,45.038200000000003,"2020-02-18",0,{"$f":"VALUE(URL_2[[#This Row],[Data]])","v":0}]
["Confirmed","","Armenia",40.069099999999999,45.038200000000003,"2020-02-19",0,{"$f":"VALUE(URL_2[[#This Row],[Data]])","v":0}]
["Confirmed","","Armenia",40.069099999999999,45.038200000000003,"2020-02-20",0,{"$f":"VALUE(URL_2[[#This Row],[Data]])","v":0}]
["Confirmed","","Armenia",40.069099999999999,45.038200000000003,"2020-02-21",0,{"$f":"VALUE(URL_2[[#This Row],[Data]])","v":0}]
["Confirmed","","Armenia",40.069099999999999,45.038200000000003,"2020-02-22",0,{"$f":"VALUE(URL_2[[#This Row],[Data]])","v":0}]
["Confirmed","","Armenia",40.069099999999999,45.038200000000003,"2020-02-23",0,{"$f":"VALUE(URL_2[[#This Row],[Data]])","v":0}]
["Confirmed","","Armenia",40.069099999999999,45.038200000000003,"2020-02-24",0,{"$f":"VALUE(URL_2[[#This Row],[Data]])","v":0}]
["Confirmed","","Armenia",40.069099999999999,45.038200000000003,"2020-02-25",0,{"$f":"VALUE(URL_2[[#This Row],[Data]])","v":0}]
["Confirmed","","Armenia",40.069099999999999,45.038200000000003,"2020-02-26",0,{"$f":"VALUE(URL_2[[#This Row],[Data]])","v":0}]
["Confirmed","","Armenia",40.069099999999999,45.038200000000003,"2020-02-27",0,{"$f":"VALUE(URL_2[[#This Row],[Data]])","v":0}]
["Confirmed","","Armenia",40.069099999999999,45.038200000000003,"2020-02-28",0,{"$f":"VALUE(URL_2[[#This Row],[Data]])","v":0}]
["Confirmed","","Armenia",40.069099999999999,45.038200000000003,"2020-02-29",0,{"$f":"VALUE(URL_2[[#This Row],[Data]])","v":0}]
["Confirmed","Australian Capital Territory","Australia",-35.473500000000001,149.01240000000001,"2020-01-22",0,{"$f":"VALUE(URL_2[[#This Row],[Data]])","v":0}]
["Confirmed","Australian Capital Territory","Australia",-35.473500000000001,149.01240000000001,"2020-01-23",0,{"$f":"VALUE(URL_2[[#This Row],[Data]])","v":0}]
["Confirmed","Australian Capital Territory","Australia",-35.473500000000001,149.01240000000001,"2020-01-24",0,{"$f":"VALUE(URL_2[[#This Row],[Data]])","v":0}]
["Confirmed","Australian Capital Territory","Australia",-35.473500000000001,149.01240000000001,"2020-01-25",0,{"$f":"VALUE(URL_2[[#This Row],[Data]])","v":0}]
["Confirmed","Australian Capital Territory","Australia",-35.473500000000001,149.01240000000001,"2020-01-26",0,{"$f":"VALUE(URL_2[[#This Row],[Data]])","v":0}]
["Confirmed","Australian Capital Territory","Australia",-35.473500000000001,149.01240000000001,"2020-01-27",0,{"$f":"VALUE(URL_2[[#This Row],[Data]])","v":0}]
["Confirmed","Australian Capital Territory","Australia",-35.473500000000001,149.01240000000001,"2020-01-28",0,{"$f":"VALUE(URL_2[[#This Row],[Data]])","v":0}]
["Confirmed","Australian Capital Territory","Australia",-35.473500000000001,149.01240000000001,"2020-01-29",0,{"$f":"VALUE(URL_2[[#This Row],[Data]])","v":0}]
["Confirmed","Australian Capital Territory","Australia",-35.473500000000001,149.01240000000001,"2020-01-30",0,{"$f":"VALUE(URL_2[[#This Row],[Data]])","v":0}]
["Confirmed","Australian Capital Territory","Australia",-35.473500000000001,149.01240000000001,"2020-01-31",0,{"$f":"VALUE(URL_2[[#This Row],[Data]])","v":0}]
["Confirmed","Australian Capital Territory","Australia",-35.473500000000001,149.01240000000001,"2020-02-01",0,{"$f":"VALUE(URL_2[[#This Row],[Data]])","v":0}]
["Confirmed","Australian Capital Territory","Australia",-35.473500000000001,149.01240000000001,"2020-02-02",0,{"$f":"VALUE(URL_2[[#This Row],[Data]])","v":0}]
["Confirmed","Australian Capital Territory","Australia",-35.473500000000001,149.01240000000001,"2020-02-03",0,{"$f":"VALUE(URL_2[[#This Row],[Data]])","v":0}]
["Confirmed","Australian Capital Territory","Australia",-35.473500000000001,149.01240000000001,"2020-02-04",0,{"$f":"VALUE(URL_2[[#This Row],[Data]])","v":0}]
["Confirmed","Australian Capital Territory","Australia",-35.473500000000001,149.01240000000001,"2020-02-05",0,{"$f":"VALUE(URL_2[[#This Row],[Data]])","v":0}]
["Confirmed","Australian Capital Territory","Australia",-35.473500000000001,149.01240000000001,"2020-02-06",0,{"$f":"VALUE(URL_2[[#This Row],[Data]])","v":0}]
["Confirmed","Australian Capital Territory","Australia",-35.473500000000001,149.01240000000001,"2020-02-07",0,{"$f":"VALUE(URL_2[[#This Row],[Data]])","v":0}]
["Confirmed","Australian Capital Territory","Australia",-35.473500000000001,149.01240000000001,"2020-02-08",0,{"$f":"VALUE(URL_2[[#This Row],[Data]])","v":0}]
["Confirmed","Australian Capital Territory","Australia",-35.473500000000001,149.01240000000001,"2020-02-09",0,{"$f":"VALUE(URL_2[[#This Row],[Data]])","v":0}]
["Confirmed","Australian Capital Territory","Australia",-35.473500000000001,149.01240000000001,"2020-02-10",0,{"$f":"VALUE(URL_2[[#This Row],[Data]])","v":0}]
["Confirmed","Australian Capital Territory","Australia",-35.473500000000001,149.01240000000001,"2020-02-11",0,{"$f":"VALUE(URL_2[[#This Row],[Data]])","v":0}]
["Confirmed","Australian Capital Territory","Australia",-35.473500000000001,149.01240000000001,"2020-02-12",0,{"$f":"VALUE(URL_2[[#This Row],[Data]])","v":0}]
["Confirmed","Australian Capital Territory","Australia",-35.473500000000001,149.01240000000001,"2020-02-13",0,{"$f":"VALUE(URL_2[[#This Row],[Data]])","v":0}]
["Confirmed","Australian Capital Territory","Australia",-35.473500000000001,149.01240000000001,"2020-02-14",0,{"$f":"VALUE(URL_2[[#This Row],[Data]])","v":0}]
["Confirmed","Australian Capital Territory","Australia",-35.473500000000001,149.01240000000001,"2020-02-15",0,{"$f":"VALUE(URL_2[[#This Row],[Data]])","v":0}]
["Confirmed","Australian Capital Territory","Australia",-35.473500000000001,149.01240000000001,"2020-02-16",0,{"$f":"VALUE(URL_2[[#This Row],[Data]])","v":0}]
["Confirmed","Australian Capital Territory","Australia",-35.473500000000001,149.01240000000001,"2020-02-17",0,{"$f":"VALUE(URL_2[[#This Row],[Data]])","v":0}]
["Confirmed","Australian Capital Territory","Australia",-35.473500000000001,149.01240000000001,"2020-02-18",0,{"$f":"VALUE(URL_2[[#This Row],[Data]])","v":0}]
["Confirmed","Australian Capital Territory","Australia",-35.473500000000001,149.01240000000001,"2020-02-19",0,{"$f":"VALUE(URL_2[[#This Row],[Data]])","v":0}]
["Confirmed","Australian Capital Territory","Australia",-35.473500000000001,149.01240000000001,"2020-02-20",0,{"$f":"VALUE(URL_2[[#This Row],[Data]])","v":0}]
["Confirmed","Australian Capital Territory","Australia",-35.473500000000001,149.01240000000001,"2020-02-21",0,{"$f":"VALUE(URL_2[[#This Row],[Data]])","v":0}]
["Confirmed","Australian Capital Territory","Australia",-35.473500000000001,149.01240000000001,"2020-02-22",0,{"$f":"VALUE(URL_2[[#This Row],[Data]])","v":0}]
["Confirmed","Australian Capital Territory","Australia",-35.473500000000001,149.01240000000001,"2020-02-23",0,{"$f":"VALUE(URL_2[[#This Row],[Data]])","v":0}]
["Confirmed","Australian Capital Territory","Australia",-35.473500000000001,149.01240000000001,"2020-02-24",0,{"$f":"VALUE(URL_2[[#This Row],[Data]])","v":0}]
["Confirmed","Australian Capital Territory","Australia",-35.473500000000001,149.01240000000001,"2020-02-25",0,{"$f":"VALUE(URL_2[[#This Row],[Data]])","v":0}]
["Confirmed","Australian Capital Territory","Australia",-35.473500000000001,149.01240000000001,"2020-02-26",0,{"$f":"VALUE(URL_2[[#This Row],[Data]])","v":0}]
["Confirmed","Australian Capital Territory","Australia",-35.473500000000001,149.01240000000001,"2020-02-27",0,{"$f":"VALUE(URL_2[[#This Row],[Data]])","v":0}]
["Confirmed","Australian Capital Territory","Australia",-35.473500000000001,149.01240000000001,"2020-02-28",0,{"$f":"VALUE(URL_2[[#This Row],[Data]])","v":0}]
["Confirmed","Australian Capital Territory","Australia",-35.473500000000001,149.01240000000001,"2020-02-29",0,{"$f":"VALUE(URL_2[[#This Row],[Data]])","v":0}]
["Confirmed","Australian Capital Territory","Australia",-35.473500000000001,149.01240000000001,"2020-03-01",0,{"$f":"VALUE(URL_2[[#This Row],[Data]])","v":0}]
["Confirmed","Australian Capital Territory","Australia",-35.473500000000001,149.01240000000001,"2020-03-02",0,{"$f":"VALUE(URL_2[[#This Row],[Data]])","v":0}]
["Confirmed","Australian Capital Territory","Australia",-35.473500000000001,149.01240000000001,"2020-03-03",0,{"$f":"VALUE(URL_2[[#This Row],[Data]])","v":0}]
["Confirmed","Australian Capital Territory","Australia",-35.473500000000001,149.01240000000001,"2020-03-04",0,{"$f":"VALUE(URL_2[[#This Row],[Data]])","v":0}]
["Confirmed","Australian Capital Territory","Australia",-35.473500000000001,149.01240000000001,"2020-03-05",0,{"$f":"VALUE(URL_2[[#This Row],[Data]])","v":0}]
["Confirmed","Australian Capital Territory","Australia",-35.473500000000001,149.01240000000001,"2020-03-06",0,{"$f":"VALUE(URL_2[[#This Row],[Data]])","v":0}]
["Confirmed","Australian Capital Territory","Australia",-35.473500000000001,149.01240000000001,"2020-03-07",0,{"$f":"VALUE(URL_2[[#This Row],[Data]])","v":0}]
["Confirmed","Australian Capital Territory","Australia",-35.473500000000001,149.01240000000001,"2020-03-08",0,{"$f":"VALUE(URL_2[[#This Row],[Data]])","v":0}]
["Confirmed","Australian Capital Territory","Australia",-35.473500000000001,149.01240000000001,"2020-03-09",0,{"$f":"VALUE(URL_2[[#This Row],[Data]])","v":0}]
["Confirmed","Australian Capital Territory","Australia",-35.473500000000001,149.01240000000001,"2020-03-10",0,{"$f":"VALUE(URL_2[[#This Row],[Data]])","v":0}]
["Confirmed","Australian Capital Territory","Australia",-35.473500000000001,149.01240000000001,"2020-03-11",0,{"$f":"VALUE(URL_2[[#This Row],[Data]])","v":0}]
["Confirmed","Australian Capital Territory","Australia",-35.473500000000001,149.01240000000001,"2020-03-12",0,{"$f":"VALUE(URL_2[[#This Row],[Data]])","v":0}]
["Confirmed","New South Wales","Australia",-33.8688,151.20930000000001,"2020-01-22",0,{"$f":"VALUE(URL_2[[#This Row],[Data]])","v":0}]
["Confirmed","New South Wales","Australia",-33.8688,151.20930000000001,"2020-01-23",0,{"$f":"VALUE(URL_2[[#This Row],[Data]])","v":0}]
["Confirmed","New South Wales","Australia",-33.8688,151.20930000000001,"2020-01-24",0,{"$f":"VALUE(URL_2[[#This Row],[Data]])","v":0}]
["Confirmed","New South Wales","Australia",-33.8688,151.20930000000001,"2020-01-25",0,{"$f":"VALUE(URL_2[[#This Row],[Data]])","v":0}]
["Confirmed","Northern Territory","Australia",-12.4634,130.84559999999999,"2020-01-22",0,{"$f":"VALUE(URL_2[[#This Row],[Data]])","v":0}]
["Confirmed","Northern Territory","Australia",-12.4634,130.84559999999999,"2020-01-23",0,{"$f":"VALUE(URL_2[[#This Row],[Data]])","v":0}]
["Confirmed","Northern Territory","Australia",-12.4634,130.84559999999999,"2020-01-24",0,{"$f":"VALUE(URL_2[[#This Row],[Data]])","v":0}]
["Confirmed","Northern Territory","Australia",-12.4634,130.84559999999999,"2020-01-25",0,{"$f":"VALUE(URL_2[[#This Row],[Data]])","v":0}]
["Confirmed","Northern Territory","Australia",-12.4634,130.84559999999999,"2020-01-26",0,{"$f":"VALUE(URL_2[[#This Row],[Data]])","v":0}]
["Confirmed","Northern Territory","Australia",-12.4634,130.84559999999999,"2020-01-27",0,{"$f":"VALUE(URL_2[[#This Row],[Data]])","v":0}]
["Confirmed","Northern Territory","Australia",-12.4634,130.84559999999999,"2020-01-28",0,{"$f":"VALUE(URL_2[[#This Row],[Data]])","v":0}]
["Confirmed","Northern Territory","Australia",-12.4634,130.84559999999999,"2020-01-29",0,{"$f":"VALUE(URL_2[[#This Row],[Data]])","v":0}]
["Confirmed","Northern Territory","Australia",-12.4634,130.84559999999999,"2020-01-30",0,{"$f":"VALUE(URL_2[[#This Row],[Data]])","v":0}]
["Confirmed","Northern Territory","Australia",-12.4634,130.84559999999999,"2020-01-31",0,{"$f":"VALUE(URL_2[[#This Row],[Data]])","v":0}]
["Confirmed","Northern Territory","Australia",-12.4634,130.84559999999999,"2020-02-01",0,{"$f":"VALUE(URL_2[[#This Row],[Data]])","v":0}]
["Confirmed","Northern Territory","Australia",-12.4634,130.84559999999999,"2020-02-02",0,{"$f":"VALUE(URL_2[[#This Row],[Data]])","v":0}]
["Confirmed","Northern Territory","Australia",-12.4634,130.84559999999999,"2020-02-03",0,{"$f":"VALUE(URL_2[[#This Row],[Data]])","v":0}]
["Confirmed","Northern Territory","Australia",-12.4634,130.84559999999999,"2020-02-04",0,{"$f":"VALUE(URL_2[[#This Row],[Data]])","v":0}]
["Confirmed","Northern Territory","Australia",-12.4634,130.84559999999999,"2020-02-05",0,{"$f":"VALUE(URL_2[[#This Row],[Data]])","v":0}]
["Confirmed","Northern Territory","Australia",-12.4634,130.84559999999999,"2020-02-06",0,{"$f":"VALUE(URL_2[[#This Row],[Data]])","v":0}]
["Confirmed","Northern Territory","Australia",-12.4634,130.84559999999999,"2020-02-07",0,{"$f":"VALUE(URL_2[[#This Row],[Data]])","v":0}]
["Confirmed","Northern Territory","Australia",-12.4634,130.84559999999999,"2020-02-08",0,{"$f":"VALUE(URL_2[[#This Row],[Data]])","v":0}]
["Confirmed","Northern Territory","Australia",-12.4634,130.84559999999999,"2020-02-09",0,{"$f":"VALUE(URL_2[[#This Row],[Data]])","v":0}]
["Confirmed","Northern Territory","Australia",-12.4634,130.84559999999999,"2020-02-10",0,{"$f":"VALUE(URL_2[[#This Row],[Data]])","v":0}]
["Confirmed","Northern Territory","Australia",-12.4634,130.84559999999999,"2020-02-11",0,{"$f":"VALUE(URL_2[[#This Row],[Data]])","v":0}]
["Confirmed","Northern Territory","Australia",-12.4634,130.84559999999999,"2020-02-12",0,{"$f":"VALUE(URL_2[[#This Row],[Data]])","v":0}]
["Confirmed","Northern Territory","Australia",-12.4634,130.84559999999999,"2020-02-13",0,{"$f":"VALUE(URL_2[[#This Row],[Data]])","v":0}]
["Confirmed","Northern Territory","Australia",-12.4634,130.84559999999999,"2020-02-14",0,{"$f":"VALUE(URL_2[[#This Row],[Data]])","v":0}]
["Confirmed","Northern Territory","Australia",-12.4634,130.84559999999999,"2020-02-15",0,{"$f":"VALUE(URL_2[[#This Row],[Data]])","v":0}]
["Confirmed","Northern Territory","Australia",-12.4634,130.84559999999999,"2020-02-16",0,{"$f":"VALUE(URL_2[[#This Row],[Data]])","v":0}]
["Confirmed","Northern Territory","Australia",-12.4634,130.84559999999999,"2020-02-17",0,{"$f":"VALUE(URL_2[[#This Row],[Data]])","v":0}]
["Confirmed","Northern Territory","Australia",-12.4634,130.84559999999999,"2020-02-18",0,{"$f":"VALUE(URL_2[[#This Row],[Data]])","v":0}]
["Confirmed","Northern Territory","Australia",-12.4634,130.84559999999999,"2020-02-19",0,{"$f":"VALUE(URL_2[[#This Row],[Data]])","v":0}]
["Confirmed","Northern Territory","Australia",-12.4634,130.84559999999999,"2020-02-20",0,{"$f":"VALUE(URL_2[[#This Row],[Data]])","v":0}]
["Confirmed","Northern Territory","Australia",-12.4634,130.84559999999999,"2020-02-21",0,{"$f":"VALUE(URL_2[[#This Row],[Data]])","v":0}]
["Confirmed","Northern Territory","Australia",-12.4634,130.84559999999999,"2020-02-22",0,{"$f":"VALUE(URL_2[[#This Row],[Data]])","v":0}]
["Confirmed","Northern Territory","Australia",-12.4634,130.84559999999999,"2020-02-23",0,{"$f":"VALUE(URL_2[[#This Row],[Data]])","v":0}]
["Confirmed","Northern Territory","Australia",-12.4634,130.84559999999999,"2020-02-24",0,{"$f":"VALUE(URL_2[[#This Row],[Data]])","v":0}]
["Confirmed","Northern Territory","Australia",-12.4634,130.84559999999999,"2020-02-25",0,{"$f":"VALUE(URL_2[[#This Row],[Data]])","v":0}]
["Confirmed","Northern Territory","Australia",-12.4634,130.84559999999999,"2020-02-26",0,{"$f":"VALUE(URL_2[[#This Row],[Data]])","v":0}]
["Confirmed","Northern Territory","Australia",-12.4634,130.84559999999999,"2020-02-27",0,{"$f":"VALUE(URL_2[[#This Row],[Data]])","v":0}]
["Confirmed","Northern Territory","Australia",-12.4634,130.84559999999999,"2020-02-28",0,{"$f":"VALUE(URL_2[[#This Row],[Data]])","v":0}]
["Confirmed","Northern Territory","Australia",-12.4634,130.84559999999999,"2020-02-29",0,{"$f":"VALUE(URL_2[[#This Row],[Data]])","v":0}]
["Confirmed","Northern Territory","Australia",-12.4634,130.84559999999999,"2020-03-01",0,{"$f":"VALUE(URL_2[[#This Row],[Data]])","v":0}]
["Confirmed","Northern Territory","Australia",-12.4634,130.84559999999999,"2020-03-02",0,{"$f":"VALUE(URL_2[[#This Row],[Data]])","v":0}]
["Confirmed","Northern Territory","Australia",-12.4634,130.84559999999999,"2020-03-03",0,{"$f":"VALUE(URL_2[[#This Row],[Data]])","v":0}]
["Confirmed","Northern Territory","Australia",-12.4634,130.84559999999999,"2020-03-06",0,{"$f":"VALUE(URL_2[[#This Row],[Data]])","v":0}]
["Confirmed","Northern Territory","Australia",-12.4634,130.84559999999999,"2020-03-07",0,{"$f":"VALUE(URL_2[[#This Row],[Data]])","v":0}]
["Confirmed","Northern Territory","Australia",-12.4634,130.84559999999999,"2020-03-08",0,{"$f":"VALUE(URL_2[[#This Row],[Data]])","v":0}]
["Confirmed","Northern Territory","Australia",-12.4634,130.84559999999999,"2020-03-09",0,{"$f":"VALUE(URL_2[[#This Row],[Data]])","v":0}]
["Confirmed","Queensland","Australia",-28.0167,153.4,"2020-01-22",0,{"$f":"VALUE(URL_2[[#This Row],[Data]])","v":0}]
["Confirmed","Queensland","Australia",-28.0167,153.4,"2020-01-23",0,{"$f":"VALUE(URL_2[[#This Row],[Data]])","v":0}]
["Confirmed","Queensland","Australia",-28.0167,153.4,"2020-01-24",0,{"$f":"VALUE(URL_2[[#This Row],[Data]])","v":0}]
["Confirmed","Queensland","Australia",-28.0167,153.4,"2020-01-25",0,{"$f":"VALUE(URL_2[[#This Row],[Data]])","v":0}]
["Confirmed","Queensland","Australia",-28.0167,153.4,"2020-01-26",0,{"$f":"VALUE(URL_2[[#This Row],[Data]])","v":0}]
["Confirmed","Queensland","Australia",-28.0167,153.4,"2020-01-27",0,{"$f":"VALUE(URL_2[[#This Row],[Data]])","v":0}]
["Confirmed","Queensland","Australia",-28.0167,153.4,"2020-01-28",0,{"$f":"VALUE(URL_2[[#This Row],[Data]])","v":0}]
["Confirmed","South Australia","Australia",-34.9285,138.60069999999999,"2020-01-22",0,{"$f":"VALUE(URL_2[[#This Row],[Data]])","v":0}]
["Confirmed","South Australia","Australia",-34.9285,138.60069999999999,"2020-01-23",0,{"$f":"VALUE(URL_2[[#This Row],[Data]])","v":0}]
["Confirmed","South Australia","Australia",-34.9285,138.60069999999999,"2020-01-24",0,{"$f":"VALUE(URL_2[[#This Row],[Data]])","v":0}]
["Confirmed","South Australia","Australia",-34.9285,138.60069999999999,"2020-01-25",0,{"$f":"VALUE(URL_2[[#This Row],[Data]])","v":0}]
["Confirmed","South Australia","Australia",-34.9285,138.60069999999999,"2020-01-26",0,{"$f":"VALUE(URL_2[[#This Row],[Data]])","v":0}]
["Confirmed","South Australia","Australia",-34.9285,138.60069999999999,"2020-01-27",0,{"$f":"VALUE(URL_2[[#This Row],[Data]])","v":0}]
["Confirmed","South Australia","Australia",-34.9285,138.60069999999999,"2020-01-28",0,{"$f":"VALUE(URL_2[[#This Row],[Data]])","v":0}]
["Confirmed","South Australia","Australia",-34.9285,138.60069999999999,"2020-01-29",0,{"$f":"VALUE(URL_2[[#This Row],[Data]])","v":0}]
["Confirmed","South Australia","Australia",-34.9285,138.60069999999999,"2020-01-30",0,{"$f":"VALUE(URL_2[[#This Row],[Data]])","v":0}]
["Confirmed","South Australia","Australia",-34.9285,138.60069999999999,"2020-01-31",0,{"$f":"VALUE(URL_2[[#This Row],[Data]])","v":0}]
["Confirmed","Tasmania","Australia",-41.454500000000003,145.97069999999999,"2020-01-22",0,{"$f":"VALUE(URL_2[[#This Row],[Data]])","v":0}]
["Confirmed","Tasmania","Australia",-41.454500000000003,145.97069999999999,"2020-01-23",0,{"$f":"VALUE(URL_2[[#This Row],[Data]])","v":0}]
["Confirmed","Tasmania","Australia",-41.454500000000003,145.97069999999999,"2020-01-24",0,{"$f":"VALUE(URL_2[[#This Row],[Data]])","v":0}]
["Confirmed","Tasmania","Australia",-41.454500000000003,145.97069999999999,"2020-01-25",0,{"$f":"VALUE(URL_2[[#This Row],[Data]])","v":0}]
["Confirmed","Tasmania","Australia",-41.454500000000003,145.97069999999999,"2020-01-26",0,{"$f":"VALUE(URL_2[[#This Row],[Data]])","v":0}]
["Confirmed","Tasmania","Australia",-41.454500000000003,145.97069999999999,"2020-01-27",0,{"$f":"VALUE(URL_2[[#This Row],[Data]])","v":0}]
["Confirmed","Tasmania","Australia",-41.454500000000003,145.97069999999999,"2020-01-28",0,{"$f":"VALUE(URL_2[[#This Row],[Data]])","v":0}]
["Confirmed","Tasmania","Australia",-41.454500000000003,145.97069999999999,"2020-01-29",0,{"$f":"VALUE(URL_2[[#This Row],[Data]])","v":0}]
["Confirmed","Tasmania","Australia",-41.454500000000003,145.97069999999999,"2020-01-30",0,{"$f":"VALUE(URL_2[[#This Row],[Data]])","v":0}]
["Confirmed","Tasmania","Australia",-41.454500000000003,145.97069999999999,"2020-01-31",0,{"$f":"VALUE(URL_2[[#This Row],[Data]])","v":0}]
["Confirmed","Tasmania","Australia",-41.454500000000003,145.97069999999999,"2020-02-01",0,{"$f":"VALUE(URL_2[[#This Row],[Data]])","v":0}]
["Confirmed","Tasmania","Australia",-41.454500000000003,145.97069999999999,"2020-02-02",0,{"$f":"VALUE(URL_2[[#This Row],[Data]])","v":0}]
["Confirmed","Tasmania","Australia",-41.454500000000003,145.97069999999999,"2020-02-03",0,{"$f":"VALUE(URL_2[[#This Row],[Data]])","v":0}]
["Confirmed","Tasmania","Australia",-41.454500000000003,145.97069999999999,"2020-02-04",0,{"$f":"VALUE(URL_2[[#This Row],[Data]])","v":0}]
["Confirmed","Tasmania","Australia",-41.454500000000003,145.97069999999999,"2020-02-05",0,{"$f":"VALUE(URL_2[[#This Row],[Data]])","v":0}]
["Confirmed","Tasmania","Australia",-41.454500000000003,145.97069999999999,"2020-02-06",0,{"$f":"VALUE(URL_2[[#This Row],[Data]])","v":0}]
["Confirmed","Tasmania","Australia",-41.454500000000003,145.97069999999999,"2020-02-07",0,{"$f":"VALUE(URL_2[[#This Row],[Data]])","v":0}]
["Confirmed","Tasmania","Australia",-41.454500000000003,145.97069999999999,"2020-02-08",0,{"$f":"VALUE(URL_2[[#This Row],[Data]])","v":0}]
["Confirmed","Tasmania","Australia",-41.454500000000003,145.97069999999999,"2020-02-09",0,{"$f":"VALUE(URL_2[[#This Row],[Data]])","v":0}]
["Confirmed","Tasmania","Australia",-41.454500000000003,145.97069999999999,"2020-02-10",0,{"$f":"VALUE(URL_2[[#This Row],[Data]])","v":0}]
["Confirmed","Tasmania","Australia",-41.454500000000003,145.97069999999999,"2020-02-11",0,{"$f":"VALUE(URL_2[[#This Row],[Data]])","v":0}]
["Confirmed","Tasmania","Australia",-41.454500000000003,145.97069999999999,"2020-02-12",0,{"$f":"VALUE(URL_2[[#This Row],[Data]])","v":0}]
["Confirmed","Tasmania","Australia",-41.454500000000003,145.97069999999999,"2020-02-13",0,{"$f":"VALUE(URL_2[[#This Row],[Data]])","v":0}]
["Confirmed","Tasmania","Australia",-41.454500000000003,145.97069999999999,"2020-02-14",0,{"$f":"VALUE(URL_2[[#This Row],[Data]])","v":0}]
["Confirmed","Tasmania","Australia",-41.454500000000003,145.97069999999999,"2020-02-15",0,{"$f":"VALUE(URL_2[[#This Row],[Data]])","v":0}]
["Confirmed","Tasmania","Australia",-41.454500000000003,145.97069999999999,"2020-02-16",0,{"$f":"VALUE(URL_2[[#This Row],[Data]])","v":0}]
["Confirmed","Tasmania","Australia",-41.454500000000003,145.97069999999999,"2020-02-17",0,{"$f":"VALUE(URL_2[[#This Row],[Data]])","v":0}]
["Confirmed","Tasmania","Australia",-41.454500000000003,145.97069999999999,"2020-02-18",0,{"$f":"VALUE(URL_2[[#This Row],[Data]])","v":0}]
["Confirmed","Tasmania","Australia",-41.454500000000003,145.97069999999999,"2020-02-19",0,{"$f":"VALUE(URL_2[[#This Row],[Data]])","v":0}]
["Confirmed","Tasmania","Australia",-41.454500000000003,145.97069999999999,"2020-02-20",0,{"$f":"VALUE(URL_2[[#This Row],[Data]])","v":0}]
["Confirmed","Tasmania","Australia",-41.454500000000003,145.97069999999999,"2020-02-21",0,{"$f":"VALUE(URL_2[[#This Row],[Data]])","v":0}]
["Confirmed","Tasmania","Australia",-41.454500000000003,145.97069999999999,"2020-02-22",0,{"$f":"VALUE(URL_2[[#This Row],[Data]])","v":0}]
["Confirmed","Tasmania","Australia",-41.454500000000003,145.97069999999999,"2020-02-23",0,{"$f":"VALUE(URL_2[[#This Row],[Data]])","v":0}]
["Confirmed","Tasmania","Australia",-41.454500000000003,145.97069999999999,"2020-02-24",0,{"$f":"VALUE(URL_2[[#This Row],[Data]])","v":0}]
["Confirmed","Tasmania","Australia",-41.454500000000003,145.97069999999999,"2020-02-25",0,{"$f":"VALUE(URL_2[[#This Row],[Data]])","v":0}]
["Confirmed","Tasmania","Australia",-41.454500000000003,145.97069999999999,"2020-02-26",0,{"$f":"VALUE(URL_2[[#This Row],[Data]])","v":0}]
["Confirmed","Tasmania","Australia",-41.454500000000003,145.97069999999999,"2020-02-27",0,{"$f":"VALUE(URL_2[[#This Row],[Data]])","v":0}]
["Confirmed","Tasmania","Australia",-41.454500000000003,145.97069999999999,"2020-02-28",0,{"$f":"VALUE(URL_2[[#This Row],[Data]])","v":0}]
["Confirmed","Tasmania","Australia",-41.454500000000003,145.97069999999999,"2020-02-29",0,{"$f":"VALUE(URL_2[[#This Row],[Data]])","v":0}]
["Confirmed","Tasmania","Australia",-41.454500000000003,145.97069999999999,"2020-03-01",0,{"$f":"VALUE(URL_2[[#This Row],[Data]])","v":0}]
["Confirmed","Victoria","Australia",-37.813600000000001,144.9631,"2020-01-22",0,{"$f":"VALUE(URL_2[[#This Row],[Data]])","v":0}]
["Confirmed","Victoria","Australia",-37.813600000000001,144.9631,"2020-01-23",0,{"$f":"VALUE(URL_2[[#This Row],[Data]])","v":0}]
["Confirmed","Victoria","Australia",-37.813600000000001,144.9631,"2020-01-24",0,{"$f":"VALUE(URL_2[[#This Row],[Data]])","v":0}]
["Confirmed","Victoria","Australia",-37.813600000000001,144.9631,"2020-01-25",0,{"$f":"VALUE(URL_2[[#This Row],[Data]])","v":0}]
["Confirmed","Western Australia","Australia",-31.950500000000002,115.8605,"2020-01-22",0,{"$f":"VALUE(URL_2[[#This Row],[Data]])","v":0}]
["Confirmed","Western Australia","Australia",-31.950500000000002,115.8605,"2020-01-23",0,{"$f":"VALUE(URL_2[[#This Row],[Data]])","v":0}]
["Confirmed","Western Australia","Australia",-31.950500000000002,115.8605,"2020-01-24",0,{"$f":"VALUE(URL_2[[#This Row],[Data]])","v":0}]
["Confirmed","Western Australia","Australia",-31.950500000000002,115.8605,"2020-01-25",0,{"$f":"VALUE(URL_2[[#This Row],[Data]])","v":0}]
["Confirmed","Western Australia","Australia",-31.950500000000002,115.8605,"2020-01-26",0,{"$f":"VALUE(URL_2[[#This Row],[Data]])","v":0}]
["Confirmed","Western Australia","Australia",-31.950500000000002,115.8605,"2020-01-27",0,{"$f":"VALUE(URL_2[[#This Row],[Data]])","v":0}]
["Confirmed","Western Australia","Australia",-31.950500000000002,115.8605,"2020-01-28",0,{"$f":"VALUE(URL_2[[#This Row],[Data]])","v":0}]
["Confirmed","Western Australia","Australia",-31.950500000000002,115.8605,"2020-01-29",0,{"$f":"VALUE(URL_2[[#This Row],[Data]])","v":0}]
["Confirmed","Western Australia","Australia",-31.950500000000002,115.8605,"2020-01-30",0,{"$f":"VALUE(URL_2[[#This Row],[Data]])","v":0}]
["Confirmed","Western Australia","Australia",-31.950500000000002,115.8605,"2020-01-31",0,{"$f":"VALUE(URL_2[[#This Row],[Data]])","v":0}]
["Confirmed","Western Australia","Australia",-31.950500000000002,115.8605,"2020-02-01",0,{"$f":"VALUE(URL_2[[#This Row],[Data]])","v":0}]
["Confirmed","Western Australia","Australia",-31.950500000000002,115.8605,"2020-02-02",0,{"$f":"VALUE(URL_2[[#This Row],[Data]])","v":0}]
["Confirmed","Western Australia","Australia",-31.950500000000002,115.8605,"2020-02-03",0,{"$f":"VALUE(URL_2[[#This Row],[Data]])","v":0}]
["Confirmed","Western Australia","Australia",-31.950500000000002,115.8605,"2020-02-04",0,{"$f":"VALUE(URL_2[[#This Row],[Data]])","v":0}]
["Confirmed","Western Australia","Australia",-31.950500000000002,115.8605,"2020-02-05",0,{"$f":"VALUE(URL_2[[#This Row],[Data]])","v":0}]
["Confirmed","Western Australia","Australia",-31.950500000000002,115.8605,"2020-02-06",0,{"$f":"VALUE(URL_2[[#This Row],[Data]])","v":0}]
["Confirmed","Western Australia","Australia",-31.950500000000002,115.8605,"2020-02-07",0,{"$f":"VALUE(URL_2[[#This Row],[Data]])","v":0}]
["Confirmed","Western Australia","Australia",-31.950500000000002,115.8605,"2020-02-08",0,{"$f":"VALUE(URL_2[[#This Row],[Data]])","v":0}]
["Confirmed","Western Australia","Australia",-31.950500000000002,115.8605,"2020-02-09",0,{"$f":"VALUE(URL_2[[#This Row],[Data]])","v":0}]
["Confirmed","Western Australia","Australia",-31.950500000000002,115.8605,"2020-02-10",0,{"$f":"VALUE(URL_2[[#This Row],[Data]])","v":0}]
["Confirmed","Western Australia","Australia",-31.950500000000002,115.8605,"2020-02-11",0,{"$f":"VALUE(URL_2[[#This Row],[Data]])","v":0}]
["Confirmed","Western Australia","Australia",-31.950500000000002,115.8605,"2020-02-12",0,{"$f":"VALUE(URL_2[[#This Row],[Data]])","v":0}]
["Confirmed","Western Australia","Australia",-31.950500000000002,115.8605,"2020-02-13",0,{"$f":"VALUE(URL_2[[#This Row],[Data]])","v":0}]
["Confirmed","Western Australia","Australia",-31.950500000000002,115.8605,"2020-02-14",0,{"$f":"VALUE(URL_2[[#This Row],[Data]])","v":0}]
["Confirmed","Western Australia","Australia",-31.950500000000002,115.8605,"2020-02-15",0,{"$f":"VALUE(URL_2[[#This Row],[Data]])","v":0}]
["Confirmed","Western Australia","Australia",-31.950500000000002,115.8605,"2020-02-16",0,{"$f":"VALUE(URL_2[[#This Row],[Data]])","v":0}]
["Confirmed","Western Australia","Australia",-31.950500000000002,115.8605,"2020-02-17",0,{"$f":"VALUE(URL_2[[#This Row],[Data]])","v":0}]
["Confirmed","Western Australia","Australia",-31.950500000000002,115.8605,"2020-02-18",0,{"$f":"VALUE(URL_2[[#This Row],[Data]])","v":0}]
["Confirmed","Western Australia","Australia",-31.950500000000002,115.8605,"2020-02-19",0,{"$f":"VALUE(URL_2[[#This Row],[Data]])","v":0}]
["Confirmed","Western Australia","Australia",-31.950500000000002,115.8605,"2020-02-20",0,{"$f":"VALUE(URL_2[[#This Row],[Data]])","v":0}]
["Confirmed","Western Australia","Australia",-31.950500000000002,115.8605,"2020-02-21",0,{"$f":"VALUE(URL_2[[#This Row],[Data]])","v":0}]
["Confirmed","Western Australia","Australia",-31.950500000000002,115.8605,"2020-02-22",0,{"$f":"VALUE(URL_2[[#This Row],[Data]])","v":0}]
["Confirmed","Western Australia","Australia",-31.950500000000002,115.8605,"2020-02-23",0,{"$f":"VALUE(URL_2[[#This Row],[Data]])","v":0}]
["Confirmed","Western Australia","Australia",-31.950500000000002,115.8605,"2020-02-24",0,{"$f":"VALUE(URL_2[[#This Row],[Data]])","v":0}]
["Confirmed","Western Australia","Australia",-31.950500000000002,115.8605,"2020-02-25",0,{"$f":"VALUE(URL_2[[#This Row],[Data]])","v":0}]
["Confirmed","Western Australia","Australia",-31.950500000000002,115.8605,"2020-02-26",0,{"$f":"VALUE(URL_2[[#This Row],[Data]])","v":0}]
["Confirmed","Western Australia","Australia",-31.950500000000002,115.8605,"2020-02-27",0,{"$f":"VALUE(URL_2[[#This Row],[Data]])","v":0}]
["Confirmed","Western Australia","Australia",-31.950500000000002,115.8605,"2020-02-28",0,{"$f":"VALUE(URL_2[[#This Row],[Data]])","v":0}]
["Confirmed","","Austria",47.516199999999998,14.5501,"2020-01-22",0,{"$f":"VALUE(URL_2[[#This Row],[Data]])","v":0}]
["Confirmed","","Austria",47.516199999999998,14.5501,"2020-01-23",0,{"$f":"VALUE(URL_2[[#This Row],[Data]])","v":0}]
["Confirmed","","Austria",47.516199999999998,14.5501,"2020-01-24",0,{"$f":"VALUE(URL_2[[#This Row],[Data]])","v":0}]
["Confirmed","","Austria",47.516199999999998,14.5501,"2020-01-25",0,{"$f":"VALUE(URL_2[[#This Row],[Data]])","v":0}]
["Confirmed","","Austria",47.516199999999998,14.5501,"2020-01-26",0,{"$f":"VALUE(URL_2[[#This Row],[Data]])","v":0}]
["Confirmed","","Austria",47.516199999999998,14.5501,"2020-01-27",0,{"$f":"VALUE(URL_2[[#This Row],[Data]])","v":0}]
["Confirmed","","Austria",47.516199999999998,14.5501,"2020-01-28",0,{"$f":"VALUE(URL_2[[#This Row],[Data]])","v":0}]
["Confirmed","","Austria",47.516199999999998,14.5501,"2020-01-29",0,{"$f":"VALUE(URL_2[[#This Row],[Data]])","v":0}]
["Confirmed","","Austria",47.516199999999998,14.5501,"2020-01-30",0,{"$f":"VALUE(URL_2[[#This Row],[Data]])","v":0}]
["Confirmed","","Austria",47.516199999999998,14.5501,"2020-01-31",0,{"$f":"VALUE(URL_2[[#This Row],[Data]])","v":0}]
["Confirmed","","Austria",47.516199999999998,14.5501,"2020-02-01",0,{"$f":"VALUE(URL_2[[#This Row],[Data]])","v":0}]
["Confirmed","","Austria",47.516199999999998,14.5501,"2020-02-02",0,{"$f":"VALUE(URL_2[[#This Row],[Data]])","v":0}]
["Confirmed","","Austria",47.516199999999998,14.5501,"2020-02-03",0,{"$f":"VALUE(URL_2[[#This Row],[Data]])","v":0}]
["Confirmed","","Austria",47.516199999999998,14.5501,"2020-02-04",0,{"$f":"VALUE(URL_2[[#This Row],[Data]])","v":0}]
["Confirmed","","Austria",47.516199999999998,14.5501,"2020-02-05",0,{"$f":"VALUE(URL_2[[#This Row],[Data]])","v":0}]
["Confirmed","","Austria",47.516199999999998,14.5501,"2020-02-06",0,{"$f":"VALUE(URL_2[[#This Row],[Data]])","v":0}]
["Confirmed","","Austria",47.516199999999998,14.5501,"2020-02-07",0,{"$f":"VALUE(URL_2[[#This Row],[Data]])","v":0}]
["Confirmed","","Austria",47.516199999999998,14.5501,"2020-02-08",0,{"$f":"VALUE(URL_2[[#This Row],[Data]])","v":0}]
["Confirmed","","Austria",47.516199999999998,14.5501,"2020-02-09",0,{"$f":"VALUE(URL_2[[#This Row],[Data]])","v":0}]
["Confirmed","","Austria",47.516199999999998,14.5501,"2020-02-10",0,{"$f":"VALUE(URL_2[[#This Row],[Data]])","v":0}]
["Confirmed","","Austria",47.516199999999998,14.5501,"2020-02-11",0,{"$f":"VALUE(URL_2[[#This Row],[Data]])","v":0}]
["Confirmed","","Austria",47.516199999999998,14.5501,"2020-02-12",0,{"$f":"VALUE(URL_2[[#This Row],[Data]])","v":0}]
["Confirmed","","Austria",47.516199999999998,14.5501,"2020-02-13",0,{"$f":"VALUE(URL_2[[#This Row],[Data]])","v":0}]
["Confirmed","","Austria",47.516199999999998,14.5501,"2020-02-14",0,{"$f":"VALUE(URL_2[[#This Row],[Data]])","v":0}]
["Confirmed","","Austria",47.516199999999998,14.5501,"2020-02-15",0,{"$f":"VALUE(URL_2[[#This Row],[Data]])","v":0}]
["Confirmed","","Austria",47.516199999999998,14.5501,"2020-02-16",0,{"$f":"VALUE(URL_2[[#This Row],[Data]])","v":0}]
["Confirmed","","Austria",47.516199999999998,14.5501,"2020-02-17",0,{"$f":"VALUE(URL_2[[#This Row],[Data]])","v":0}]
["Confirmed","","Austria",47.516199999999998,14.5501,"2020-02-18",0,{"$f":"VALUE(URL_2[[#This Row],[Data]])","v":0}]
["Confirmed","","Austria",47.516199999999998,14.5501,"2020-02-19",0,{"$f":"VALUE(URL_2[[#This Row],[Data]])","v":0}]
["Confirmed","","Austria",47.516199999999998,14.5501,"2020-02-20",0,{"$f":"VALUE(URL_2[[#This Row],[Data]])","v":0}]
["Confirmed","","Austria",47.516199999999998,14.5501,"2020-02-21",0,{"$f":"VALUE(URL_2[[#This Row],[Data]])","v":0}]
["Confirmed","","Austria",47.516199999999998,14.5501,"2020-02-22",0,{"$f":"VALUE(URL_2[[#This Row],[Data]])","v":0}]
["Confirmed","","Austria",47.516199999999998,14.5501,"2020-02-23",0,{"$f":"VALUE(URL_2[[#This Row],[Data]])","v":0}]
["Confirmed","","Austria",47.516199999999998,14.5501,"2020-02-24",0,{"$f":"VALUE(URL_2[[#This Row],[Data]])","v":0}]
["Confirmed","","Azerbaijan",40.143099999999997,47.576900000000002,"2020-01-22",0,{"$f":"VALUE(URL_2[[#This Row],[Data]])","v":0}]
["Confirmed","","Azerbaijan",40.143099999999997,47.576900000000002,"2020-01-23",0,{"$f":"VALUE(URL_2[[#This Row],[Data]])","v":0}]
["Confirmed","","Azerbaijan",40.143099999999997,47.576900000000002,"2020-01-24",0,{"$f":"VALUE(URL_2[[#This Row],[Data]])","v":0}]
["Confirmed","","Azerbaijan",40.143099999999997,47.576900000000002,"2020-01-25",0,{"$f":"VALUE(URL_2[[#This Row],[Data]])","v":0}]
["Confirmed","","Azerbaijan",40.143099999999997,47.576900000000002,"2020-01-26",0,{"$f":"VALUE(URL_2[[#This Row],[Data]])","v":0}]
["Confirmed","","Azerbaijan",40.143099999999997,47.576900000000002,"2020-01-27",0,{"$f":"VALUE(URL_2[[#This Row],[Data]])","v":0}]
["Confirmed","","Azerbaijan",40.143099999999997,47.576900000000002,"2020-01-28",0,{"$f":"VALUE(URL_2[[#This Row],[Data]])","v":0}]
["Confirmed","","Azerbaijan",40.143099999999997,47.576900000000002,"2020-01-29",0,{"$f":"VALUE(URL_2[[#This Row],[Data]])","v":0}]
["Confirmed","","Azerbaijan",40.143099999999997,47.576900000000002,"2020-01-30",0,{"$f":"VALUE(URL_2[[#This Row],[Data]])","v":0}]
["Confirmed","","Azerbaijan",40.143099999999997,47.576900000000002,"2020-01-31",0,{"$f":"VALUE(URL_2[[#This Row],[Data]])","v":0}]
["Confirmed","","Azerbaijan",40.143099999999997,47.576900000000002,"2020-02-01",0,{"$f":"VALUE(URL_2[[#This Row],[Data]])","v":0}]
["Confirmed","","Azerbaijan",40.143099999999997,47.576900000000002,"2020-02-02",0,{"$f":"VALUE(URL_2[[#This Row],[Data]])","v":0}]
["Confirmed","","Azerbaijan",40.143099999999997,47.576900000000002,"2020-02-03",0,{"$f":"VALUE(URL_2[[#This Row],[Data]])","v":0}]
["Confirmed","","Azerbaijan",40.143099999999997,47.576900000000002,"2020-02-04",0,{"$f":"VALUE(URL_2[[#This Row],[Data]])","v":0}]
["Confirmed","","Azerbaijan",40.143099999999997,47.576900000000002,"2020-02-05",0,{"$f":"VALUE(URL_2[[#This Row],[Data]])","v":0}]
["Confirmed","","Azerbaijan",40.143099999999997,47.576900000000002,"2020-02-06",0,{"$f":"VALUE(URL_2[[#This Row],[Data]])","v":0}]
["Confirmed","","Azerbaijan",40.143099999999997,47.576900000000002,"2020-02-07",0,{"$f":"VALUE(URL_2[[#This Row],[Data]])","v":0}]
["Confirmed","","Azerbaijan",40.143099999999997,47.576900000000002,"2020-02-08",0,{"$f":"VALUE(URL_2[[#This Row],[Data]])","v":0}]
["Confirmed","","Azerbaijan",40.143099999999997,47.576900000000002,"2020-02-09",0,{"$f":"VALUE(URL_2[[#This Row],[Data]])","v":0}]
["Confirmed","","Azerbaijan",40.143099999999997,47.576900000000002,"2020-02-10",0,{"$f":"VALUE(URL_2[[#This Row],[Data]])","v":0}]
["Confirmed","","Azerbaijan",40.143099999999997,47.576900000000002,"2020-02-11",0,{"$f":"VALUE(URL_2[[#This Row],[Data]])","v":0}]
["Confirmed","","Azerbaijan",40.143099999999997,47.576900000000002,"2020-02-12",0,{"$f":"VALUE(URL_2[[#This Row],[Data]])","v":0}]
["Confirmed","","Azerbaijan",40.143099999999997,47.576900000000002,"2020-02-13",0,{"$f":"VALUE(URL_2[[#This Row],[Data]])","v":0}]
["Confirmed","","Azerbaijan",40.143099999999997,47.576900000000002,"2020-02-14",0,{"$f":"VALUE(URL_2[[#This Row],[Data]])","v":0}]
["Confirmed","","Azerbaijan",40.143099999999997,47.576900000000002,"2020-02-15",0,{"$f":"VALUE(URL_2[[#This Row],[Data]])","v":0}]
["Confirmed","","Azerbaijan",40.143099999999997,47.576900000000002,"2020-02-16",0,{"$f":"VALUE(URL_2[[#This Row],[Data]])","v":0}]
["Confirmed","","Azerbaijan",40.143099999999997,47.576900000000002,"2020-02-17",0,{"$f":"VALUE(URL_2[[#This Row],[Data]])","v":0}]
["Confirmed","","Azerbaijan",40.143099999999997,47.576900000000002,"2020-02-18",0,{"$f":"VALUE(URL_2[[#This Row],[Data]])","v":0}]
["Confirmed","","Azerbaijan",40.143099999999997,47.576900000000002,"2020-02-19",0,{"$f":"VALUE(URL_2[[#This Row],[Data]])","v":0}]
["Confirmed","","Azerbaijan",40.143099999999997,47.576900000000002,"2020-02-20",0,{"$f":"VALUE(URL_2[[#This Row],[Data]])","v":0}]
["Confirmed","","Azerbaijan",40.143099999999997,47.576900000000002,"2020-02-21",0,{"$f":"VALUE(URL_2[[#This Row],[Data]])","v":0}]
["Confirmed","","Azerbaijan",40.143099999999997,47.576900000000002,"2020-02-22",0,{"$f":"VALUE(URL_2[[#This Row],[Data]])","v":0}]
["Confirmed","","Azerbaijan",40.143099999999997,47.576900000000002,"2020-02-23",0,{"$f":"VALUE(URL_2[[#This Row],[Data]])","v":0}]
["Confirmed","","Azerbaijan",40.143099999999997,47.576900000000002,"2020-02-24",0,{"$f":"VALUE(URL_2[[#This Row],[Data]])","v":0}]
["Confirmed","","Azerbaijan",40.143099999999997,47.576900000000002,"2020-02-25",0,{"$f":"VALUE(URL_2[[#This Row],[Data]])","v":0}]
["Confirmed","","Azerbaijan",40.143099999999997,47.576900000000002,"2020-02-26",0,{"$f":"VALUE(URL_2[[#This Row],[Data]])","v":0}]
["Confirmed","","Azerbaijan",40.143099999999997,47.576900000000002,"2020-02-27",0,{"$f":"VALUE(URL_2[[#This Row],[Data]])","v":0}]
["Confirmed","","Azerbaijan",40.143099999999997,47.576900000000002,"2020-02-28",0,{"$f":"VALUE(URL_2[[#This Row],[Data]])","v":0}]
["Confirmed","","Azerbaijan",40.143099999999997,47.576900000000002,"2020-02-29",0,{"$f":"VALUE(URL_2[[#This Row],[Data]])","v":0}]
["Confirmed","","Bahamas",25.034300000000002,-77.396299999999997,"2020-01-22",0,{"$f":"VALUE(URL_2[[#This Row],[Data]])","v":0}]
["Confirmed","","Bahamas",25.034300000000002,-77.396299999999997,"2020-01-23",0,{"$f":"VALUE(URL_2[[#This Row],[Data]])","v":0}]
["Confirmed","","Bahamas",25.034300000000002,-77.396299999999997,"2020-01-24",0,{"$f":"VALUE(URL_2[[#This Row],[Data]])","v":0}]
["Confirmed","","Bahamas",25.034300000000002,-77.396299999999997,"2020-01-25",0,{"$f":"VALUE(URL_2[[#This Row],[Data]])","v":0}]
["Confirmed","","Bahamas",25.034300000000002,-77.396299999999997,"2020-01-26",0,{"$f":"VALUE(URL_2[[#This Row],[Data]])","v":0}]
["Confirmed","","Bahamas",25.034300000000002,-77.396299999999997,"2020-01-27",0,{"$f":"VALUE(URL_2[[#This Row],[Data]])","v":0}]
["Confirmed","","Bahamas",25.034300000000002,-77.396299999999997,"2020-01-28",0,{"$f":"VALUE(URL_2[[#This Row],[Data]])","v":0}]
["Confirmed","","Bahamas",25.034300000000002,-77.396299999999997,"2020-01-29",0,{"$f":"VALUE(URL_2[[#This Row],[Data]])","v":0}]
["Confirmed","","Bahamas",25.034300000000002,-77.396299999999997,"2020-01-30",0,{"$f":"VALUE(URL_2[[#This Row],[Data]])","v":0}]
["Confirmed","","Bahamas",25.034300000000002,-77.396299999999997,"2020-01-31",0,{"$f":"VALUE(URL_2[[#This Row],[Data]])","v":0}]
["Confirmed","","Bahamas",25.034300000000002,-77.396299999999997,"2020-02-01",0,{"$f":"VALUE(URL_2[[#This Row],[Data]])","v":0}]
["Confirmed","","Bahamas",25.034300000000002,-77.396299999999997,"2020-02-02",0,{"$f":"VALUE(URL_2[[#This Row],[Data]])","v":0}]
["Confirmed","","Bahamas",25.034300000000002,-77.396299999999997,"2020-02-03",0,{"$f":"VALUE(URL_2[[#This Row],[Data]])","v":0}]
["Confirmed","","Bahamas",25.034300000000002,-77.396299999999997,"2020-02-04",0,{"$f":"VALUE(URL_2[[#This Row],[Data]])","v":0}]
["Confirmed","","Bahamas",25.034300000000002,-77.396299999999997,"2020-02-05",0,{"$f":"VALUE(URL_2[[#This Row],[Data]])","v":0}]
["Confirmed","","Bahamas",25.034300000000002,-77.396299999999997,"2020-02-06",0,{"$f":"VALUE(URL_2[[#This Row],[Data]])","v":0}]
["Confirmed","","Bahamas",25.034300000000002,-77.396299999999997,"2020-02-07",0,{"$f":"VALUE(URL_2[[#This Row],[Data]])","v":0}]
["Confirmed","","Bahamas",25.034300000000002,-77.396299999999997,"2020-02-08",0,{"$f":"VALUE(URL_2[[#This Row],[Data]])","v":0}]
["Confirmed","","Bahamas",25.034300000000002,-77.396299999999997,"2020-02-09",0,{"$f":"VALUE(URL_2[[#This Row],[Data]])","v":0}]
["Confirmed","","Bahamas",25.034300000000002,-77.396299999999997,"2020-02-10",0,{"$f":"VALUE(URL_2[[#This Row],[Data]])","v":0}]
["Confirmed","","Bahamas",25.034300000000002,-77.396299999999997,"2020-02-11",0,{"$f":"VALUE(URL_2[[#This Row],[Data]])","v":0}]
["Confirmed","","Bahamas",25.034300000000002,-77.396299999999997,"2020-02-12",0,{"$f":"VALUE(URL_2[[#This Row],[Data]])","v":0}]
["Confirmed","","Bahamas",25.034300000000002,-77.396299999999997,"2020-02-13",0,{"$f":"VALUE(URL_2[[#This Row],[Data]])","v":0}]
["Confirmed","","Bahamas",25.034300000000002,-77.396299999999997,"2020-02-14",0,{"$f":"VALUE(URL_2[[#This Row],[Data]])","v":0}]
["Confirmed","","Bahamas",25.034300000000002,-77.396299999999997,"2020-02-15",0,{"$f":"VALUE(URL_2[[#This Row],[Data]])","v":0}]
["Confirmed","","Bahamas",25.034300000000002,-77.396299999999997,"2020-02-16",0,{"$f":"VALUE(URL_2[[#This Row],[Data]])","v":0}]
["Confirmed","","Bahamas",25.034300000000002,-77.396299999999997,"2020-02-17",0,{"$f":"VALUE(URL_2[[#This Row],[Data]])","v":0}]
["Confirmed","","Bahamas",25.034300000000002,-77.396299999999997,"2020-02-18",0,{"$f":"VALUE(URL_2[[#This Row],[Data]])","v":0}]
["Confirmed","","Bahamas",25.034300000000002,-77.396299999999997,"2020-02-19",0,{"$f":"VALUE(URL_2[[#This Row],[Data]])","v":0}]
["Confirmed","","Bahamas",25.034300000000002,-77.396299999999997,"2020-02-20",0,{"$f":"VALUE(URL_2[[#This Row],[Data]])","v":0}]
["Confirmed","","Bahamas",25.034300000000002,-77.396299999999997,"2020-02-21",0,{"$f":"VALUE(URL_2[[#This Row],[Data]])","v":0}]
["Confirmed","","Bahamas",25.034300000000002,-77.396299999999997,"2020-02-22",0,{"$f":"VALUE(URL_2[[#This Row],[Data]])","v":0}]
["Confirmed","","Bahamas",25.034300000000002,-77.396299999999997,"2020-02-23",0,{"$f":"VALUE(URL_2[[#This Row],[Data]])","v":0}]
["Confirmed","","Bahamas",25.034300000000002,-77.396299999999997,"2020-02-24",0,{"$f":"VALUE(URL_2[[#This Row],[Data]])","v":0}]
["Confirmed","","Bahamas",25.034300000000002,-77.396299999999997,"2020-02-25",0,{"$f":"VALUE(URL_2[[#This Row],[Data]])","v":0}]
["Confirmed","","Bahamas",25.034300000000002,-77.396299999999997,"2020-02-26",0,{"$f":"VALUE(URL_2[[#This Row],[Data]])","v":0}]
["Confirmed","","Bahamas",25.034300000000002,-77.396299999999997,"2020-02-27",0,{"$f":"VALUE(URL_2[[#This Row],[Data]])","v":0}]
["Confirmed","","Bahamas",25.034300000000002,-77.396299999999997,"2020-02-28",0,{"$f":"VALUE(URL_2[[#This Row],[Data]])","v":0}]
["Confirmed","","Bahamas",25.034300000000002,-77.396299999999997,"2020-02-29",0,{"$f":"VALUE(URL_2[[#This Row],[Data]])","v":0}]
["Confirmed","","Bahamas",25.034300000000002,-77.396299999999997,"2020-03-01",0,{"$f":"VALUE(URL_2[[#This Row],[Data]])","v":0}]
["Confirmed","","Bahamas",25.034300000000002,-77.396299999999997,"2020-03-02",0,{"$f":"VALUE(URL_2[[#This Row],[Data]])","v":0}]
["Confirmed","","Bahamas",25.034300000000002,-77.396299999999997,"2020-03-03",0,{"$f":"VALUE(URL_2[[#This Row],[Data]])","v":0}]
["Confirmed","","Bahamas",25.034300000000002,-77.396299999999997,"2020-03-04",0,{"$f":"VALUE(URL_2[[#This Row],[Data]])","v":0}]
["Confirmed","","Bahamas",25.034300000000002,-77.396299999999997,"2020-03-05",0,{"$f":"VALUE(URL_2[[#This Row],[Data]])","v":0}]
["Confirmed","","Bahamas",25.034300000000002,-77.396299999999997,"2020-03-06",0,{"$f":"VALUE(URL_2[[#This Row],[Data]])","v":0}]
["Confirmed","","Bahamas",25.034300000000002,-77.396299999999997,"2020-03-07",0,{"$f":"VALUE(URL_2[[#This Row],[Data]])","v":0}]
["Confirmed","","Bahamas",25.034300000000002,-77.396299999999997,"2020-03-08",0,{"$f":"VALUE(URL_2[[#This Row],[Data]])","v":0}]
["Confirmed","","Bahamas",25.034300000000002,-77.396299999999997,"2020-03-09",0,{"$f":"VALUE(URL_2[[#This Row],[Data]])","v":0}]
["Confirmed","","Bahamas",25.034300000000002,-77.396299999999997,"2020-03-10",0,{"$f":"VALUE(URL_2[[#This Row],[Data]])","v":0}]
["Confirmed","","Bahamas",25.034300000000002,-77.396299999999997,"2020-03-11",0,{"$f":"VALUE(URL_2[[#This Row],[Data]])","v":0}]
["Confirmed","","Bahamas",25.034300000000002,-77.396299999999997,"2020-03-12",0,{"$f":"VALUE(URL_2[[#This Row],[Data]])","v":0}]
["Confirmed","","Bahamas",25.034300000000002,-77.396299999999997,"2020-03-13",0,{"$f":"VALUE(URL_2[[#This Row],[Data]])","v":0}]
["Confirmed","","Bahamas",25.034300000000002,-77.396299999999997,"2020-03-14",0,{"$f":"VALUE(URL_2[[#This Row],[Data]])","v":0}]
["Confirmed","","Bahamas",25.034300000000002,-77.396299999999997,"2020-03-15",0,{"$f":"VALUE(URL_2[[#This Row],[Data]])","v":0}]
["Confirmed","","Bahrain",26.0275,50.55,"2020-01-22",0,{"$f":"VALUE(URL_2[[#This Row],[Data]])","v":0}]
["Confirmed","","Bahrain",26.0275,50.55,"2020-01-23",0,{"$f":"VALUE(URL_2[[#This Row],[Data]])","v":0}]
["Confirmed","","Bahrain",26.0275,50.55,"2020-01-24",0,{"$f":"VALUE(URL_2[[#This Row],[Data]])","v":0}]
["Confirmed","","Bahrain",26.0275,50.55,"2020-01-25",0,{"$f":"VALUE(URL_2[[#This Row],[Data]])","v":0}]
["Confirmed","","Bahrain",26.0275,50.55,"2020-01-26",0,{"$f":"VALUE(URL_2[[#This Row],[Data]])","v":0}]
["Confirmed","","Bahrain",26.0275,50.55,"2020-01-27",0,{"$f":"VALUE(URL_2[[#This Row],[Data]])","v":0}]
["Confirmed","","Bahrain",26.0275,50.55,"2020-01-28",0,{"$f":"VALUE(URL_2[[#This Row],[Data]])","v":0}]
["Confirmed","","Bahrain",26.0275,50.55,"2020-01-29",0,{"$f":"VALUE(URL_2[[#This Row],[Data]])","v":0}]
["Confirmed","","Bahrain",26.0275,50.55,"2020-01-30",0,{"$f":"VALUE(URL_2[[#This Row],[Data]])","v":0}]
["Confirmed","","Bahrain",26.0275,50.55,"2020-01-31",0,{"$f":"VALUE(URL_2[[#This Row],[Data]])","v":0}]
["Confirmed","","Bahrain",26.0275,50.55,"2020-02-01",0,{"$f":"VALUE(URL_2[[#This Row],[Data]])","v":0}]
["Confirmed","","Bahrain",26.0275,50.55,"2020-02-02",0,{"$f":"VALUE(URL_2[[#This Row],[Data]])","v":0}]
["Confirmed","","Bahrain",26.0275,50.55,"2020-02-03",0,{"$f":"VALUE(URL_2[[#This Row],[Data]])","v":0}]
["Confirmed","","Bahrain",26.0275,50.55,"2020-02-04",0,{"$f":"VALUE(URL_2[[#This Row],[Data]])","v":0}]
["Confirmed","","Bahrain",26.0275,50.55,"2020-02-05",0,{"$f":"VALUE(URL_2[[#This Row],[Data]])","v":0}]
["Confirmed","","Bahrain",26.0275,50.55,"2020-02-06",0,{"$f":"VALUE(URL_2[[#This Row],[Data]])","v":0}]
["Confirmed","","Bahrain",26.0275,50.55,"2020-02-07",0,{"$f":"VALUE(URL_2[[#This Row],[Data]])","v":0}]
["Confirmed","","Bahrain",26.0275,50.55,"2020-02-08",0,{"$f":"VALUE(URL_2[[#This Row],[Data]])","v":0}]
["Confirmed","","Bahrain",26.0275,50.55,"2020-02-09",0,{"$f":"VALUE(URL_2[[#This Row],[Data]])","v":0}]
["Confirmed","","Bahrain",26.0275,50.55,"2020-02-10",0,{"$f":"VALUE(URL_2[[#This Row],[Data]])","v":0}]
["Confirmed","","Bahrain",26.0275,50.55,"2020-02-11",0,{"$f":"VALUE(URL_2[[#This Row],[Data]])","v":0}]
["Confirmed","","Bahrain",26.0275,50.55,"2020-02-12",0,{"$f":"VALUE(URL_2[[#This Row],[Data]])","v":0}]
["Confirmed","","Bahrain",26.0275,50.55,"2020-02-13",0,{"$f":"VALUE(URL_2[[#This Row],[Data]])","v":0}]
["Confirmed","","Bahrain",26.0275,50.55,"2020-02-14",0,{"$f":"VALUE(URL_2[[#This Row],[Data]])","v":0}]
["Confirmed","","Bahrain",26.0275,50.55,"2020-02-15",0,{"$f":"VALUE(URL_2[[#This Row],[Data]])","v":0}]
["Confirmed","","Bahrain",26.0275,50.55,"2020-02-16",0,{"$f":"VALUE(URL_2[[#This Row],[Data]])","v":0}]
["Confirmed","","Bahrain",26.0275,50.55,"2020-02-17",0,{"$f":"VALUE(URL_2[[#This Row],[Data]])","v":0}]
["Confirmed","","Bahrain",26.0275,50.55,"2020-02-18",0,{"$f":"VALUE(URL_2[[#This Row],[Data]])","v":0}]
["Confirmed","","Bahrain",26.0275,50.55,"2020-02-19",0,{"$f":"VALUE(URL_2[[#This Row],[Data]])","v":0}]
["Confirmed","","Bahrain",26.0275,50.55,"2020-02-20",0,{"$f":"VALUE(URL_2[[#This Row],[Data]])","v":0}]
["Confirmed","","Bahrain",26.0275,50.55,"2020-02-21",0,{"$f":"VALUE(URL_2[[#This Row],[Data]])","v":0}]
["Confirmed","","Bahrain",26.0275,50.55,"2020-02-22",0,{"$f":"VALUE(URL_2[[#This Row],[Data]])","v":0}]
["Confirmed","","Bahrain",26.0275,50.55,"2020-02-23",0,{"$f":"VALUE(URL_2[[#This Row],[Data]])","v":0}]
["Confirmed","","Bangladesh",23.684999999999999,90.356300000000005,"2020-01-22",0,{"$f":"VALUE(URL_2[[#This Row],[Data]])","v":0}]
["Confirmed","","Bangladesh",23.684999999999999,90.356300000000005,"2020-01-23",0,{"$f":"VALUE(URL_2[[#This Row],[Data]])","v":0}]
["Confirmed","","Bangladesh",23.684999999999999,90.356300000000005,"2020-01-24",0,{"$f":"VALUE(URL_2[[#This Row],[Data]])","v":0}]
["Confirmed","","Bangladesh",23.684999999999999,90.356300000000005,"2020-01-25",0,{"$f":"VALUE(URL_2[[#This Row],[Data]])","v":0}]
["Confirmed","","Bangladesh",23.684999999999999,90.356300000000005,"2020-01-26",0,{"$f":"VALUE(URL_2[[#This Row],[Data]])","v":0}]
["Confirmed","","Bangladesh",23.684999999999999,90.356300000000005,"2020-01-27",0,{"$f":"VALUE(URL_2[[#This Row],[Data]])","v":0}]
["Confirmed","","Bangladesh",23.684999999999999,90.356300000000005,"2020-01-28",0,{"$f":"VALUE(URL_2[[#This Row],[Data]])","v":0}]
["Confirmed","","Bangladesh",23.684999999999999,90.356300000000005,"2020-01-29",0,{"$f":"VALUE(URL_2[[#This Row],[Data]])","v":0}]
["Confirmed","","Bangladesh",23.684999999999999,90.356300000000005,"2020-01-30",0,{"$f":"VALUE(URL_2[[#This Row],[Data]])","v":0}]
["Confirmed","","Bangladesh",23.684999999999999,90.356300000000005,"2020-01-31",0,{"$f":"VALUE(URL_2[[#This Row],[Data]])","v":0}]
["Confirmed","","Bangladesh",23.684999999999999,90.356300000000005,"2020-02-01",0,{"$f":"VALUE(URL_2[[#This Row],[Data]])","v":0}]
["Confirmed","","Bangladesh",23.684999999999999,90.356300000000005,"2020-02-02",0,{"$f":"VALUE(URL_2[[#This Row],[Data]])","v":0}]
["Confirmed","","Bangladesh",23.684999999999999,90.356300000000005,"2020-02-03",0,{"$f":"VALUE(URL_2[[#This Row],[Data]])","v":0}]
["Confirmed","","Bangladesh",23.684999999999999,90.356300000000005,"2020-02-04",0,{"$f":"VALUE(URL_2[[#This Row],[Data]])","v":0}]
["Confirmed","","Bangladesh",23.684999999999999,90.356300000000005,"2020-02-05",0,{"$f":"VALUE(URL_2[[#This Row],[Data]])","v":0}]
["Confirmed","","Bangladesh",23.684999999999999,90.356300000000005,"2020-02-06",0,{"$f":"VALUE(URL_2[[#This Row],[Data]])","v":0}]
["Confirmed","","Bangladesh",23.684999999999999,90.356300000000005,"2020-02-07",0,{"$f":"VALUE(URL_2[[#This Row],[Data]])","v":0}]
["Confirmed","","Bangladesh",23.684999999999999,90.356300000000005,"2020-02-08",0,{"$f":"VALUE(URL_2[[#This Row],[Data]])","v":0}]
["Confirmed","","Bangladesh",23.684999999999999,90.356300000000005,"2020-02-09",0,{"$f":"VALUE(URL_2[[#This Row],[Data]])","v":0}]
["Confirmed","","Bangladesh",23.684999999999999,90.356300000000005,"2020-02-10",0,{"$f":"VALUE(URL_2[[#This Row],[Data]])","v":0}]
["Confirmed","","Bangladesh",23.684999999999999,90.356300000000005,"2020-02-11",0,{"$f":"VALUE(URL_2[[#This Row],[Data]])","v":0}]
["Confirmed","","Bangladesh",23.684999999999999,90.356300000000005,"2020-02-12",0,{"$f":"VALUE(URL_2[[#This Row],[Data]])","v":0}]
["Confirmed","","Bangladesh",23.684999999999999,90.356300000000005,"2020-02-13",0,{"$f":"VALUE(URL_2[[#This Row],[Data]])","v":0}]
["Confirmed","","Bangladesh",23.684999999999999,90.356300000000005,"2020-02-14",0,{"$f":"VALUE(URL_2[[#This Row],[Data]])","v":0}]
["Confirmed","","Bangladesh",23.684999999999999,90.356300000000005,"2020-02-15",0,{"$f":"VALUE(URL_2[[#This Row],[Data]])","v":0}]
["Confirmed","","Bangladesh",23.684999999999999,90.356300000000005,"2020-02-16",0,{"$f":"VALUE(URL_2[[#This Row],[Data]])","v":0}]
["Confirmed","","Bangladesh",23.684999999999999,90.356300000000005,"2020-02-17",0,{"$f":"VALUE(URL_2[[#This Row],[Data]])","v":0}]
["Confirmed","","Bangladesh",23.684999999999999,90.356300000000005,"2020-02-18",0,{"$f":"VALUE(URL_2[[#This Row],[Data]])","v":0}]
["Confirmed","","Bangladesh",23.684999999999999,90.356300000000005,"2020-02-19",0,{"$f":"VALUE(URL_2[[#This Row],[Data]])","v":0}]
["Confirmed","","Bangladesh",23.684999999999999,90.356300000000005,"2020-02-20",0,{"$f":"VALUE(URL_2[[#This Row],[Data]])","v":0}]
["Confirmed","","Bangladesh",23.684999999999999,90.356300000000005,"2020-02-21",0,{"$f":"VALUE(URL_2[[#This Row],[Data]])","v":0}]
["Confirmed","","Bangladesh",23.684999999999999,90.356300000000005,"2020-02-22",0,{"$f":"VALUE(URL_2[[#This Row],[Data]])","v":0}]
["Confirmed","","Bangladesh",23.684999999999999,90.356300000000005,"2020-02-23",0,{"$f":"VALUE(URL_2[[#This Row],[Data]])","v":0}]
["Confirmed","","Bangladesh",23.684999999999999,90.356300000000005,"2020-02-24",0,{"$f":"VALUE(URL_2[[#This Row],[Data]])","v":0}]
["Confirmed","","Bangladesh",23.684999999999999,90.356300000000005,"2020-02-25",0,{"$f":"VALUE(URL_2[[#This Row],[Data]])","v":0}]
["Confirmed","","Bangladesh",23.684999999999999,90.356300000000005,"2020-02-26",0,{"$f":"VALUE(URL_2[[#This Row],[Data]])","v":0}]
["Confirmed","","Bangladesh",23.684999999999999,90.356300000000005,"2020-02-27",0,{"$f":"VALUE(URL_2[[#This Row],[Data]])","v":0}]
["Confirmed","","Bangladesh",23.684999999999999,90.356300000000005,"2020-02-28",0,{"$f":"VALUE(URL_2[[#This Row],[Data]])","v":0}]
["Confirmed","","Bangladesh",23.684999999999999,90.356300000000005,"2020-02-29",0,{"$f":"VALUE(URL_2[[#This Row],[Data]])","v":0}]
["Confirmed","","Bangladesh",23.684999999999999,90.356300000000005,"2020-03-01",0,{"$f":"VALUE(URL_2[[#This Row],[Data]])","v":0}]
["Confirmed","","Bangladesh",23.684999999999999,90.356300000000005,"2020-03-02",0,{"$f":"VALUE(URL_2[[#This Row],[Data]])","v":0}]
["Confirmed","","Bangladesh",23.684999999999999,90.356300000000005,"2020-03-03",0,{"$f":"VALUE(URL_2[[#This Row],[Data]])","v":0}]
["Confirmed","","Bangladesh",23.684999999999999,90.356300000000005,"2020-03-04",0,{"$f":"VALUE(URL_2[[#This Row],[Data]])","v":0}]
["Confirmed","","Bangladesh",23.684999999999999,90.356300000000005,"2020-03-05",0,{"$f":"VALUE(URL_2[[#This Row],[Data]])","v":0}]
["Confirmed","","Bangladesh",23.684999999999999,90.356300000000005,"2020-03-06",0,{"$f":"VALUE(URL_2[[#This Row],[Data]])","v":0}]
["Confirmed","","Bangladesh",23.684999999999999,90.356300000000005,"2020-03-07",0,{"$f":"VALUE(URL_2[[#This Row],[Data]])","v":0}]
["Confirmed","","Barbados",13.193899999999999,-59.543199999999999,"2020-01-22",0,{"$f":"VALUE(URL_2[[#This Row],[Data]])","v":0}]
["Confirmed","","Barbados",13.193899999999999,-59.543199999999999,"2020-01-23",0,{"$f":"VALUE(URL_2[[#This Row],[Data]])","v":0}]
["Confirmed","","Barbados",13.193899999999999,-59.543199999999999,"2020-01-24",0,{"$f":"VALUE(URL_2[[#This Row],[Data]])","v":0}]
["Confirmed","","Barbados",13.193899999999999,-59.543199999999999,"2020-01-25",0,{"$f":"VALUE(URL_2[[#This Row],[Data]])","v":0}]
["Confirmed","","Barbados",13.193899999999999,-59.543199999999999,"2020-01-26",0,{"$f":"VALUE(URL_2[[#This Row],[Data]])","v":0}]
["Confirmed","","Barbados",13.193899999999999,-59.543199999999999,"2020-01-27",0,{"$f":"VALUE(URL_2[[#This Row],[Data]])","v":0}]
["Confirmed","","Barbados",13.193899999999999,-59.543199999999999,"2020-01-28",0,{"$f":"VALUE(URL_2[[#This Row],[Data]])","v":0}]
["Confirmed","","Barbados",13.193899999999999,-59.543199999999999,"2020-01-29",0,{"$f":"VALUE(URL_2[[#This Row],[Data]])","v":0}]
["Confirmed","","Barbados",13.193899999999999,-59.543199999999999,"2020-01-30",0,{"$f":"VALUE(URL_2[[#This Row],[Data]])","v":0}]
["Confirmed","","Barbados",13.193899999999999,-59.543199999999999,"2020-01-31",0,{"$f":"VALUE(URL_2[[#This Row],[Data]])","v":0}]
["Confirmed","","Barbados",13.193899999999999,-59.543199999999999,"2020-02-01",0,{"$f":"VALUE(URL_2[[#This Row],[Data]])","v":0}]
["Confirmed","","Barbados",13.193899999999999,-59.543199999999999,"2020-02-02",0,{"$f":"VALUE(URL_2[[#This Row],[Data]])","v":0}]
["Confirmed","","Barbados",13.193899999999999,-59.543199999999999,"2020-02-03",0,{"$f":"VALUE(URL_2[[#This Row],[Data]])","v":0}]
["Confirmed","","Barbados",13.193899999999999,-59.543199999999999,"2020-02-04",0,{"$f":"VALUE(URL_2[[#This Row],[Data]])","v":0}]
["Confirmed","","Barbados",13.193899999999999,-59.543199999999999,"2020-02-05",0,{"$f":"VALUE(URL_2[[#This Row],[Data]])","v":0}]
["Confirmed","","Barbados",13.193899999999999,-59.543199999999999,"2020-02-06",0,{"$f":"VALUE(URL_2[[#This Row],[Data]])","v":0}]
["Confirmed","","Barbados",13.193899999999999,-59.543199999999999,"2020-02-07",0,{"$f":"VALUE(URL_2[[#This Row],[Data]])","v":0}]
["Confirmed","","Barbados",13.193899999999999,-59.543199999999999,"2020-02-08",0,{"$f":"VALUE(URL_2[[#This Row],[Data]])","v":0}]
["Confirmed","","Barbados",13.193899999999999,-59.543199999999999,"2020-02-09",0,{"$f":"VALUE(URL_2[[#This Row],[Data]])","v":0}]
["Confirmed","","Barbados",13.193899999999999,-59.543199999999999,"2020-02-10",0,{"$f":"VALUE(URL_2[[#This Row],[Data]])","v":0}]
["Confirmed","","Barbados",13.193899999999999,-59.543199999999999,"2020-02-11",0,{"$f":"VALUE(URL_2[[#This Row],[Data]])","v":0}]
["Confirmed","","Barbados",13.193899999999999,-59.543199999999999,"2020-02-12",0,{"$f":"VALUE(URL_2[[#This Row],[Data]])","v":0}]
["Confirmed","","Barbados",13.193899999999999,-59.543199999999999,"2020-02-13",0,{"$f":"VALUE(URL_2[[#This Row],[Data]])","v":0}]
["Confirmed","","Barbados",13.193899999999999,-59.543199999999999,"2020-02-14",0,{"$f":"VALUE(URL_2[[#This Row],[Data]])","v":0}]
["Confirmed","","Barbados",13.193899999999999,-59.543199999999999,"2020-02-15",0,{"$f":"VALUE(URL_2[[#This Row],[Data]])","v":0}]
["Confirmed","","Barbados",13.193899999999999,-59.543199999999999,"2020-02-16",0,{"$f":"VALUE(URL_2[[#This Row],[Data]])","v":0}]
["Confirmed","","Barbados",13.193899999999999,-59.543199999999999,"2020-02-17",0,{"$f":"VALUE(URL_2[[#This Row],[Data]])","v":0}]
["Confirmed","","Barbados",13.193899999999999,-59.543199999999999,"2020-02-18",0,{"$f":"VALUE(URL_2[[#This Row],[Data]])","v":0}]
["Confirmed","","Barbados",13.193899999999999,-59.543199999999999,"2020-02-19",0,{"$f":"VALUE(URL_2[[#This Row],[Data]])","v":0}]
["Confirmed","","Barbados",13.193899999999999,-59.543199999999999,"2020-02-20",0,{"$f":"VALUE(URL_2[[#This Row],[Data]])","v":0}]
["Confirmed","","Barbados",13.193899999999999,-59.543199999999999,"2020-02-21",0,{"$f":"VALUE(URL_2[[#This Row],[Data]])","v":0}]
["Confirmed","","Barbados",13.193899999999999,-59.543199999999999,"2020-02-22",0,{"$f":"VALUE(URL_2[[#This Row],[Data]])","v":0}]
["Confirmed","","Barbados",13.193899999999999,-59.543199999999999,"2020-02-23",0,{"$f":"VALUE(URL_2[[#This Row],[Data]])","v":0}]
["Confirmed","","Barbados",13.193899999999999,-59.543199999999999,"2020-02-24",0,{"$f":"VALUE(URL_2[[#This Row],[Data]])","v":0}]
["Confirmed","","Barbados",13.193899999999999,-59.543199999999999,"2020-02-25",0,{"$f":"VALUE(URL_2[[#This Row],[Data]])","v":0}]
["Confirmed","","Barbados",13.193899999999999,-59.543199999999999,"2020-02-26",0,{"$f":"VALUE(URL_2[[#This Row],[Data]])","v":0}]
["Confirmed","","Barbados",13.193899999999999,-59.543199999999999,"2020-02-27",0,{"$f":"VALUE(URL_2[[#This Row],[Data]])","v":0}]
["Confirmed","","Barbados",13.193899999999999,-59.543199999999999,"2020-02-28",0,{"$f":"VALUE(URL_2[[#This Row],[Data]])","v":0}]
["Confirmed","","Barbados",13.193899999999999,-59.543199999999999,"2020-02-29",0,{"$f":"VALUE(URL_2[[#This Row],[Data]])","v":0}]
["Confirmed","","Barbados",13.193899999999999,-59.543199999999999,"2020-03-01",0,{"$f":"VALUE(URL_2[[#This Row],[Data]])","v":0}]
["Confirmed","","Barbados",13.193899999999999,-59.543199999999999,"2020-03-02",0,{"$f":"VALUE(URL_2[[#This Row],[Data]])","v":0}]
["Confirmed","","Barbados",13.193899999999999,-59.543199999999999,"2020-03-03",0,{"$f":"VALUE(URL_2[[#This Row],[Data]])","v":0}]
["Confirmed","","Barbados",13.193899999999999,-59.543199999999999,"2020-03-04",0,{"$f":"VALUE(URL_2[[#This Row],[Data]])","v":0}]
["Confirmed","","Barbados",13.193899999999999,-59.543199999999999,"2020-03-05",0,{"$f":"VALUE(URL_2[[#This Row],[Data]])","v":0}]
["Confirmed","","Barbados",13.193899999999999,-59.543199999999999,"2020-03-06",0,{"$f":"VALUE(URL_2[[#This Row],[Data]])","v":0}]
["Confirmed","","Barbados",13.193899999999999,-59.543199999999999,"2020-03-07",0,{"$f":"VALUE(URL_2[[#This Row],[Data]])","v":0}]
["Confirmed","","Barbados",13.193899999999999,-59.543199999999999,"2020-03-08",0,{"$f":"VALUE(URL_2[[#This Row],[Data]])","v":0}]
["Confirmed","","Barbados",13.193899999999999,-59.543199999999999,"2020-03-09",0,{"$f":"VALUE(URL_2[[#This Row],[Data]])","v":0}]
["Confirmed","","Barbados",13.193899999999999,-59.543199999999999,"2020-03-10",0,{"$f":"VALUE(URL_2[[#This Row],[Data]])","v":0}]
["Confirmed","","Barbados",13.193899999999999,-59.543199999999999,"2020-03-11",0,{"$f":"VALUE(URL_2[[#This Row],[Data]])","v":0}]
["Confirmed","","Barbados",13.193899999999999,-59.543199999999999,"2020-03-12",0,{"$f":"VALUE(URL_2[[#This Row],[Data]])","v":0}]
["Confirmed","","Barbados",13.193899999999999,-59.543199999999999,"2020-03-13",0,{"$f":"VALUE(URL_2[[#This Row],[Data]])","v":0}]
["Confirmed","","Barbados",13.193899999999999,-59.543199999999999,"2020-03-14",0,{"$f":"VALUE(URL_2[[#This Row],[Data]])","v":0}]
["Confirmed","","Barbados",13.193899999999999,-59.543199999999999,"2020-03-15",0,{"$f":"VALUE(URL_2[[#This Row],[Data]])","v":0}]
["Confirmed","","Barbados",13.193899999999999,-59.543199999999999,"2020-03-16",0,{"$f":"VALUE(URL_2[[#This Row],[Data]])","v":0}]
["Confirmed","","Belarus",53.709800000000001,27.953399999999998,"2020-01-22",0,{"$f":"VALUE(URL_2[[#This Row],[Data]])","v":0}]
["Confirmed","","Belarus",53.709800000000001,27.953399999999998,"2020-01-23",0,{"$f":"VALUE(URL_2[[#This Row],[Data]])","v":0}]
["Confirmed","","Belarus",53.709800000000001,27.953399999999998,"2020-01-24",0,{"$f":"VALUE(URL_2[[#This Row],[Data]])","v":0}]
["Confirmed","","Belarus",53.709800000000001,27.953399999999998,"2020-01-25",0,{"$f":"VALUE(URL_2[[#This Row],[Data]])","v":0}]
["Confirmed","","Belarus",53.709800000000001,27.953399999999998,"2020-01-26",0,{"$f":"VALUE(URL_2[[#This Row],[Data]])","v":0}]
["Confirmed","","Belarus",53.709800000000001,27.953399999999998,"2020-01-27",0,{"$f":"VALUE(URL_2[[#This Row],[Data]])","v":0}]
["Confirmed","","Belarus",53.709800000000001,27.953399999999998,"2020-01-28",0,{"$f":"VALUE(URL_2[[#This Row],[Data]])","v":0}]
["Confirmed","","Belarus",53.709800000000001,27.953399999999998,"2020-01-29",0,{"$f":"VALUE(URL_2[[#This Row],[Data]])","v":0}]
["Confirmed","","Belarus",53.709800000000001,27.953399999999998,"2020-01-30",0,{"$f":"VALUE(URL_2[[#This Row],[Data]])","v":0}]
["Confirmed","","Belarus",53.709800000000001,27.953399999999998,"2020-01-31",0,{"$f":"VALUE(URL_2[[#This Row],[Data]])","v":0}]
["Confirmed","","Belarus",53.709800000000001,27.953399999999998,"2020-02-01",0,{"$f":"VALUE(URL_2[[#This Row],[Data]])","v":0}]
["Confirmed","","Belarus",53.709800000000001,27.953399999999998,"2020-02-02",0,{"$f":"VALUE(URL_2[[#This Row],[Data]])","v":0}]
["Confirmed","","Belarus",53.709800000000001,27.953399999999998,"2020-02-03",0,{"$f":"VALUE(URL_2[[#This Row],[Data]])","v":0}]
["Confirmed","","Belarus",53.709800000000001,27.953399999999998,"2020-02-04",0,{"$f":"VALUE(URL_2[[#This Row],[Data]])","v":0}]
["Confirmed","","Belarus",53.709800000000001,27.953399999999998,"2020-02-05",0,{"$f":"VALUE(URL_2[[#This Row],[Data]])","v":0}]
["Confirmed","","Belarus",53.709800000000001,27.953399999999998,"2020-02-06",0,{"$f":"VALUE(URL_2[[#This Row],[Data]])","v":0}]
["Confirmed","","Belarus",53.709800000000001,27.953399999999998,"2020-02-07",0,{"$f":"VALUE(URL_2[[#This Row],[Data]])","v":0}]
["Confirmed","","Belarus",53.709800000000001,27.953399999999998,"2020-02-08",0,{"$f":"VALUE(URL_2[[#This Row],[Data]])","v":0}]
["Confirmed","","Belarus",53.709800000000001,27.953399999999998,"2020-02-09",0,{"$f":"VALUE(URL_2[[#This Row],[Data]])","v":0}]
["Confirmed","","Belarus",53.709800000000001,27.953399999999998,"2020-02-10",0,{"$f":"VALUE(URL_2[[#This Row],[Data]])","v":0}]
["Confirmed","","Belarus",53.709800000000001,27.953399999999998,"2020-02-11",0,{"$f":"VALUE(URL_2[[#This Row],[Data]])","v":0}]
["Confirmed","","Belarus",53.709800000000001,27.953399999999998,"2020-02-12",0,{"$f":"VALUE(URL_2[[#This Row],[Data]])","v":0}]
["Confirmed","","Belarus",53.709800000000001,27.953399999999998,"2020-02-13",0,{"$f":"VALUE(URL_2[[#This Row],[Data]])","v":0}]
["Confirmed","","Belarus",53.709800000000001,27.953399999999998,"2020-02-14",0,{"$f":"VALUE(URL_2[[#This Row],[Data]])","v":0}]
["Confirmed","","Belarus",53.709800000000001,27.953399999999998,"2020-02-15",0,{"$f":"VALUE(URL_2[[#This Row],[Data]])","v":0}]
["Confirmed","","Belarus",53.709800000000001,27.953399999999998,"2020-02-16",0,{"$f":"VALUE(URL_2[[#This Row],[Data]])","v":0}]
["Confirmed","","Belarus",53.709800000000001,27.953399999999998,"2020-02-17",0,{"$f":"VALUE(URL_2[[#This Row],[Data]])","v":0}]
["Confirmed","","Belarus",53.709800000000001,27.953399999999998,"2020-02-18",0,{"$f":"VALUE(URL_2[[#This Row],[Data]])","v":0}]
["Confirmed","","Belarus",53.709800000000001,27.953399999999998,"2020-02-19",0,{"$f":"VALUE(URL_2[[#This Row],[Data]])","v":0}]
["Confirmed","","Belarus",53.709800000000001,27.953399999999998,"2020-02-20",0,{"$f":"VALUE(URL_2[[#This Row],[Data]])","v":0}]
["Confirmed","","Belarus",53.709800000000001,27.953399999999998,"2020-02-21",0,{"$f":"VALUE(URL_2[[#This Row],[Data]])","v":0}]
["Confirmed","","Belarus",53.709800000000001,27.953399999999998,"2020-02-22",0,{"$f":"VALUE(URL_2[[#This Row],[Data]])","v":0}]
["Confirmed","","Belarus",53.709800000000001,27.953399999999998,"2020-02-23",0,{"$f":"VALUE(URL_2[[#This Row],[Data]])","v":0}]
["Confirmed","","Belarus",53.709800000000001,27.953399999999998,"2020-02-24",0,{"$f":"VALUE(URL_2[[#This Row],[Data]])","v":0}]
["Confirmed","","Belarus",53.709800000000001,27.953399999999998,"2020-02-25",0,{"$f":"VALUE(URL_2[[#This Row],[Data]])","v":0}]
["Confirmed","","Belarus",53.709800000000001,27.953399999999998,"2020-02-26",0,{"$f":"VALUE(URL_2[[#This Row],[Data]])","v":0}]
["Confirmed","","Belarus",53.709800000000001,27.953399999999998,"2020-02-27",0,{"$f":"VALUE(URL_2[[#This Row],[Data]])","v":0}]
["Confirmed","","Belgium",50.833300000000001,4,"2020-01-22",0,{"$f":"VALUE(URL_2[[#This Row],[Data]])","v":0}]
["Confirmed","","Belgium",50.833300000000001,4,"2020-01-23",0,{"$f":"VALUE(URL_2[[#This Row],[Data]])","v":0}]
["Confirmed","","Belgium",50.833300000000001,4,"2020-01-24",0,{"$f":"VALUE(URL_2[[#This Row],[Data]])","v":0}]
["Confirmed","","Belgium",50.833300000000001,4,"2020-01-25",0,{"$f":"VALUE(URL_2[[#This Row],[Data]])","v":0}]
["Confirmed","","Belgium",50.833300000000001,4,"2020-01-26",0,{"$f":"VALUE(URL_2[[#This Row],[Data]])","v":0}]
["Confirmed","","Belgium",50.833300000000001,4,"2020-01-27",0,{"$f":"VALUE(URL_2[[#This Row],[Data]])","v":0}]
["Confirmed","","Belgium",50.833300000000001,4,"2020-01-28",0,{"$f":"VALUE(URL_2[[#This Row],[Data]])","v":0}]
["Confirmed","","Belgium",50.833300000000001,4,"2020-01-29",0,{"$f":"VALUE(URL_2[[#This Row],[Data]])","v":0}]
["Confirmed","","Belgium",50.833300000000001,4,"2020-01-30",0,{"$f":"VALUE(URL_2[[#This Row],[Data]])","v":0}]
["Confirmed","","Belgium",50.833300000000001,4,"2020-01-31",0,{"$f":"VALUE(URL_2[[#This Row],[Data]])","v":0}]
["Confirmed","","Belgium",50.833300000000001,4,"2020-02-01",0,{"$f":"VALUE(URL_2[[#This Row],[Data]])","v":0}]
["Confirmed","","Belgium",50.833300000000001,4,"2020-02-02",0,{"$f":"VALUE(URL_2[[#This Row],[Data]])","v":0}]
["Confirmed","","Belgium",50.833300000000001,4,"2020-02-03",0,{"$f":"VALUE(URL_2[[#This Row],[Data]])","v":0}]
["Confirmed","","Benin",9.3077000000000005,2.3157999999999999,"2020-01-22",0,{"$f":"VALUE(URL_2[[#This Row],[Data]])","v":0}]
["Confirmed","","Benin",9.3077000000000005,2.3157999999999999,"2020-01-23",0,{"$f":"VALUE(URL_2[[#This Row],[Data]])","v":0}]
["Confirmed","","Benin",9.3077000000000005,2.3157999999999999,"2020-01-24",0,{"$f":"VALUE(URL_2[[#This Row],[Data]])","v":0}]
["Confirmed","","Benin",9.3077000000000005,2.3157999999999999,"2020-01-25",0,{"$f":"VALUE(URL_2[[#This Row],[Data]])","v":0}]
["Confirmed","","Benin",9.3077000000000005,2.3157999999999999,"2020-01-26",0,{"$f":"VALUE(URL_2[[#This Row],[Data]])","v":0}]
["Confirmed","","Benin",9.3077000000000005,2.3157999999999999,"2020-01-27",0,{"$f":"VALUE(URL_2[[#This Row],[Data]])","v":0}]
["Confirmed","","Benin",9.3077000000000005,2.3157999999999999,"2020-01-28",0,{"$f":"VALUE(URL_2[[#This Row],[Data]])","v":0}]
["Confirmed","","Benin",9.3077000000000005,2.3157999999999999,"2020-01-29",0,{"$f":"VALUE(URL_2[[#This Row],[Data]])","v":0}]
["Confirmed","","Benin",9.3077000000000005,2.3157999999999999,"2020-01-30",0,{"$f":"VALUE(URL_2[[#This Row],[Data]])","v":0}]
["Confirmed","","Benin",9.3077000000000005,2.3157999999999999,"2020-01-31",0,{"$f":"VALUE(URL_2[[#This Row],[Data]])","v":0}]
["Confirmed","","Benin",9.3077000000000005,2.3157999999999999,"2020-02-01",0,{"$f":"VALUE(URL_2[[#This Row],[Data]])","v":0}]
["Confirmed","","Benin",9.3077000000000005,2.3157999999999999,"2020-02-02",0,{"$f":"VALUE(URL_2[[#This Row],[Data]])","v":0}]
["Confirmed","","Benin",9.3077000000000005,2.3157999999999999,"2020-02-03",0,{"$f":"VALUE(URL_2[[#This Row],[Data]])","v":0}]
["Confirmed","","Benin",9.3077000000000005,2.3157999999999999,"2020-02-04",0,{"$f":"VALUE(URL_2[[#This Row],[Data]])","v":0}]
["Confirmed","","Benin",9.3077000000000005,2.3157999999999999,"2020-02-05",0,{"$f":"VALUE(URL_2[[#This Row],[Data]])","v":0}]
["Confirmed","","Benin",9.3077000000000005,2.3157999999999999,"2020-02-06",0,{"$f":"VALUE(URL_2[[#This Row],[Data]])","v":0}]
["Confirmed","","Benin",9.3077000000000005,2.3157999999999999,"2020-02-07",0,{"$f":"VALUE(URL_2[[#This Row],[Data]])","v":0}]
["Confirmed","","Benin",9.3077000000000005,2.3157999999999999,"2020-02-08",0,{"$f":"VALUE(URL_2[[#This Row],[Data]])","v":0}]
["Confirmed","","Benin",9.3077000000000005,2.3157999999999999,"2020-02-09",0,{"$f":"VALUE(URL_2[[#This Row],[Data]])","v":0}]
["Confirmed","","Benin",9.3077000000000005,2.3157999999999999,"2020-02-10",0,{"$f":"VALUE(URL_2[[#This Row],[Data]])","v":0}]
["Confirmed","","Benin",9.3077000000000005,2.3157999999999999,"2020-02-11",0,{"$f":"VALUE(URL_2[[#This Row],[Data]])","v":0}]
["Confirmed","","Benin",9.3077000000000005,2.3157999999999999,"2020-02-12",0,{"$f":"VALUE(URL_2[[#This Row],[Data]])","v":0}]
["Confirmed","","Benin",9.3077000000000005,2.3157999999999999,"2020-02-13",0,{"$f":"VALUE(URL_2[[#This Row],[Data]])","v":0}]
["Confirmed","","Benin",9.3077000000000005,2.3157999999999999,"2020-02-14",0,{"$f":"VALUE(URL_2[[#This Row],[Data]])","v":0}]
["Confirmed","","Benin",9.3077000000000005,2.3157999999999999,"2020-02-15",0,{"$f":"VALUE(URL_2[[#This Row],[Data]])","v":0}]
["Confirmed","","Benin",9.3077000000000005,2.3157999999999999,"2020-02-16",0,{"$f":"VALUE(URL_2[[#This Row],[Data]])","v":0}]
["Confirmed","","Benin",9.3077000000000005,2.3157999999999999,"2020-02-17",0,{"$f":"VALUE(URL_2[[#This Row],[Data]])","v":0}]
["Confirmed","","Benin",9.3077000000000005,2.3157999999999999,"2020-02-18",0,{"$f":"VALUE(URL_2[[#This Row],[Data]])","v":0}]
["Confirmed","","Benin",9.3077000000000005,2.3157999999999999,"2020-02-19",0,{"$f":"VALUE(URL_2[[#This Row],[Data]])","v":0}]
["Confirmed","","Benin",9.3077000000000005,2.3157999999999999,"2020-02-20",0,{"$f":"VALUE(URL_2[[#This Row],[Data]])","v":0}]
["Confirmed","","Benin",9.3077000000000005,2.3157999999999999,"2020-02-21",0,{"$f":"VALUE(URL_2[[#This Row],[Data]])","v":0}]
["Confirmed","","Benin",9.3077000000000005,2.3157999999999999,"2020-02-22",0,{"$f":"VALUE(URL_2[[#This Row],[Data]])","v":0}]
["Confirmed","","Benin",9.3077000000000005,2.3157999999999999,"2020-02-23",0,{"$f":"VALUE(URL_2[[#This Row],[Data]])","v":0}]
["Confirmed","","Benin",9.3077000000000005,2.3157999999999999,"2020-02-24",0,{"$f":"VALUE(URL_2[[#This Row],[Data]])","v":0}]
["Confirmed","","Benin",9.3077000000000005,2.3157999999999999,"2020-02-25",0,{"$f":"VALUE(URL_2[[#This Row],[Data]])","v":0}]
["Confirmed","","Benin",9.3077000000000005,2.3157999999999999,"2020-02-26",0,{"$f":"VALUE(URL_2[[#This Row],[Data]])","v":0}]
["Confirmed","","Benin",9.3077000000000005,2.3157999999999999,"2020-02-27",0,{"$f":"VALUE(URL_2[[#This Row],[Data]])","v":0}]
["Confirmed","","Benin",9.3077000000000005,2.3157999999999999,"2020-02-28",0,{"$f":"VALUE(URL_2[[#This Row],[Data]])","v":0}]
["Confirmed","","Benin",9.3077000000000005,2.3157999999999999,"2020-02-29",0,{"$f":"VALUE(URL_2[[#This Row],[Data]])","v":0}]
["Confirmed","","Benin",9.3077000000000005,2.3157999999999999,"2020-03-01",0,{"$f":"VALUE(URL_2[[#This Row],[Data]])","v":0}]
["Confirmed","","Benin",9.3077000000000005,2.3157999999999999,"2020-03-02",0,{"$f":"VALUE(URL_2[[#This Row],[Data]])","v":0}]
["Confirmed","","Benin",9.3077000000000005,2.3157999999999999,"2020-03-03",0,{"$f":"VALUE(URL_2[[#This Row],[Data]])","v":0}]
["Confirmed","","Benin",9.3077000000000005,2.3157999999999999,"2020-03-04",0,{"$f":"VALUE(URL_2[[#This Row],[Data]])","v":0}]
["Confirmed","","Benin",9.3077000000000005,2.3157999999999999,"2020-03-05",0,{"$f":"VALUE(URL_2[[#This Row],[Data]])","v":0}]
["Confirmed","","Benin",9.3077000000000005,2.3157999999999999,"2020-03-06",0,{"$f":"VALUE(URL_2[[#This Row],[Data]])","v":0}]
["Confirmed","","Benin",9.3077000000000005,2.3157999999999999,"2020-03-07",0,{"$f":"VALUE(URL_2[[#This Row],[Data]])","v":0}]
["Confirmed","","Benin",9.3077000000000005,2.3157999999999999,"2020-03-08",0,{"$f":"VALUE(URL_2[[#This Row],[Data]])","v":0}]
["Confirmed","","Benin",9.3077000000000005,2.3157999999999999,"2020-03-09",0,{"$f":"VALUE(URL_2[[#This Row],[Data]])","v":0}]
["Confirmed","","Benin",9.3077000000000005,2.3157999999999999,"2020-03-10",0,{"$f":"VALUE(URL_2[[#This Row],[Data]])","v":0}]
["Confirmed","","Benin",9.3077000000000005,2.3157999999999999,"2020-03-11",0,{"$f":"VALUE(URL_2[[#This Row],[Data]])","v":0}]
["Confirmed","","Benin",9.3077000000000005,2.3157999999999999,"2020-03-12",0,{"$f":"VALUE(URL_2[[#This Row],[Data]])","v":0}]
["Confirmed","","Benin",9.3077000000000005,2.3157999999999999,"2020-03-13",0,{"$f":"VALUE(URL_2[[#This Row],[Data]])","v":0}]
["Confirmed","","Benin",9.3077000000000005,2.3157999999999999,"2020-03-14",0,{"$f":"VALUE(URL_2[[#This Row],[Data]])","v":0}]
["Confirmed","","Benin",9.3077000000000005,2.3157999999999999,"2020-03-15",0,{"$f":"VALUE(URL_2[[#This Row],[Data]])","v":0}]
["Confirmed","","Bhutan",27.514199999999999,90.433599999999998,"2020-01-22",0,{"$f":"VALUE(URL_2[[#This Row],[Data]])","v":0}]
["Confirmed","","Bhutan",27.514199999999999,90.433599999999998,"2020-01-23",0,{"$f":"VALUE(URL_2[[#This Row],[Data]])","v":0}]
["Confirmed","","Bhutan",27.514199999999999,90.433599999999998,"2020-01-24",0,{"$f":"VALUE(URL_2[[#This Row],[Data]])","v":0}]
["Confirmed","","Bhutan",27.514199999999999,90.433599999999998,"2020-01-25",0,{"$f":"VALUE(URL_2[[#This Row],[Data]])","v":0}]
["Confirmed","","Bhutan",27.514199999999999,90.433599999999998,"2020-01-26",0,{"$f":"VALUE(URL_2[[#This Row],[Data]])","v":0}]
["Confirmed","","Bhutan",27.514199999999999,90.433599999999998,"2020-01-27",0,{"$f":"VALUE(URL_2[[#This Row],[Data]])","v":0}]
["Confirmed","","Bhutan",27.514199999999999,90.433599999999998,"2020-01-28",0,{"$f":"VALUE(URL_2[[#This Row],[Data]])","v":0}]
["Confirmed","","Bhutan",27.514199999999999,90.433599999999998,"2020-01-29",0,{"$f":"VALUE(URL_2[[#This Row],[Data]])","v":0}]
["Confirmed","","Bhutan",27.514199999999999,90.433599999999998,"2020-01-30",0,{"$f":"VALUE(URL_2[[#This Row],[Data]])","v":0}]
["Confirmed","","Bhutan",27.514199999999999,90.433599999999998,"2020-01-31",0,{"$f":"VALUE(URL_2[[#This Row],[Data]])","v":0}]
["Confirmed","","Bhutan",27.514199999999999,90.433599999999998,"2020-02-01",0,{"$f":"VALUE(URL_2[[#This Row],[Data]])","v":0}]
["Confirmed","","Bhutan",27.514199999999999,90.433599999999998,"2020-02-02",0,{"$f":"VALUE(URL_2[[#This Row],[Data]])","v":0}]
["Confirmed","","Bhutan",27.514199999999999,90.433599999999998,"2020-02-03",0,{"$f":"VALUE(URL_2[[#This Row],[Data]])","v":0}]
["Confirmed","","Bhutan",27.514199999999999,90.433599999999998,"2020-02-04",0,{"$f":"VALUE(URL_2[[#This Row],[Data]])","v":0}]
["Confirmed","","Bhutan",27.514199999999999,90.433599999999998,"2020-02-05",0,{"$f":"VALUE(URL_2[[#This Row],[Data]])","v":0}]
["Confirmed","","Bhutan",27.514199999999999,90.433599999999998,"2020-02-06",0,{"$f":"VALUE(URL_2[[#This Row],[Data]])","v":0}]
["Confirmed","","Bhutan",27.514199999999999,90.433599999999998,"2020-02-07",0,{"$f":"VALUE(URL_2[[#This Row],[Data]])","v":0}]
["Confirmed","","Bhutan",27.514199999999999,90.433599999999998,"2020-02-08",0,{"$f":"VALUE(URL_2[[#This Row],[Data]])","v":0}]
["Confirmed","","Bhutan",27.514199999999999,90.433599999999998,"2020-02-09",0,{"$f":"VALUE(URL_2[[#This Row],[Data]])","v":0}]
["Confirmed","","Bhutan",27.514199999999999,90.433599999999998,"2020-02-10",0,{"$f":"VALUE(URL_2[[#This Row],[Data]])","v":0}]
["Confirmed","","Bhutan",27.514199999999999,90.433599999999998,"2020-02-11",0,{"$f":"VALUE(URL_2[[#This Row],[Data]])","v":0}]
["Confirmed","","Bhutan",27.514199999999999,90.433599999999998,"2020-02-12",0,{"$f":"VALUE(URL_2[[#This Row],[Data]])","v":0}]
["Confirmed","","Bhutan",27.514199999999999,90.433599999999998,"2020-02-13",0,{"$f":"VALUE(URL_2[[#This Row],[Data]])","v":0}]
["Confirmed","","Bhutan",27.514199999999999,90.433599999999998,"2020-02-14",0,{"$f":"VALUE(URL_2[[#This Row],[Data]])","v":0}]
["Confirmed","","Bhutan",27.514199999999999,90.433599999999998,"2020-02-15",0,{"$f":"VALUE(URL_2[[#This Row],[Data]])","v":0}]
["Confirmed","","Bhutan",27.514199999999999,90.433599999999998,"2020-02-16",0,{"$f":"VALUE(URL_2[[#This Row],[Data]])","v":0}]
["Confirmed","","Bhutan",27.514199999999999,90.433599999999998,"2020-02-17",0,{"$f":"VALUE(URL_2[[#This Row],[Data]])","v":0}]
["Confirmed","","Bhutan",27.514199999999999,90.433599999999998,"2020-02-18",0,{"$f":"VALUE(URL_2[[#This Row],[Data]])","v":0}]
["Confirmed","","Bhutan",27.514199999999999,90.433599999999998,"2020-02-19",0,{"$f":"VALUE(URL_2[[#This Row],[Data]])","v":0}]
["Confirmed","","Bhutan",27.514199999999999,90.433599999999998,"2020-02-20",0,{"$f":"VALUE(URL_2[[#This Row],[Data]])","v":0}]
["Confirmed","","Bhutan",27.514199999999999,90.433599999999998,"2020-02-21",0,{"$f":"VALUE(URL_2[[#This Row],[Data]])","v":0}]
["Confirmed","","Bhutan",27.514199999999999,90.433599999999998,"2020-02-22",0,{"$f":"VALUE(URL_2[[#This Row],[Data]])","v":0}]
["Confirmed","","Bhutan",27.514199999999999,90.433599999999998,"2020-02-23",0,{"$f":"VALUE(URL_2[[#This Row],[Data]])","v":0}]
["Confirmed","","Bhutan",27.514199999999999,90.433599999999998,"2020-02-24",0,{"$f":"VALUE(URL_2[[#This Row],[Data]])","v":0}]
["Confirmed","","Bhutan",27.514199999999999,90.433599999999998,"2020-02-25",0,{"$f":"VALUE(URL_2[[#This Row],[Data]])","v":0}]
["Confirmed","","Bhutan",27.514199999999999,90.433599999999998,"2020-02-26",0,{"$f":"VALUE(URL_2[[#This Row],[Data]])","v":0}]
["Confirmed","","Bhutan",27.514199999999999,90.433599999999998,"2020-02-27",0,{"$f":"VALUE(URL_2[[#This Row],[Data]])","v":0}]
["Confirmed","","Bhutan",27.514199999999999,90.433599999999998,"2020-02-28",0,{"$f":"VALUE(URL_2[[#This Row],[Data]])","v":0}]
["Confirmed","","Bhutan",27.514199999999999,90.433599999999998,"2020-02-29",0,{"$f":"VALUE(URL_2[[#This Row],[Data]])","v":0}]
["Confirmed","","Bhutan",27.514199999999999,90.433599999999998,"2020-03-01",0,{"$f":"VALUE(URL_2[[#This Row],[Data]])","v":0}]
["Confirmed","","Bhutan",27.514199999999999,90.433599999999998,"2020-03-02",0,{"$f":"VALUE(URL_2[[#This Row],[Data]])","v":0}]
["Confirmed","","Bhutan",27.514199999999999,90.433599999999998,"2020-03-03",0,{"$f":"VALUE(URL_2[[#This Row],[Data]])","v":0}]
["Confirmed","","Bhutan",27.514199999999999,90.433599999999998,"2020-03-04",0,{"$f":"VALUE(URL_2[[#This Row],[Data]])","v":0}]
["Confirmed","","Bhutan",27.514199999999999,90.433599999999998,"2020-03-05",0,{"$f":"VALUE(URL_2[[#This Row],[Data]])","v":0}]
["Confirmed","","Bolivia",-16.290199999999999,-63.588700000000003,"2020-01-22",0,{"$f":"VALUE(URL_2[[#This Row],[Data]])","v":0}]
["Confirmed","","Bolivia",-16.290199999999999,-63.588700000000003,"2020-01-23",0,{"$f":"VALUE(URL_2[[#This Row],[Data]])","v":0}]
["Confirmed","","Bolivia",-16.290199999999999,-63.588700000000003,"2020-01-24",0,{"$f":"VALUE(URL_2[[#This Row],[Data]])","v":0}]
["Confirmed","","Bolivia",-16.290199999999999,-63.588700000000003,"2020-01-25",0,{"$f":"VALUE(URL_2[[#This Row],[Data]])","v":0}]
["Confirmed","","Bolivia",-16.290199999999999,-63.588700000000003,"2020-01-26",0,{"$f":"VALUE(URL_2[[#This Row],[Data]])","v":0}]
["Confirmed","","Bolivia",-16.290199999999999,-63.588700000000003,"2020-01-27",0,{"$f":"VALUE(URL_2[[#This Row],[Data]])","v":0}]
["Confirmed","","Bolivia",-16.290199999999999,-63.588700000000003,"2020-01-28",0,{"$f":"VALUE(URL_2[[#This Row],[Data]])","v":0}]
["Confirmed","","Bolivia",-16.290199999999999,-63.588700000000003,"2020-01-29",0,{"$f":"VALUE(URL_2[[#This Row],[Data]])","v":0}]
["Confirmed","","Bolivia",-16.290199999999999,-63.588700000000003,"2020-01-30",0,{"$f":"VALUE(URL_2[[#This Row],[Data]])","v":0}]
["Confirmed","","Bolivia",-16.290199999999999,-63.588700000000003,"2020-01-31",0,{"$f":"VALUE(URL_2[[#This Row],[Data]])","v":0}]
["Confirmed","","Bolivia",-16.290199999999999,-63.588700000000003,"2020-02-01",0,{"$f":"VALUE(URL_2[[#This Row],[Data]])","v":0}]
["Confirmed","","Bolivia",-16.290199999999999,-63.588700000000003,"2020-02-02",0,{"$f":"VALUE(URL_2[[#This Row],[Data]])","v":0}]
["Confirmed","","Bolivia",-16.290199999999999,-63.588700000000003,"2020-02-03",0,{"$f":"VALUE(URL_2[[#This Row],[Data]])","v":0}]
["Confirmed","","Bolivia",-16.290199999999999,-63.588700000000003,"2020-02-04",0,{"$f":"VALUE(URL_2[[#This Row],[Data]])","v":0}]
["Confirmed","","Bolivia",-16.290199999999999,-63.588700000000003,"2020-02-05",0,{"$f":"VALUE(URL_2[[#This Row],[Data]])","v":0}]
["Confirmed","","Bolivia",-16.290199999999999,-63.588700000000003,"2020-02-06",0,{"$f":"VALUE(URL_2[[#This Row],[Data]])","v":0}]
["Confirmed","","Bolivia",-16.290199999999999,-63.588700000000003,"2020-02-07",0,{"$f":"VALUE(URL_2[[#This Row],[Data]])","v":0}]
["Confirmed","","Bolivia",-16.290199999999999,-63.588700000000003,"2020-02-08",0,{"$f":"VALUE(URL_2[[#This Row],[Data]])","v":0}]
["Confirmed","","Bolivia",-16.290199999999999,-63.588700000000003,"2020-02-09",0,{"$f":"VALUE(URL_2[[#This Row],[Data]])","v":0}]
["Confirmed","","Bolivia",-16.290199999999999,-63.588700000000003,"2020-02-10",0,{"$f":"VALUE(URL_2[[#This Row],[Data]])","v":0}]
["Confirmed","","Bolivia",-16.290199999999999,-63.588700000000003,"2020-02-11",0,{"$f":"VALUE(URL_2[[#This Row],[Data]])","v":0}]
["Confirmed","","Bolivia",-16.290199999999999,-63.588700000000003,"2020-02-12",0,{"$f":"VALUE(URL_2[[#This Row],[Data]])","v":0}]
["Confirmed","","Bolivia",-16.290199999999999,-63.588700000000003,"2020-02-13",0,{"$f":"VALUE(URL_2[[#This Row],[Data]])","v":0}]
["Confirmed","","Bolivia",-16.290199999999999,-63.588700000000003,"2020-02-14",0,{"$f":"VALUE(URL_2[[#This Row],[Data]])","v":0}]
["Confirmed","","Bolivia",-16.290199999999999,-63.588700000000003,"2020-02-15",0,{"$f":"VALUE(URL_2[[#This Row],[Data]])","v":0}]
["Confirmed","","Bolivia",-16.290199999999999,-63.588700000000003,"2020-02-16",0,{"$f":"VALUE(URL_2[[#This Row],[Data]])","v":0}]
["Confirmed","","Bolivia",-16.290199999999999,-63.588700000000003,"2020-02-17",0,{"$f":"VALUE(URL_2[[#This Row],[Data]])","v":0}]
["Confirmed","","Bolivia",-16.290199999999999,-63.588700000000003,"2020-02-18",0,{"$f":"VALUE(URL_2[[#This Row],[Data]])","v":0}]
["Confirmed","","Bolivia",-16.290199999999999,-63.588700000000003,"2020-02-19",0,{"$f":"VALUE(URL_2[[#This Row],[Data]])","v":0}]
["Confirmed","","Bolivia",-16.290199999999999,-63.588700000000003,"2020-02-20",0,{"$f":"VALUE(URL_2[[#This Row],[Data]])","v":0}]
["Confirmed","","Bolivia",-16.290199999999999,-63.588700000000003,"2020-02-21",0,{"$f":"VALUE(URL_2[[#This Row],[Data]])","v":0}]
["Confirmed","","Bolivia",-16.290199999999999,-63.588700000000003,"2020-02-22",0,{"$f":"VALUE(URL_2[[#This Row],[Data]])","v":0}]
["Confirmed","","Bolivia",-16.290199999999999,-63.588700000000003,"2020-02-23",0,{"$f":"VALUE(URL_2[[#This Row],[Data]])","v":0}]
["Confirmed","","Bolivia",-16.290199999999999,-63.588700000000003,"2020-02-24",0,{"$f":"VALUE(URL_2[[#This Row],[Data]])","v":0}]
["Confirmed","","Bolivia",-16.290199999999999,-63.588700000000003,"2020-02-25",0,{"$f":"VALUE(URL_2[[#This Row],[Data]])","v":0}]
["Confirmed","","Bolivia",-16.290199999999999,-63.588700000000003,"2020-02-26",0,{"$f":"VALUE(URL_2[[#This Row],[Data]])","v":0}]
["Confirmed","","Bolivia",-16.290199999999999,-63.588700000000003,"2020-02-27",0,{"$f":"VALUE(URL_2[[#This Row],[Data]])","v":0}]
["Confirmed","","Bolivia",-16.290199999999999,-63.588700000000003,"2020-02-28",0,{"$f":"VALUE(URL_2[[#This Row],[Data]])","v":0}]
["Confirmed","","Bolivia",-16.290199999999999,-63.588700000000003,"2020-02-29",0,{"$f":"VALUE(URL_2[[#This Row],[Data]])","v":0}]
["Confirmed","","Bolivia",-16.290199999999999,-63.588700000000003,"2020-03-01",0,{"$f":"VALUE(URL_2[[#This Row],[Data]])","v":0}]
["Confirmed","","Bolivia",-16.290199999999999,-63.588700000000003,"2020-03-02",0,{"$f":"VALUE(URL_2[[#This Row],[Data]])","v":0}]
["Confirmed","","Bolivia",-16.290199999999999,-63.588700000000003,"2020-03-03",0,{"$f":"VALUE(URL_2[[#This Row],[Data]])","v":0}]
["Confirmed","","Bolivia",-16.290199999999999,-63.588700000000003,"2020-03-04",0,{"$f":"VALUE(URL_2[[#This Row],[Data]])","v":0}]
["Confirmed","","Bolivia",-16.290199999999999,-63.588700000000003,"2020-03-05",0,{"$f":"VALUE(URL_2[[#This Row],[Data]])","v":0}]
["Confirmed","","Bolivia",-16.290199999999999,-63.588700000000003,"2020-03-06",0,{"$f":"VALUE(URL_2[[#This Row],[Data]])","v":0}]
["Confirmed","","Bolivia",-16.290199999999999,-63.588700000000003,"2020-03-07",0,{"$f":"VALUE(URL_2[[#This Row],[Data]])","v":0}]
["Confirmed","","Bolivia",-16.290199999999999,-63.588700000000003,"2020-03-08",0,{"$f":"VALUE(URL_2[[#This Row],[Data]])","v":0}]
["Confirmed","","Bolivia",-16.290199999999999,-63.588700000000003,"2020-03-09",0,{"$f":"VALUE(URL_2[[#This Row],[Data]])","v":0}]
["Confirmed","","Bolivia",-16.290199999999999,-63.588700000000003,"2020-03-10",0,{"$f":"VALUE(URL_2[[#This Row],[Data]])","v":0}]
["Confirmed","","Bosnia and Herzegovina",43.915900000000001,17.679099999999998,"2020-01-22",0,{"$f":"VALUE(URL_2[[#This Row],[Data]])","v":0}]
["Confirmed","","Bosnia and Herzegovina",43.915900000000001,17.679099999999998,"2020-01-23",0,{"$f":"VALUE(URL_2[[#This Row],[Data]])","v":0}]
["Confirmed","","Bosnia and Herzegovina",43.915900000000001,17.679099999999998,"2020-01-24",0,{"$f":"VALUE(URL_2[[#This Row],[Data]])","v":0}]
["Confirmed","","Bosnia and Herzegovina",43.915900000000001,17.679099999999998,"2020-01-25",0,{"$f":"VALUE(URL_2[[#This Row],[Data]])","v":0}]
["Confirmed","","Bosnia and Herzegovina",43.915900000000001,17.679099999999998,"2020-01-26",0,{"$f":"VALUE(URL_2[[#This Row],[Data]])","v":0}]
["Confirmed","","Bosnia and Herzegovina",43.915900000000001,17.679099999999998,"2020-01-27",0,{"$f":"VALUE(URL_2[[#This Row],[Data]])","v":0}]
["Confirmed","","Bosnia and Herzegovina",43.915900000000001,17.679099999999998,"2020-01-28",0,{"$f":"VALUE(URL_2[[#This Row],[Data]])","v":0}]
["Confirmed","","Bosnia and Herzegovina",43.915900000000001,17.679099999999998,"2020-01-29",0,{"$f":"VALUE(URL_2[[#This Row],[Data]])","v":0}]
["Confirmed","","Bosnia and Herzegovina",43.915900000000001,17.679099999999998,"2020-01-30",0,{"$f":"VALUE(URL_2[[#This Row],[Data]])","v":0}]
["Confirmed","","Bosnia and Herzegovina",43.915900000000001,17.679099999999998,"2020-01-31",0,{"$f":"VALUE(URL_2[[#This Row],[Data]])","v":0}]
["Confirmed","","Bosnia and Herzegovina",43.915900000000001,17.679099999999998,"2020-02-01",0,{"$f":"VALUE(URL_2[[#This Row],[Data]])","v":0}]
["Confirmed","","Bosnia and Herzegovina",43.915900000000001,17.679099999999998,"2020-02-02",0,{"$f":"VALUE(URL_2[[#This Row],[Data]])","v":0}]
["Confirmed","","Bosnia and Herzegovina",43.915900000000001,17.679099999999998,"2020-02-03",0,{"$f":"VALUE(URL_2[[#This Row],[Data]])","v":0}]
["Confirmed","","Bosnia and Herzegovina",43.915900000000001,17.679099999999998,"2020-02-04",0,{"$f":"VALUE(URL_2[[#This Row],[Data]])","v":0}]
["Confirmed","","Bosnia and Herzegovina",43.915900000000001,17.679099999999998,"2020-02-05",0,{"$f":"VALUE(URL_2[[#This Row],[Data]])","v":0}]
["Confirmed","","Bosnia and Herzegovina",43.915900000000001,17.679099999999998,"2020-02-06",0,{"$f":"VALUE(URL_2[[#This Row],[Data]])","v":0}]
["Confirmed","","Bosnia and Herzegovina",43.915900000000001,17.679099999999998,"2020-02-07",0,{"$f":"VALUE(URL_2[[#This Row],[Data]])","v":0}]
["Confirmed","","Bosnia and Herzegovina",43.915900000000001,17.679099999999998,"2020-02-08",0,{"$f":"VALUE(URL_2[[#This Row],[Data]])","v":0}]
["Confirmed","","Bosnia and Herzegovina",43.915900000000001,17.679099999999998,"2020-02-09",0,{"$f":"VALUE(URL_2[[#This Row],[Data]])","v":0}]
["Confirmed","","Bosnia and Herzegovina",43.915900000000001,17.679099999999998,"2020-02-10",0,{"$f":"VALUE(URL_2[[#This Row],[Data]])","v":0}]
["Confirmed","","Bosnia and Herzegovina",43.915900000000001,17.679099999999998,"2020-02-11",0,{"$f":"VALUE(URL_2[[#This Row],[Data]])","v":0}]
["Confirmed","","Bosnia and Herzegovina",43.915900000000001,17.679099999999998,"2020-02-12",0,{"$f":"VALUE(URL_2[[#This Row],[Data]])","v":0}]
["Confirmed","","Bosnia and Herzegovina",43.915900000000001,17.679099999999998,"2020-02-13",0,{"$f":"VALUE(URL_2[[#This Row],[Data]])","v":0}]
["Confirmed","","Bosnia and Herzegovina",43.915900000000001,17.679099999999998,"2020-02-14",0,{"$f":"VALUE(URL_2[[#This Row],[Data]])","v":0}]
["Confirmed","","Bosnia and Herzegovina",43.915900000000001,17.679099999999998,"2020-02-15",0,{"$f":"VALUE(URL_2[[#This Row],[Data]])","v":0}]
["Confirmed","","Bosnia and Herzegovina",43.915900000000001,17.679099999999998,"2020-02-16",0,{"$f":"VALUE(URL_2[[#This Row],[Data]])","v":0}]
["Confirmed","","Bosnia and Herzegovina",43.915900000000001,17.679099999999998,"2020-02-17",0,{"$f":"VALUE(URL_2[[#This Row],[Data]])","v":0}]
["Confirmed","","Bosnia and Herzegovina",43.915900000000001,17.679099999999998,"2020-02-18",0,{"$f":"VALUE(URL_2[[#This Row],[Data]])","v":0}]
["Confirmed","","Bosnia and Herzegovina",43.915900000000001,17.679099999999998,"2020-02-19",0,{"$f":"VALUE(URL_2[[#This Row],[Data]])","v":0}]
["Confirmed","","Bosnia and Herzegovina",43.915900000000001,17.679099999999998,"2020-02-20",0,{"$f":"VALUE(URL_2[[#This Row],[Data]])","v":0}]
["Confirmed","","Bosnia and Herzegovina",43.915900000000001,17.679099999999998,"2020-02-21",0,{"$f":"VALUE(URL_2[[#This Row],[Data]])","v":0}]
["Confirmed","","Bosnia and Herzegovina",43.915900000000001,17.679099999999998,"2020-02-22",0,{"$f":"VALUE(URL_2[[#This Row],[Data]])","v":0}]
["Confirmed","","Bosnia and Herzegovina",43.915900000000001,17.679099999999998,"2020-02-23",0,{"$f":"VALUE(URL_2[[#This Row],[Data]])","v":0}]
["Confirmed","","Bosnia and Herzegovina",43.915900000000001,17.679099999999998,"2020-02-24",0,{"$f":"VALUE(URL_2[[#This Row],[Data]])","v":0}]
["Confirmed","","Bosnia and Herzegovina",43.915900000000001,17.679099999999998,"2020-02-25",0,{"$f":"VALUE(URL_2[[#This Row],[Data]])","v":0}]
["Confirmed","","Bosnia and Herzegovina",43.915900000000001,17.679099999999998,"2020-02-26",0,{"$f":"VALUE(URL_2[[#This Row],[Data]])","v":0}]
["Confirmed","","Bosnia and Herzegovina",43.915900000000001,17.679099999999998,"2020-02-27",0,{"$f":"VALUE(URL_2[[#This Row],[Data]])","v":0}]
["Confirmed","","Bosnia and Herzegovina",43.915900000000001,17.679099999999998,"2020-02-28",0,{"$f":"VALUE(URL_2[[#This Row],[Data]])","v":0}]
["Confirmed","","Bosnia and Herzegovina",43.915900000000001,17.679099999999998,"2020-02-29",0,{"$f":"VALUE(URL_2[[#This Row],[Data]])","v":0}]
["Confirmed","","Bosnia and Herzegovina",43.915900000000001,17.679099999999998,"2020-03-01",0,{"$f":"VALUE(URL_2[[#This Row],[Data]])","v":0}]
["Confirmed","","Bosnia and Herzegovina",43.915900000000001,17.679099999999998,"2020-03-02",0,{"$f":"VALUE(URL_2[[#This Row],[Data]])","v":0}]
["Confirmed","","Bosnia and Herzegovina",43.915900000000001,17.679099999999998,"2020-03-03",0,{"$f":"VALUE(URL_2[[#This Row],[Data]])","v":0}]
["Confirmed","","Bosnia and Herzegovina",43.915900000000001,17.679099999999998,"2020-03-04",0,{"$f":"VALUE(URL_2[[#This Row],[Data]])","v":0}]
["Confirmed","","Brazil",-14.234999999999999,-51.9253,"2020-01-22",0,{"$f":"VALUE(URL_2[[#This Row],[Data]])","v":0}]
["Confirmed","","Brazil",-14.234999999999999,-51.9253,"2020-01-23",0,{"$f":"VALUE(URL_2[[#This Row],[Data]])","v":0}]
["Confirmed","","Brazil",-14.234999999999999,-51.9253,"2020-01-24",0,{"$f":"VALUE(URL_2[[#This Row],[Data]])","v":0}]
["Confirmed","","Brazil",-14.234999999999999,-51.9253,"2020-01-25",0,{"$f":"VALUE(URL_2[[#This Row],[Data]])","v":0}]
["Confirmed","","Brazil",-14.234999999999999,-51.9253,"2020-01-26",0,{"$f":"VALUE(URL_2[[#This Row],[Data]])","v":0}]
["Confirmed","","Brazil",-14.234999999999999,-51.9253,"2020-01-27",0,{"$f":"VALUE(URL_2[[#This Row],[Data]])","v":0}]
["Confirmed","","Brazil",-14.234999999999999,-51.9253,"2020-01-28",0,{"$f":"VALUE(URL_2[[#This Row],[Data]])","v":0}]
["Confirmed","","Brazil",-14.234999999999999,-51.9253,"2020-01-29",0,{"$f":"VALUE(URL_2[[#This Row],[Data]])","v":0}]
["Confirmed","","Brazil",-14.234999999999999,-51.9253,"2020-01-30",0,{"$f":"VALUE(URL_2[[#This Row],[Data]])","v":0}]
["Confirmed","","Brazil",-14.234999999999999,-51.9253,"2020-01-31",0,{"$f":"VALUE(URL_2[[#This Row],[Data]])","v":0}]
["Confirmed","","Brazil",-14.234999999999999,-51.9253,"2020-02-01",0,{"$f":"VALUE(URL_2[[#This Row],[Data]])","v":0}]
["Confirmed","","Brazil",-14.234999999999999,-51.9253,"2020-02-02",0,{"$f":"VALUE(URL_2[[#This Row],[Data]])","v":0}]
["Confirmed","","Brazil",-14.234999999999999,-51.9253,"2020-02-03",0,{"$f":"VALUE(URL_2[[#This Row],[Data]])","v":0}]
["Confirmed","","Brazil",-14.234999999999999,-51.9253,"2020-02-04",0,{"$f":"VALUE(URL_2[[#This Row],[Data]])","v":0}]
["Confirmed","","Brazil",-14.234999999999999,-51.9253,"2020-02-05",0,{"$f":"VALUE(URL_2[[#This Row],[Data]])","v":0}]
["Confirmed","","Brazil",-14.234999999999999,-51.9253,"2020-02-06",0,{"$f":"VALUE(URL_2[[#This Row],[Data]])","v":0}]
["Confirmed","","Brazil",-14.234999999999999,-51.9253,"2020-02-07",0,{"$f":"VALUE(URL_2[[#This Row],[Data]])","v":0}]
["Confirmed","","Brazil",-14.234999999999999,-51.9253,"2020-02-08",0,{"$f":"VALUE(URL_2[[#This Row],[Data]])","v":0}]
["Confirmed","","Brazil",-14.234999999999999,-51.9253,"2020-02-09",0,{"$f":"VALUE(URL_2[[#This Row],[Data]])","v":0}]
["Confirmed","","Brazil",-14.234999999999999,-51.9253,"2020-02-10",0,{"$f":"VALUE(URL_2[[#This Row],[Data]])","v":0}]
["Confirmed","","Brazil",-14.234999999999999,-51.9253,"2020-02-11",0,{"$f":"VALUE(URL_2[[#This Row],[Data]])","v":0}]
["Confirmed","","Brazil",-14.234999999999999,-51.9253,"2020-02-12",0,{"$f":"VALUE(URL_2[[#This Row],[Data]])","v":0}]
["Confirmed","","Brazil",-14.234999999999999,-51.9253,"2020-02-13",0,{"$f":"VALUE(URL_2[[#This Row],[Data]])","v":0}]
["Confirmed","","Brazil",-14.234999999999999,-51.9253,"2020-02-14",0,{"$f":"VALUE(URL_2[[#This Row],[Data]])","v":0}]
["Confirmed","","Brazil",-14.234999999999999,-51.9253,"2020-02-15",0,{"$f":"VALUE(URL_2[[#This Row],[Data]])","v":0}]
["Confirmed","","Brazil",-14.234999999999999,-51.9253,"2020-02-16",0,{"$f":"VALUE(URL_2[[#This Row],[Data]])","v":0}]
["Confirmed","","Brazil",-14.234999999999999,-51.9253,"2020-02-17",0,{"$f":"VALUE(URL_2[[#This Row],[Data]])","v":0}]
["Confirmed","","Brazil",-14.234999999999999,-51.9253,"2020-02-18",0,{"$f":"VALUE(URL_2[[#This Row],[Data]])","v":0}]
["Confirmed","","Brazil",-14.234999999999999,-51.9253,"2020-02-19",0,{"$f":"VALUE(URL_2[[#This Row],[Data]])","v":0}]
["Confirmed","","Brazil",-14.234999999999999,-51.9253,"2020-02-20",0,{"$f":"VALUE(URL_2[[#This Row],[Data]])","v":0}]
["Confirmed","","Brazil",-14.234999999999999,-51.9253,"2020-02-21",0,{"$f":"VALUE(URL_2[[#This Row],[Data]])","v":0}]
["Confirmed","","Brazil",-14.234999999999999,-51.9253,"2020-02-22",0,{"$f":"VALUE(URL_2[[#This Row],[Data]])","v":0}]
["Confirmed","","Brazil",-14.234999999999999,-51.9253,"2020-02-23",0,{"$f":"VALUE(URL_2[[#This Row],[Data]])","v":0}]
["Confirmed","","Brazil",-14.234999999999999,-51.9253,"2020-02-24",0,{"$f":"VALUE(URL_2[[#This Row],[Data]])","v":0}]
["Confirmed","","Brazil",-14.234999999999999,-51.9253,"2020-02-25",0,{"$f":"VALUE(URL_2[[#This Row],[Data]])","v":0}]
["Confirmed","","Brunei",4.5353000000000003,114.7277,"2020-01-22",0,{"$f":"VALUE(URL_2[[#This Row],[Data]])","v":0}]
["Confirmed","","Brunei",4.5353000000000003,114.7277,"2020-01-23",0,{"$f":"VALUE(URL_2[[#This Row],[Data]])","v":0}]
["Confirmed","","Brunei",4.5353000000000003,114.7277,"2020-01-24",0,{"$f":"VALUE(URL_2[[#This Row],[Data]])","v":0}]
["Confirmed","","Brunei",4.5353000000000003,114.7277,"2020-01-25",0,{"$f":"VALUE(URL_2[[#This Row],[Data]])","v":0}]
["Confirmed","","Brunei",4.5353000000000003,114.7277,"2020-01-26",0,{"$f":"VALUE(URL_2[[#This Row],[Data]])","v":0}]
["Confirmed","","Brunei",4.5353000000000003,114.7277,"2020-01-27",0,{"$f":"VALUE(URL_2[[#This Row],[Data]])","v":0}]
["Confirmed","","Brunei",4.5353000000000003,114.7277,"2020-01-28",0,{"$f":"VALUE(URL_2[[#This Row],[Data]])","v":0}]
["Confirmed","","Brunei",4.5353000000000003,114.7277,"2020-01-29",0,{"$f":"VALUE(URL_2[[#This Row],[Data]])","v":0}]
["Confirmed","","Brunei",4.5353000000000003,114.7277,"2020-01-30",0,{"$f":"VALUE(URL_2[[#This Row],[Data]])","v":0}]
["Confirmed","","Brunei",4.5353000000000003,114.7277,"2020-01-31",0,{"$f":"VALUE(URL_2[[#This Row],[Data]])","v":0}]
["Confirmed","","Brunei",4.5353000000000003,114.7277,"2020-02-01",0,{"$f":"VALUE(URL_2[[#This Row],[Data]])","v":0}]
["Confirmed","","Brunei",4.5353000000000003,114.7277,"2020-02-02",0,{"$f":"VALUE(URL_2[[#This Row],[Data]])","v":0}]
["Confirmed","","Brunei",4.5353000000000003,114.7277,"2020-02-03",0,{"$f":"VALUE(URL_2[[#This Row],[Data]])","v":0}]
["Confirmed","","Brunei",4.5353000000000003,114.7277,"2020-02-04",0,{"$f":"VALUE(URL_2[[#This Row],[Data]])","v":0}]
["Confirmed","","Brunei",4.5353000000000003,114.7277,"2020-02-05",0,{"$f":"VALUE(URL_2[[#This Row],[Data]])","v":0}]
["Confirmed","","Brunei",4.5353000000000003,114.7277,"2020-02-06",0,{"$f":"VALUE(URL_2[[#This Row],[Data]])","v":0}]
["Confirmed","","Brunei",4.5353000000000003,114.7277,"2020-02-07",0,{"$f":"VALUE(URL_2[[#This Row],[Data]])","v":0}]
["Confirmed","","Brunei",4.5353000000000003,114.7277,"2020-02-08",0,{"$f":"VALUE(URL_2[[#This Row],[Data]])","v":0}]
["Confirmed","","Brunei",4.5353000000000003,114.7277,"2020-02-09",0,{"$f":"VALUE(URL_2[[#This Row],[Data]])","v":0}]
["Confirmed","","Brunei",4.5353000000000003,114.7277,"2020-02-10",0,{"$f":"VALUE(URL_2[[#This Row],[Data]])","v":0}]
["Confirmed","","Brunei",4.5353000000000003,114.7277,"2020-02-11",0,{"$f":"VALUE(URL_2[[#This Row],[Data]])","v":0}]
["Confirmed","","Brunei",4.5353000000000003,114.7277,"2020-02-12",0,{"$f":"VALUE(URL_2[[#This Row],[Data]])","v":0}]
["Confirmed","","Brunei",4.5353000000000003,114.7277,"2020-02-13",0,{"$f":"VALUE(URL_2[[#This Row],[Data]])","v":0}]
["Confirmed","","Brunei",4.5353000000000003,114.7277,"2020-02-14",0,{"$f":"VALUE(URL_2[[#This Row],[Data]])","v":0}]
["Confirmed","","Brunei",4.5353000000000003,114.7277,"2020-02-15",0,{"$f":"VALUE(URL_2[[#This Row],[Data]])","v":0}]
["Confirmed","","Brunei",4.5353000000000003,114.7277,"2020-02-16",0,{"$f":"VALUE(URL_2[[#This Row],[Data]])","v":0}]
["Confirmed","","Brunei",4.5353000000000003,114.7277,"2020-02-17",0,{"$f":"VALUE(URL_2[[#This Row],[Data]])","v":0}]
["Confirmed","","Brunei",4.5353000000000003,114.7277,"2020-02-18",0,{"$f":"VALUE(URL_2[[#This Row],[Data]])","v":0}]
["Confirmed","","Brunei",4.5353000000000003,114.7277,"2020-02-19",0,{"$f":"VALUE(URL_2[[#This Row],[Data]])","v":0}]
["Confirmed","","Brunei",4.5353000000000003,114.7277,"2020-02-20",0,{"$f":"VALUE(URL_2[[#This Row],[Data]])","v":0}]
["Confirmed","","Brunei",4.5353000000000003,114.7277,"2020-02-21",0,{"$f":"VALUE(URL_2[[#This Row],[Data]])","v":0}]
["Confirmed","","Brunei",4.5353000000000003,114.7277,"2020-02-22",0,{"$f":"VALUE(URL_2[[#This Row],[Data]])","v":0}]
["Confirmed","","Brunei",4.5353000000000003,114.7277,"2020-02-23",0,{"$f":"VALUE(URL_2[[#This Row],[Data]])","v":0}]
["Confirmed","","Brunei",4.5353000000000003,114.7277,"2020-02-24",0,{"$f":"VALUE(URL_2[[#This Row],[Data]])","v":0}]
["Confirmed","","Brunei",4.5353000000000003,114.7277,"2020-02-25",0,{"$f":"VALUE(URL_2[[#This Row],[Data]])","v":0}]
["Confirmed","","Brunei",4.5353000000000003,114.7277,"2020-02-26",0,{"$f":"VALUE(URL_2[[#This Row],[Data]])","v":0}]
["Confirmed","","Brunei",4.5353000000000003,114.7277,"2020-02-27",0,{"$f":"VALUE(URL_2[[#This Row],[Data]])","v":0}]
["Confirmed","","Brunei",4.5353000000000003,114.7277,"2020-02-28",0,{"$f":"VALUE(URL_2[[#This Row],[Data]])","v":0}]
["Confirmed","","Brunei",4.5353000000000003,114.7277,"2020-02-29",0,{"$f":"VALUE(URL_2[[#This Row],[Data]])","v":0}]
["Confirmed","","Brunei",4.5353000000000003,114.7277,"2020-03-01",0,{"$f":"VALUE(URL_2[[#This Row],[Data]])","v":0}]
["Confirmed","","Brunei",4.5353000000000003,114.7277,"2020-03-02",0,{"$f":"VALUE(URL_2[[#This Row],[Data]])","v":0}]
["Confirmed","","Brunei",4.5353000000000003,114.7277,"2020-03-03",0,{"$f":"VALUE(URL_2[[#This Row],[Data]])","v":0}]
["Confirmed","","Brunei",4.5353000000000003,114.7277,"2020-03-04",0,{"$f":"VALUE(URL_2[[#This Row],[Data]])","v":0}]
["Confirmed","","Brunei",4.5353000000000003,114.7277,"2020-03-05",0,{"$f":"VALUE(URL_2[[#This Row],[Data]])","v":0}]
["Confirmed","","Brunei",4.5353000000000003,114.7277,"2020-03-06",0,{"$f":"VALUE(URL_2[[#This Row],[Data]])","v":0}]
["Confirmed","","Brunei",4.5353000000000003,114.7277,"2020-03-07",0,{"$f":"VALUE(URL_2[[#This Row],[Data]])","v":0}]
["Confirmed","","Brunei",4.5353000000000003,114.7277,"2020-03-08",0,{"$f":"VALUE(URL_2[[#This Row],[Data]])","v":0}]
["Confirmed","","Bulgaria",42.733899999999998,25.485800000000001,"2020-01-22",0,{"$f":"VALUE(URL_2[[#This Row],[Data]])","v":0}]
["Confirmed","","Bulgaria",42.733899999999998,25.485800000000001,"2020-01-23",0,{"$f":"VALUE(URL_2[[#This Row],[Data]])","v":0}]
["Confirmed","","Bulgaria",42.733899999999998,25.485800000000001,"2020-01-24",0,{"$f":"VALUE(URL_2[[#This Row],[Data]])","v":0}]
["Confirmed","","Bulgaria",42.733899999999998,25.485800000000001,"2020-01-25",0,{"$f":"VALUE(URL_2[[#This Row],[Data]])","v":0}]
["Confirmed","","Bulgaria",42.733899999999998,25.485800000000001,"2020-01-26",0,{"$f":"VALUE(URL_2[[#This Row],[Data]])","v":0}]
["Confirmed","","Bulgaria",42.733899999999998,25.485800000000001,"2020-01-27",0,{"$f":"VALUE(URL_2[[#This Row],[Data]])","v":0}]
["Confirmed","","Bulgaria",42.733899999999998,25.485800000000001,"2020-01-28",0,{"$f":"VALUE(URL_2[[#This Row],[Data]])","v":0}]
["Confirmed","","Bulgaria",42.733899999999998,25.485800000000001,"2020-01-29",0,{"$f":"VALUE(URL_2[[#This Row],[Data]])","v":0}]
["Confirmed","","Bulgaria",42.733899999999998,25.485800000000001,"2020-01-30",0,{"$f":"VALUE(URL_2[[#This Row],[Data]])","v":0}]
["Confirmed","","Bulgaria",42.733899999999998,25.485800000000001,"2020-01-31",0,{"$f":"VALUE(URL_2[[#This Row],[Data]])","v":0}]
["Confirmed","","Bulgaria",42.733899999999998,25.485800000000001,"2020-02-01",0,{"$f":"VALUE(URL_2[[#This Row],[Data]])","v":0}]
["Confirmed","","Bulgaria",42.733899999999998,25.485800000000001,"2020-02-02",0,{"$f":"VALUE(URL_2[[#This Row],[Data]])","v":0}]
["Confirmed","","Bulgaria",42.733899999999998,25.485800000000001,"2020-02-03",0,{"$f":"VALUE(URL_2[[#This Row],[Data]])","v":0}]
["Confirmed","","Bulgaria",42.733899999999998,25.485800000000001,"2020-02-04",0,{"$f":"VALUE(URL_2[[#This Row],[Data]])","v":0}]
["Confirmed","","Bulgaria",42.733899999999998,25.485800000000001,"2020-02-05",0,{"$f":"VALUE(URL_2[[#This Row],[Data]])","v":0}]
["Confirmed","","Bulgaria",42.733899999999998,25.485800000000001,"2020-02-06",0,{"$f":"VALUE(URL_2[[#This Row],[Data]])","v":0}]
["Confirmed","","Bulgaria",42.733899999999998,25.485800000000001,"2020-02-07",0,{"$f":"VALUE(URL_2[[#This Row],[Data]])","v":0}]
["Confirmed","","Bulgaria",42.733899999999998,25.485800000000001,"2020-02-08",0,{"$f":"VALUE(URL_2[[#This Row],[Data]])","v":0}]
["Confirmed","","Bulgaria",42.733899999999998,25.485800000000001,"2020-02-09",0,{"$f":"VALUE(URL_2[[#This Row],[Data]])","v":0}]
["Confirmed","","Bulgaria",42.733899999999998,25.485800000000001,"2020-02-10",0,{"$f":"VALUE(URL_2[[#This Row],[Data]])","v":0}]
["Confirmed","","Bulgaria",42.733899999999998,25.485800000000001,"2020-02-11",0,{"$f":"VALUE(URL_2[[#This Row],[Data]])","v":0}]
["Confirmed","","Bulgaria",42.733899999999998,25.485800000000001,"2020-02-12",0,{"$f":"VALUE(URL_2[[#This Row],[Data]])","v":0}]
["Confirmed","","Bulgaria",42.733899999999998,25.485800000000001,"2020-02-13",0,{"$f":"VALUE(URL_2[[#This Row],[Data]])","v":0}]
["Confirmed","","Bulgaria",42.733899999999998,25.485800000000001,"2020-02-14",0,{"$f":"VALUE(URL_2[[#This Row],[Data]])","v":0}]
["Confirmed","","Bulgaria",42.733899999999998,25.485800000000001,"2020-02-15",0,{"$f":"VALUE(URL_2[[#This Row],[Data]])","v":0}]
["Confirmed","","Bulgaria",42.733899999999998,25.485800000000001,"2020-02-16",0,{"$f":"VALUE(URL_2[[#This Row],[Data]])","v":0}]
["Confirmed","","Bulgaria",42.733899999999998,25.485800000000001,"2020-02-17",0,{"$f":"VALUE(URL_2[[#This Row],[Data]])","v":0}]
["Confirmed","","Bulgaria",42.733899999999998,25.485800000000001,"2020-02-18",0,{"$f":"VALUE(URL_2[[#This Row],[Data]])","v":0}]
["Confirmed","","Bulgaria",42.733899999999998,25.485800000000001,"2020-02-19",0,{"$f":"VALUE(URL_2[[#This Row],[Data]])","v":0}]
["Confirmed","","Bulgaria",42.733899999999998,25.485800000000001,"2020-02-20",0,{"$f":"VALUE(URL_2[[#This Row],[Data]])","v":0}]
["Confirmed","","Bulgaria",42.733899999999998,25.485800000000001,"2020-02-21",0,{"$f":"VALUE(URL_2[[#This Row],[Data]])","v":0}]
["Confirmed","","Bulgaria",42.733899999999998,25.485800000000001,"2020-02-22",0,{"$f":"VALUE(URL_2[[#This Row],[Data]])","v":0}]
["Confirmed","","Bulgaria",42.733899999999998,25.485800000000001,"2020-02-23",0,{"$f":"VALUE(URL_2[[#This Row],[Data]])","v":0}]
["Confirmed","","Bulgaria",42.733899999999998,25.485800000000001,"2020-02-24",0,{"$f":"VALUE(URL_2[[#This Row],[Data]])","v":0}]
["Confirmed","","Bulgaria",42.733899999999998,25.485800000000001,"2020-02-25",0,{"$f":"VALUE(URL_2[[#This Row],[Data]])","v":0}]
["Confirmed","","Bulgaria",42.733899999999998,25.485800000000001,"2020-02-26",0,{"$f":"VALUE(URL_2[[#This Row],[Data]])","v":0}]
["Confirmed","","Bulgaria",42.733899999999998,25.485800000000001,"2020-02-27",0,{"$f":"VALUE(URL_2[[#This Row],[Data]])","v":0}]
["Confirmed","","Bulgaria",42.733899999999998,25.485800000000001,"2020-02-28",0,{"$f":"VALUE(URL_2[[#This Row],[Data]])","v":0}]
["Confirmed","","Bulgaria",42.733899999999998,25.485800000000001,"2020-02-29",0,{"$f":"VALUE(URL_2[[#This Row],[Data]])","v":0}]
["Confirmed","","Bulgaria",42.733899999999998,25.485800000000001,"2020-03-01",0,{"$f":"VALUE(URL_2[[#This Row],[Data]])","v":0}]
["Confirmed","","Bulgaria",42.733899999999998,25.485800000000001,"2020-03-02",0,{"$f":"VALUE(URL_2[[#This Row],[Data]])","v":0}]
["Confirmed","","Bulgaria",42.733899999999998,25.485800000000001,"2020-03-03",0,{"$f":"VALUE(URL_2[[#This Row],[Data]])","v":0}]
["Confirmed","","Bulgaria",42.733899999999998,25.485800000000001,"2020-03-04",0,{"$f":"VALUE(URL_2[[#This Row],[Data]])","v":0}]
["Confirmed","","Bulgaria",42.733899999999998,25.485800000000001,"2020-03-05",0,{"$f":"VALUE(URL_2[[#This Row],[Data]])","v":0}]
["Confirmed","","Bulgaria",42.733899999999998,25.485800000000001,"2020-03-06",0,{"$f":"VALUE(URL_2[[#This Row],[Data]])","v":0}]
["Confirmed","","Bulgaria",42.733899999999998,25.485800000000001,"2020-03-07",0,{"$f":"VALUE(URL_2[[#This Row],[Data]])","v":0}]
["Confirmed","","Burkina Faso",12.238300000000001,-1.5616000000000001,"2020-01-22",0,{"$f":"VALUE(URL_2[[#This Row],[Data]])","v":0}]
["Confirmed","","Burkina Faso",12.238300000000001,-1.5616000000000001,"2020-01-23",0,{"$f":"VALUE(URL_2[[#This Row],[Data]])","v":0}]
["Confirmed","","Burkina Faso",12.238300000000001,-1.5616000000000001,"2020-01-24",0,{"$f":"VALUE(URL_2[[#This Row],[Data]])","v":0}]
["Confirmed","","Burkina Faso",12.238300000000001,-1.5616000000000001,"2020-01-25",0,{"$f":"VALUE(URL_2[[#This Row],[Data]])","v":0}]
["Confirmed","","Burkina Faso",12.238300000000001,-1.5616000000000001,"2020-01-26",0,{"$f":"VALUE(URL_2[[#This Row],[Data]])","v":0}]
["Confirmed","","Burkina Faso",12.238300000000001,-1.5616000000000001,"2020-01-27",0,{"$f":"VALUE(URL_2[[#This Row],[Data]])","v":0}]
["Confirmed","","Burkina Faso",12.238300000000001,-1.5616000000000001,"2020-01-28",0,{"$f":"VALUE(URL_2[[#This Row],[Data]])","v":0}]
["Confirmed","","Burkina Faso",12.238300000000001,-1.5616000000000001,"2020-01-29",0,{"$f":"VALUE(URL_2[[#This Row],[Data]])","v":0}]
["Confirmed","","Burkina Faso",12.238300000000001,-1.5616000000000001,"2020-01-30",0,{"$f":"VALUE(URL_2[[#This Row],[Data]])","v":0}]
["Confirmed","","Burkina Faso",12.238300000000001,-1.5616000000000001,"2020-01-31",0,{"$f":"VALUE(URL_2[[#This Row],[Data]])","v":0}]
["Confirmed","","Burkina Faso",12.238300000000001,-1.5616000000000001,"2020-02-01",0,{"$f":"VALUE(URL_2[[#This Row],[Data]])","v":0}]
["Confirmed","","Burkina Faso",12.238300000000001,-1.5616000000000001,"2020-02-02",0,{"$f":"VALUE(URL_2[[#This Row],[Data]])","v":0}]
["Confirmed","","Burkina Faso",12.238300000000001,-1.5616000000000001,"2020-02-03",0,{"$f":"VALUE(URL_2[[#This Row],[Data]])","v":0}]
["Confirmed","","Burkina Faso",12.238300000000001,-1.5616000000000001,"2020-02-04",0,{"$f":"VALUE(URL_2[[#This Row],[Data]])","v":0}]
["Confirmed","","Burkina Faso",12.238300000000001,-1.5616000000000001,"2020-02-05",0,{"$f":"VALUE(URL_2[[#This Row],[Data]])","v":0}]
["Confirmed","","Burkina Faso",12.238300000000001,-1.5616000000000001,"2020-02-06",0,{"$f":"VALUE(URL_2[[#This Row],[Data]])","v":0}]
["Confirmed","","Burkina Faso",12.238300000000001,-1.5616000000000001,"2020-02-07",0,{"$f":"VALUE(URL_2[[#This Row],[Data]])","v":0}]
["Confirmed","","Burkina Faso",12.238300000000001,-1.5616000000000001,"2020-02-08",0,{"$f":"VALUE(URL_2[[#This Row],[Data]])","v":0}]
["Confirmed","","Burkina Faso",12.238300000000001,-1.5616000000000001,"2020-02-09",0,{"$f":"VALUE(URL_2[[#This Row],[Data]])","v":0}]
["Confirmed","","Burkina Faso",12.238300000000001,-1.5616000000000001,"2020-02-10",0,{"$f":"VALUE(URL_2[[#This Row],[Data]])","v":0}]
["Confirmed","","Burkina Faso",12.238300000000001,-1.5616000000000001,"2020-02-11",0,{"$f":"VALUE(URL_2[[#This Row],[Data]])","v":0}]
["Confirmed","","Burkina Faso",12.238300000000001,-1.5616000000000001,"2020-02-12",0,{"$f":"VALUE(URL_2[[#This Row],[Data]])","v":0}]
["Confirmed","","Burkina Faso",12.238300000000001,-1.5616000000000001,"2020-02-13",0,{"$f":"VALUE(URL_2[[#This Row],[Data]])","v":0}]
["Confirmed","","Burkina Faso",12.238300000000001,-1.5616000000000001,"2020-02-14",0,{"$f":"VALUE(URL_2[[#This Row],[Data]])","v":0}]
["Confirmed","","Burkina Faso",12.238300000000001,-1.5616000000000001,"2020-02-15",0,{"$f":"VALUE(URL_2[[#This Row],[Data]])","v":0}]
["Confirmed","","Burkina Faso",12.238300000000001,-1.5616000000000001,"2020-02-16",0,{"$f":"VALUE(URL_2[[#This Row],[Data]])","v":0}]
["Confirmed","","Burkina Faso",12.238300000000001,-1.5616000000000001,"2020-02-17",0,{"$f":"VALUE(URL_2[[#This Row],[Data]])","v":0}]
["Confirmed","","Burkina Faso",12.238300000000001,-1.5616000000000001,"2020-02-18",0,{"$f":"VALUE(URL_2[[#This Row],[Data]])","v":0}]
["Confirmed","","Burkina Faso",12.238300000000001,-1.5616000000000001,"2020-02-19",0,{"$f":"VALUE(URL_2[[#This Row],[Data]])","v":0}]
["Confirmed","","Burkina Faso",12.238300000000001,-1.5616000000000001,"2020-02-20",0,{"$f":"VALUE(URL_2[[#This Row],[Data]])","v":0}]
["Confirmed","","Burkina Faso",12.238300000000001,-1.5616000000000001,"2020-02-21",0,{"$f":"VALUE(URL_2[[#This Row],[Data]])","v":0}]
["Confirmed","","Burkina Faso",12.238300000000001,-1.5616000000000001,"2020-02-22",0,{"$f":"VALUE(URL_2[[#This Row],[Data]])","v":0}]
["Confirmed","","Burkina Faso",12.238300000000001,-1.5616000000000001,"2020-02-23",0,{"$f":"VALUE(URL_2[[#This Row],[Data]])","v":0}]
["Confirmed","","Burkina Faso",12.238300000000001,-1.5616000000000001,"2020-02-24",0,{"$f":"VALUE(URL_2[[#This Row],[Data]])","v":0}]
["Confirmed","","Burkina Faso",12.238300000000001,-1.5616000000000001,"2020-02-25",0,{"$f":"VALUE(URL_2[[#This Row],[Data]])","v":0}]
["Confirmed","","Burkina Faso",12.238300000000001,-1.5616000000000001,"2020-02-26",0,{"$f":"VALUE(URL_2[[#This Row],[Data]])","v":0}]
["Confirmed","","Burkina Faso",12.238300000000001,-1.5616000000000001,"2020-02-27",0,{"$f":"VALUE(URL_2[[#This Row],[Data]])","v":0}]
["Confirmed","","Burkina Faso",12.238300000000001,-1.5616000000000001,"2020-02-28",0,{"$f":"VALUE(URL_2[[#This Row],[Data]])","v":0}]
["Confirmed","","Burkina Faso",12.238300000000001,-1.5616000000000001,"2020-02-29",0,{"$f":"VALUE(URL_2[[#This Row],[Data]])","v":0}]
["Confirmed","","Burkina Faso",12.238300000000001,-1.5616000000000001,"2020-03-01",0,{"$f":"VALUE(URL_2[[#This Row],[Data]])","v":0}]
["Confirmed","","Burkina Faso",12.238300000000001,-1.5616000000000001,"2020-03-02",0,{"$f":"VALUE(URL_2[[#This Row],[Data]])","v":0}]
["Confirmed","","Burkina Faso",12.238300000000001,-1.5616000000000001,"2020-03-03",0,{"$f":"VALUE(URL_2[[#This Row],[Data]])","v":0}]
["Confirmed","","Burkina Faso",12.238300000000001,-1.5616000000000001,"2020-03-04",0,{"$f":"VALUE(URL_2[[#This Row],[Data]])","v":0}]
["Confirmed","","Burkina Faso",12.238300000000001,-1.5616000000000001,"2020-03-05",0,{"$f":"VALUE(URL_2[[#This Row],[Data]])","v":0}]
["Confirmed","","Burkina Faso",12.238300000000001,-1.5616000000000001,"2020-03-06",0,{"$f":"VALUE(URL_2[[#This Row],[Data]])","v":0}]
["Confirmed","","Burkina Faso",12.238300000000001,-1.5616000000000001,"2020-03-07",0,{"$f":"VALUE(URL_2[[#This Row],[Data]])","v":0}]
["Confirmed","","Burkina Faso",12.238300000000001,-1.5616000000000001,"2020-03-08",0,{"$f":"VALUE(URL_2[[#This Row],[Data]])","v":0}]
["Confirmed","","Burkina Faso",12.238300000000001,-1.5616000000000001,"2020-03-09",0,{"$f":"VALUE(URL_2[[#This Row],[Data]])","v":0}]
["Confirmed","","Cabo Verde",16.538799999999998,-23.041799999999999,"2020-01-22",0,{"$f":"VALUE(URL_2[[#This Row],[Data]])","v":0}]
["Confirmed","","Cabo Verde",16.538799999999998,-23.041799999999999,"2020-01-23",0,{"$f":"VALUE(URL_2[[#This Row],[Data]])","v":0}]
["Confirmed","","Cabo Verde",16.538799999999998,-23.041799999999999,"2020-01-24",0,{"$f":"VALUE(URL_2[[#This Row],[Data]])","v":0}]
["Confirmed","","Cabo Verde",16.538799999999998,-23.041799999999999,"2020-01-25",0,{"$f":"VALUE(URL_2[[#This Row],[Data]])","v":0}]
["Confirmed","","Cabo Verde",16.538799999999998,-23.041799999999999,"2020-01-26",0,{"$f":"VALUE(URL_2[[#This Row],[Data]])","v":0}]
["Confirmed","","Cabo Verde",16.538799999999998,-23.041799999999999,"2020-01-27",0,{"$f":"VALUE(URL_2[[#This Row],[Data]])","v":0}]
["Confirmed","","Cabo Verde",16.538799999999998,-23.041799999999999,"2020-01-28",0,{"$f":"VALUE(URL_2[[#This Row],[Data]])","v":0}]
["Confirmed","","Cabo Verde",16.538799999999998,-23.041799999999999,"2020-01-29",0,{"$f":"VALUE(URL_2[[#This Row],[Data]])","v":0}]
["Confirmed","","Cabo Verde",16.538799999999998,-23.041799999999999,"2020-01-30",0,{"$f":"VALUE(URL_2[[#This Row],[Data]])","v":0}]
["Confirmed","","Cabo Verde",16.538799999999998,-23.041799999999999,"2020-01-31",0,{"$f":"VALUE(URL_2[[#This Row],[Data]])","v":0}]
["Confirmed","","Cabo Verde",16.538799999999998,-23.041799999999999,"2020-02-01",0,{"$f":"VALUE(URL_2[[#This Row],[Data]])","v":0}]
["Confirmed","","Cabo Verde",16.538799999999998,-23.041799999999999,"2020-02-02",0,{"$f":"VALUE(URL_2[[#This Row],[Data]])","v":0}]
["Confirmed","","Cabo Verde",16.538799999999998,-23.041799999999999,"2020-02-03",0,{"$f":"VALUE(URL_2[[#This Row],[Data]])","v":0}]
["Confirmed","","Cabo Verde",16.538799999999998,-23.041799999999999,"2020-02-04",0,{"$f":"VALUE(URL_2[[#This Row],[Data]])","v":0}]
["Confirmed","","Cabo Verde",16.538799999999998,-23.041799999999999,"2020-02-05",0,{"$f":"VALUE(URL_2[[#This Row],[Data]])","v":0}]
["Confirmed","","Cabo Verde",16.538799999999998,-23.041799999999999,"2020-02-06",0,{"$f":"VALUE(URL_2[[#This Row],[Data]])","v":0}]
["Confirmed","","Cabo Verde",16.538799999999998,-23.041799999999999,"2020-02-07",0,{"$f":"VALUE(URL_2[[#This Row],[Data]])","v":0}]
["Confirmed","","Cabo Verde",16.538799999999998,-23.041799999999999,"2020-02-08",0,{"$f":"VALUE(URL_2[[#This Row],[Data]])","v":0}]
["Confirmed","","Cabo Verde",16.538799999999998,-23.041799999999999,"2020-02-09",0,{"$f":"VALUE(URL_2[[#This Row],[Data]])","v":0}]
["Confirmed","","Cabo Verde",16.538799999999998,-23.041799999999999,"2020-02-10",0,{"$f":"VALUE(URL_2[[#This Row],[Data]])","v":0}]
["Confirmed","","Cabo Verde",16.538799999999998,-23.041799999999999,"2020-02-11",0,{"$f":"VALUE(URL_2[[#This Row],[Data]])","v":0}]
["Confirmed","","Cabo Verde",16.538799999999998,-23.041799999999999,"2020-02-12",0,{"$f":"VALUE(URL_2[[#This Row],[Data]])","v":0}]
["Confirmed","","Cabo Verde",16.538799999999998,-23.041799999999999,"2020-02-13",0,{"$f":"VALUE(URL_2[[#This Row],[Data]])","v":0}]
["Confirmed","","Cabo Verde",16.538799999999998,-23.041799999999999,"2020-02-14",0,{"$f":"VALUE(URL_2[[#This Row],[Data]])","v":0}]
["Confirmed","","Cabo Verde",16.538799999999998,-23.041799999999999,"2020-02-15",0,{"$f":"VALUE(URL_2[[#This Row],[Data]])","v":0}]
["Confirmed","","Cabo Verde",16.538799999999998,-23.041799999999999,"2020-02-16",0,{"$f":"VALUE(URL_2[[#This Row],[Data]])","v":0}]
["Confirmed","","Cabo Verde",16.538799999999998,-23.041799999999999,"2020-02-17",0,{"$f":"VALUE(URL_2[[#This Row],[Data]])","v":0}]
["Confirmed","","Cabo Verde",16.538799999999998,-23.041799999999999,"2020-02-18",0,{"$f":"VALUE(URL_2[[#This Row],[Data]])","v":0}]
["Confirmed","","Cabo Verde",16.538799999999998,-23.041799999999999,"2020-02-19",0,{"$f":"VALUE(URL_2[[#This Row],[Data]])","v":0}]
["Confirmed","","Cabo Verde",16.538799999999998,-23.041799999999999,"2020-02-20",0,{"$f":"VALUE(URL_2[[#This Row],[Data]])","v":0}]
["Confirmed","","Cabo Verde",16.538799999999998,-23.041799999999999,"2020-02-21",0,{"$f":"VALUE(URL_2[[#This Row],[Data]])","v":0}]
["Confirmed","","Cabo Verde",16.538799999999998,-23.041799999999999,"2020-02-22",0,{"$f":"VALUE(URL_2[[#This Row],[Data]])","v":0}]
["Confirmed","","Cabo Verde",16.538799999999998,-23.041799999999999,"2020-02-23",0,{"$f":"VALUE(URL_2[[#This Row],[Data]])","v":0}]
["Confirmed","","Cabo Verde",16.538799999999998,-23.041799999999999,"2020-02-24",0,{"$f":"VALUE(URL_2[[#This Row],[Data]])","v":0}]
["Confirmed","","Cabo Verde",16.538799999999998,-23.041799999999999,"2020-02-25",0,{"$f":"VALUE(URL_2[[#This Row],[Data]])","v":0}]
["Confirmed","","Cabo Verde",16.538799999999998,-23.041799999999999,"2020-02-26",0,{"$f":"VALUE(URL_2[[#This Row],[Data]])","v":0}]
["Confirmed","","Cabo Verde",16.538799999999998,-23.041799999999999,"2020-02-27",0,{"$f":"VALUE(URL_2[[#This Row],[Data]])","v":0}]
["Confirmed","","Cabo Verde",16.538799999999998,-23.041799999999999,"2020-02-28",0,{"$f":"VALUE(URL_2[[#This Row],[Data]])","v":0}]
["Confirmed","","Cabo Verde",16.538799999999998,-23.041799999999999,"2020-02-29",0,{"$f":"VALUE(URL_2[[#This Row],[Data]])","v":0}]
["Confirmed","","Cabo Verde",16.538799999999998,-23.041799999999999,"2020-03-01",0,{"$f":"VALUE(URL_2[[#This Row],[Data]])","v":0}]
["Confirmed","","Cabo Verde",16.538799999999998,-23.041799999999999,"2020-03-02",0,{"$f":"VALUE(URL_2[[#This Row],[Data]])","v":0}]
["Confirmed","","Cabo Verde",16.538799999999998,-23.041799999999999,"2020-03-03",0,{"$f":"VALUE(URL_2[[#This Row],[Data]])","v":0}]
["Confirmed","","Cabo Verde",16.538799999999998,-23.041799999999999,"2020-03-04",0,{"$f":"VALUE(URL_2[[#This Row],[Data]])","v":0}]
["Confirmed","","Cabo Verde",16.538799999999998,-23.041799999999999,"2020-03-05",0,{"$f":"VALUE(URL_2[[#This Row],[Data]])","v":0}]
["Confirmed","","Cabo Verde",16.538799999999998,-23.041799999999999,"2020-03-06",0,{"$f":"VALUE(URL_2[[#This Row],[Data]])","v":0}]
["Confirmed","","Cabo Verde",16.538799999999998,-23.041799999999999,"2020-03-07",0,{"$f":"VALUE(URL_2[[#This Row],[Data]])","v":0}]
["Confirmed","","Cabo Verde",16.538799999999998,-23.041799999999999,"2020-03-08",0,{"$f":"VALUE(URL_2[[#This Row],[Data]])","v":0}]
["Confirmed","","Cabo Verde",16.538799999999998,-23.041799999999999,"2020-03-09",0,{"$f":"VALUE(URL_2[[#This Row],[Data]])","v":0}]
["Confirmed","","Cabo Verde",16.538799999999998,-23.041799999999999,"2020-03-10",0,{"$f":"VALUE(URL_2[[#This Row],[Data]])","v":0}]
["Confirmed","","Cabo Verde",16.538799999999998,-23.041799999999999,"2020-03-11",0,{"$f":"VALUE(URL_2[[#This Row],[Data]])","v":0}]
["Confirmed","","Cabo Verde",16.538799999999998,-23.041799999999999,"2020-03-12",0,{"$f":"VALUE(URL_2[[#This Row],[Data]])","v":0}]
["Confirmed","","Cabo Verde",16.538799999999998,-23.041799999999999,"2020-03-13",0,{"$f":"VALUE(URL_2[[#This Row],[Data]])","v":0}]
["Confirmed","","Cabo Verde",16.538799999999998,-23.041799999999999,"2020-03-14",0,{"$f":"VALUE(URL_2[[#This Row],[Data]])","v":0}]
["Confirmed","","Cabo Verde",16.538799999999998,-23.041799999999999,"2020-03-15",0,{"$f":"VALUE(URL_2[[#This Row],[Data]])","v":0}]
["Confirmed","","Cabo Verde",16.538799999999998,-23.041799999999999,"2020-03-16",0,{"$f":"VALUE(URL_2[[#This Row],[Data]])","v":0}]
["Confirmed","","Cabo Verde",16.538799999999998,-23.041799999999999,"2020-03-17",0,{"$f":"VALUE(URL_2[[#This Row],[Data]])","v":0}]
["Confirmed","","Cabo Verde",16.538799999999998,-23.041799999999999,"2020-03-18",0,{"$f":"VALUE(URL_2[[#This Row],[Data]])","v":0}]
["Confirmed","","Cabo Verde",16.538799999999998,-23.041799999999999,"2020-03-19",0,{"$f":"VALUE(URL_2[[#This Row],[Data]])","v":0}]
["Confirmed","","Cambodia",11.55,104.91670000000001,"2020-01-22",0,{"$f":"VALUE(URL_2[[#This Row],[Data]])","v":0}]
["Confirmed","","Cambodia",11.55,104.91670000000001,"2020-01-23",0,{"$f":"VALUE(URL_2[[#This Row],[Data]])","v":0}]
["Confirmed","","Cambodia",11.55,104.91670000000001,"2020-01-24",0,{"$f":"VALUE(URL_2[[#This Row],[Data]])","v":0}]
["Confirmed","","Cambodia",11.55,104.91670000000001,"2020-01-25",0,{"$f":"VALUE(URL_2[[#This Row],[Data]])","v":0}]
["Confirmed","","Cambodia",11.55,104.91670000000001,"2020-01-26",0,{"$f":"VALUE(URL_2[[#This Row],[Data]])","v":0}]
["Confirmed","","Cameroon",3.8479999999999999,11.5021,"2020-01-22",0,{"$f":"VALUE(URL_2[[#This Row],[Data]])","v":0}]
["Confirmed","","Cameroon",3.8479999999999999,11.5021,"2020-01-23",0,{"$f":"VALUE(URL_2[[#This Row],[Data]])","v":0}]
["Confirmed","","Cameroon",3.8479999999999999,11.5021,"2020-01-24",0,{"$f":"VALUE(URL_2[[#This Row],[Data]])","v":0}]
["Confirmed","","Cameroon",3.8479999999999999,11.5021,"2020-01-25",0,{"$f":"VALUE(URL_2[[#This Row],[Data]])","v":0}]
["Confirmed","","Cameroon",3.8479999999999999,11.5021,"2020-01-26",0,{"$f":"VALUE(URL_2[[#This Row],[Data]])","v":0}]
["Confirmed","","Cameroon",3.8479999999999999,11.5021,"2020-01-27",0,{"$f":"VALUE(URL_2[[#This Row],[Data]])","v":0}]
["Confirmed","","Cameroon",3.8479999999999999,11.5021,"2020-01-28",0,{"$f":"VALUE(URL_2[[#This Row],[Data]])","v":0}]
["Confirmed","","Cameroon",3.8479999999999999,11.5021,"2020-01-29",0,{"$f":"VALUE(URL_2[[#This Row],[Data]])","v":0}]
["Confirmed","","Cameroon",3.8479999999999999,11.5021,"2020-01-30",0,{"$f":"VALUE(URL_2[[#This Row],[Data]])","v":0}]
["Confirmed","","Cameroon",3.8479999999999999,11.5021,"2020-01-31",0,{"$f":"VALUE(URL_2[[#This Row],[Data]])","v":0}]
["Confirmed","","Cameroon",3.8479999999999999,11.5021,"2020-02-01",0,{"$f":"VALUE(URL_2[[#This Row],[Data]])","v":0}]
["Confirmed","","Cameroon",3.8479999999999999,11.5021,"2020-02-02",0,{"$f":"VALUE(URL_2[[#This Row],[Data]])","v":0}]
["Confirmed","","Cameroon",3.8479999999999999,11.5021,"2020-02-03",0,{"$f":"VALUE(URL_2[[#This Row],[Data]])","v":0}]
["Confirmed","","Cameroon",3.8479999999999999,11.5021,"2020-02-04",0,{"$f":"VALUE(URL_2[[#This Row],[Data]])","v":0}]
["Confirmed","","Cameroon",3.8479999999999999,11.5021,"2020-02-05",0,{"$f":"VALUE(URL_2[[#This Row],[Data]])","v":0}]
["Confirmed","","Cameroon",3.8479999999999999,11.5021,"2020-02-06",0,{"$f":"VALUE(URL_2[[#This Row],[Data]])","v":0}]
["Confirmed","","Cameroon",3.8479999999999999,11.5021,"2020-02-07",0,{"$f":"VALUE(URL_2[[#This Row],[Data]])","v":0}]
["Confirmed","","Cameroon",3.8479999999999999,11.5021,"2020-02-08",0,{"$f":"VALUE(URL_2[[#This Row],[Data]])","v":0}]
["Confirmed","","Cameroon",3.8479999999999999,11.5021,"2020-02-09",0,{"$f":"VALUE(URL_2[[#This Row],[Data]])","v":0}]
["Confirmed","","Cameroon",3.8479999999999999,11.5021,"2020-02-10",0,{"$f":"VALUE(URL_2[[#This Row],[Data]])","v":0}]
["Confirmed","","Cameroon",3.8479999999999999,11.5021,"2020-02-11",0,{"$f":"VALUE(URL_2[[#This Row],[Data]])","v":0}]
["Confirmed","","Cameroon",3.8479999999999999,11.5021,"2020-02-12",0,{"$f":"VALUE(URL_2[[#This Row],[Data]])","v":0}]
["Confirmed","","Cameroon",3.8479999999999999,11.5021,"2020-02-13",0,{"$f":"VALUE(URL_2[[#This Row],[Data]])","v":0}]
["Confirmed","","Cameroon",3.8479999999999999,11.5021,"2020-02-14",0,{"$f":"VALUE(URL_2[[#This Row],[Data]])","v":0}]
["Confirmed","","Cameroon",3.8479999999999999,11.5021,"2020-02-15",0,{"$f":"VALUE(URL_2[[#This Row],[Data]])","v":0}]
["Confirmed","","Cameroon",3.8479999999999999,11.5021,"2020-02-16",0,{"$f":"VALUE(URL_2[[#This Row],[Data]])","v":0}]
["Confirmed","","Cameroon",3.8479999999999999,11.5021,"2020-02-17",0,{"$f":"VALUE(URL_2[[#This Row],[Data]])","v":0}]
["Confirmed","","Cameroon",3.8479999999999999,11.5021,"2020-02-18",0,{"$f":"VALUE(URL_2[[#This Row],[Data]])","v":0}]
["Confirmed","","Cameroon",3.8479999999999999,11.5021,"2020-02-19",0,{"$f":"VALUE(URL_2[[#This Row],[Data]])","v":0}]
["Confirmed","","Cameroon",3.8479999999999999,11.5021,"2020-02-20",0,{"$f":"VALUE(URL_2[[#This Row],[Data]])","v":0}]
["Confirmed","","Cameroon",3.8479999999999999,11.5021,"2020-02-21",0,{"$f":"VALUE(URL_2[[#This Row],[Data]])","v":0}]
["Confirmed","","Cameroon",3.8479999999999999,11.5021,"2020-02-22",0,{"$f":"VALUE(URL_2[[#This Row],[Data]])","v":0}]
["Confirmed","","Cameroon",3.8479999999999999,11.5021,"2020-02-23",0,{"$f":"VALUE(URL_2[[#This Row],[Data]])","v":0}]
["Confirmed","","Cameroon",3.8479999999999999,11.5021,"2020-02-24",0,{"$f":"VALUE(URL_2[[#This Row],[Data]])","v":0}]
["Confirmed","","Cameroon",3.8479999999999999,11.5021,"2020-02-25",0,{"$f":"VALUE(URL_2[[#This Row],[Data]])","v":0}]
["Confirmed","","Cameroon",3.8479999999999999,11.5021,"2020-02-26",0,{"$f":"VALUE(URL_2[[#This Row],[Data]])","v":0}]
["Confirmed","","Cameroon",3.8479999999999999,11.5021,"2020-02-27",0,{"$f":"VALUE(URL_2[[#This Row],[Data]])","v":0}]
["Confirmed","","Cameroon",3.8479999999999999,11.5021,"2020-02-28",0,{"$f":"VALUE(URL_2[[#This Row],[Data]])","v":0}]
["Confirmed","","Cameroon",3.8479999999999999,11.5021,"2020-02-29",0,{"$f":"VALUE(URL_2[[#This Row],[Data]])","v":0}]
["Confirmed","","Cameroon",3.8479999999999999,11.5021,"2020-03-01",0,{"$f":"VALUE(URL_2[[#This Row],[Data]])","v":0}]
["Confirmed","","Cameroon",3.8479999999999999,11.5021,"2020-03-02",0,{"$f":"VALUE(URL_2[[#This Row],[Data]])","v":0}]
["Confirmed","","Cameroon",3.8479999999999999,11.5021,"2020-03-03",0,{"$f":"VALUE(URL_2[[#This Row],[Data]])","v":0}]
["Confirmed","","Cameroon",3.8479999999999999,11.5021,"2020-03-04",0,{"$f":"VALUE(URL_2[[#This Row],[Data]])","v":0}]
["Confirmed","","Cameroon",3.8479999999999999,11.5021,"2020-03-05",0,{"$f":"VALUE(URL_2[[#This Row],[Data]])","v":0}]
["Confirmed","Alberta","Canada",53.933300000000003,-116.5765,"2020-01-22",0,{"$f":"VALUE(URL_2[[#This Row],[Data]])","v":0}]
["Confirmed","Alberta","Canada",53.933300000000003,-116.5765,"2020-01-23",0,{"$f":"VALUE(URL_2[[#This Row],[Data]])","v":0}]
["Confirmed","Alberta","Canada",53.933300000000003,-116.5765,"2020-01-24",0,{"$f":"VALUE(URL_2[[#This Row],[Data]])","v":0}]
["Confirmed","Alberta","Canada",53.933300000000003,-116.5765,"2020-01-25",0,{"$f":"VALUE(URL_2[[#This Row],[Data]])","v":0}]
["Confirmed","Alberta","Canada",53.933300000000003,-116.5765,"2020-01-26",0,{"$f":"VALUE(URL_2[[#This Row],[Data]])","v":0}]
["Confirmed","Alberta","Canada",53.933300000000003,-116.5765,"2020-01-27",0,{"$f":"VALUE(URL_2[[#This Row],[Data]])","v":0}]
["Confirmed","Alberta","Canada",53.933300000000003,-116.5765,"2020-01-28",0,{"$f":"VALUE(URL_2[[#This Row],[Data]])","v":0}]
["Confirmed","Alberta","Canada",53.933300000000003,-116.5765,"2020-01-29",0,{"$f":"VALUE(URL_2[[#This Row],[Data]])","v":0}]
["Confirmed","Alberta","Canada",53.933300000000003,-116.5765,"2020-01-30",0,{"$f":"VALUE(URL_2[[#This Row],[Data]])","v":0}]
["Confirmed","Alberta","Canada",53.933300000000003,-116.5765,"2020-01-31",0,{"$f":"VALUE(URL_2[[#This Row],[Data]])","v":0}]
["Confirmed","Alberta","Canada",53.933300000000003,-116.5765,"2020-02-01",0,{"$f":"VALUE(URL_2[[#This Row],[Data]])","v":0}]
["Confirmed","Alberta","Canada",53.933300000000003,-116.5765,"2020-02-02",0,{"$f":"VALUE(URL_2[[#This Row],[Data]])","v":0}]
["Confirmed","Alberta","Canada",53.933300000000003,-116.5765,"2020-02-03",0,{"$f":"VALUE(URL_2[[#This Row],[Data]])","v":0}]
["Confirmed","Alberta","Canada",53.933300000000003,-116.5765,"2020-02-04",0,{"$f":"VALUE(URL_2[[#This Row],[Data]])","v":0}]
["Confirmed","Alberta","Canada",53.933300000000003,-116.5765,"2020-02-05",0,{"$f":"VALUE(URL_2[[#This Row],[Data]])","v":0}]
["Confirmed","Alberta","Canada",53.933300000000003,-116.5765,"2020-02-06",0,{"$f":"VALUE(URL_2[[#This Row],[Data]])","v":0}]
["Confirmed","Alberta","Canada",53.933300000000003,-116.5765,"2020-02-07",0,{"$f":"VALUE(URL_2[[#This Row],[Data]])","v":0}]
["Confirmed","Alberta","Canada",53.933300000000003,-116.5765,"2020-02-08",0,{"$f":"VALUE(URL_2[[#This Row],[Data]])","v":0}]
["Confirmed","Alberta","Canada",53.933300000000003,-116.5765,"2020-02-09",0,{"$f":"VALUE(URL_2[[#This Row],[Data]])","v":0}]
["Confirmed","Alberta","Canada",53.933300000000003,-116.5765,"2020-02-10",0,{"$f":"VALUE(URL_2[[#This Row],[Data]])","v":0}]
["Confirmed","Alberta","Canada",53.933300000000003,-116.5765,"2020-02-11",0,{"$f":"VALUE(URL_2[[#This Row],[Data]])","v":0}]
["Confirmed","Alberta","Canada",53.933300000000003,-116.5765,"2020-02-12",0,{"$f":"VALUE(URL_2[[#This Row],[Data]])","v":0}]
["Confirmed","Alberta","Canada",53.933300000000003,-116.5765,"2020-02-13",0,{"$f":"VALUE(URL_2[[#This Row],[Data]])","v":0}]
["Confirmed","Alberta","Canada",53.933300000000003,-116.5765,"2020-02-14",0,{"$f":"VALUE(URL_2[[#This Row],[Data]])","v":0}]
["Confirmed","Alberta","Canada",53.933300000000003,-116.5765,"2020-02-15",0,{"$f":"VALUE(URL_2[[#This Row],[Data]])","v":0}]
["Confirmed","Alberta","Canada",53.933300000000003,-116.5765,"2020-02-16",0,{"$f":"VALUE(URL_2[[#This Row],[Data]])","v":0}]
["Confirmed","Alberta","Canada",53.933300000000003,-116.5765,"2020-02-17",0,{"$f":"VALUE(URL_2[[#This Row],[Data]])","v":0}]
["Confirmed","Alberta","Canada",53.933300000000003,-116.5765,"2020-02-18",0,{"$f":"VALUE(URL_2[[#This Row],[Data]])","v":0}]
["Confirmed","Alberta","Canada",53.933300000000003,-116.5765,"2020-02-19",0,{"$f":"VALUE(URL_2[[#This Row],[Data]])","v":0}]
["Confirmed","Alberta","Canada",53.933300000000003,-116.5765,"2020-02-20",0,{"$f":"VALUE(URL_2[[#This Row],[Data]])","v":0}]
["Confirmed","Alberta","Canada",53.933300000000003,-116.5765,"2020-02-21",0,{"$f":"VALUE(URL_2[[#This Row],[Data]])","v":0}]
["Confirmed","Alberta","Canada",53.933300000000003,-116.5765,"2020-02-22",0,{"$f":"VALUE(URL_2[[#This Row],[Data]])","v":0}]
["Confirmed","Alberta","Canada",53.933300000000003,-116.5765,"2020-02-23",0,{"$f":"VALUE(URL_2[[#This Row],[Data]])","v":0}]
["Confirmed","Alberta","Canada",53.933300000000003,-116.5765,"2020-02-24",0,{"$f":"VALUE(URL_2[[#This Row],[Data]])","v":0}]
["Confirmed","Alberta","Canada",53.933300000000003,-116.5765,"2020-02-25",0,{"$f":"VALUE(URL_2[[#This Row],[Data]])","v":0}]
["Confirmed","Alberta","Canada",53.933300000000003,-116.5765,"2020-02-26",0,{"$f":"VALUE(URL_2[[#This Row],[Data]])","v":0}]
["Confirmed","Alberta","Canada",53.933300000000003,-116.5765,"2020-02-27",0,{"$f":"VALUE(URL_2[[#This Row],[Data]])","v":0}]
["Confirmed","Alberta","Canada",53.933300000000003,-116.5765,"2020-02-28",0,{"$f":"VALUE(URL_2[[#This Row],[Data]])","v":0}]
["Confirmed","Alberta","Canada",53.933300000000003,-116.5765,"2020-02-29",0,{"$f":"VALUE(URL_2[[#This Row],[Data]])","v":0}]
["Confirmed","Alberta","Canada",53.933300000000003,-116.5765,"2020-03-01",0,{"$f":"VALUE(URL_2[[#This Row],[Data]])","v":0}]
["Confirmed","Alberta","Canada",53.933300000000003,-116.5765,"2020-03-02",0,{"$f":"VALUE(URL_2[[#This Row],[Data]])","v":0}]
["Confirmed","Alberta","Canada",53.933300000000003,-116.5765,"2020-03-03",0,{"$f":"VALUE(URL_2[[#This Row],[Data]])","v":0}]
["Confirmed","Alberta","Canada",53.933300000000003,-116.5765,"2020-03-04",0,{"$f":"VALUE(URL_2[[#This Row],[Data]])","v":0}]
["Confirmed","Alberta","Canada",53.933300000000003,-116.5765,"2020-03-05",0,{"$f":"VALUE(URL_2[[#This Row],[Data]])","v":0}]
["Confirmed","British Columbia","Canada",49.282699999999998,-123.1207,"2020-01-22",0,{"$f":"VALUE(URL_2[[#This Row],[Data]])","v":0}]
["Confirmed","British Columbia","Canada",49.282699999999998,-123.1207,"2020-01-23",0,{"$f":"VALUE(URL_2[[#This Row],[Data]])","v":0}]
["Confirmed","British Columbia","Canada",49.282699999999998,-123.1207,"2020-01-24",0,{"$f":"VALUE(URL_2[[#This Row],[Data]])","v":0}]
["Confirmed","British Columbia","Canada",49.282699999999998,-123.1207,"2020-01-25",0,{"$f":"VALUE(URL_2[[#This Row],[Data]])","v":0}]
["Confirmed","British Columbia","Canada",49.282699999999998,-123.1207,"2020-01-26",0,{"$f":"VALUE(URL_2[[#This Row],[Data]])","v":0}]
["Confirmed","British Columbia","Canada",49.282699999999998,-123.1207,"2020-01-27",0,{"$f":"VALUE(URL_2[[#This Row],[Data]])","v":0}]
["Confirmed","Grand Princess","Canada",37.648899999999998,-122.66549999999999,"2020-01-22",0,{"$f":"VALUE(URL_2[[#This Row],[Data]])","v":0}]
["Confirmed","Grand Princess","Canada",37.648899999999998,-122.66549999999999,"2020-01-23",0,{"$f":"VALUE(URL_2[[#This Row],[Data]])","v":0}]
["Confirmed","Grand Princess","Canada",37.648899999999998,-122.66549999999999,"2020-01-24",0,{"$f":"VALUE(URL_2[[#This Row],[Data]])","v":0}]
["Confirmed","Grand Princess","Canada",37.648899999999998,-122.66549999999999,"2020-01-25",0,{"$f":"VALUE(URL_2[[#This Row],[Data]])","v":0}]
["Confirmed","Grand Princess","Canada",37.648899999999998,-122.66549999999999,"2020-01-26",0,{"$f":"VALUE(URL_2[[#This Row],[Data]])","v":0}]
["Confirmed","Grand Princess","Canada",37.648899999999998,-122.66549999999999,"2020-01-27",0,{"$f":"VALUE(URL_2[[#This Row],[Data]])","v":0}]
["Confirmed","Grand Princess","Canada",37.648899999999998,-122.66549999999999,"2020-01-28",0,{"$f":"VALUE(URL_2[[#This Row],[Data]])","v":0}]
["Confirmed","Grand Princess","Canada",37.648899999999998,-122.66549999999999,"2020-01-29",0,{"$f":"VALUE(URL_2[[#This Row],[Data]])","v":0}]
["Confirmed","Grand Princess","Canada",37.648899999999998,-122.66549999999999,"2020-01-30",0,{"$f":"VALUE(URL_2[[#This Row],[Data]])","v":0}]
["Confirmed","Grand Princess","Canada",37.648899999999998,-122.66549999999999,"2020-01-31",0,{"$f":"VALUE(URL_2[[#This Row],[Data]])","v":0}]
["Confirmed","Grand Princess","Canada",37.648899999999998,-122.66549999999999,"2020-02-01",0,{"$f":"VALUE(URL_2[[#This Row],[Data]])","v":0}]
["Confirmed","Grand Princess","Canada",37.648899999999998,-122.66549999999999,"2020-02-02",0,{"$f":"VALUE(URL_2[[#This Row],[Data]])","v":0}]
["Confirmed","Grand Princess","Canada",37.648899999999998,-122.66549999999999,"2020-02-03",0,{"$f":"VALUE(URL_2[[#This Row],[Data]])","v":0}]
["Confirmed","Grand Princess","Canada",37.648899999999998,-122.66549999999999,"2020-02-04",0,{"$f":"VALUE(URL_2[[#This Row],[Data]])","v":0}]
["Confirmed","Grand Princess","Canada",37.648899999999998,-122.66549999999999,"2020-02-05",0,{"$f":"VALUE(URL_2[[#This Row],[Data]])","v":0}]
["Confirmed","Grand Princess","Canada",37.648899999999998,-122.66549999999999,"2020-02-06",0,{"$f":"VALUE(URL_2[[#This Row],[Data]])","v":0}]
["Confirmed","Grand Princess","Canada",37.648899999999998,-122.66549999999999,"2020-02-07",0,{"$f":"VALUE(URL_2[[#This Row],[Data]])","v":0}]
["Confirmed","Grand Princess","Canada",37.648899999999998,-122.66549999999999,"2020-02-08",0,{"$f":"VALUE(URL_2[[#This Row],[Data]])","v":0}]
["Confirmed","Grand Princess","Canada",37.648899999999998,-122.66549999999999,"2020-02-09",0,{"$f":"VALUE(URL_2[[#This Row],[Data]])","v":0}]
["Confirmed","Grand Princess","Canada",37.648899999999998,-122.66549999999999,"2020-02-10",0,{"$f":"VALUE(URL_2[[#This Row],[Data]])","v":0}]
["Confirmed","Grand Princess","Canada",37.648899999999998,-122.66549999999999,"2020-02-11",0,{"$f":"VALUE(URL_2[[#This Row],[Data]])","v":0}]
["Confirmed","Grand Princess","Canada",37.648899999999998,-122.66549999999999,"2020-02-12",0,{"$f":"VALUE(URL_2[[#This Row],[Data]])","v":0}]
["Confirmed","Grand Princess","Canada",37.648899999999998,-122.66549999999999,"2020-02-13",0,{"$f":"VALUE(URL_2[[#This Row],[Data]])","v":0}]
["Confirmed","Grand Princess","Canada",37.648899999999998,-122.66549999999999,"2020-02-14",0,{"$f":"VALUE(URL_2[[#This Row],[Data]])","v":0}]
["Confirmed","Grand Princess","Canada",37.648899999999998,-122.66549999999999,"2020-02-15",0,{"$f":"VALUE(URL_2[[#This Row],[Data]])","v":0}]
["Confirmed","Grand Princess","Canada",37.648899999999998,-122.66549999999999,"2020-02-16",0,{"$f":"VALUE(URL_2[[#This Row],[Data]])","v":0}]
["Confirmed","Grand Princess","Canada",37.648899999999998,-122.66549999999999,"2020-02-17",0,{"$f":"VALUE(URL_2[[#This Row],[Data]])","v":0}]
["Confirmed","Grand Princess","Canada",37.648899999999998,-122.66549999999999,"2020-02-18",0,{"$f":"VALUE(URL_2[[#This Row],[Data]])","v":0}]
["Confirmed","Grand Princess","Canada",37.648899999999998,-122.66549999999999,"2020-02-19",0,{"$f":"VALUE(URL_2[[#This Row],[Data]])","v":0}]
["Confirmed","Grand Princess","Canada",37.648899999999998,-122.66549999999999,"2020-02-20",0,{"$f":"VALUE(URL_2[[#This Row],[Data]])","v":0}]
["Confirmed","Grand Princess","Canada",37.648899999999998,-122.66549999999999,"2020-02-21",0,{"$f":"VALUE(URL_2[[#This Row],[Data]])","v":0}]
["Confirmed","Grand Princess","Canada",37.648899999999998,-122.66549999999999,"2020-02-22",0,{"$f":"VALUE(URL_2[[#This Row],[Data]])","v":0}]
["Confirmed","Grand Princess","Canada",37.648899999999998,-122.66549999999999,"2020-02-23",0,{"$f":"VALUE(URL_2[[#This Row],[Data]])","v":0}]
["Confirmed","Grand Princess","Canada",37.648899999999998,-122.66549999999999,"2020-02-24",0,{"$f":"VALUE(URL_2[[#This Row],[Data]])","v":0}]
["Confirmed","Grand Princess","Canada",37.648899999999998,-122.66549999999999,"2020-02-25",0,{"$f":"VALUE(URL_2[[#This Row],[Data]])","v":0}]
["Confirmed","Grand Princess","Canada",37.648899999999998,-122.66549999999999,"2020-02-26",0,{"$f":"VALUE(URL_2[[#This Row],[Data]])","v":0}]
["Confirmed","Grand Princess","Canada",37.648899999999998,-122.66549999999999,"2020-02-27",0,{"$f":"VALUE(URL_2[[#This Row],[Data]])","v":0}]
["Confirmed","Grand Princess","Canada",37.648899999999998,-122.66549999999999,"2020-02-28",0,{"$f":"VALUE(URL_2[[#This Row],[Data]])","v":0}]
["Confirmed","Grand Princess","Canada",37.648899999999998,-122.66549999999999,"2020-02-29",0,{"$f":"VALUE(URL_2[[#This Row],[Data]])","v":0}]
["Confirmed","Grand Princess","Canada",37.648899999999998,-122.66549999999999,"2020-03-01",0,{"$f":"VALUE(URL_2[[#This Row],[Data]])","v":0}]
["Confirmed","Grand Princess","Canada",37.648899999999998,-122.66549999999999,"2020-03-02",0,{"$f":"VALUE(URL_2[[#This Row],[Data]])","v":0}]
["Confirmed","Grand Princess","Canada",37.648899999999998,-122.66549999999999,"2020-03-03",0,{"$f":"VALUE(URL_2[[#This Row],[Data]])","v":0}]
["Confirmed","Grand Princess","Canada",37.648899999999998,-122.66549999999999,"2020-03-04",0,{"$f":"VALUE(URL_2[[#This Row],[Data]])","v":0}]
["Confirmed","Grand Princess","Canada",37.648899999999998,-122.66549999999999,"2020-03-05",0,{"$f":"VALUE(URL_2[[#This Row],[Data]])","v":0}]
["Confirmed","Grand Princess","Canada",37.648899999999998,-122.66549999999999,"2020-03-06",0,{"$f":"VALUE(URL_2[[#This Row],[Data]])","v":0}]
["Confirmed","Grand Princess","Canada",37.648899999999998,-122.66549999999999,"2020-03-07",0,{"$f":"VALUE(URL_2[[#This Row],[Data]])","v":0}]
["Confirmed","Grand Princess","Canada",37.648899999999998,-122.66549999999999,"2020-03-08",0,{"$f":"VALUE(URL_2[[#This Row],[Data]])","v":0}]
["Confirmed","Grand Princess","Canada",37.648899999999998,-122.66549999999999,"2020-03-09",0,{"$f":"VALUE(URL_2[[#This Row],[Data]])","v":0}]
["Confirmed","Grand Princess","Canada",37.648899999999998,-122.66549999999999,"2020-03-10",0,{"$f":"VALUE(URL_2[[#This Row],[Data]])","v":0}]
["Confirmed","Grand Princess","Canada",37.648899999999998,-122.66549999999999,"2020-03-11",0,{"$f":"VALUE(URL_2[[#This Row],[Data]])","v":0}]
["Confirmed","Grand Princess","Canada",37.648899999999998,-122.66549999999999,"2020-03-12",0,{"$f":"VALUE(URL_2[[#This Row],[Data]])","v":0}]
["Confirmed","Manitoba","Canada",53.760899999999999,-98.813900000000004,"2020-01-22",0,{"$f":"VALUE(URL_2[[#This Row],[Data]])","v":0}]
["Confirmed","Manitoba","Canada",53.760899999999999,-98.813900000000004,"2020-01-23",0,{"$f":"VALUE(URL_2[[#This Row],[Data]])","v":0}]
["Confirmed","Manitoba","Canada",53.760899999999999,-98.813900000000004,"2020-01-24",0,{"$f":"VALUE(URL_2[[#This Row],[Data]])","v":0}]
["Confirmed","Manitoba","Canada",53.760899999999999,-98.813900000000004,"2020-01-25",0,{"$f":"VALUE(URL_2[[#This Row],[Data]])","v":0}]
["Confirmed","Manitoba","Canada",53.760899999999999,-98.813900000000004,"2020-01-26",0,{"$f":"VALUE(URL_2[[#This Row],[Data]])","v":0}]
["Confirmed","Manitoba","Canada",53.760899999999999,-98.813900000000004,"2020-01-27",0,{"$f":"VALUE(URL_2[[#This Row],[Data]])","v":0}]
["Confirmed","Manitoba","Canada",53.760899999999999,-98.813900000000004,"2020-01-28",0,{"$f":"VALUE(URL_2[[#This Row],[Data]])","v":0}]
["Confirmed","Manitoba","Canada",53.760899999999999,-98.813900000000004,"2020-01-29",0,{"$f":"VALUE(URL_2[[#This Row],[Data]])","v":0}]
["Confirmed","Manitoba","Canada",53.760899999999999,-98.813900000000004,"2020-01-30",0,{"$f":"VALUE(URL_2[[#This Row],[Data]])","v":0}]
["Confirmed","Manitoba","Canada",53.760899999999999,-98.813900000000004,"2020-01-31",0,{"$f":"VALUE(URL_2[[#This Row],[Data]])","v":0}]
["Confirmed","Manitoba","Canada",53.760899999999999,-98.813900000000004,"2020-02-01",0,{"$f":"VALUE(URL_2[[#This Row],[Data]])","v":0}]
["Confirmed","Manitoba","Canada",53.760899999999999,-98.813900000000004,"2020-02-02",0,{"$f":"VALUE(URL_2[[#This Row],[Data]])","v":0}]
["Confirmed","Manitoba","Canada",53.760899999999999,-98.813900000000004,"2020-02-03",0,{"$f":"VALUE(URL_2[[#This Row],[Data]])","v":0}]
["Confirmed","Manitoba","Canada",53.760899999999999,-98.813900000000004,"2020-02-04",0,{"$f":"VALUE(URL_2[[#This Row],[Data]])","v":0}]
["Confirmed","Manitoba","Canada",53.760899999999999,-98.813900000000004,"2020-02-05",0,{"$f":"VALUE(URL_2[[#This Row],[Data]])","v":0}]
["Confirmed","Manitoba","Canada",53.760899999999999,-98.813900000000004,"2020-02-06",0,{"$f":"VALUE(URL_2[[#This Row],[Data]])","v":0}]
["Confirmed","Manitoba","Canada",53.760899999999999,-98.813900000000004,"2020-02-07",0,{"$f":"VALUE(URL_2[[#This Row],[Data]])","v":0}]
["Confirmed","Manitoba","Canada",53.760899999999999,-98.813900000000004,"2020-02-08",0,{"$f":"VALUE(URL_2[[#This Row],[Data]])","v":0}]
["Confirmed","Manitoba","Canada",53.760899999999999,-98.813900000000004,"2020-02-09",0,{"$f":"VALUE(URL_2[[#This Row],[Data]])","v":0}]
["Confirmed","Manitoba","Canada",53.760899999999999,-98.813900000000004,"2020-02-10",0,{"$f":"VALUE(URL_2[[#This Row],[Data]])","v":0}]
["Confirmed","Manitoba","Canada",53.760899999999999,-98.813900000000004,"2020-02-11",0,{"$f":"VALUE(URL_2[[#This Row],[Data]])","v":0}]
["Confirmed","Manitoba","Canada",53.760899999999999,-98.813900000000004,"2020-02-12",0,{"$f":"VALUE(URL_2[[#This Row],[Data]])","v":0}]
["Confirmed","Manitoba","Canada",53.760899999999999,-98.813900000000004,"2020-02-13",0,{"$f":"VALUE(URL_2[[#This Row],[Data]])","v":0}]
["Confirmed","Manitoba","Canada",53.760899999999999,-98.813900000000004,"2020-02-14",0,{"$f":"VALUE(URL_2[[#This Row],[Data]])","v":0}]
["Confirmed","Manitoba","Canada",53.760899999999999,-98.813900000000004,"2020-02-15",0,{"$f":"VALUE(URL_2[[#This Row],[Data]])","v":0}]
["Confirmed","Manitoba","Canada",53.760899999999999,-98.813900000000004,"2020-02-16",0,{"$f":"VALUE(URL_2[[#This Row],[Data]])","v":0}]
["Confirmed","Manitoba","Canada",53.760899999999999,-98.813900000000004,"2020-02-17",0,{"$f":"VALUE(URL_2[[#This Row],[Data]])","v":0}]
["Confirmed","Manitoba","Canada",53.760899999999999,-98.813900000000004,"2020-02-18",0,{"$f":"VALUE(URL_2[[#This Row],[Data]])","v":0}]
["Confirmed","Manitoba","Canada",53.760899999999999,-98.813900000000004,"2020-02-19",0,{"$f":"VALUE(URL_2[[#This Row],[Data]])","v":0}]
["Confirmed","Manitoba","Canada",53.760899999999999,-98.813900000000004,"2020-02-20",0,{"$f":"VALUE(URL_2[[#This Row],[Data]])","v":0}]
["Confirmed","Manitoba","Canada",53.760899999999999,-98.813900000000004,"2020-02-21",0,{"$f":"VALUE(URL_2[[#This Row],[Data]])","v":0}]
["Confirmed","Manitoba","Canada",53.760899999999999,-98.813900000000004,"2020-02-22",0,{"$f":"VALUE(URL_2[[#This Row],[Data]])","v":0}]
["Confirmed","Manitoba","Canada",53.760899999999999,-98.813900000000004,"2020-02-23",0,{"$f":"VALUE(URL_2[[#This Row],[Data]])","v":0}]
["Confirmed","Manitoba","Canada",53.760899999999999,-98.813900000000004,"2020-02-24",0,{"$f":"VALUE(URL_2[[#This Row],[Data]])","v":0}]
["Confirmed","Manitoba","Canada",53.760899999999999,-98.813900000000004,"2020-02-25",0,{"$f":"VALUE(URL_2[[#This Row],[Data]])","v":0}]
["Confirmed","Manitoba","Canada",53.760899999999999,-98.813900000000004,"2020-02-26",0,{"$f":"VALUE(URL_2[[#This Row],[Data]])","v":0}]
["Confirmed","Manitoba","Canada",53.760899999999999,-98.813900000000004,"2020-02-27",0,{"$f":"VALUE(URL_2[[#This Row],[Data]])","v":0}]
["Confirmed","Manitoba","Canada",53.760899999999999,-98.813900000000004,"2020-02-28",0,{"$f":"VALUE(URL_2[[#This Row],[Data]])","v":0}]
["Confirmed","Manitoba","Canada",53.760899999999999,-98.813900000000004,"2020-02-29",0,{"$f":"VALUE(URL_2[[#This Row],[Data]])","v":0}]
["Confirmed","Manitoba","Canada",53.760899999999999,-98.813900000000004,"2020-03-01",0,{"$f":"VALUE(URL_2[[#This Row],[Data]])","v":0}]
["Confirmed","Manitoba","Canada",53.760899999999999,-98.813900000000004,"2020-03-02",0,{"$f":"VALUE(URL_2[[#This Row],[Data]])","v":0}]
["Confirmed","Manitoba","Canada",53.760899999999999,-98.813900000000004,"2020-03-03",0,{"$f":"VALUE(URL_2[[#This Row],[Data]])","v":0}]
["Confirmed","Manitoba","Canada",53.760899999999999,-98.813900000000004,"2020-03-04",0,{"$f":"VALUE(URL_2[[#This Row],[Data]])","v":0}]
["Confirmed","Manitoba","Canada",53.760899999999999,-98.813900000000004,"2020-03-05",0,{"$f":"VALUE(URL_2[[#This Row],[Data]])","v":0}]
["Confirmed","Manitoba","Canada",53.760899999999999,-98.813900000000004,"2020-03-06",0,{"$f":"VALUE(URL_2[[#This Row],[Data]])","v":0}]
["Confirmed","Manitoba","Canada",53.760899999999999,-98.813900000000004,"2020-03-07",0,{"$f":"VALUE(URL_2[[#This Row],[Data]])","v":0}]
["Confirmed","Manitoba","Canada",53.760899999999999,-98.813900000000004,"2020-03-08",0,{"$f":"VALUE(URL_2[[#This Row],[Data]])","v":0}]
["Confirmed","Manitoba","Canada",53.760899999999999,-98.813900000000004,"2020-03-09",0,{"$f":"VALUE(URL_2[[#This Row],[Data]])","v":0}]
["Confirmed","Manitoba","Canada",53.760899999999999,-98.813900000000004,"2020-03-10",0,{"$f":"VALUE(URL_2[[#This Row],[Data]])","v":0}]
["Confirmed","Manitoba","Canada",53.760899999999999,-98.813900000000004,"2020-03-11",0,{"$f":"VALUE(URL_2[[#This Row],[Data]])","v":0}]
["Confirmed","Manitoba","Canada",53.760899999999999,-98.813900000000004,"2020-03-12",0,{"$f":"VALUE(URL_2[[#This Row],[Data]])","v":0}]
["Confirmed","New Brunswick","Canada",46.565300000000001,-66.4619,"2020-01-22",0,{"$f":"VALUE(URL_2[[#This Row],[Data]])","v":0}]
["Confirmed","New Brunswick","Canada",46.565300000000001,-66.4619,"2020-01-23",0,{"$f":"VALUE(URL_2[[#This Row],[Data]])","v":0}]
["Confirmed","New Brunswick","Canada",46.565300000000001,-66.4619,"2020-01-24",0,{"$f":"VALUE(URL_2[[#This Row],[Data]])","v":0}]
["Confirmed","New Brunswick","Canada",46.565300000000001,-66.4619,"2020-01-25",0,{"$f":"VALUE(URL_2[[#This Row],[Data]])","v":0}]
["Confirmed","New Brunswick","Canada",46.565300000000001,-66.4619,"2020-01-26",0,{"$f":"VALUE(URL_2[[#This Row],[Data]])","v":0}]
["Confirmed","New Brunswick","Canada",46.565300000000001,-66.4619,"2020-01-27",0,{"$f":"VALUE(URL_2[[#This Row],[Data]])","v":0}]
["Confirmed","New Brunswick","Canada",46.565300000000001,-66.4619,"2020-01-28",0,{"$f":"VALUE(URL_2[[#This Row],[Data]])","v":0}]
["Confirmed","New Brunswick","Canada",46.565300000000001,-66.4619,"2020-01-29",0,{"$f":"VALUE(URL_2[[#This Row],[Data]])","v":0}]
["Confirmed","New Brunswick","Canada",46.565300000000001,-66.4619,"2020-01-30",0,{"$f":"VALUE(URL_2[[#This Row],[Data]])","v":0}]
["Confirmed","New Brunswick","Canada",46.565300000000001,-66.4619,"2020-01-31",0,{"$f":"VALUE(URL_2[[#This Row],[Data]])","v":0}]
["Confirmed","New Brunswick","Canada",46.565300000000001,-66.4619,"2020-02-01",0,{"$f":"VALUE(URL_2[[#This Row],[Data]])","v":0}]
["Confirmed","New Brunswick","Canada",46.565300000000001,-66.4619,"2020-02-02",0,{"$f":"VALUE(URL_2[[#This Row],[Data]])","v":0}]
["Confirmed","New Brunswick","Canada",46.565300000000001,-66.4619,"2020-02-03",0,{"$f":"VALUE(URL_2[[#This Row],[Data]])","v":0}]
["Confirmed","New Brunswick","Canada",46.565300000000001,-66.4619,"2020-02-04",0,{"$f":"VALUE(URL_2[[#This Row],[Data]])","v":0}]
["Confirmed","New Brunswick","Canada",46.565300000000001,-66.4619,"2020-02-05",0,{"$f":"VALUE(URL_2[[#This Row],[Data]])","v":0}]
["Confirmed","New Brunswick","Canada",46.565300000000001,-66.4619,"2020-02-06",0,{"$f":"VALUE(URL_2[[#This Row],[Data]])","v":0}]
["Confirmed","New Brunswick","Canada",46.565300000000001,-66.4619,"2020-02-07",0,{"$f":"VALUE(URL_2[[#This Row],[Data]])","v":0}]
["Confirmed","New Brunswick","Canada",46.565300000000001,-66.4619,"2020-02-08",0,{"$f":"VALUE(URL_2[[#This Row],[Data]])","v":0}]
["Confirmed","New Brunswick","Canada",46.565300000000001,-66.4619,"2020-02-09",0,{"$f":"VALUE(URL_2[[#This Row],[Data]])","v":0}]
["Confirmed","New Brunswick","Canada",46.565300000000001,-66.4619,"2020-02-10",0,{"$f":"VALUE(URL_2[[#This Row],[Data]])","v":0}]
["Confirmed","New Brunswick","Canada",46.565300000000001,-66.4619,"2020-02-11",0,{"$f":"VALUE(URL_2[[#This Row],[Data]])","v":0}]
["Confirmed","New Brunswick","Canada",46.565300000000001,-66.4619,"2020-02-12",0,{"$f":"VALUE(URL_2[[#This Row],[Data]])","v":0}]
["Confirmed","New Brunswick","Canada",46.565300000000001,-66.4619,"2020-02-13",0,{"$f":"VALUE(URL_2[[#This Row],[Data]])","v":0}]
["Confirmed","New Brunswick","Canada",46.565300000000001,-66.4619,"2020-02-14",0,{"$f":"VALUE(URL_2[[#This Row],[Data]])","v":0}]
["Confirmed","New Brunswick","Canada",46.565300000000001,-66.4619,"2020-02-15",0,{"$f":"VALUE(URL_2[[#This Row],[Data]])","v":0}]
["Confirmed","New Brunswick","Canada",46.565300000000001,-66.4619,"2020-02-16",0,{"$f":"VALUE(URL_2[[#This Row],[Data]])","v":0}]
["Confirmed","New Brunswick","Canada",46.565300000000001,-66.4619,"2020-02-17",0,{"$f":"VALUE(URL_2[[#This Row],[Data]])","v":0}]
["Confirmed","New Brunswick","Canada",46.565300000000001,-66.4619,"2020-02-18",0,{"$f":"VALUE(URL_2[[#This Row],[Data]])","v":0}]
["Confirmed","New Brunswick","Canada",46.565300000000001,-66.4619,"2020-02-19",0,{"$f":"VALUE(URL_2[[#This Row],[Data]])","v":0}]
["Confirmed","New Brunswick","Canada",46.565300000000001,-66.4619,"2020-02-20",0,{"$f":"VALUE(URL_2[[#This Row],[Data]])","v":0}]
["Confirmed","New Brunswick","Canada",46.565300000000001,-66.4619,"2020-02-21",0,{"$f":"VALUE(URL_2[[#This Row],[Data]])","v":0}]
["Confirmed","New Brunswick","Canada",46.565300000000001,-66.4619,"2020-02-22",0,{"$f":"VALUE(URL_2[[#This Row],[Data]])","v":0}]
["Confirmed","New Brunswick","Canada",46.565300000000001,-66.4619,"2020-02-23",0,{"$f":"VALUE(URL_2[[#This Row],[Data]])","v":0}]
["Confirmed","New Brunswick","Canada",46.565300000000001,-66.4619,"2020-02-24",0,{"$f":"VALUE(URL_2[[#This Row],[Data]])","v":0}]
["Confirmed","New Brunswick","Canada",46.565300000000001,-66.4619,"2020-02-25",0,{"$f":"VALUE(URL_2[[#This Row],[Data]])","v":0}]
["Confirmed","New Brunswick","Canada",46.565300000000001,-66.4619,"2020-02-26",0,{"$f":"VALUE(URL_2[[#This Row],[Data]])","v":0}]
["Confirmed","New Brunswick","Canada",46.565300000000001,-66.4619,"2020-02-27",0,{"$f":"VALUE(URL_2[[#This Row],[Data]])","v":0}]
["Confirmed","New Brunswick","Canada",46.565300000000001,-66.4619,"2020-02-28",0,{"$f":"VALUE(URL_2[[#This Row],[Data]])","v":0}]
["Confirmed","New Brunswick","Canada",46.565300000000001,-66.4619,"2020-02-29",0,{"$f":"VALUE(URL_2[[#This Row],[Data]])","v":0}]
["Confirmed","New Brunswick","Canada",46.565300000000001,-66.4619,"2020-03-01",0,{"$f":"VALUE(URL_2[[#This Row],[Data]])","v":0}]
["Confirmed","New Brunswick","Canada",46.565300000000001,-66.4619,"2020-03-02",0,{"$f":"VALUE(URL_2[[#This Row],[Data]])","v":0}]
["Confirmed","New Brunswick","Canada",46.565300000000001,-66.4619,"2020-03-03",0,{"$f":"VALUE(URL_2[[#This Row],[Data]])","v":0}]
["Confirmed","New Brunswick","Canada",46.565300000000001,-66.4619,"2020-03-04",0,{"$f":"VALUE(URL_2[[#This Row],[Data]])","v":0}]
["Confirmed","New Brunswick","Canada",46.565300000000001,-66.4619,"2020-03-05",0,{"$f":"VALUE(URL_2[[#This Row],[Data]])","v":0}]
["Confirmed","New Brunswick","Canada",46.565300000000001,-66.4619,"2020-03-06",0,{"$f":"VALUE(URL_2[[#This Row],[Data]])","v":0}]
["Confirmed","New Brunswick","Canada",46.565300000000001,-66.4619,"2020-03-07",0,{"$f":"VALUE(URL_2[[#This Row],[Data]])","v":0}]
["Confirmed","New Brunswick","Canada",46.565300000000001,-66.4619,"2020-03-08",0,{"$f":"VALUE(URL_2[[#This Row],[Data]])","v":0}]
["Confirmed","New Brunswick","Canada",46.565300000000001,-66.4619,"2020-03-09",0,{"$f":"VALUE(URL_2[[#This Row],[Data]])","v":0}]
["Confirmed","New Brunswick","Canada",46.565300000000001,-66.4619,"2020-03-10",0,{"$f":"VALUE(URL_2[[#This Row],[Data]])","v":0}]
["Confirmed","Newfoundland and Labrador","Canada",53.1355,-57.660400000000003,"2020-01-22",0,{"$f":"VALUE(URL_2[[#This Row],[Data]])","v":0}]
["Confirmed","Newfoundland and Labrador","Canada",53.1355,-57.660400000000003,"2020-01-23",0,{"$f":"VALUE(URL_2[[#This Row],[Data]])","v":0}]
["Confirmed","Newfoundland and Labrador","Canada",53.1355,-57.660400000000003,"2020-01-24",0,{"$f":"VALUE(URL_2[[#This Row],[Data]])","v":0}]
["Confirmed","Newfoundland and Labrador","Canada",53.1355,-57.660400000000003,"2020-01-25",0,{"$f":"VALUE(URL_2[[#This Row],[Data]])","v":0}]
["Confirmed","Newfoundland and Labrador","Canada",53.1355,-57.660400000000003,"2020-01-26",0,{"$f":"VALUE(URL_2[[#This Row],[Data]])","v":0}]
["Confirmed","Newfoundland and Labrador","Canada",53.1355,-57.660400000000003,"2020-01-27",0,{"$f":"VALUE(URL_2[[#This Row],[Data]])","v":0}]
["Confirmed","Newfoundland and Labrador","Canada",53.1355,-57.660400000000003,"2020-01-28",0,{"$f":"VALUE(URL_2[[#This Row],[Data]])","v":0}]
["Confirmed","Newfoundland and Labrador","Canada",53.1355,-57.660400000000003,"2020-01-29",0,{"$f":"VALUE(URL_2[[#This Row],[Data]])","v":0}]
["Confirmed","Newfoundland and Labrador","Canada",53.1355,-57.660400000000003,"2020-01-30",0,{"$f":"VALUE(URL_2[[#This Row],[Data]])","v":0}]
["Confirmed","Newfoundland and Labrador","Canada",53.1355,-57.660400000000003,"2020-01-31",0,{"$f":"VALUE(URL_2[[#This Row],[Data]])","v":0}]
["Confirmed","Newfoundland and Labrador","Canada",53.1355,-57.660400000000003,"2020-02-01",0,{"$f":"VALUE(URL_2[[#This Row],[Data]])","v":0}]
["Confirmed","Newfoundland and Labrador","Canada",53.1355,-57.660400000000003,"2020-02-02",0,{"$f":"VALUE(URL_2[[#This Row],[Data]])","v":0}]
["Confirmed","Newfoundland and Labrador","Canada",53.1355,-57.660400000000003,"2020-02-03",0,{"$f":"VALUE(URL_2[[#This Row],[Data]])","v":0}]
["Confirmed","Newfoundland and Labrador","Canada",53.1355,-57.660400000000003,"2020-02-04",0,{"$f":"VALUE(URL_2[[#This Row],[Data]])","v":0}]
["Confirmed","Newfoundland and Labrador","Canada",53.1355,-57.660400000000003,"2020-02-05",0,{"$f":"VALUE(URL_2[[#This Row],[Data]])","v":0}]
["Confirmed","Newfoundland and Labrador","Canada",53.1355,-57.660400000000003,"2020-02-06",0,{"$f":"VALUE(URL_2[[#This Row],[Data]])","v":0}]
["Confirmed","Newfoundland and Labrador","Canada",53.1355,-57.660400000000003,"2020-02-07",0,{"$f":"VALUE(URL_2[[#This Row],[Data]])","v":0}]
["Confirmed","Newfoundland and Labrador","Canada",53.1355,-57.660400000000003,"2020-02-08",0,{"$f":"VALUE(URL_2[[#This Row],[Data]])","v":0}]
["Confirmed","Newfoundland and Labrador","Canada",53.1355,-57.660400000000003,"2020-02-09",0,{"$f":"VALUE(URL_2[[#This Row],[Data]])","v":0}]
["Confirmed","Newfoundland and Labrador","Canada",53.1355,-57.660400000000003,"2020-02-10",0,{"$f":"VALUE(URL_2[[#This Row],[Data]])","v":0}]
["Confirmed","Newfoundland and Labrador","Canada",53.1355,-57.660400000000003,"2020-02-11",0,{"$f":"VALUE(URL_2[[#This Row],[Data]])","v":0}]
["Confirmed","Newfoundland and Labrador","Canada",53.1355,-57.660400000000003,"2020-02-12",0,{"$f":"VALUE(URL_2[[#This Row],[Data]])","v":0}]
["Confirmed","Newfoundland and Labrador","Canada",53.1355,-57.660400000000003,"2020-02-13",0,{"$f":"VALUE(URL_2[[#This Row],[Data]])","v":0}]
["Confirmed","Newfoundland and Labrador","Canada",53.1355,-57.660400000000003,"2020-02-14",0,{"$f":"VALUE(URL_2[[#This Row],[Data]])","v":0}]
["Confirmed","Newfoundland and Labrador","Canada",53.1355,-57.660400000000003,"2020-02-15",0,{"$f":"VALUE(URL_2[[#This Row],[Data]])","v":0}]
["Confirmed","Newfoundland and Labrador","Canada",53.1355,-57.660400000000003,"2020-02-16",0,{"$f":"VALUE(URL_2[[#This Row],[Data]])","v":0}]
["Confirmed","Newfoundland and Labrador","Canada",53.1355,-57.660400000000003,"2020-02-17",0,{"$f":"VALUE(URL_2[[#This Row],[Data]])","v":0}]
["Confirmed","Newfoundland and Labrador","Canada",53.1355,-57.660400000000003,"2020-02-18",0,{"$f":"VALUE(URL_2[[#This Row],[Data]])","v":0}]
["Confirmed","Newfoundland and Labrador","Canada",53.1355,-57.660400000000003,"2020-02-19",0,{"$f":"VALUE(URL_2[[#This Row],[Data]])","v":0}]
["Confirmed","Newfoundland and Labrador","Canada",53.1355,-57.660400000000003,"2020-02-20",0,{"$f":"VALUE(URL_2[[#This Row],[Data]])","v":0}]
["Confirmed","Newfoundland and Labrador","Canada",53.1355,-57.660400000000003,"2020-02-21",0,{"$f":"VALUE(URL_2[[#This Row],[Data]])","v":0}]
["Confirmed","Newfoundland and Labrador","Canada",53.1355,-57.660400000000003,"2020-02-22",0,{"$f":"VALUE(URL_2[[#This Row],[Data]])","v":0}]
["Confirmed","Newfoundland and Labrador","Canada",53.1355,-57.660400000000003,"2020-02-23",0,{"$f":"VALUE(URL_2[[#This Row],[Data]])","v":0}]
["Confirmed","Newfoundland and Labrador","Canada",53.1355,-57.660400000000003,"2020-02-24",0,{"$f":"VALUE(URL_2[[#This Row],[Data]])","v":0}]
["Confirmed","Newfoundland and Labrador","Canada",53.1355,-57.660400000000003,"2020-02-25",0,{"$f":"VALUE(URL_2[[#This Row],[Data]])","v":0}]
["Confirmed","Newfoundland and Labrador","Canada",53.1355,-57.660400000000003,"2020-02-26",0,{"$f":"VALUE(URL_2[[#This Row],[Data]])","v":0}]
["Confirmed","Newfoundland and Labrador","Canada",53.1355,-57.660400000000003,"2020-02-27",0,{"$f":"VALUE(URL_2[[#This Row],[Data]])","v":0}]
["Confirmed","Newfoundland and Labrador","Canada",53.1355,-57.660400000000003,"2020-02-28",0,{"$f":"VALUE(URL_2[[#This Row],[Data]])","v":0}]
["Confirmed","Newfoundland and Labrador","Canada",53.1355,-57.660400000000003,"2020-02-29",0,{"$f":"VALUE(URL_2[[#This Row],[Data]])","v":0}]
["Confirmed","Newfoundland and Labrador","Canada",53.1355,-57.660400000000003,"2020-03-01",0,{"$f":"VALUE(URL_2[[#This Row],[Data]])","v":0}]
["Confirmed","Newfoundland and Labrador","Canada",53.1355,-57.660400000000003,"2020-03-02",0,{"$f":"VALUE(URL_2[[#This Row],[Data]])","v":0}]
["Confirmed","Newfoundland and Labrador","Canada",53.1355,-57.660400000000003,"2020-03-03",0,{"$f":"VALUE(URL_2[[#This Row],[Data]])","v":0}]
["Confirmed","Newfoundland and Labrador","Canada",53.1355,-57.660400000000003,"2020-03-04",0,{"$f":"VALUE(URL_2[[#This Row],[Data]])","v":0}]
["Confirmed","Newfoundland and Labrador","Canada",53.1355,-57.660400000000003,"2020-03-05",0,{"$f":"VALUE(URL_2[[#This Row],[Data]])","v":0}]
["Confirmed","Newfoundland and Labrador","Canada",53.1355,-57.660400000000003,"2020-03-06",0,{"$f":"VALUE(URL_2[[#This Row],[Data]])","v":0}]
["Confirmed","Newfoundland and Labrador","Canada",53.1355,-57.660400000000003,"2020-03-07",0,{"$f":"VALUE(URL_2[[#This Row],[Data]])","v":0}]
["Confirmed","Newfoundland and Labrador","Canada",53.1355,-57.660400000000003,"2020-03-08",0,{"$f":"VALUE(URL_2[[#This Row],[Data]])","v":0}]
["Confirmed","Newfoundland and Labrador","Canada",53.1355,-57.660400000000003,"2020-03-09",0,{"$f":"VALUE(URL_2[[#This Row],[Data]])","v":0}]
["Confirmed","Newfoundland and Labrador","Canada",53.1355,-57.660400000000003,"2020-03-10",0,{"$f":"VALUE(URL_2[[#This Row],[Data]])","v":0}]
["Confirmed","Newfoundland and Labrador","Canada",53.1355,-57.660400000000003,"2020-03-11",0,{"$f":"VALUE(URL_2[[#This Row],[Data]])","v":0}]
["Confirmed","Newfoundland and Labrador","Canada",53.1355,-57.660400000000003,"2020-03-12",0,{"$f":"VALUE(URL_2[[#This Row],[Data]])","v":0}]
["Confirmed","Newfoundland and Labrador","Canada",53.1355,-57.660400000000003,"2020-03-13",0,{"$f":"VALUE(URL_2[[#This Row],[Data]])","v":0}]
["Confirmed","Newfoundland and Labrador","Canada",53.1355,-57.660400000000003,"2020-03-14",0,{"$f":"VALUE(URL_2[[#This Row],[Data]])","v":0}]
["Confirmed","Nova Scotia","Canada",44.681999999999995,-63.744300000000003,"2020-01-22",0,{"$f":"VALUE(URL_2[[#This Row],[Data]])","v":0}]
["Confirmed","Nova Scotia","Canada",44.681999999999995,-63.744300000000003,"2020-01-23",0,{"$f":"VALUE(URL_2[[#This Row],[Data]])","v":0}]
["Confirmed","Nova Scotia","Canada",44.681999999999995,-63.744300000000003,"2020-01-24",0,{"$f":"VALUE(URL_2[[#This Row],[Data]])","v":0}]
["Confirmed","Nova Scotia","Canada",44.681999999999995,-63.744300000000003,"2020-01-25",0,{"$f":"VALUE(URL_2[[#This Row],[Data]])","v":0}]
["Confirmed","Nova Scotia","Canada",44.681999999999995,-63.744300000000003,"2020-01-26",0,{"$f":"VALUE(URL_2[[#This Row],[Data]])","v":0}]
["Confirmed","Nova Scotia","Canada",44.681999999999995,-63.744300000000003,"2020-01-27",0,{"$f":"VALUE(URL_2[[#This Row],[Data]])","v":0}]
["Confirmed","Nova Scotia","Canada",44.681999999999995,-63.744300000000003,"2020-01-28",0,{"$f":"VALUE(URL_2[[#This Row],[Data]])","v":0}]
["Confirmed","Nova Scotia","Canada",44.681999999999995,-63.744300000000003,"2020-01-29",0,{"$f":"VALUE(URL_2[[#This Row],[Data]])","v":0}]
["Confirmed","Nova Scotia","Canada",44.681999999999995,-63.744300000000003,"2020-01-30",0,{"$f":"VALUE(URL_2[[#This Row],[Data]])","v":0}]
["Confirmed","Nova Scotia","Canada",44.681999999999995,-63.744300000000003,"2020-01-31",0,{"$f":"VALUE(URL_2[[#This Row],[Data]])","v":0}]
["Confirmed","Nova Scotia","Canada",44.681999999999995,-63.744300000000003,"2020-02-01",0,{"$f":"VALUE(URL_2[[#This Row],[Data]])","v":0}]
["Confirmed","Nova Scotia","Canada",44.681999999999995,-63.744300000000003,"2020-02-02",0,{"$f":"VALUE(URL_2[[#This Row],[Data]])","v":0}]
["Confirmed","Nova Scotia","Canada",44.681999999999995,-63.744300000000003,"2020-02-03",0,{"$f":"VALUE(URL_2[[#This Row],[Data]])","v":0}]
["Confirmed","Nova Scotia","Canada",44.681999999999995,-63.744300000000003,"2020-02-04",0,{"$f":"VALUE(URL_2[[#This Row],[Data]])","v":0}]
["Confirmed","Nova Scotia","Canada",44.681999999999995,-63.744300000000003,"2020-02-05",0,{"$f":"VALUE(URL_2[[#This Row],[Data]])","v":0}]
["Confirmed","Nova Scotia","Canada",44.681999999999995,-63.744300000000003,"2020-02-06",0,{"$f":"VALUE(URL_2[[#This Row],[Data]])","v":0}]
["Confirmed","Nova Scotia","Canada",44.681999999999995,-63.744300000000003,"2020-02-07",0,{"$f":"VALUE(URL_2[[#This Row],[Data]])","v":0}]
["Confirmed","Nova Scotia","Canada",44.681999999999995,-63.744300000000003,"2020-02-08",0,{"$f":"VALUE(URL_2[[#This Row],[Data]])","v":0}]
["Confirmed","Nova Scotia","Canada",44.681999999999995,-63.744300000000003,"2020-02-09",0,{"$f":"VALUE(URL_2[[#This Row],[Data]])","v":0}]
["Confirmed","Nova Scotia","Canada",44.681999999999995,-63.744300000000003,"2020-02-10",0,{"$f":"VALUE(URL_2[[#This Row],[Data]])","v":0}]
["Confirmed","Nova Scotia","Canada",44.681999999999995,-63.744300000000003,"2020-02-11",0,{"$f":"VALUE(URL_2[[#This Row],[Data]])","v":0}]
["Confirmed","Nova Scotia","Canada",44.681999999999995,-63.744300000000003,"2020-02-12",0,{"$f":"VALUE(URL_2[[#This Row],[Data]])","v":0}]
["Confirmed","Nova Scotia","Canada",44.681999999999995,-63.744300000000003,"2020-02-13",0,{"$f":"VALUE(URL_2[[#This Row],[Data]])","v":0}]
["Confirmed","Nova Scotia","Canada",44.681999999999995,-63.744300000000003,"2020-02-14",0,{"$f":"VALUE(URL_2[[#This Row],[Data]])","v":0}]
["Confirmed","Nova Scotia","Canada",44.681999999999995,-63.744300000000003,"2020-02-15",0,{"$f":"VALUE(URL_2[[#This Row],[Data]])","v":0}]
["Confirmed","Nova Scotia","Canada",44.681999999999995,-63.744300000000003,"2020-02-16",0,{"$f":"VALUE(URL_2[[#This Row],[Data]])","v":0}]
["Confirmed","Nova Scotia","Canada",44.681999999999995,-63.744300000000003,"2020-02-17",0,{"$f":"VALUE(URL_2[[#This Row],[Data]])","v":0}]
["Confirmed","Nova Scotia","Canada",44.681999999999995,-63.744300000000003,"2020-02-18",0,{"$f":"VALUE(URL_2[[#This Row],[Data]])","v":0}]
["Confirmed","Nova Scotia","Canada",44.681999999999995,-63.744300000000003,"2020-02-19",0,{"$f":"VALUE(URL_2[[#This Row],[Data]])","v":0}]
["Confirmed","Nova Scotia","Canada",44.681999999999995,-63.744300000000003,"2020-02-20",0,{"$f":"VALUE(URL_2[[#This Row],[Data]])","v":0}]
["Confirmed","Nova Scotia","Canada",44.681999999999995,-63.744300000000003,"2020-02-21",0,{"$f":"VALUE(URL_2[[#This Row],[Data]])","v":0}]
["Confirmed","Nova Scotia","Canada",44.681999999999995,-63.744300000000003,"2020-02-22",0,{"$f":"VALUE(URL_2[[#This Row],[Data]])","v":0}]
["Confirmed","Nova Scotia","Canada",44.681999999999995,-63.744300000000003,"2020-02-23",0,{"$f":"VALUE(URL_2[[#This Row],[Data]])","v":0}]
["Confirmed","Nova Scotia","Canada",44.681999999999995,-63.744300000000003,"2020-02-24",0,{"$f":"VALUE(URL_2[[#This Row],[Data]])","v":0}]
["Confirmed","Nova Scotia","Canada",44.681999999999995,-63.744300000000003,"2020-02-25",0,{"$f":"VALUE(URL_2[[#This Row],[Data]])","v":0}]
["Confirmed","Nova Scotia","Canada",44.681999999999995,-63.744300000000003,"2020-02-26",0,{"$f":"VALUE(URL_2[[#This Row],[Data]])","v":0}]
["Confirmed","Nova Scotia","Canada",44.681999999999995,-63.744300000000003,"2020-02-27",0,{"$f":"VALUE(URL_2[[#This Row],[Data]])","v":0}]
["Confirmed","Nova Scotia","Canada",44.681999999999995,-63.744300000000003,"2020-02-28",0,{"$f":"VALUE(URL_2[[#This Row],[Data]])","v":0}]
["Confirmed","Nova Scotia","Canada",44.681999999999995,-63.744300000000003,"2020-02-29",0,{"$f":"VALUE(URL_2[[#This Row],[Data]])","v":0}]
["Confirmed","Nova Scotia","Canada",44.681999999999995,-63.744300000000003,"2020-03-01",0,{"$f":"VALUE(URL_2[[#This Row],[Data]])","v":0}]
["Confirmed","Nova Scotia","Canada",44.681999999999995,-63.744300000000003,"2020-03-02",0,{"$f":"VALUE(URL_2[[#This Row],[Data]])","v":0}]
["Confirmed","Nova Scotia","Canada",44.681999999999995,-63.744300000000003,"2020-03-03",0,{"$f":"VALUE(URL_2[[#This Row],[Data]])","v":0}]
["Confirmed","Nova Scotia","Canada",44.681999999999995,-63.744300000000003,"2020-03-04",0,{"$f":"VALUE(URL_2[[#This Row],[Data]])","v":0}]
["Confirmed","Nova Scotia","Canada",44.681999999999995,-63.744300000000003,"2020-03-05",0,{"$f":"VALUE(URL_2[[#This Row],[Data]])","v":0}]
["Confirmed","Nova Scotia","Canada",44.681999999999995,-63.744300000000003,"2020-03-06",0,{"$f":"VALUE(URL_2[[#This Row],[Data]])","v":0}]
["Confirmed","Nova Scotia","Canada",44.681999999999995,-63.744300000000003,"2020-03-07",0,{"$f":"VALUE(URL_2[[#This Row],[Data]])","v":0}]
["Confirmed","Nova Scotia","Canada",44.681999999999995,-63.744300000000003,"2020-03-08",0,{"$f":"VALUE(URL_2[[#This Row],[Data]])","v":0}]
["Confirmed","Nova Scotia","Canada",44.681999999999995,-63.744300000000003,"2020-03-09",0,{"$f":"VALUE(URL_2[[#This Row],[Data]])","v":0}]
["Confirmed","Nova Scotia","Canada",44.681999999999995,-63.744300000000003,"2020-03-10",0,{"$f":"VALUE(URL_2[[#This Row],[Data]])","v":0}]
["Confirmed","Nova Scotia","Canada",44.681999999999995,-63.744300000000003,"2020-03-11",0,{"$f":"VALUE(URL_2[[#This Row],[Data]])","v":0}]
["Confirmed","Nova Scotia","Canada",44.681999999999995,-63.744300000000003,"2020-03-12",0,{"$f":"VALUE(URL_2[[#This Row],[Data]])","v":0}]
["Confirmed","Nova Scotia","Canada",44.681999999999995,-63.744300000000003,"2020-03-13",0,{"$f":"VALUE(URL_2[[#This Row],[Data]])","v":0}]
["Confirmed","Nova Scotia","Canada",44.681999999999995,-63.744300000000003,"2020-03-14",0,{"$f":"VALUE(URL_2[[#This Row],[Data]])","v":0}]
["Confirmed","Nova Scotia","Canada",44.681999999999995,-63.744300000000003,"2020-03-15",0,{"$f":"VALUE(URL_2[[#This Row],[Data]])","v":0}]
["Confirmed","Ontario","Canada",51.253799999999998,-85.3232,"2020-01-22",0,{"$f":"VALUE(URL_2[[#This Row],[Data]])","v":0}]
["Confirmed","Ontario","Canada",51.253799999999998,-85.3232,"2020-01-23",0,{"$f":"VALUE(URL_2[[#This Row],[Data]])","v":0}]
["Confirmed","Ontario","Canada",51.253799999999998,-85.3232,"2020-01-24",0,{"$f":"VALUE(URL_2[[#This Row],[Data]])","v":0}]
["Confirmed","Ontario","Canada",51.253799999999998,-85.3232,"2020-01-25",0,{"$f":"VALUE(URL_2[[#This Row],[Data]])","v":0}]
["Confirmed","Prince Edward Island","Canada",46.5107,-63.416800000000002,"2020-01-22",0,{"$f":"VALUE(URL_2[[#This Row],[Data]])","v":0}]
["Confirmed","Prince Edward Island","Canada",46.5107,-63.416800000000002,"2020-01-23",0,{"$f":"VALUE(URL_2[[#This Row],[Data]])","v":0}]
["Confirmed","Prince Edward Island","Canada",46.5107,-63.416800000000002,"2020-01-24",0,{"$f":"VALUE(URL_2[[#This Row],[Data]])","v":0}]
["Confirmed","Prince Edward Island","Canada",46.5107,-63.416800000000002,"2020-01-25",0,{"$f":"VALUE(URL_2[[#This Row],[Data]])","v":0}]
["Confirmed","Prince Edward Island","Canada",46.5107,-63.416800000000002,"2020-01-26",0,{"$f":"VALUE(URL_2[[#This Row],[Data]])","v":0}]
["Confirmed","Prince Edward Island","Canada",46.5107,-63.416800000000002,"2020-01-27",0,{"$f":"VALUE(URL_2[[#This Row],[Data]])","v":0}]
["Confirmed","Prince Edward Island","Canada",46.5107,-63.416800000000002,"2020-01-28",0,{"$f":"VALUE(URL_2[[#This Row],[Data]])","v":0}]
["Confirmed","Prince Edward Island","Canada",46.5107,-63.416800000000002,"2020-01-29",0,{"$f":"VALUE(URL_2[[#This Row],[Data]])","v":0}]
["Confirmed","Prince Edward Island","Canada",46.5107,-63.416800000000002,"2020-01-30",0,{"$f":"VALUE(URL_2[[#This Row],[Data]])","v":0}]
["Confirmed","Prince Edward Island","Canada",46.5107,-63.416800000000002,"2020-01-31",0,{"$f":"VALUE(URL_2[[#This Row],[Data]])","v":0}]
["Confirmed","Prince Edward Island","Canada",46.5107,-63.416800000000002,"2020-02-01",0,{"$f":"VALUE(URL_2[[#This Row],[Data]])","v":0}]
["Confirmed","Prince Edward Island","Canada",46.5107,-63.416800000000002,"2020-02-02",0,{"$f":"VALUE(URL_2[[#This Row],[Data]])","v":0}]
["Confirmed","Prince Edward Island","Canada",46.5107,-63.416800000000002,"2020-02-03",0,{"$f":"VALUE(URL_2[[#This Row],[Data]])","v":0}]
["Confirmed","Prince Edward Island","Canada",46.5107,-63.416800000000002,"2020-02-04",0,{"$f":"VALUE(URL_2[[#This Row],[Data]])","v":0}]
["Confirmed","Prince Edward Island","Canada",46.5107,-63.416800000000002,"2020-02-05",0,{"$f":"VALUE(URL_2[[#This Row],[Data]])","v":0}]
["Confirmed","Prince Edward Island","Canada",46.5107,-63.416800000000002,"2020-02-06",0,{"$f":"VALUE(URL_2[[#This Row],[Data]])","v":0}]
["Confirmed","Prince Edward Island","Canada",46.5107,-63.416800000000002,"2020-02-07",0,{"$f":"VALUE(URL_2[[#This Row],[Data]])","v":0}]
["Confirmed","Prince Edward Island","Canada",46.5107,-63.416800000000002,"2020-02-08",0,{"$f":"VALUE(URL_2[[#This Row],[Data]])","v":0}]
["Confirmed","Prince Edward Island","Canada",46.5107,-63.416800000000002,"2020-02-09",0,{"$f":"VALUE(URL_2[[#This Row],[Data]])","v":0}]
["Confirmed","Prince Edward Island","Canada",46.5107,-63.416800000000002,"2020-02-10",0,{"$f":"VALUE(URL_2[[#This Row],[Data]])","v":0}]
["Confirmed","Prince Edward Island","Canada",46.5107,-63.416800000000002,"2020-02-11",0,{"$f":"VALUE(URL_2[[#This Row],[Data]])","v":0}]
["Confirmed","Prince Edward Island","Canada",46.5107,-63.416800000000002,"2020-02-12",0,{"$f":"VALUE(URL_2[[#This Row],[Data]])","v":0}]
["Confirmed","Prince Edward Island","Canada",46.5107,-63.416800000000002,"2020-02-13",0,{"$f":"VALUE(URL_2[[#This Row],[Data]])","v":0}]
["Confirmed","Prince Edward Island","Canada",46.5107,-63.416800000000002,"2020-02-14",0,{"$f":"VALUE(URL_2[[#This Row],[Data]])","v":0}]
["Confirmed","Prince Edward Island","Canada",46.5107,-63.416800000000002,"2020-02-15",0,{"$f":"VALUE(URL_2[[#This Row],[Data]])","v":0}]
["Confirmed","Prince Edward Island","Canada",46.5107,-63.416800000000002,"2020-02-16",0,{"$f":"VALUE(URL_2[[#This Row],[Data]])","v":0}]
["Confirmed","Prince Edward Island","Canada",46.5107,-63.416800000000002,"2020-02-17",0,{"$f":"VALUE(URL_2[[#This Row],[Data]])","v":0}]
["Confirmed","Prince Edward Island","Canada",46.5107,-63.416800000000002,"2020-02-18",0,{"$f":"VALUE(URL_2[[#This Row],[Data]])","v":0}]
["Confirmed","Prince Edward Island","Canada",46.5107,-63.416800000000002,"2020-02-19",0,{"$f":"VALUE(URL_2[[#This Row],[Data]])","v":0}]
["Confirmed","Prince Edward Island","Canada",46.5107,-63.416800000000002,"2020-02-20",0,{"$f":"VALUE(URL_2[[#This Row],[Data]])","v":0}]
["Confirmed","Prince Edward Island","Canada",46.5107,-63.416800000000002,"2020-02-21",0,{"$f":"VALUE(URL_2[[#This Row],[Data]])","v":0}]
["Confirmed","Prince Edward Island","Canada",46.5107,-63.416800000000002,"2020-02-22",0,{"$f":"VALUE(URL_2[[#This Row],[Data]])","v":0}]
["Confirmed","Prince Edward Island","Canada",46.5107,-63.416800000000002,"2020-02-23",0,{"$f":"VALUE(URL_2[[#This Row],[Data]])","v":0}]
["Confirmed","Prince Edward Island","Canada",46.5107,-63.416800000000002,"2020-02-24",0,{"$f":"VALUE(URL_2[[#This Row],[Data]])","v":0}]
["Confirmed","Prince Edward Island","Canada",46.5107,-63.416800000000002,"2020-02-25",0,{"$f":"VALUE(URL_2[[#This Row],[Data]])","v":0}]
["Confirmed","Prince Edward Island","Canada",46.5107,-63.416800000000002,"2020-02-26",0,{"$f":"VALUE(URL_2[[#This Row],[Data]])","v":0}]
["Confirmed","Prince Edward Island","Canada",46.5107,-63.416800000000002,"2020-02-27",0,{"$f":"VALUE(URL_2[[#This Row],[Data]])","v":0}]
["Confirmed","Prince Edward Island","Canada",46.5107,-63.416800000000002,"2020-02-28",0,{"$f":"VALUE(URL_2[[#This Row],[Data]])","v":0}]
["Confirmed","Prince Edward Island","Canada",46.5107,-63.416800000000002,"2020-02-29",0,{"$f":"VALUE(URL_2[[#This Row],[Data]])","v":0}]
["Confirmed","Prince Edward Island","Canada",46.5107,-63.416800000000002,"2020-03-01",0,{"$f":"VALUE(URL_2[[#This Row],[Data]])","v":0}]
["Confirmed","Prince Edward Island","Canada",46.5107,-63.416800000000002,"2020-03-02",0,{"$f":"VALUE(URL_2[[#This Row],[Data]])","v":0}]
["Confirmed","Prince Edward Island","Canada",46.5107,-63.416800000000002,"2020-03-03",0,{"$f":"VALUE(URL_2[[#This Row],[Data]])","v":0}]
["Confirmed","Prince Edward Island","Canada",46.5107,-63.416800000000002,"2020-03-04",0,{"$f":"VALUE(URL_2[[#This Row],[Data]])","v":0}]
["Confirmed","Prince Edward Island","Canada",46.5107,-63.416800000000002,"2020-03-05",0,{"$f":"VALUE(URL_2[[#This Row],[Data]])","v":0}]
["Confirmed","Prince Edward Island","Canada",46.5107,-63.416800000000002,"2020-03-06",0,{"$f":"VALUE(URL_2[[#This Row],[Data]])","v":0}]
["Confirmed","Prince Edward Island","Canada",46.5107,-63.416800000000002,"2020-03-07",0,{"$f":"VALUE(URL_2[[#This Row],[Data]])","v":0}]
["Confirmed","Prince Edward Island","Canada",46.5107,-63.416800000000002,"2020-03-08",0,{"$f":"VALUE(URL_2[[#This Row],[Data]])","v":0}]
["Confirmed","Prince Edward Island","Canada",46.5107,-63.416800000000002,"2020-03-09",0,{"$f":"VALUE(URL_2[[#This Row],[Data]])","v":0}]
["Confirmed","Prince Edward Island","Canada",46.5107,-63.416800000000002,"2020-03-10",0,{"$f":"VALUE(URL_2[[#This Row],[Data]])","v":0}]
["Confirmed","Prince Edward Island","Canada",46.5107,-63.416800000000002,"2020-03-11",0,{"$f":"VALUE(URL_2[[#This Row],[Data]])","v":0}]
["Confirmed","Prince Edward Island","Canada",46.5107,-63.416800000000002,"2020-03-12",0,{"$f":"VALUE(URL_2[[#This Row],[Data]])","v":0}]
["Confirmed","Prince Edward Island","Canada",46.5107,-63.416800000000002,"2020-03-13",0,{"$f":"VALUE(URL_2[[#This Row],[Data]])","v":0}]
["Confirmed","Prince Edward Island","Canada",46.5107,-63.416800000000002,"2020-03-14",0,{"$f":"VALUE(URL_2[[#This Row],[Data]])","v":0}]
["Confirmed","Quebec","Canada",52.939900000000002,-73.549099999999996,"2020-01-22",0,{"$f":"VALUE(URL_2[[#This Row],[Data]])","v":0}]
["Confirmed","Quebec","Canada",52.939900000000002,-73.549099999999996,"2020-01-23",0,{"$f":"VALUE(URL_2[[#This Row],[Data]])","v":0}]
["Confirmed","Quebec","Canada",52.939900000000002,-73.549099999999996,"2020-01-24",0,{"$f":"VALUE(URL_2[[#This Row],[Data]])","v":0}]
["Confirmed","Quebec","Canada",52.939900000000002,-73.549099999999996,"2020-01-25",0,{"$f":"VALUE(URL_2[[#This Row],[Data]])","v":0}]
["Confirmed","Quebec","Canada",52.939900000000002,-73.549099999999996,"2020-01-26",0,{"$f":"VALUE(URL_2[[#This Row],[Data]])","v":0}]
["Confirmed","Quebec","Canada",52.939900000000002,-73.549099999999996,"2020-01-27",0,{"$f":"VALUE(URL_2[[#This Row],[Data]])","v":0}]
["Confirmed","Quebec","Canada",52.939900000000002,-73.549099999999996,"2020-01-28",0,{"$f":"VALUE(URL_2[[#This Row],[Data]])","v":0}]
["Confirmed","Quebec","Canada",52.939900000000002,-73.549099999999996,"2020-01-29",0,{"$f":"VALUE(URL_2[[#This Row],[Data]])","v":0}]
["Confirmed","Quebec","Canada",52.939900000000002,-73.549099999999996,"2020-01-30",0,{"$f":"VALUE(URL_2[[#This Row],[Data]])","v":0}]
["Confirmed","Quebec","Canada",52.939900000000002,-73.549099999999996,"2020-01-31",0,{"$f":"VALUE(URL_2[[#This Row],[Data]])","v":0}]
["Confirmed","Quebec","Canada",52.939900000000002,-73.549099999999996,"2020-02-01",0,{"$f":"VALUE(URL_2[[#This Row],[Data]])","v":0}]
["Confirmed","Quebec","Canada",52.939900000000002,-73.549099999999996,"2020-02-02",0,{"$f":"VALUE(URL_2[[#This Row],[Data]])","v":0}]
["Confirmed","Quebec","Canada",52.939900000000002,-73.549099999999996,"2020-02-03",0,{"$f":"VALUE(URL_2[[#This Row],[Data]])","v":0}]
["Confirmed","Quebec","Canada",52.939900000000002,-73.549099999999996,"2020-02-04",0,{"$f":"VALUE(URL_2[[#This Row],[Data]])","v":0}]
["Confirmed","Quebec","Canada",52.939900000000002,-73.549099999999996,"2020-02-05",0,{"$f":"VALUE(URL_2[[#This Row],[Data]])","v":0}]
["Confirmed","Quebec","Canada",52.939900000000002,-73.549099999999996,"2020-02-06",0,{"$f":"VALUE(URL_2[[#This Row],[Data]])","v":0}]
["Confirmed","Quebec","Canada",52.939900000000002,-73.549099999999996,"2020-02-07",0,{"$f":"VALUE(URL_2[[#This Row],[Data]])","v":0}]
["Confirmed","Quebec","Canada",52.939900000000002,-73.549099999999996,"2020-02-08",0,{"$f":"VALUE(URL_2[[#This Row],[Data]])","v":0}]
["Confirmed","Quebec","Canada",52.939900000000002,-73.549099999999996,"2020-02-09",0,{"$f":"VALUE(URL_2[[#This Row],[Data]])","v":0}]
["Confirmed","Quebec","Canada",52.939900000000002,-73.549099999999996,"2020-02-10",0,{"$f":"VALUE(URL_2[[#This Row],[Data]])","v":0}]
["Confirmed","Quebec","Canada",52.939900000000002,-73.549099999999996,"2020-02-11",0,{"$f":"VALUE(URL_2[[#This Row],[Data]])","v":0}]
["Confirmed","Quebec","Canada",52.939900000000002,-73.549099999999996,"2020-02-12",0,{"$f":"VALUE(URL_2[[#This Row],[Data]])","v":0}]
["Confirmed","Quebec","Canada",52.939900000000002,-73.549099999999996,"2020-02-13",0,{"$f":"VALUE(URL_2[[#This Row],[Data]])","v":0}]
["Confirmed","Quebec","Canada",52.939900000000002,-73.549099999999996,"2020-02-14",0,{"$f":"VALUE(URL_2[[#This Row],[Data]])","v":0}]
["Confirmed","Quebec","Canada",52.939900000000002,-73.549099999999996,"2020-02-15",0,{"$f":"VALUE(URL_2[[#This Row],[Data]])","v":0}]
["Confirmed","Quebec","Canada",52.939900000000002,-73.549099999999996,"2020-02-16",0,{"$f":"VALUE(URL_2[[#This Row],[Data]])","v":0}]
["Confirmed","Quebec","Canada",52.939900000000002,-73.549099999999996,"2020-02-17",0,{"$f":"VALUE(URL_2[[#This Row],[Data]])","v":0}]
["Confirmed","Quebec","Canada",52.939900000000002,-73.549099999999996,"2020-02-18",0,{"$f":"VALUE(URL_2[[#This Row],[Data]])","v":0}]
["Confirmed","Quebec","Canada",52.939900000000002,-73.549099999999996,"2020-02-19",0,{"$f":"VALUE(URL_2[[#This Row],[Data]])","v":0}]
["Confirmed","Quebec","Canada",52.939900000000002,-73.549099999999996,"2020-02-20",0,{"$f":"VALUE(URL_2[[#This Row],[Data]])","v":0}]
["Confirmed","Quebec","Canada",52.939900000000002,-73.549099999999996,"2020-02-21",0,{"$f":"VALUE(URL_2[[#This Row],[Data]])","v":0}]
["Confirmed","Quebec","Canada",52.939900000000002,-73.549099999999996,"2020-02-22",0,{"$f":"VALUE(URL_2[[#This Row],[Data]])","v":0}]
["Confirmed","Quebec","Canada",52.939900000000002,-73.549099999999996,"2020-02-23",0,{"$f":"VALUE(URL_2[[#This Row],[Data]])","v":0}]
["Confirmed","Quebec","Canada",52.939900000000002,-73.549099999999996,"2020-02-24",0,{"$f":"VALUE(URL_2[[#This Row],[Data]])","v":0}]
["Confirmed","Quebec","Canada",52.939900000000002,-73.549099999999996,"2020-02-25",0,{"$f":"VALUE(URL_2[[#This Row],[Data]])","v":0}]
["Confirmed","Quebec","Canada",52.939900000000002,-73.549099999999996,"2020-02-26",0,{"$f":"VALUE(URL_2[[#This Row],[Data]])","v":0}]
["Confirmed","Quebec","Canada",52.939900000000002,-73.549099999999996,"2020-02-27",0,{"$f":"VALUE(URL_2[[#This Row],[Data]])","v":0}]
["Confirmed","Saskatchewan","Canada",52.939900000000002,-106.4509,"2020-01-22",0,{"$f":"VALUE(URL_2[[#This Row],[Data]])","v":0}]
["Confirmed","Saskatchewan","Canada",52.939900000000002,-106.4509,"2020-01-23",0,{"$f":"VALUE(URL_2[[#This Row],[Data]])","v":0}]
["Confirmed","Saskatchewan","Canada",52.939900000000002,-106.4509,"2020-01-24",0,{"$f":"VALUE(URL_2[[#This Row],[Data]])","v":0}]
["Confirmed","Saskatchewan","Canada",52.939900000000002,-106.4509,"2020-01-25",0,{"$f":"VALUE(URL_2[[#This Row],[Data]])","v":0}]
["Confirmed","Saskatchewan","Canada",52.939900000000002,-106.4509,"2020-01-26",0,{"$f":"VALUE(URL_2[[#This Row],[Data]])","v":0}]
["Confirmed","Saskatchewan","Canada",52.939900000000002,-106.4509,"2020-01-27",0,{"$f":"VALUE(URL_2[[#This Row],[Data]])","v":0}]
["Confirmed","Saskatchewan","Canada",52.939900000000002,-106.4509,"2020-01-28",0,{"$f":"VALUE(URL_2[[#This Row],[Data]])","v":0}]
["Confirmed","Saskatchewan","Canada",52.939900000000002,-106.4509,"2020-01-29",0,{"$f":"VALUE(URL_2[[#This Row],[Data]])","v":0}]
["Confirmed","Saskatchewan","Canada",52.939900000000002,-106.4509,"2020-01-30",0,{"$f":"VALUE(URL_2[[#This Row],[Data]])","v":0}]
["Confirmed","Saskatchewan","Canada",52.939900000000002,-106.4509,"2020-01-31",0,{"$f":"VALUE(URL_2[[#This Row],[Data]])","v":0}]
["Confirmed","Saskatchewan","Canada",52.939900000000002,-106.4509,"2020-02-01",0,{"$f":"VALUE(URL_2[[#This Row],[Data]])","v":0}]
["Confirmed","Saskatchewan","Canada",52.939900000000002,-106.4509,"2020-02-02",0,{"$f":"VALUE(URL_2[[#This Row],[Data]])","v":0}]
["Confirmed","Saskatchewan","Canada",52.939900000000002,-106.4509,"2020-02-03",0,{"$f":"VALUE(URL_2[[#This Row],[Data]])","v":0}]
["Confirmed","Saskatchewan","Canada",52.939900000000002,-106.4509,"2020-02-04",0,{"$f":"VALUE(URL_2[[#This Row],[Data]])","v":0}]
["Confirmed","Saskatchewan","Canada",52.939900000000002,-106.4509,"2020-02-05",0,{"$f":"VALUE(URL_2[[#This Row],[Data]])","v":0}]
["Confirmed","Saskatchewan","Canada",52.939900000000002,-106.4509,"2020-02-06",0,{"$f":"VALUE(URL_2[[#This Row],[Data]])","v":0}]
["Confirmed","Saskatchewan","Canada",52.939900000000002,-106.4509,"2020-02-07",0,{"$f":"VALUE(URL_2[[#This Row],[Data]])","v":0}]
["Confirmed","Saskatchewan","Canada",52.939900000000002,-106.4509,"2020-02-08",0,{"$f":"VALUE(URL_2[[#This Row],[Data]])","v":0}]
["Confirmed","Saskatchewan","Canada",52.939900000000002,-106.4509,"2020-02-09",0,{"$f":"VALUE(URL_2[[#This Row],[Data]])","v":0}]
["Confirmed","Saskatchewan","Canada",52.939900000000002,-106.4509,"2020-02-10",0,{"$f":"VALUE(URL_2[[#This Row],[Data]])","v":0}]
["Confirmed","Saskatchewan","Canada",52.939900000000002,-106.4509,"2020-02-11",0,{"$f":"VALUE(URL_2[[#This Row],[Data]])","v":0}]
["Confirmed","Saskatchewan","Canada",52.939900000000002,-106.4509,"2020-02-12",0,{"$f":"VALUE(URL_2[[#This Row],[Data]])","v":0}]
["Confirmed","Saskatchewan","Canada",52.939900000000002,-106.4509,"2020-02-13",0,{"$f":"VALUE(URL_2[[#This Row],[Data]])","v":0}]
["Confirmed","Saskatchewan","Canada",52.939900000000002,-106.4509,"2020-02-14",0,{"$f":"VALUE(URL_2[[#This Row],[Data]])","v":0}]
["Confirmed","Saskatchewan","Canada",52.939900000000002,-106.4509,"2020-02-15",0,{"$f":"VALUE(URL_2[[#This Row],[Data]])","v":0}]
["Confirmed","Saskatchewan","Canada",52.939900000000002,-106.4509,"2020-02-16",0,{"$f":"VALUE(URL_2[[#This Row],[Data]])","v":0}]
["Confirmed","Saskatchewan","Canada",52.939900000000002,-106.4509,"2020-02-17",0,{"$f":"VALUE(URL_2[[#This Row],[Data]])","v":0}]
["Confirmed","Saskatchewan","Canada",52.939900000000002,-106.4509,"2020-02-18",0,{"$f":"VALUE(URL_2[[#This Row],[Data]])","v":0}]
["Confirmed","Saskatchewan","Canada",52.939900000000002,-106.4509,"2020-02-19",0,{"$f":"VALUE(URL_2[[#This Row],[Data]])","v":0}]
["Confirmed","Saskatchewan","Canada",52.939900000000002,-106.4509,"2020-02-20",0,{"$f":"VALUE(URL_2[[#This Row],[Data]])","v":0}]
["Confirmed","Saskatchewan","Canada",52.939900000000002,-106.4509,"2020-02-21",0,{"$f":"VALUE(URL_2[[#This Row],[Data]])","v":0}]
["Confirmed","Saskatchewan","Canada",52.939900000000002,-106.4509,"2020-02-22",0,{"$f":"VALUE(URL_2[[#This Row],[Data]])","v":0}]
["Confirmed","Saskatchewan","Canada",52.939900000000002,-106.4509,"2020-02-23",0,{"$f":"VALUE(URL_2[[#This Row],[Data]])","v":0}]
["Confirmed","Saskatchewan","Canada",52.939900000000002,-106.4509,"2020-02-24",0,{"$f":"VALUE(URL_2[[#This Row],[Data]])","v":0}]
["Confirmed","Saskatchewan","Canada",52.939900000000002,-106.4509,"2020-02-25",0,{"$f":"VALUE(URL_2[[#This Row],[Data]])","v":0}]
["Confirmed","Saskatchewan","Canada",52.939900000000002,-106.4509,"2020-02-26",0,{"$f":"VALUE(URL_2[[#This Row],[Data]])","v":0}]
["Confirmed","Saskatchewan","Canada",52.939900000000002,-106.4509,"2020-02-27",0,{"$f":"VALUE(URL_2[[#This Row],[Data]])","v":0}]
["Confirmed","Saskatchewan","Canada",52.939900000000002,-106.4509,"2020-02-28",0,{"$f":"VALUE(URL_2[[#This Row],[Data]])","v":0}]
["Confirmed","Saskatchewan","Canada",52.939900000000002,-106.4509,"2020-02-29",0,{"$f":"VALUE(URL_2[[#This Row],[Data]])","v":0}]
["Confirmed","Saskatchewan","Canada",52.939900000000002,-106.4509,"2020-03-01",0,{"$f":"VALUE(URL_2[[#This Row],[Data]])","v":0}]
["Confirmed","Saskatchewan","Canada",52.939900000000002,-106.4509,"2020-03-02",0,{"$f":"VALUE(URL_2[[#This Row],[Data]])","v":0}]
["Confirmed","Saskatchewan","Canada",52.939900000000002,-106.4509,"2020-03-03",0,{"$f":"VALUE(URL_2[[#This Row],[Data]])","v":0}]
["Confirmed","Saskatchewan","Canada",52.939900000000002,-106.4509,"2020-03-04",0,{"$f":"VALUE(URL_2[[#This Row],[Data]])","v":0}]
["Confirmed","Saskatchewan","Canada",52.939900000000002,-106.4509,"2020-03-05",0,{"$f":"VALUE(URL_2[[#This Row],[Data]])","v":0}]
["Confirmed","Saskatchewan","Canada",52.939900000000002,-106.4509,"2020-03-06",0,{"$f":"VALUE(URL_2[[#This Row],[Data]])","v":0}]
["Confirmed","Saskatchewan","Canada",52.939900000000002,-106.4509,"2020-03-07",0,{"$f":"VALUE(URL_2[[#This Row],[Data]])","v":0}]
["Confirmed","Saskatchewan","Canada",52.939900000000002,-106.4509,"2020-03-08",0,{"$f":"VALUE(URL_2[[#This Row],[Data]])","v":0}]
["Confirmed","Saskatchewan","Canada",52.939900000000002,-106.4509,"2020-03-09",0,{"$f":"VALUE(URL_2[[#This Row],[Data]])","v":0}]
["Confirmed","Saskatchewan","Canada",52.939900000000002,-106.4509,"2020-03-10",0,{"$f":"VALUE(URL_2[[#This Row],[Data]])","v":0}]
["Confirmed","Saskatchewan","Canada",52.939900000000002,-106.4509,"2020-03-11",0,{"$f":"VALUE(URL_2[[#This Row],[Data]])","v":0}]
["Confirmed","Saskatchewan","Canada",52.939900000000002,-106.4509,"2020-03-12",0,{"$f":"VALUE(URL_2[[#This Row],[Data]])","v":0}]
["Confirmed","","Central African Republic",6.6111000000000004,20.939399999999999,"2020-01-22",0,{"$f":"VALUE(URL_2[[#This Row],[Data]])","v":0}]
["Confirmed","","Central African Republic",6.6111000000000004,20.939399999999999,"2020-01-23",0,{"$f":"VALUE(URL_2[[#This Row],[Data]])","v":0}]
["Confirmed","","Central African Republic",6.6111000000000004,20.939399999999999,"2020-01-24",0,{"$f":"VALUE(URL_2[[#This Row],[Data]])","v":0}]
["Confirmed","","Central African Republic",6.6111000000000004,20.939399999999999,"2020-01-25",0,{"$f":"VALUE(URL_2[[#This Row],[Data]])","v":0}]
["Confirmed","","Central African Republic",6.6111000000000004,20.939399999999999,"2020-01-26",0,{"$f":"VALUE(URL_2[[#This Row],[Data]])","v":0}]
["Confirmed","","Central African Republic",6.6111000000000004,20.939399999999999,"2020-01-27",0,{"$f":"VALUE(URL_2[[#This Row],[Data]])","v":0}]
["Confirmed","","Central African Republic",6.6111000000000004,20.939399999999999,"2020-01-28",0,{"$f":"VALUE(URL_2[[#This Row],[Data]])","v":0}]
["Confirmed","","Central African Republic",6.6111000000000004,20.939399999999999,"2020-01-29",0,{"$f":"VALUE(URL_2[[#This Row],[Data]])","v":0}]
["Confirmed","","Central African Republic",6.6111000000000004,20.939399999999999,"2020-01-30",0,{"$f":"VALUE(URL_2[[#This Row],[Data]])","v":0}]
["Confirmed","","Central African Republic",6.6111000000000004,20.939399999999999,"2020-01-31",0,{"$f":"VALUE(URL_2[[#This Row],[Data]])","v":0}]
["Confirmed","","Central African Republic",6.6111000000000004,20.939399999999999,"2020-02-01",0,{"$f":"VALUE(URL_2[[#This Row],[Data]])","v":0}]
["Confirmed","","Central African Republic",6.6111000000000004,20.939399999999999,"2020-02-02",0,{"$f":"VALUE(URL_2[[#This Row],[Data]])","v":0}]
["Confirmed","","Central African Republic",6.6111000000000004,20.939399999999999,"2020-02-03",0,{"$f":"VALUE(URL_2[[#This Row],[Data]])","v":0}]
["Confirmed","","Central African Republic",6.6111000000000004,20.939399999999999,"2020-02-04",0,{"$f":"VALUE(URL_2[[#This Row],[Data]])","v":0}]
["Confirmed","","Central African Republic",6.6111000000000004,20.939399999999999,"2020-02-05",0,{"$f":"VALUE(URL_2[[#This Row],[Data]])","v":0}]
["Confirmed","","Central African Republic",6.6111000000000004,20.939399999999999,"2020-02-06",0,{"$f":"VALUE(URL_2[[#This Row],[Data]])","v":0}]
["Confirmed","","Central African Republic",6.6111000000000004,20.939399999999999,"2020-02-07",0,{"$f":"VALUE(URL_2[[#This Row],[Data]])","v":0}]
["Confirmed","","Central African Republic",6.6111000000000004,20.939399999999999,"2020-02-08",0,{"$f":"VALUE(URL_2[[#This Row],[Data]])","v":0}]
["Confirmed","","Central African Republic",6.6111000000000004,20.939399999999999,"2020-02-09",0,{"$f":"VALUE(URL_2[[#This Row],[Data]])","v":0}]
["Confirmed","","Central African Republic",6.6111000000000004,20.939399999999999,"2020-02-10",0,{"$f":"VALUE(URL_2[[#This Row],[Data]])","v":0}]
["Confirmed","","Central African Republic",6.6111000000000004,20.939399999999999,"2020-02-11",0,{"$f":"VALUE(URL_2[[#This Row],[Data]])","v":0}]
["Confirmed","","Central African Republic",6.6111000000000004,20.939399999999999,"2020-02-12",0,{"$f":"VALUE(URL_2[[#This Row],[Data]])","v":0}]
["Confirmed","","Central African Republic",6.6111000000000004,20.939399999999999,"2020-02-13",0,{"$f":"VALUE(URL_2[[#This Row],[Data]])","v":0}]
["Confirmed","","Central African Republic",6.6111000000000004,20.939399999999999,"2020-02-14",0,{"$f":"VALUE(URL_2[[#This Row],[Data]])","v":0}]
["Confirmed","","Central African Republic",6.6111000000000004,20.939399999999999,"2020-02-15",0,{"$f":"VALUE(URL_2[[#This Row],[Data]])","v":0}]
["Confirmed","","Central African Republic",6.6111000000000004,20.939399999999999,"2020-02-16",0,{"$f":"VALUE(URL_2[[#This Row],[Data]])","v":0}]
["Confirmed","","Central African Republic",6.6111000000000004,20.939399999999999,"2020-02-17",0,{"$f":"VALUE(URL_2[[#This Row],[Data]])","v":0}]
["Confirmed","","Central African Republic",6.6111000000000004,20.939399999999999,"2020-02-18",0,{"$f":"VALUE(URL_2[[#This Row],[Data]])","v":0}]
["Confirmed","","Central African Republic",6.6111000000000004,20.939399999999999,"2020-02-19",0,{"$f":"VALUE(URL_2[[#This Row],[Data]])","v":0}]
["Confirmed","","Central African Republic",6.6111000000000004,20.939399999999999,"2020-02-20",0,{"$f":"VALUE(URL_2[[#This Row],[Data]])","v":0}]
["Confirmed","","Central African Republic",6.6111000000000004,20.939399999999999,"2020-02-21",0,{"$f":"VALUE(URL_2[[#This Row],[Data]])","v":0}]
["Confirmed","","Central African Republic",6.6111000000000004,20.939399999999999,"2020-02-22",0,{"$f":"VALUE(URL_2[[#This Row],[Data]])","v":0}]
["Confirmed","","Central African Republic",6.6111000000000004,20.939399999999999,"2020-02-23",0,{"$f":"VALUE(URL_2[[#This Row],[Data]])","v":0}]
["Confirmed","","Central African Republic",6.6111000000000004,20.939399999999999,"2020-02-24",0,{"$f":"VALUE(URL_2[[#This Row],[Data]])","v":0}]
["Confirmed","","Central African Republic",6.6111000000000004,20.939399999999999,"2020-02-25",0,{"$f":"VALUE(URL_2[[#This Row],[Data]])","v":0}]
["Confirmed","","Central African Republic",6.6111000000000004,20.939399999999999,"2020-02-26",0,{"$f":"VALUE(URL_2[[#This Row],[Data]])","v":0}]
["Confirmed","","Central African Republic",6.6111000000000004,20.939399999999999,"2020-02-27",0,{"$f":"VALUE(URL_2[[#This Row],[Data]])","v":0}]
["Confirmed","","Central African Republic",6.6111000000000004,20.939399999999999,"2020-02-28",0,{"$f":"VALUE(URL_2[[#This Row],[Data]])","v":0}]
["Confirmed","","Central African Republic",6.6111000000000004,20.939399999999999,"2020-02-29",0,{"$f":"VALUE(URL_2[[#This Row],[Data]])","v":0}]
["Confirmed","","Central African Republic",6.6111000000000004,20.939399999999999,"2020-03-01",0,{"$f":"VALUE(URL_2[[#This Row],[Data]])","v":0}]
["Confirmed","","Central African Republic",6.6111000000000004,20.939399999999999,"2020-03-02",0,{"$f":"VALUE(URL_2[[#This Row],[Data]])","v":0}]
["Confirmed","","Central African Republic",6.6111000000000004,20.939399999999999,"2020-03-03",0,{"$f":"VALUE(URL_2[[#This Row],[Data]])","v":0}]
["Confirmed","","Central African Republic",6.6111000000000004,20.939399999999999,"2020-03-04",0,{"$f":"VALUE(URL_2[[#This Row],[Data]])","v":0}]
["Confirmed","","Central African Republic",6.6111000000000004,20.939399999999999,"2020-03-05",0,{"$f":"VALUE(URL_2[[#This Row],[Data]])","v":0}]
["Confirmed","","Central African Republic",6.6111000000000004,20.939399999999999,"2020-03-06",0,{"$f":"VALUE(URL_2[[#This Row],[Data]])","v":0}]
["Confirmed","","Central African Republic",6.6111000000000004,20.939399999999999,"2020-03-07",0,{"$f":"VALUE(URL_2[[#This Row],[Data]])","v":0}]
["Confirmed","","Central African Republic",6.6111000000000004,20.939399999999999,"2020-03-08",0,{"$f":"VALUE(URL_2[[#This Row],[Data]])","v":0}]
["Confirmed","","Central African Republic",6.6111000000000004,20.939399999999999,"2020-03-09",0,{"$f":"VALUE(URL_2[[#This Row],[Data]])","v":0}]
["Confirmed","","Central African Republic",6.6111000000000004,20.939399999999999,"2020-03-10",0,{"$f":"VALUE(URL_2[[#This Row],[Data]])","v":0}]
["Confirmed","","Central African Republic",6.6111000000000004,20.939399999999999,"2020-03-11",0,{"$f":"VALUE(URL_2[[#This Row],[Data]])","v":0}]
["Confirmed","","Central African Republic",6.6111000000000004,20.939399999999999,"2020-03-12",0,{"$f":"VALUE(URL_2[[#This Row],[Data]])","v":0}]
["Confirmed","","Central African Republic",6.6111000000000004,20.939399999999999,"2020-03-13",0,{"$f":"VALUE(URL_2[[#This Row],[Data]])","v":0}]
["Confirmed","","Central African Republic",6.6111000000000004,20.939399999999999,"2020-03-14",0,{"$f":"VALUE(URL_2[[#This Row],[Data]])","v":0}]
["Confirmed","","Chad",15.4542,18.732199999999999,"2020-01-22",0,{"$f":"VALUE(URL_2[[#This Row],[Data]])","v":0}]
["Confirmed","","Chad",15.4542,18.732199999999999,"2020-01-23",0,{"$f":"VALUE(URL_2[[#This Row],[Data]])","v":0}]
["Confirmed","","Chad",15.4542,18.732199999999999,"2020-01-24",0,{"$f":"VALUE(URL_2[[#This Row],[Data]])","v":0}]
["Confirmed","","Chad",15.4542,18.732199999999999,"2020-01-25",0,{"$f":"VALUE(URL_2[[#This Row],[Data]])","v":0}]
["Confirmed","","Chad",15.4542,18.732199999999999,"2020-01-26",0,{"$f":"VALUE(URL_2[[#This Row],[Data]])","v":0}]
["Confirmed","","Chad",15.4542,18.732199999999999,"2020-01-27",0,{"$f":"VALUE(URL_2[[#This Row],[Data]])","v":0}]
["Confirmed","","Chad",15.4542,18.732199999999999,"2020-01-28",0,{"$f":"VALUE(URL_2[[#This Row],[Data]])","v":0}]
["Confirmed","","Chad",15.4542,18.732199999999999,"2020-01-29",0,{"$f":"VALUE(URL_2[[#This Row],[Data]])","v":0}]
["Confirmed","","Chad",15.4542,18.732199999999999,"2020-01-30",0,{"$f":"VALUE(URL_2[[#This Row],[Data]])","v":0}]
["Confirmed","","Chad",15.4542,18.732199999999999,"2020-01-31",0,{"$f":"VALUE(URL_2[[#This Row],[Data]])","v":0}]
["Confirmed","","Chad",15.4542,18.732199999999999,"2020-02-01",0,{"$f":"VALUE(URL_2[[#This Row],[Data]])","v":0}]
["Confirmed","","Chad",15.4542,18.732199999999999,"2020-02-02",0,{"$f":"VALUE(URL_2[[#This Row],[Data]])","v":0}]
["Confirmed","","Chad",15.4542,18.732199999999999,"2020-02-03",0,{"$f":"VALUE(URL_2[[#This Row],[Data]])","v":0}]
["Confirmed","","Chad",15.4542,18.732199999999999,"2020-02-04",0,{"$f":"VALUE(URL_2[[#This Row],[Data]])","v":0}]
["Confirmed","","Chad",15.4542,18.732199999999999,"2020-02-05",0,{"$f":"VALUE(URL_2[[#This Row],[Data]])","v":0}]
["Confirmed","","Chad",15.4542,18.732199999999999,"2020-02-06",0,{"$f":"VALUE(URL_2[[#This Row],[Data]])","v":0}]
["Confirmed","","Chad",15.4542,18.732199999999999,"2020-02-07",0,{"$f":"VALUE(URL_2[[#This Row],[Data]])","v":0}]
["Confirmed","","Chad",15.4542,18.732199999999999,"2020-02-08",0,{"$f":"VALUE(URL_2[[#This Row],[Data]])","v":0}]
["Confirmed","","Chad",15.4542,18.732199999999999,"2020-02-09",0,{"$f":"VALUE(URL_2[[#This Row],[Data]])","v":0}]
["Confirmed","","Chad",15.4542,18.732199999999999,"2020-02-10",0,{"$f":"VALUE(URL_2[[#This Row],[Data]])","v":0}]
["Confirmed","","Chad",15.4542,18.732199999999999,"2020-02-11",0,{"$f":"VALUE(URL_2[[#This Row],[Data]])","v":0}]
["Confirmed","","Chad",15.4542,18.732199999999999,"2020-02-12",0,{"$f":"VALUE(URL_2[[#This Row],[Data]])","v":0}]
["Confirmed","","Chad",15.4542,18.732199999999999,"2020-02-13",0,{"$f":"VALUE(URL_2[[#This Row],[Data]])","v":0}]
["Confirmed","","Chad",15.4542,18.732199999999999,"2020-02-14",0,{"$f":"VALUE(URL_2[[#This Row],[Data]])","v":0}]
["Confirmed","","Chad",15.4542,18.732199999999999,"2020-02-15",0,{"$f":"VALUE(URL_2[[#This Row],[Data]])","v":0}]
["Confirmed","","Chad",15.4542,18.732199999999999,"2020-02-16",0,{"$f":"VALUE(URL_2[[#This Row],[Data]])","v":0}]
["Confirmed","","Chad",15.4542,18.732199999999999,"2020-02-17",0,{"$f":"VALUE(URL_2[[#This Row],[Data]])","v":0}]
["Confirmed","","Chad",15.4542,18.732199999999999,"2020-02-18",0,{"$f":"VALUE(URL_2[[#This Row],[Data]])","v":0}]
["Confirmed","","Chad",15.4542,18.732199999999999,"2020-02-19",0,{"$f":"VALUE(URL_2[[#This Row],[Data]])","v":0}]
["Confirmed","","Chad",15.4542,18.732199999999999,"2020-02-20",0,{"$f":"VALUE(URL_2[[#This Row],[Data]])","v":0}]
["Confirmed","","Chad",15.4542,18.732199999999999,"2020-02-21",0,{"$f":"VALUE(URL_2[[#This Row],[Data]])","v":0}]
["Confirmed","","Chad",15.4542,18.732199999999999,"2020-02-22",0,{"$f":"VALUE(URL_2[[#This Row],[Data]])","v":0}]
["Confirmed","","Chad",15.4542,18.732199999999999,"2020-02-23",0,{"$f":"VALUE(URL_2[[#This Row],[Data]])","v":0}]
["Confirmed","","Chad",15.4542,18.732199999999999,"2020-02-24",0,{"$f":"VALUE(URL_2[[#This Row],[Data]])","v":0}]
["Confirmed","","Chad",15.4542,18.732199999999999,"2020-02-25",0,{"$f":"VALUE(URL_2[[#This Row],[Data]])","v":0}]
["Confirmed","","Chad",15.4542,18.732199999999999,"2020-02-26",0,{"$f":"VALUE(URL_2[[#This Row],[Data]])","v":0}]
["Confirmed","","Chad",15.4542,18.732199999999999,"2020-02-27",0,{"$f":"VALUE(URL_2[[#This Row],[Data]])","v":0}]
["Confirmed","","Chad",15.4542,18.732199999999999,"2020-02-28",0,{"$f":"VALUE(URL_2[[#This Row],[Data]])","v":0}]
["Confirmed","","Chad",15.4542,18.732199999999999,"2020-02-29",0,{"$f":"VALUE(URL_2[[#This Row],[Data]])","v":0}]
["Confirmed","","Chad",15.4542,18.732199999999999,"2020-03-01",0,{"$f":"VALUE(URL_2[[#This Row],[Data]])","v":0}]
["Confirmed","","Chad",15.4542,18.732199999999999,"2020-03-02",0,{"$f":"VALUE(URL_2[[#This Row],[Data]])","v":0}]
["Confirmed","","Chad",15.4542,18.732199999999999,"2020-03-03",0,{"$f":"VALUE(URL_2[[#This Row],[Data]])","v":0}]
["Confirmed","","Chad",15.4542,18.732199999999999,"2020-03-04",0,{"$f":"VALUE(URL_2[[#This Row],[Data]])","v":0}]
["Confirmed","","Chad",15.4542,18.732199999999999,"2020-03-05",0,{"$f":"VALUE(URL_2[[#This Row],[Data]])","v":0}]
["Confirmed","","Chad",15.4542,18.732199999999999,"2020-03-06",0,{"$f":"VALUE(URL_2[[#This Row],[Data]])","v":0}]
["Confirmed","","Chad",15.4542,18.732199999999999,"2020-03-07",0,{"$f":"VALUE(URL_2[[#This Row],[Data]])","v":0}]
["Confirmed","","Chad",15.4542,18.732199999999999,"2020-03-08",0,{"$f":"VALUE(URL_2[[#This Row],[Data]])","v":0}]
["Confirmed","","Chad",15.4542,18.732199999999999,"2020-03-09",0,{"$f":"VALUE(URL_2[[#This Row],[Data]])","v":0}]
["Confirmed","","Chad",15.4542,18.732199999999999,"2020-03-10",0,{"$f":"VALUE(URL_2[[#This Row],[Data]])","v":0}]
["Confirmed","","Chad",15.4542,18.732199999999999,"2020-03-11",0,{"$f":"VALUE(URL_2[[#This Row],[Data]])","v":0}]
["Confirmed","","Chad",15.4542,18.732199999999999,"2020-03-12",0,{"$f":"VALUE(URL_2[[#This Row],[Data]])","v":0}]
["Confirmed","","Chad",15.4542,18.732199999999999,"2020-03-13",0,{"$f":"VALUE(URL_2[[#This Row],[Data]])","v":0}]
["Confirmed","","Chad",15.4542,18.732199999999999,"2020-03-14",0,{"$f":"VALUE(URL_2[[#This Row],[Data]])","v":0}]
["Confirmed","","Chad",15.4542,18.732199999999999,"2020-03-15",0,{"$f":"VALUE(URL_2[[#This Row],[Data]])","v":0}]
["Confirmed","","Chad",15.4542,18.732199999999999,"2020-03-16",0,{"$f":"VALUE(URL_2[[#This Row],[Data]])","v":0}]
["Confirmed","","Chad",15.4542,18.732199999999999,"2020-03-17",0,{"$f":"VALUE(URL_2[[#This Row],[Data]])","v":0}]
["Confirmed","","Chad",15.4542,18.732199999999999,"2020-03-18",0,{"$f":"VALUE(URL_2[[#This Row],[Data]])","v":0}]
["Confirmed","","Chile",-35.6751,-71.543000000000006,"2020-01-22",0,{"$f":"VALUE(URL_2[[#This Row],[Data]])","v":0}]
["Confirmed","","Chile",-35.6751,-71.543000000000006,"2020-01-23",0,{"$f":"VALUE(URL_2[[#This Row],[Data]])","v":0}]
["Confirmed","","Chile",-35.6751,-71.543000000000006,"2020-01-24",0,{"$f":"VALUE(URL_2[[#This Row],[Data]])","v":0}]
["Confirmed","","Chile",-35.6751,-71.543000000000006,"2020-01-25",0,{"$f":"VALUE(URL_2[[#This Row],[Data]])","v":0}]
["Confirmed","","Chile",-35.6751,-71.543000000000006,"2020-01-26",0,{"$f":"VALUE(URL_2[[#This Row],[Data]])","v":0}]
["Confirmed","","Chile",-35.6751,-71.543000000000006,"2020-01-27",0,{"$f":"VALUE(URL_2[[#This Row],[Data]])","v":0}]
["Confirmed","","Chile",-35.6751,-71.543000000000006,"2020-01-28",0,{"$f":"VALUE(URL_2[[#This Row],[Data]])","v":0}]
["Confirmed","","Chile",-35.6751,-71.543000000000006,"2020-01-29",0,{"$f":"VALUE(URL_2[[#This Row],[Data]])","v":0}]
["Confirmed","","Chile",-35.6751,-71.543000000000006,"2020-01-30",0,{"$f":"VALUE(URL_2[[#This Row],[Data]])","v":0}]
["Confirmed","","Chile",-35.6751,-71.543000000000006,"2020-01-31",0,{"$f":"VALUE(URL_2[[#This Row],[Data]])","v":0}]
["Confirmed","","Chile",-35.6751,-71.543000000000006,"2020-02-01",0,{"$f":"VALUE(URL_2[[#This Row],[Data]])","v":0}]
["Confirmed","","Chile",-35.6751,-71.543000000000006,"2020-02-02",0,{"$f":"VALUE(URL_2[[#This Row],[Data]])","v":0}]
["Confirmed","","Chile",-35.6751,-71.543000000000006,"2020-02-03",0,{"$f":"VALUE(URL_2[[#This Row],[Data]])","v":0}]
["Confirmed","","Chile",-35.6751,-71.543000000000006,"2020-02-04",0,{"$f":"VALUE(URL_2[[#This Row],[Data]])","v":0}]
["Confirmed","","Chile",-35.6751,-71.543000000000006,"2020-02-05",0,{"$f":"VALUE(URL_2[[#This Row],[Data]])","v":0}]
["Confirmed","","Chile",-35.6751,-71.543000000000006,"2020-02-06",0,{"$f":"VALUE(URL_2[[#This Row],[Data]])","v":0}]
["Confirmed","","Chile",-35.6751,-71.543000000000006,"2020-02-07",0,{"$f":"VALUE(URL_2[[#This Row],[Data]])","v":0}]
["Confirmed","","Chile",-35.6751,-71.543000000000006,"2020-02-08",0,{"$f":"VALUE(URL_2[[#This Row],[Data]])","v":0}]
["Confirmed","","Chile",-35.6751,-71.543000000000006,"2020-02-09",0,{"$f":"VALUE(URL_2[[#This Row],[Data]])","v":0}]
["Confirmed","","Chile",-35.6751,-71.543000000000006,"2020-02-10",0,{"$f":"VALUE(URL_2[[#This Row],[Data]])","v":0}]
["Confirmed","","Chile",-35.6751,-71.543000000000006,"2020-02-11",0,{"$f":"VALUE(URL_2[[#This Row],[Data]])","v":0}]
["Confirmed","","Chile",-35.6751,-71.543000000000006,"2020-02-12",0,{"$f":"VALUE(URL_2[[#This Row],[Data]])","v":0}]
["Confirmed","","Chile",-35.6751,-71.543000000000006,"2020-02-13",0,{"$f":"VALUE(URL_2[[#This Row],[Data]])","v":0}]
["Confirmed","","Chile",-35.6751,-71.543000000000006,"2020-02-14",0,{"$f":"VALUE(URL_2[[#This Row],[Data]])","v":0}]
["Confirmed","","Chile",-35.6751,-71.543000000000006,"2020-02-15",0,{"$f":"VALUE(URL_2[[#This Row],[Data]])","v":0}]
["Confirmed","","Chile",-35.6751,-71.543000000000006,"2020-02-16",0,{"$f":"VALUE(URL_2[[#This Row],[Data]])","v":0}]
["Confirmed","","Chile",-35.6751,-71.543000000000006,"2020-02-17",0,{"$f":"VALUE(URL_2[[#This Row],[Data]])","v":0}]
["Confirmed","","Chile",-35.6751,-71.543000000000006,"2020-02-18",0,{"$f":"VALUE(URL_2[[#This Row],[Data]])","v":0}]
["Confirmed","","Chile",-35.6751,-71.543000000000006,"2020-02-19",0,{"$f":"VALUE(URL_2[[#This Row],[Data]])","v":0}]
["Confirmed","","Chile",-35.6751,-71.543000000000006,"2020-02-20",0,{"$f":"VALUE(URL_2[[#This Row],[Data]])","v":0}]
["Confirmed","","Chile",-35.6751,-71.543000000000006,"2020-02-21",0,{"$f":"VALUE(URL_2[[#This Row],[Data]])","v":0}]
["Confirmed","","Chile",-35.6751,-71.543000000000006,"2020-02-22",0,{"$f":"VALUE(URL_2[[#This Row],[Data]])","v":0}]
["Confirmed","","Chile",-35.6751,-71.543000000000006,"2020-02-23",0,{"$f":"VALUE(URL_2[[#This Row],[Data]])","v":0}]
["Confirmed","","Chile",-35.6751,-71.543000000000006,"2020-02-24",0,{"$f":"VALUE(URL_2[[#This Row],[Data]])","v":0}]
["Confirmed","","Chile",-35.6751,-71.543000000000006,"2020-02-25",0,{"$f":"VALUE(URL_2[[#This Row],[Data]])","v":0}]
["Confirmed","","Chile",-35.6751,-71.543000000000006,"2020-02-26",0,{"$f":"VALUE(URL_2[[#This Row],[Data]])","v":0}]
["Confirmed","","Chile",-35.6751,-71.543000000000006,"2020-02-27",0,{"$f":"VALUE(URL_2[[#This Row],[Data]])","v":0}]
["Confirmed","","Chile",-35.6751,-71.543000000000006,"2020-02-28",0,{"$f":"VALUE(URL_2[[#This Row],[Data]])","v":0}]
["Confirmed","","Chile",-35.6751,-71.543000000000006,"2020-02-29",0,{"$f":"VALUE(URL_2[[#This Row],[Data]])","v":0}]
["Confirmed","","Chile",-35.6751,-71.543000000000006,"2020-03-01",0,{"$f":"VALUE(URL_2[[#This Row],[Data]])","v":0}]
["Confirmed","","Chile",-35.6751,-71.543000000000006,"2020-03-02",0,{"$f":"VALUE(URL_2[[#This Row],[Data]])","v":0}]
["Confirmed","Gansu","China",37.809899999999999,101.0583,"2020-01-22",0,{"$f":"VALUE(URL_2[[#This Row],[Data]])","v":0}]
["Confirmed","Heilongjiang","China",47.861999999999995,127.7615,"2020-01-22",0,{"$f":"VALUE(URL_2[[#This Row],[Data]])","v":0}]
["Confirmed","Hong Kong","China",22.3,114.2,"2020-01-22",0,{"$f":"VALUE(URL_2[[#This Row],[Data]])","v":0}]
["Confirmed","Inner Mongolia","China",44.093499999999999,113.9448,"2020-01-22",0,{"$f":"VALUE(URL_2[[#This Row],[Data]])","v":0}]
["Confirmed","Inner Mongolia","China",44.093499999999999,113.9448,"2020-01-23",0,{"$f":"VALUE(URL_2[[#This Row],[Data]])","v":0}]
["Confirmed","Jilin","China",43.6661,126.1923,"2020-01-22",0,{"$f":"VALUE(URL_2[[#This Row],[Data]])","v":0}]
["Confirmed","Qinghai","China",35.745199999999997,95.995599999999996,"2020-01-22",0,{"$f":"VALUE(URL_2[[#This Row],[Data]])","v":0}]
["Confirmed","Qinghai","China",35.745199999999997,95.995599999999996,"2020-01-23",0,{"$f":"VALUE(URL_2[[#This Row],[Data]])","v":0}]
["Confirmed","Qinghai","China",35.745199999999997,95.995599999999996,"2020-01-24",0,{"$f":"VALUE(URL_2[[#This Row],[Data]])","v":0}]
["Confirmed","Shaanxi","China",35.191699999999997,108.87009999999999,"2020-01-22",0,{"$f":"VALUE(URL_2[[#This Row],[Data]])","v":0}]
["Confirmed","Tibet","China",31.692699999999999,88.092399999999998,"2020-01-22",0,{"$f":"VALUE(URL_2[[#This Row],[Data]])","v":0}]
["Confirmed","Tibet","China",31.692699999999999,88.092399999999998,"2020-01-23",0,{"$f":"VALUE(URL_2[[#This Row],[Data]])","v":0}]
["Confirmed","Tibet","China",31.692699999999999,88.092399999999998,"2020-01-24",0,{"$f":"VALUE(URL_2[[#This Row],[Data]])","v":0}]
["Confirmed","Tibet","China",31.692699999999999,88.092399999999998,"2020-01-25",0,{"$f":"VALUE(URL_2[[#This Row],[Data]])","v":0}]
["Confirmed","Tibet","China",31.692699999999999,88.092399999999998,"2020-01-26",0,{"$f":"VALUE(URL_2[[#This Row],[Data]])","v":0}]
["Confirmed","Tibet","China",31.692699999999999,88.092399999999998,"2020-01-27",0,{"$f":"VALUE(URL_2[[#This Row],[Data]])","v":0}]
["Confirmed","Tibet","China",31.692699999999999,88.092399999999998,"2020-01-28",0,{"$f":"VALUE(URL_2[[#This Row],[Data]])","v":0}]
["Confirmed","Tibet","China",31.692699999999999,88.092399999999998,"2020-01-29",0,{"$f":"VALUE(URL_2[[#This Row],[Data]])","v":0}]
["Confirmed","Xinjiang","China",41.112900000000003,85.240099999999998,"2020-01-22",0,{"$f":"VALUE(URL_2[[#This Row],[Data]])","v":0}]
["Confirmed","","Colombia",4.5709,-74.297300000000007,"2020-01-22",0,{"$f":"VALUE(URL_2[[#This Row],[Data]])","v":0}]
["Confirmed","","Colombia",4.5709,-74.297300000000007,"2020-01-23",0,{"$f":"VALUE(URL_2[[#This Row],[Data]])","v":0}]
["Confirmed","","Colombia",4.5709,-74.297300000000007,"2020-01-24",0,{"$f":"VALUE(URL_2[[#This Row],[Data]])","v":0}]
["Confirmed","","Colombia",4.5709,-74.297300000000007,"2020-01-25",0,{"$f":"VALUE(URL_2[[#This Row],[Data]])","v":0}]
["Confirmed","","Colombia",4.5709,-74.297300000000007,"2020-01-26",0,{"$f":"VALUE(URL_2[[#This Row],[Data]])","v":0}]
["Confirmed","","Colombia",4.5709,-74.297300000000007,"2020-01-27",0,{"$f":"VALUE(URL_2[[#This Row],[Data]])","v":0}]
["Confirmed","","Colombia",4.5709,-74.297300000000007,"2020-01-28",0,{"$f":"VALUE(URL_2[[#This Row],[Data]])","v":0}]
["Confirmed","","Colombia",4.5709,-74.297300000000007,"2020-01-29",0,{"$f":"VALUE(URL_2[[#This Row],[Data]])","v":0}]
["Confirmed","","Colombia",4.5709,-74.297300000000007,"2020-01-30",0,{"$f":"VALUE(URL_2[[#This Row],[Data]])","v":0}]
["Confirmed","","Colombia",4.5709,-74.297300000000007,"2020-01-31",0,{"$f":"VALUE(URL_2[[#This Row],[Data]])","v":0}]
["Confirmed","","Colombia",4.5709,-74.297300000000007,"2020-02-01",0,{"$f":"VALUE(URL_2[[#This Row],[Data]])","v":0}]
["Confirmed","","Colombia",4.5709,-74.297300000000007,"2020-02-02",0,{"$f":"VALUE(URL_2[[#This Row],[Data]])","v":0}]
["Confirmed","","Colombia",4.5709,-74.297300000000007,"2020-02-03",0,{"$f":"VALUE(URL_2[[#This Row],[Data]])","v":0}]
["Confirmed","","Colombia",4.5709,-74.297300000000007,"2020-02-04",0,{"$f":"VALUE(URL_2[[#This Row],[Data]])","v":0}]
["Confirmed","","Colombia",4.5709,-74.297300000000007,"2020-02-05",0,{"$f":"VALUE(URL_2[[#This Row],[Data]])","v":0}]
["Confirmed","","Colombia",4.5709,-74.297300000000007,"2020-02-06",0,{"$f":"VALUE(URL_2[[#This Row],[Data]])","v":0}]
["Confirmed","","Colombia",4.5709,-74.297300000000007,"2020-02-07",0,{"$f":"VALUE(URL_2[[#This Row],[Data]])","v":0}]
["Confirmed","","Colombia",4.5709,-74.297300000000007,"2020-02-08",0,{"$f":"VALUE(URL_2[[#This Row],[Data]])","v":0}]
["Confirmed","","Colombia",4.5709,-74.297300000000007,"2020-02-09",0,{"$f":"VALUE(URL_2[[#This Row],[Data]])","v":0}]
["Confirmed","","Colombia",4.5709,-74.297300000000007,"2020-02-10",0,{"$f":"VALUE(URL_2[[#This Row],[Data]])","v":0}]
["Confirmed","","Colombia",4.5709,-74.297300000000007,"2020-02-11",0,{"$f":"VALUE(URL_2[[#This Row],[Data]])","v":0}]
["Confirmed","","Colombia",4.5709,-74.297300000000007,"2020-02-12",0,{"$f":"VALUE(URL_2[[#This Row],[Data]])","v":0}]
["Confirmed","","Colombia",4.5709,-74.297300000000007,"2020-02-13",0,{"$f":"VALUE(URL_2[[#This Row],[Data]])","v":0}]
["Confirmed","","Colombia",4.5709,-74.297300000000007,"2020-02-14",0,{"$f":"VALUE(URL_2[[#This Row],[Data]])","v":0}]
["Confirmed","","Colombia",4.5709,-74.297300000000007,"2020-02-15",0,{"$f":"VALUE(URL_2[[#This Row],[Data]])","v":0}]
["Confirmed","","Colombia",4.5709,-74.297300000000007,"2020-02-16",0,{"$f":"VALUE(URL_2[[#This Row],[Data]])","v":0}]
["Confirmed","","Colombia",4.5709,-74.297300000000007,"2020-02-17",0,{"$f":"VALUE(URL_2[[#This Row],[Data]])","v":0}]
["Confirmed","","Colombia",4.5709,-74.297300000000007,"2020-02-18",0,{"$f":"VALUE(URL_2[[#This Row],[Data]])","v":0}]
["Confirmed","","Colombia",4.5709,-74.297300000000007,"2020-02-19",0,{"$f":"VALUE(URL_2[[#This Row],[Data]])","v":0}]
["Confirmed","","Colombia",4.5709,-74.297300000000007,"2020-02-20",0,{"$f":"VALUE(URL_2[[#This Row],[Data]])","v":0}]
["Confirmed","","Colombia",4.5709,-74.297300000000007,"2020-02-21",0,{"$f":"VALUE(URL_2[[#This Row],[Data]])","v":0}]
["Confirmed","","Colombia",4.5709,-74.297300000000007,"2020-02-22",0,{"$f":"VALUE(URL_2[[#This Row],[Data]])","v":0}]
["Confirmed","","Colombia",4.5709,-74.297300000000007,"2020-02-23",0,{"$f":"VALUE(URL_2[[#This Row],[Data]])","v":0}]
["Confirmed","","Colombia",4.5709,-74.297300000000007,"2020-02-24",0,{"$f":"VALUE(URL_2[[#This Row],[Data]])","v":0}]
["Confirmed","","Colombia",4.5709,-74.297300000000007,"2020-02-25",0,{"$f":"VALUE(URL_2[[#This Row],[Data]])","v":0}]
["Confirmed","","Colombia",4.5709,-74.297300000000007,"2020-02-26",0,{"$f":"VALUE(URL_2[[#This Row],[Data]])","v":0}]
["Confirmed","","Colombia",4.5709,-74.297300000000007,"2020-02-27",0,{"$f":"VALUE(URL_2[[#This Row],[Data]])","v":0}]
["Confirmed","","Colombia",4.5709,-74.297300000000007,"2020-02-28",0,{"$f":"VALUE(URL_2[[#This Row],[Data]])","v":0}]
["Confirmed","","Colombia",4.5709,-74.297300000000007,"2020-02-29",0,{"$f":"VALUE(URL_2[[#This Row],[Data]])","v":0}]
["Confirmed","","Colombia",4.5709,-74.297300000000007,"2020-03-01",0,{"$f":"VALUE(URL_2[[#This Row],[Data]])","v":0}]
["Confirmed","","Colombia",4.5709,-74.297300000000007,"2020-03-02",0,{"$f":"VALUE(URL_2[[#This Row],[Data]])","v":0}]
["Confirmed","","Colombia",4.5709,-74.297300000000007,"2020-03-03",0,{"$f":"VALUE(URL_2[[#This Row],[Data]])","v":0}]
["Confirmed","","Colombia",4.5709,-74.297300000000007,"2020-03-04",0,{"$f":"VALUE(URL_2[[#This Row],[Data]])","v":0}]
["Confirmed","","Colombia",4.5709,-74.297300000000007,"2020-03-05",0,{"$f":"VALUE(URL_2[[#This Row],[Data]])","v":0}]
["Confirmed","","Congo (Brazzaville)",-4.0382999999999996,21.758700000000001,"2020-01-22",0,{"$f":"VALUE(URL_2[[#This Row],[Data]])","v":0}]
["Confirmed","","Congo (Brazzaville)",-4.0382999999999996,21.758700000000001,"2020-01-23",0,{"$f":"VALUE(URL_2[[#This Row],[Data]])","v":0}]
["Confirmed","","Congo (Brazzaville)",-4.0382999999999996,21.758700000000001,"2020-01-24",0,{"$f":"VALUE(URL_2[[#This Row],[Data]])","v":0}]
["Confirmed","","Congo (Brazzaville)",-4.0382999999999996,21.758700000000001,"2020-01-25",0,{"$f":"VALUE(URL_2[[#This Row],[Data]])","v":0}]
["Confirmed","","Congo (Brazzaville)",-4.0382999999999996,21.758700000000001,"2020-01-26",0,{"$f":"VALUE(URL_2[[#This Row],[Data]])","v":0}]
["Confirmed","","Congo (Brazzaville)",-4.0382999999999996,21.758700000000001,"2020-02-29",0,{"$f":"VALUE(URL_2[[#This Row],[Data]])","v":0}]
["Confirmed","","Congo (Kinshasa)",-4.0382999999999996,21.758700000000001,"2020-02-18",0,{"$f":"VALUE(URL_2[[#This Row],[Data]])","v":0}]
["Confirmed","","Costa Rica",9.7489000000000008,-83.753399999999999,"2020-02-02",0,{"$f":"VALUE(URL_2[[#This Row],[Data]])","v":0}]
["Confirmed","","Cote d'Ivoire",7.54,-5.5471000000000004,"2020-01-23",0,{"$f":"VALUE(URL_2[[#This Row],[Data]])","v":0}]
["Confirmed","","Cote d'Ivoire",7.54,-5.5471000000000004,"2020-02-06",0,{"$f":"VALUE(URL_2[[#This Row],[Data]])","v":0}]
["Confirmed","","Diamond Princess",0,0,"2020-01-26",0,{"$f":"VALUE(URL_2[[#This Row],[Data]])","v":0}]
["Confirmed","","Cuba",22,-80,"2020-01-26",0,{"$f":"VALUE(URL_2[[#This Row],[Data]])","v":0}]
["Confirmed","","Cyprus",35.126399999999997,33.429900000000004,"2020-02-04",0,{"$f":"VALUE(URL_2[[#This Row],[Data]])","v":0}]
["Confirmed","","Cyprus",35.126399999999997,33.429900000000004,"2020-03-03",0,{"$f":"VALUE(URL_2[[#This Row],[Data]])","v":0}]
["Confirmed","","Czechia",49.817500000000003,15.473000000000001,"2020-02-18",0,{"$f":"VALUE(URL_2[[#This Row],[Data]])","v":0}]
["Confirmed","Faroe Islands","Denmark",61.892600000000002,-6.9118000000000004,"2020-02-12",0,{"$f":"VALUE(URL_2[[#This Row],[Data]])","v":0}]
["Confirmed","Greenland","Denmark",71.706900000000005,-42.604300000000002,"2020-02-05",0,{"$f":"VALUE(URL_2[[#This Row],[Data]])","v":0}]
["Confirmed","","Denmark",56.2639,9.5017999999999994,"2020-02-03",0,{"$f":"VALUE(URL_2[[#This Row],[Data]])","v":0}]
["Confirmed","","Djibouti",11.825100000000001,42.590299999999999,"2020-01-31",0,{"$f":"VALUE(URL_2[[#This Row],[Data]])","v":0}]
["Confirmed","","Dominican Republic",18.735700000000001,-70.162700000000001,"2020-01-30",0,{"$f":"VALUE(URL_2[[#This Row],[Data]])","v":0}]
["Confirmed","","Dominican Republic",18.735700000000001,-70.162700000000001,"2020-02-20",0,{"$f":"VALUE(URL_2[[#This Row],[Data]])","v":0}]
["Confirmed","","Ecuador",-1.8311999999999999,-78.183400000000006,"2020-02-08",0,{"$f":"VALUE(URL_2[[#This Row],[Data]])","v":0}]
["Confirmed","","El Salvador",13.7942,-88.896500000000003,"2020-02-18",0,{"$f":"VALUE(URL_2[[#This Row],[Data]])","v":0}]
["Confirmed","","Equatorial Guinea",1.5,10,"2020-02-03",0,{"$f":"VALUE(URL_2[[#This Row],[Data]])","v":0}]
["Confirmed","","Equatorial Guinea",1.5,10,"2020-02-09",0,{"$f":"VALUE(URL_2[[#This Row],[Data]])","v":0}]
["Confirmed","","Eritrea",15.179399999999999,39.782299999999999,"2020-02-28",0,{"$f":"VALUE(URL_2[[#This Row],[Data]])","v":0}]
["Confirmed","","Eritrea",15.179399999999999,39.782299999999999,"2020-03-15",0,{"$f":"VALUE(URL_2[[#This Row],[Data]])","v":0}]
["Confirmed","","Estonia",58.595300000000002,25.0136,"2020-02-20",0,{"$f":"VALUE(URL_2[[#This Row],[Data]])","v":0}]
["Confirmed","","Eswatini",-26.522500000000001,31.465900000000001,"2020-02-14",0,{"$f":"VALUE(URL_2[[#This Row],[Data]])","v":0}]
["Confirmed","","Ethiopia",9.1449999999999996,40.489699999999999,"2020-02-17",0,{"$f":"VALUE(URL_2[[#This Row],[Data]])","v":0}]
["Confirmed","","Fiji",-17.7134,178.065,"2020-01-30",0,{"$f":"VALUE(URL_2[[#This Row],[Data]])","v":0}]
["Confirmed","","Fiji",-17.7134,178.065,"2020-03-13",0,{"$f":"VALUE(URL_2[[#This Row],[Data]])","v":0}]
["Confirmed","French Guiana","France",3.9339,-53.125799999999998,"2020-02-22",0,{"$f":"VALUE(URL_2[[#This Row],[Data]])","v":0}]
["Confirmed","French Polynesia","France",-17.6797,149.4068,"2020-02-10",0,{"$f":"VALUE(URL_2[[#This Row],[Data]])","v":0}]
["Confirmed","Guadeloupe","France",16.25,-61.583300000000001,"2020-02-14",0,{"$f":"VALUE(URL_2[[#This Row],[Data]])","v":0}]
["Confirmed","Mayotte","France",-12.827500000000001,45.166200000000003,"2020-01-29",0,{"$f":"VALUE(URL_2[[#This Row],[Data]])","v":0}]
["Confirmed","Mayotte","France",-12.827500000000001,45.166200000000003,"2020-02-28",0,{"$f":"VALUE(URL_2[[#This Row],[Data]])","v":0}]
["Confirmed","New Caledonia","France",-20.904299999999999,165.61799999999999,"2020-03-01",0,{"$f":"VALUE(URL_2[[#This Row],[Data]])","v":0}]
["Confirmed","Reunion","France",-21.135100000000001,55.247100000000003,"2020-01-22",0,{"$f":"VALUE(URL_2[[#This Row],[Data]])","v":0}]
["Confirmed","Reunion","France",-21.135100000000001,55.247100000000003,"2020-03-09",0,{"$f":"VALUE(URL_2[[#This Row],[Data]])","v":0}]
["Confirmed","Saint Barthelemy","France",17.899999999999999,-62.833300000000001,"2020-02-05",0,{"$f":"VALUE(URL_2[[#This Row],[Data]])","v":0}]
["Confirmed","St Martin","France",18.070799999999998,-63.0501,"2020-03-06",0,{"$f":"VALUE(URL_2[[#This Row],[Data]])","v":0}]
["Confirmed","Martinique","France",14.641500000000001,-61.0242,"2020-02-20",0,{"$f":"VALUE(URL_2[[#This Row],[Data]])","v":0}]
["Confirmed","","France",46.227600000000002,2.2136999999999998,"2020-01-22",0,{"$f":"VALUE(URL_2[[#This Row],[Data]])","v":0}]
["Confirmed","","Gabon",-0.80369999999999997,11.609400000000001,"2020-02-22",0,{"$f":"VALUE(URL_2[[#This Row],[Data]])","v":0}]
["Confirmed","","Gambia",13.443199999999999,-15.3101,"2020-02-25",0,{"$f":"VALUE(URL_2[[#This Row],[Data]])","v":0}]
["Confirmed","","Germany",51,9,"2020-01-23",0,{"$f":"VALUE(URL_2[[#This Row],[Data]])","v":0}]
["Confirmed","","Ghana",7.9465000000000003,-1.0232000000000001,"2020-02-17",0,{"$f":"VALUE(URL_2[[#This Row],[Data]])","v":0}]
["Confirmed","","Greece",39.074199999999998,21.824300000000001,"2020-01-29",0,{"$f":"VALUE(URL_2[[#This Row],[Data]])","v":0}]
["Confirmed","","Guatemala",15.7835,-90.230800000000002,"2020-01-27",0,{"$f":"VALUE(URL_2[[#This Row],[Data]])","v":0}]
["Confirmed","","Guatemala",15.7835,-90.230800000000002,"2020-02-29",0,{"$f":"VALUE(URL_2[[#This Row],[Data]])","v":0}]
["Confirmed","","Guinea",9.9456000000000007,-9.6966000000000001,"2020-03-02",0,{"$f":"VALUE(URL_2[[#This Row],[Data]])","v":0}]
["Confirmed","","Guyana",5,-58.75,"2020-02-13",0,{"$f":"VALUE(URL_2[[#This Row],[Data]])","v":0}]
["Confirmed","","Haiti",18.9712,-72.285200000000003,"2020-02-17",0,{"$f":"VALUE(URL_2[[#This Row],[Data]])","v":0}]
["Confirmed","","Holy See",41.902900000000002,12.4534,"2020-01-23",0,{"$f":"VALUE(URL_2[[#This Row],[Data]])","v":0}]
["Confirmed","","Holy See",41.902900000000002,12.4534,"2020-02-08",0,{"$f":"VALUE(URL_2[[#This Row],[Data]])","v":0}]
["Confirmed","","Honduras",15.2,-86.241900000000001,"2020-03-07",0,{"$f":"VALUE(URL_2[[#This Row],[Data]])","v":0}]
["Confirmed","","Honduras",15.2,-86.241900000000001,"2020-03-09",0,{"$f":"VALUE(URL_2[[#This Row],[Data]])","v":0}]
["Confirmed","","Iceland",64.963099999999997,-19.020800000000001,"2020-01-24",0,{"$f":"VALUE(URL_2[[#This Row],[Data]])","v":0}]
["Confirmed","","Iceland",64.963099999999997,-19.020800000000001,"2020-02-26",0,{"$f":"VALUE(URL_2[[#This Row],[Data]])","v":0}]
["Confirmed","","Iran",32,53,"2020-01-27",0,{"$f":"VALUE(URL_2[[#This Row],[Data]])","v":0}]
["Confirmed","","Iraq",33,44,"2020-02-01",0,{"$f":"VALUE(URL_2[[#This Row],[Data]])","v":0}]
["Confirmed","","Ireland",53.142400000000002,-7.6920999999999999,"2020-01-31",0,{"$f":"VALUE(URL_2[[#This Row],[Data]])","v":0}]
["Confirmed","","Israel",31,35,"2020-02-17",0,{"$f":"VALUE(URL_2[[#This Row],[Data]])","v":0}]
["Confirmed","","Jamaica",18.1096,-77.297499999999999,"2020-02-11",0,{"$f":"VALUE(URL_2[[#This Row],[Data]])","v":0}]
["Confirmed","","Jordan",31.24,36.51,"2020-02-03",0,{"$f":"VALUE(URL_2[[#This Row],[Data]])","v":0}]
["Confirmed","","Kazakhstan",48.019599999999997,66.923699999999997,"2020-02-08",0,{"$f":"VALUE(URL_2[[#This Row],[Data]])","v":0}]
["Confirmed","","Kazakhstan",48.019599999999997,66.923699999999997,"2020-03-12",0,{"$f":"VALUE(URL_2[[#This Row],[Data]])","v":0}]
["Confirmed","","Kuwait",29.5,47.75,"2020-01-25",0,{"$f":"VALUE(URL_2[[#This Row],[Data]])","v":0}]
["Confirmed","","Kyrgyzstan",41.2044,74.766099999999994,"2020-01-25",0,{"$f":"VALUE(URL_2[[#This Row],[Data]])","v":0}]
["Confirmed","","Kyrgyzstan",41.2044,74.766099999999994,"2020-02-26",0,{"$f":"VALUE(URL_2[[#This Row],[Data]])","v":0}]
["Confirmed","","Kyrgyzstan",41.2044,74.766099999999994,"2020-03-13",0,{"$f":"VALUE(URL_2[[#This Row],[Data]])","v":0}]
["Confirmed","","Lebanon",33.854700000000001,35.862299999999998,"2020-02-01",0,{"$f":"VALUE(URL_2[[#This Row],[Data]])","v":0}]
["Confirmed","","Liberia",6.4280999999999997,-9.4295000000000009,"2020-02-20",0,{"$f":"VALUE(URL_2[[#This Row],[Data]])","v":0}]
["Confirmed","","Liberia",6.4280999999999997,-9.4295000000000009,"2020-03-07",0,{"$f":"VALUE(URL_2[[#This Row],[Data]])","v":0}]
["Confirmed","","Liechtenstein",47.14,9.5500000000000007,"2020-02-15",0,{"$f":"VALUE(URL_2[[#This Row],[Data]])","v":0}]
["Confirmed","","Luxembourg",49.815300000000001,6.1295999999999999,"2020-02-05",0,{"$f":"VALUE(URL_2[[#This Row],[Data]])","v":0}]
["Confirmed","","Luxembourg",49.815300000000001,6.1295999999999999,"2020-02-23",0,{"$f":"VALUE(URL_2[[#This Row],[Data]])","v":0}]
["Confirmed","","Madagascar",-18.7669,46.869100000000003,"2020-02-18",0,{"$f":"VALUE(URL_2[[#This Row],[Data]])","v":0}]
["Confirmed","","Maldives",3.2027999999999999,73.220699999999994,"2020-02-12",0,{"$f":"VALUE(URL_2[[#This Row],[Data]])","v":0}]
["Confirmed","","Malta",35.9375,14.375400000000001,"2020-02-21",0,{"$f":"VALUE(URL_2[[#This Row],[Data]])","v":0}]
["Confirmed","","Mauritania",21.007899999999999,10.940799999999999,"2020-02-08",0,{"$f":"VALUE(URL_2[[#This Row],[Data]])","v":0}]
["Confirmed","","Mauritania",21.007899999999999,10.940799999999999,"2020-03-12",0,{"$f":"VALUE(URL_2[[#This Row],[Data]])","v":0}]
["Confirmed","","Mauritius",-20.2,57.5,"2020-02-22",0,{"$f":"VALUE(URL_2[[#This Row],[Data]])","v":0}]
["Confirmed","","Mexico",23.634499999999999,-102.5528,"2020-01-28",0,{"$f":"VALUE(URL_2[[#This Row],[Data]])","v":0}]
["Confirmed","","Moldova",47.4116,28.369900000000001,"2020-02-16",0,{"$f":"VALUE(URL_2[[#This Row],[Data]])","v":0}]
["Confirmed","","Monaco",43.7333,7.4166999999999996,"2020-02-03",0,{"$f":"VALUE(URL_2[[#This Row],[Data]])","v":0}]
["Confirmed","","Mongolia",46.862499999999997,103.8467,"2020-02-17",0,{"$f":"VALUE(URL_2[[#This Row],[Data]])","v":0}]
["Confirmed","","Montenegro",42.5,19.3,"2020-02-04",0,{"$f":"VALUE(URL_2[[#This Row],[Data]])","v":0}]
["Confirmed","","Montenegro",42.5,19.3,"2020-02-20",0,{"$f":"VALUE(URL_2[[#This Row],[Data]])","v":0}]
["Confirmed","","Morocco",31.791699999999999,-7.0926,"2020-01-29",0,{"$f":"VALUE(URL_2[[#This Row],[Data]])","v":0}]
["Confirmed","","Namibia",-22.957599999999999,18.490400000000001,"2020-01-28",0,{"$f":"VALUE(URL_2[[#This Row],[Data]])","v":0}]
["Confirmed","","Nepal",28.166699999999999,84.25,"2020-01-24",0,{"$f":"VALUE(URL_2[[#This Row],[Data]])","v":0}]
["Confirmed","Aruba","Netherlands",12.518599999999999,-70.035799999999995,"2020-02-23",0,{"$f":"VALUE(URL_2[[#This Row],[Data]])","v":0}]
["Confirmed","Curacao","Netherlands",12.169600000000001,-68.989999999999995,"2020-02-05",0,{"$f":"VALUE(URL_2[[#This Row],[Data]])","v":0}]
["Confirmed","Sint Maarten","Netherlands",18.0425,-63.0548,"2020-02-06",0,{"$f":"VALUE(URL_2[[#This Row],[Data]])","v":0}]
["Confirmed","Sint Maarten","Netherlands",18.0425,-63.0548,"2020-03-11",0,{"$f":"VALUE(URL_2[[#This Row],[Data]])","v":0}]
["Confirmed","","New Zealand",-40.900599999999997,174.886,"2020-02-01",0,{"$f":"VALUE(URL_2[[#This Row],[Data]])","v":0}]
["Confirmed","","Nicaragua",12.865399999999999,-85.2072,"2020-01-28",0,{"$f":"VALUE(URL_2[[#This Row],[Data]])","v":0}]
["Confirmed","","Nicaragua",12.865399999999999,-85.2072,"2020-03-07",0,{"$f":"VALUE(URL_2[[#This Row],[Data]])","v":0}]
["Confirmed","","Niger",17.607800000000001,8.0816999999999997,"2020-02-27",0,{"$f":"VALUE(URL_2[[#This Row],[Data]])","v":0}]
["Confirmed","","Nigeria",9.0820000000000007,8.6753,"2020-02-02",0,{"$f":"VALUE(URL_2[[#This Row],[Data]])","v":0}]
["Confirmed","","North Macedonia",41.608600000000003,21.7453,"2020-01-24",0,{"$f":"VALUE(URL_2[[#This Row],[Data]])","v":0}]
["Confirmed","","Norway",60.472000000000001,8.4688999999999997,"2020-02-17",0,{"$f":"VALUE(URL_2[[#This Row],[Data]])","v":0}]
["Confirmed","","Oman",21,57,"2020-02-15",0,{"$f":"VALUE(URL_2[[#This Row],[Data]])","v":0}]
["Confirmed","","Pakistan",30.375299999999999,69.345100000000002,"2020-01-29",0,{"$f":"VALUE(URL_2[[#This Row],[Data]])","v":0}]
["Confirmed","","Panama",8.5380000000000003,-80.7821,"2020-02-16",0,{"$f":"VALUE(URL_2[[#This Row],[Data]])","v":0}]
["Confirmed","","Papua New Guinea",-6.3150000000000004,143.9555,"2020-02-19",0,{"$f":"VALUE(URL_2[[#This Row],[Data]])","v":0}]
["Confirmed","","Papua New Guinea",-6.3150000000000004,143.9555,"2020-03-06",0,{"$f":"VALUE(URL_2[[#This Row],[Data]])","v":0}]
["Confirmed","","Paraguay",-23.442499999999999,-58.443800000000003,"2020-02-10",0,{"$f":"VALUE(URL_2[[#This Row],[Data]])","v":0}]
["Confirmed","","Peru",-9.19,-75.015199999999993,"2020-03-02",0,{"$f":"VALUE(URL_2[[#This Row],[Data]])","v":0}]
["Confirmed","","Poland",51.919400000000003,19.145099999999999,"2020-01-30",0,{"$f":"VALUE(URL_2[[#This Row],[Data]])","v":0}]
["Confirmed","","Poland",51.919400000000003,19.145099999999999,"2020-03-03",0,{"$f":"VALUE(URL_2[[#This Row],[Data]])","v":0}]
["Confirmed","","Qatar",25.354800000000001,51.183900000000001,"2020-02-05",0,{"$f":"VALUE(URL_2[[#This Row],[Data]])","v":0}]
["Confirmed","","Qatar",25.354800000000001,51.183900000000001,"2020-02-20",0,{"$f":"VALUE(URL_2[[#This Row],[Data]])","v":0}]
["Confirmed","","Rwanda",-1.9402999999999999,29.873899999999999,"2020-02-10",0,{"$f":"VALUE(URL_2[[#This Row],[Data]])","v":0}]
["Confirmed","","Saint Lucia",13.9094,-60.978900000000003,"2020-01-22",0,{"$f":"VALUE(URL_2[[#This Row],[Data]])","v":0}]
["Confirmed","","Saint Lucia",13.9094,-60.978900000000003,"2020-02-27",0,{"$f":"VALUE(URL_2[[#This Row],[Data]])","v":0}]
["Confirmed","","Saint Vincent and the Grenadines",12.984299999999999,-61.287199999999999,"2020-02-26",0,{"$f":"VALUE(URL_2[[#This Row],[Data]])","v":0}]
["Confirmed","","San Marino",43.942399999999999,12.457800000000001,"2020-02-07",0,{"$f":"VALUE(URL_2[[#This Row],[Data]])","v":0}]
["Confirmed","","Saudi Arabia",24,45,"2020-02-04",0,{"$f":"VALUE(URL_2[[#This Row],[Data]])","v":0}]
["Confirmed","","Senegal",14.497400000000001,-14.452400000000001,"2020-02-14",0,{"$f":"VALUE(URL_2[[#This Row],[Data]])","v":0}]
["Confirmed","","Serbia",44.016500000000001,21.0059,"2020-02-11",0,{"$f":"VALUE(URL_2[[#This Row],[Data]])","v":0}]
["Confirmed","","Serbia",44.016500000000001,21.0059,"2020-02-27",0,{"$f":"VALUE(URL_2[[#This Row],[Data]])","v":0}]
["Confirmed","","Seychelles",-4.6795999999999998,55.491999999999997,"2020-02-16",0,{"$f":"VALUE(URL_2[[#This Row],[Data]])","v":0}]
["Confirmed","","Slovakia",48.668999999999997,19.699000000000002,"2020-01-31",0,{"$f":"VALUE(URL_2[[#This Row],[Data]])","v":0}]
["Confirmed","","Slovenia",46.151200000000003,14.9955,"2020-02-06",0,{"$f":"VALUE(URL_2[[#This Row],[Data]])","v":0}]
["Confirmed","","Somalia",5.1520999999999999,46.199599999999997,"2020-01-27",0,{"$f":"VALUE(URL_2[[#This Row],[Data]])","v":0}]
["Confirmed","","Somalia",5.1520999999999999,46.199599999999997,"2020-02-29",0,{"$f":"VALUE(URL_2[[#This Row],[Data]])","v":0}]
["Confirmed","","South Africa",-30.5595,22.9375,"2020-02-26",0,{"$f":"VALUE(URL_2[[#This Row],[Data]])","v":0}]
["Confirmed","","Sudan",12.8628,30.217600000000001,"2020-02-04",0,{"$f":"VALUE(URL_2[[#This Row],[Data]])","v":0}]
["Confirmed","","Suriname",3.9192999999999998,-56.027799999999999,"2020-02-08",0,{"$f":"VALUE(URL_2[[#This Row],[Data]])","v":0}]
["Confirmed","","Suriname",3.9192999999999998,-56.027799999999999,"2020-03-12",0,{"$f":"VALUE(URL_2[[#This Row],[Data]])","v":0}]
["Confirmed","","Switzerland",46.818199999999997,8.2274999999999991,"2020-02-17",0,{"$f":"VALUE(URL_2[[#This Row],[Data]])","v":0}]
["Confirmed","","Tanzania",-6.3689999999999998,34.888800000000003,"2020-03-04",0,{"$f":"VALUE(URL_2[[#This Row],[Data]])","v":0}]
["Confirmed","","Togo",8.6195000000000004,0.82479999999999998,"2020-02-12",0,{"$f":"VALUE(URL_2[[#This Row],[Data]])","v":0}]
["Confirmed","","Trinidad and Tobago",10.691800000000001,-61.222499999999997,"2020-01-25",0,{"$f":"VALUE(URL_2[[#This Row],[Data]])","v":0}]
["Confirmed","","Trinidad and Tobago",10.691800000000001,-61.222499999999997,"2020-02-16",0,{"$f":"VALUE(URL_2[[#This Row],[Data]])","v":0}]
["Confirmed","","Turkey",38.963700000000003,35.243299999999998,"2020-01-25",0,{"$f":"VALUE(URL_2[[#This Row],[Data]])","v":0}]
["Confirmed","","Turkey",38.963700000000003,35.243299999999998,"2020-02-10",0,{"$f":"VALUE(URL_2[[#This Row],[Data]])","v":0}]
["Confirmed","","Uganda",1,32,"2020-02-12",0,{"$f":"VALUE(URL_2[[#This Row],[Data]])","v":0}]
["Confirmed","","Ukraine",48.379399999999997,31.165600000000001,"2020-02-06",0,{"$f":"VALUE(URL_2[[#This Row],[Data]])","v":0}]
["Confirmed","","Ukraine",48.379399999999997,31.165600000000001,"2020-02-22",0,{"$f":"VALUE(URL_2[[#This Row],[Data]])","v":0}]
["Confirmed","Bermuda","United Kingdom",32.3078,-64.750500000000002,"2020-02-07",0,{"$f":"VALUE(URL_2[[#This Row],[Data]])","v":0}]
["Confirmed","Cayman Islands","United Kingdom",19.313300000000002,-81.254599999999996,"2020-02-15",0,{"$f":"VALUE(URL_2[[#This Row],[Data]])","v":0}]
["Confirmed","Cayman Islands","United Kingdom",19.313300000000002,-81.254599999999996,"2020-03-08",0,{"$f":"VALUE(URL_2[[#This Row],[Data]])","v":0}]
["Confirmed","Channel Islands","United Kingdom",49.372300000000003,-2.3643999999999998,"2020-02-19",0,{"$f":"VALUE(URL_2[[#This Row],[Data]])","v":0}]
["Confirmed","Gibraltar","United Kingdom",36.140799999999999,-5.3536000000000001,"2020-02-26",0,{"$f":"VALUE(URL_2[[#This Row],[Data]])","v":0}]
["Confirmed","Isle of Man","United Kingdom",54.2361,-4.5480999999999998,"2020-01-28",0,{"$f":"VALUE(URL_2[[#This Row],[Data]])","v":0}]
["Confirmed","Montserrat","United Kingdom",16.7425,-62.187399999999997,"2020-02-13",0,{"$f":"VALUE(URL_2[[#This Row],[Data]])","v":0}]
["Confirmed","Montserrat","United Kingdom",16.7425,-62.187399999999997,"2020-03-17",0,{"$f":"VALUE(URL_2[[#This Row],[Data]])","v":0}]
["Confirmed","","Uruguay",-32.522799999999997,-55.765799999999999,"2020-02-15",0,{"$f":"VALUE(URL_2[[#This Row],[Data]])","v":0}]
["Confirmed","","Uruguay",-32.522799999999997,-55.765799999999999,"2020-02-29",0,{"$f":"VALUE(URL_2[[#This Row],[Data]])","v":0}]
["Confirmed","","Venezuela",6.4238,-66.589699999999993,"2020-01-27",0,{"$f":"VALUE(URL_2[[#This Row],[Data]])","v":0}]
["Confirmed","","Venezuela",6.4238,-66.589699999999993,"2020-02-29",0,{"$f":"VALUE(URL_2[[#This Row],[Data]])","v":0}]
["Confirmed","","Venezuela",6.4238,-66.589699999999993,"2020-03-10",0,{"$f":"VALUE(URL_2[[#This Row],[Data]])","v":0}]
["Confirmed","","Zambia",-15.416700000000001,28.283300000000001,"2020-02-24",0,{"$f":"VALUE(URL_2[[#This Row],[Data]])","v":0}]
["Confirmed","","Zimbabwe",-20,30,"2020-02-23",0,{"$f":"VALUE(URL_2[[#This Row],[Data]])","v":0}]
["Confirmed","Diamond Princess","Canada",0,0,"2020-01-29",0,{"$f":"VALUE(URL_2[[#This Row],[Data]])","v":0}]
["Confirmed","Diamond Princess","Canada",0,0,"2020-03-04",0,{"$f":"VALUE(URL_2[[#This Row],[Data]])","v":0}]
["Confirmed","Diamond Princess","Canada",0,0,"2020-04-25",0,{"$f":"VALUE(URL_2[[#This Row],[Data]])","v":0}]
["Confirmed","","Dominica",15.414999999999999,-61.371000000000002,"2020-02-18",0,{"$f":"VALUE(URL_2[[#This Row],[Data]])","v":0}]
["Confirmed","","Grenada",12.1165,-61.678999999999995,"2020-01-22",0,{"$f":"VALUE(URL_2[[#This Row],[Data]])","v":0}]
["Confirmed","","Grenada",12.1165,-61.678999999999995,"2020-03-11",0,{"$f":"VALUE(URL_2[[#This Row],[Data]])","v":0}]
["Confirmed","","Mozambique",-18.665694999999999,35.529561999999999,"2020-02-18",0,{"$f":"VALUE(URL_2[[#This Row],[Data]])","v":0}]
["Confirmed","","Syria",34.802075000000002,38.996815000000012,"2020-02-13",0,{"$f":"VALUE(URL_2[[#This Row],[Data]])","v":0}]
["Confirmed","","Syria",34.802075000000002,38.996815000000012,"2020-02-23",0,{"$f":"VALUE(URL_2[[#This Row],[Data]])","v":0}]
["Confirmed","","Timor-Leste",-8.8742169999999998,125.72753899999999,"2020-02-18",0,{"$f":"VALUE(URL_2[[#This Row],[Data]])","v":0}]
["Confirmed","","Timor-Leste",-8.8742169999999998,125.72753899999999,"2020-03-05",0,{"$f":"VALUE(URL_2[[#This Row],[Data]])","v":0}]
["Confirmed","","Belize",13.193899999999999,-59.543199999999999,"2020-03-17",0,{"$f":"VALUE(URL_2[[#This Row],[Data]])","v":0}]
["Confirmed","Recovered","Canada",0,0,"2020-02-09",0,{"$f":"VALUE(URL_2[[#This Row],[Data]])","v":0}]
["Confirmed","Recovered","Canada",0,0,"2020-03-04",0,{"$f":"VALUE(URL_2[[#This Row],[Data]])","v":0}]
["Confirmed","","Laos",19.856269999999999,102.495496,"2020-02-03",0,{"$f":"VALUE(URL_2[[#This Row],[Data]])","v":0}]
["Confirmed","","Laos",19.856269999999999,102.495496,"2020-02-19",0,{"$f":"VALUE(URL_2[[#This Row],[Data]])","v":0}]
["Confirmed","","Libya",26.335100000000001,17.228331000000001,"2020-02-06",0,{"$f":"VALUE(URL_2[[#This Row],[Data]])","v":0}]
["Confirmed","","Libya",26.335100000000001,17.228331000000001,"2020-02-22",0,{"$f":"VALUE(URL_2[[#This Row],[Data]])","v":0}]
["Confirmed","","West Bank and Gaza",31.952200000000001,35.233199999999997,"2020-02-15",0,{"$f":"VALUE(URL_2[[#This Row],[Data]])","v":0}]
["Confirmed","","Guinea-Bissau",11.803699999999999,-15.180400000000001,"2020-02-05",0,{"$f":"VALUE(URL_2[[#This Row],[Data]])","v":0}]
["Confirmed","","Mali",17.570692000000001,-3.996166000000001,"2020-02-05",0,{"$f":"VALUE(URL_2[[#This Row],[Data]])","v":0}]
["Confirmed","","Mali",17.570692000000001,-3.996166000000001,"2020-02-29",0,{"$f":"VALUE(URL_2[[#This Row],[Data]])","v":0}]
["Confirmed","","Saint Kitts and Nevis",17.357821999999999,-62.782997999999999,"2020-01-30",0,{"$f":"VALUE(URL_2[[#This Row],[Data]])","v":0}]
["Confirmed","Northwest Territories","Canada",64.825500000000005,-124.84569999999999,"2020-01-22",0,{"$f":"VALUE(URL_2[[#This Row],[Data]])","v":0}]
["Confirmed","Northwest Territories","Canada",64.825500000000005,-124.84569999999999,"2020-02-02",0,{"$f":"VALUE(URL_2[[#This Row],[Data]])","v":0}]
["Confirmed","Yukon","Canada",64.282300000000006,-135,"2020-01-23",0,{"$f":"VALUE(URL_2[[#This Row],[Data]])","v":0}]
["Confirmed","Yukon","Canada",64.282300000000006,-135,"2020-03-18",0,{"$f":"VALUE(URL_2[[#This Row],[Data]])","v":0}]
["Confirmed","","Kosovo",42.602635999999997,20.902977,"2020-02-15",0,{"$f":"VALUE(URL_2[[#This Row],[Data]])","v":0}]
["Confirmed","","Kosovo",42.602635999999997,20.902977,"2020-03-02",0,{"$f":"VALUE(URL_2[[#This Row],[Data]])","v":0}]
["Confirmed","","Burma",21.9162,95.956000000000003,"2020-01-31",0,{"$f":"VALUE(URL_2[[#This Row],[Data]])","v":0}]
["Confirmed","Anguilla","United Kingdom",18.220600000000001,-63.068600000000004,"2020-02-07",0,{"$f":"VALUE(URL_2[[#This Row],[Data]])","v":0}]
["Confirmed","Anguilla","United Kingdom",18.220600000000001,-63.068600000000004,"2020-02-15",0,{"$f":"VALUE(URL_2[[#This Row],[Data]])","v":0}]
["Confirmed","Anguilla","United Kingdom",18.220600000000001,-63.068600000000004,"2020-03-26",0,{"$f":"VALUE(URL_2[[#This Row],[Data]])","v":0}]
["Confirmed","British Virgin Islands","United Kingdom",18.4207,-64.64,"2020-03-15",0,{"$f":"VALUE(URL_2[[#This Row],[Data]])","v":0}]
["Confirmed","Turks and Caicos Islands","United Kingdom",21.69400000000001,-71.797899999999998,"2020-02-11",0,{"$f":"VALUE(URL_2[[#This Row],[Data]])","v":0}]
["Confirmed","Turks and Caicos Islands","United Kingdom",21.69400000000001,-71.797899999999998,"2020-03-15",0,{"$f":"VALUE(URL_2[[#This Row],[Data]])","v":0}]
["Confirmed","","MS Zaandam",0,0,"2020-03-03",0,{"$f":"VALUE(URL_2[[#This Row],[Data]])","v":0}]
["Confirmed","","Botswana",-22.328499999999998,24.684899999999999,"2020-01-30",0,{"$f":"VALUE(URL_2[[#This Row],[Data]])","v":0}]
["Confirmed","","Botswana",-22.328499999999998,24.684899999999999,"2020-03-03",0,{"$f":"VALUE(URL_2[[#This Row],[Data]])","v":0}]
["Confirmed","","Burundi",-3.3731,29.918900000000001,"2020-02-11",0,{"$f":"VALUE(URL_2[[#This Row],[Data]])","v":0}]
["Confirmed","","Burundi",-3.3731,29.918900000000001,"2020-03-22",0,{"$f":"VALUE(URL_2[[#This Row],[Data]])","v":0}]
["Confirmed","","Sierra Leone",8.4605550000000012,-11.779889000000001,"2020-01-29",0,{"$f":"VALUE(URL_2[[#This Row],[Data]])","v":0}]
["Confirmed","","Sierra Leone",8.4605550000000012,-11.779889000000001,"2020-03-16",0,{"$f":"VALUE(URL_2[[#This Row],[Data]])","v":0}]
["Confirmed","Bonaire, Sint Eustatius and Saba","Netherlands",12.1784,-68.238500000000002,"2020-03-04",0,{"$f":"VALUE(URL_2[[#This Row],[Data]])","v":0}]
["Confirmed","Bonaire, Sint Eustatius and Saba","Netherlands",12.1784,-68.238500000000002,"2020-03-20",0,{"$f":"VALUE(URL_2[[#This Row],[Data]])","v":0}]
["Confirmed","","Malawi",-13.254307999999998,34.301524999999998,"2020-03-21",0,{"$f":"VALUE(URL_2[[#This Row],[Data]])","v":0}]
["Confirmed","Falkland Islands (Malvinas)","United Kingdom",-51.796300000000002,-59.523600000000002,"2020-02-01",0,{"$f":"VALUE(URL_2[[#This Row],[Data]])","v":0}]
["Confirmed","Falkland Islands (Malvinas)","United Kingdom",-51.796300000000002,-59.523600000000002,"2020-02-27",0,{"$f":"VALUE(URL_2[[#This Row],[Data]])","v":0}]
["Confirmed","Falkland Islands (Malvinas)","United Kingdom",-51.796300000000002,-59.523600000000002,"2020-03-31",0,{"$f":"VALUE(URL_2[[#This Row],[Data]])","v":0}]
["Confirmed","Saint Pierre and Miquelon","France",46.885199999999998,-56.315899999999999,"2020-03-13",0,{"$f":"VALUE(URL_2[[#This Row],[Data]])","v":0}]
["Confirmed","","South Sudan",6.8770000000000024,31.306999999999999,"2020-02-15",0,{"$f":"VALUE(URL_2[[#This Row],[Data]])","v":0}]
["Confirmed","","South Sudan",6.8770000000000024,31.306999999999999,"2020-03-04",0,{"$f":"VALUE(URL_2[[#This Row],[Data]])","v":0}]
["Confirmed","","Western Sahara",24.215499999999999,-12.8858,"2020-02-14",0,{"$f":"VALUE(URL_2[[#This Row],[Data]])","v":0}]
["Confirmed","","Western Sahara",24.215499999999999,-12.8858,"2020-03-18",0,{"$f":"VALUE(URL_2[[#This Row],[Data]])","v":0}]
["Confirmed","","Sao Tome and Principe",0.18636,6.6130810000000002,"2020-01-27",0,{"$f":"VALUE(URL_2[[#This Row],[Data]])","v":0}]
["Confirmed","","Sao Tome and Principe",0.18636,6.6130810000000002,"2020-03-31",0,{"$f":"VALUE(URL_2[[#This Row],[Data]])","v":0}]
["Confirmed","","Yemen",15.552727000000001,48.516387999999999,"2020-02-18",0,{"$f":"VALUE(URL_2[[#This Row],[Data]])","v":0}]
["Confirmed","","Yemen",15.552727000000001,48.516387999999999,"2020-04-02",0,{"$f":"VALUE(URL_2[[#This Row],[Data]])","v":0}]
["Confirmed","","Comoros",-11.6455,43.333300000000001,"2020-02-26",0,{"$f":"VALUE(URL_2[[#This Row],[Data]])","v":0}]
["Confirmed","","Comoros",-11.6455,43.333300000000001,"2020-03-30",0,{"$f":"VALUE(URL_2[[#This Row],[Data]])","v":0}]
["Confirmed","","Comoros",-11.6455,43.333300000000001,"2020-04-15",0,{"$f":"VALUE(URL_2[[#This Row],[Data]])","v":0}]
["Confirmed","","Tajikistan",38.861033999999997,71.276093000000003,"2020-03-16",0,{"$f":"VALUE(URL_2[[#This Row],[Data]])","v":0}]
["Confirmed","","Tajikistan",38.861033999999997,71.276093000000003,"2020-04-03",0,{"$f":"VALUE(URL_2[[#This Row],[Data]])","v":0}]
["Deaths","","Afghanistan",33,65,"2020-01-28",0,{"$f":"VALUE(URL_2[[#This Row],[Data]])","v":0}]
["Deaths","","Albania",41.153300000000002,20.168299999999999,"2020-02-09",0,{"$f":"VALUE(URL_2[[#This Row],[Data]])","v":0}]
["Deaths","","Albania",41.153300000000002,20.168299999999999,"2020-02-15",0,{"$f":"VALUE(URL_2[[#This Row],[Data]])","v":0}]
["Deaths","","Algeria",28.033899999999999,1.6596,"2020-02-08",0,{"$f":"VALUE(URL_2[[#This Row],[Data]])","v":0}]
["Deaths","","Andorra",42.506300000000003,1.5218,"2020-02-13",0,{"$f":"VALUE(URL_2[[#This Row],[Data]])","v":0}]
["Deaths","","Andorra",42.506300000000003,1.5218,"2020-03-17",0,{"$f":"VALUE(URL_2[[#This Row],[Data]])","v":0}]
["Deaths","","Angola",-11.2027,17.873899999999999,"2020-02-17",0,{"$f":"VALUE(URL_2[[#This Row],[Data]])","v":0}]
["Deaths","","Antigua and Barbuda",17.0608,-61.796399999999998,"2020-02-06",0,{"$f":"VALUE(URL_2[[#This Row],[Data]])","v":0}]
["Deaths","","Antigua and Barbuda",17.0608,-61.796399999999998,"2020-03-10",0,{"$f":"VALUE(URL_2[[#This Row],[Data]])","v":0}]
["Deaths","","Argentina",-38.4161,-63.616700000000002,"2020-02-15",0,{"$f":"VALUE(URL_2[[#This Row],[Data]])","v":0}]
["Deaths","","Armenia",40.069099999999999,45.038200000000003,"2020-02-04",0,{"$f":"VALUE(URL_2[[#This Row],[Data]])","v":0}]
["Deaths","","Armenia",40.069099999999999,45.038200000000003,"2020-03-08",0,{"$f":"VALUE(URL_2[[#This Row],[Data]])","v":0}]
["Deaths","","Armenia",40.069099999999999,45.038200000000003,"2020-03-24",0,{"$f":"VALUE(URL_2[[#This Row],[Data]])","v":0}]
["Deaths","Australian Capital Territory","Australia",-35.473500000000001,149.01240000000001,"2020-03-05",0,{"$f":"VALUE(URL_2[[#This Row],[Data]])","v":0}]
["Deaths","New South Wales","Australia",-33.8688,151.20930000000001,"2020-02-25",0,{"$f":"VALUE(URL_2[[#This Row],[Data]])","v":0}]
["Deaths","Northern Territory","Australia",-12.4634,130.84559999999999,"2020-01-30",0,{"$f":"VALUE(URL_2[[#This Row],[Data]])","v":0}]
["Deaths","Northern Territory","Australia",-12.4634,130.84559999999999,"2020-03-03",0,{"$f":"VALUE(URL_2[[#This Row],[Data]])","v":0}]
["Deaths","Northern Territory","Australia",-12.4634,130.84559999999999,"2020-04-25",0,{"$f":"VALUE(URL_2[[#This Row],[Data]])","v":0}]
["Deaths","Queensland","Australia",-28.0167,153.4,"2020-02-17",0,{"$f":"VALUE(URL_2[[#This Row],[Data]])","v":0}]
["Deaths","Queensland","Australia",-28.0167,153.4,"2020-03-21",0,{"$f":"VALUE(URL_2[[#This Row],[Data]])","v":0}]
["Deaths","South Australia","Australia",-34.9285,138.60069999999999,"2020-03-12",0,{"$f":"VALUE(URL_2[[#This Row],[Data]])","v":0}]
["Deaths","Tasmania","Australia",-41.454500000000003,145.97069999999999,"2020-02-10",0,{"$f":"VALUE(URL_2[[#This Row],[Data]])","v":0}]
["Deaths","Tasmania","Australia",-41.454500000000003,145.97069999999999,"2020-03-01",0,{"$f":"VALUE(URL_2[[#This Row],[Data]])","v":0}]
["Deaths","Victoria","Australia",-37.813600000000001,144.9631,"2020-02-16",0,{"$f":"VALUE(URL_2[[#This Row],[Data]])","v":0}]
["Deaths","Victoria","Australia",-37.813600000000001,144.9631,"2020-03-20",0,{"$f":"VALUE(URL_2[[#This Row],[Data]])","v":0}]
["Deaths","Western Australia","Australia",-31.950500000000002,115.8605,"2020-02-06",0,{"$f":"VALUE(URL_2[[#This Row],[Data]])","v":0}]
["Deaths","","Austria",47.516199999999998,14.5501,"2020-03-04",0,{"$f":"VALUE(URL_2[[#This Row],[Data]])","v":0}]
["Deaths","","Azerbaijan",40.143099999999997,47.576900000000002,"2020-02-16",0,{"$f":"VALUE(URL_2[[#This Row],[Data]])","v":0}]
["Deaths","","Bahamas",25.034300000000002,-77.396299999999997,"2020-02-07",0,{"$f":"VALUE(URL_2[[#This Row],[Data]])","v":0}]
["Deaths","","Bahamas",25.034300000000002,-77.396299999999997,"2020-03-23",0,{"$f":"VALUE(URL_2[[#This Row],[Data]])","v":0}]
["Deaths","","Bahrain",26.0275,50.55,"2020-02-15",0,{"$f":"VALUE(URL_2[[#This Row],[Data]])","v":0}]
["Deaths","","Bahrain",26.0275,50.55,"2020-03-02",0,{"$f":"VALUE(URL_2[[#This Row],[Data]])","v":0}]
["Deaths","","Bangladesh",23.684999999999999,90.356300000000005,"2020-03-15",0,{"$f":"VALUE(URL_2[[#This Row],[Data]])","v":0}]
["Deaths","","Barbados",13.193899999999999,-59.543199999999999,"2020-02-08",0,{"$f":"VALUE(URL_2[[#This Row],[Data]])","v":0}]
["Deaths","","Barbados",13.193899999999999,-59.543199999999999,"2020-03-12",0,{"$f":"VALUE(URL_2[[#This Row],[Data]])","v":0}]
["Deaths","","Belarus",53.709800000000001,27.953399999999998,"2020-01-31",0,{"$f":"VALUE(URL_2[[#This Row],[Data]])","v":0}]
["Deaths","","Belarus",53.709800000000001,27.953399999999998,"2020-03-14",0,{"$f":"VALUE(URL_2[[#This Row],[Data]])","v":0}]
["Deaths","","Belgium",50.833300000000001,4,"2020-02-18",0,{"$f":"VALUE(URL_2[[#This Row],[Data]])","v":0}]
["Deaths","","Benin",9.3077000000000005,2.3157999999999999,"2020-02-24",0,{"$f":"VALUE(URL_2[[#This Row],[Data]])","v":0}]
["Deaths","","Benin",9.3077000000000005,2.3157999999999999,"2020-03-28",0,{"$f":"VALUE(URL_2[[#This Row],[Data]])","v":0}]
["Deaths","","Bhutan",27.514199999999999,90.433599999999998,"2020-02-11",0,{"$f":"VALUE(URL_2[[#This Row],[Data]])","v":0}]
["Deaths","","Bhutan",27.514199999999999,90.433599999999998,"2020-04-09",0,{"$f":"VALUE(URL_2[[#This Row],[Data]])","v":0}]
["Deaths","","Bolivia",-16.290199999999999,-63.588700000000003,"2020-01-31",0,{"$f":"VALUE(URL_2[[#This Row],[Data]])","v":0}]
["Deaths","","Bolivia",-16.290199999999999,-63.588700000000003,"2020-02-12",0,{"$f":"VALUE(URL_2[[#This Row],[Data]])","v":0}]
["Deaths","","Bosnia and Herzegovina",43.915900000000001,17.679099999999998,"2020-02-20",0,{"$f":"VALUE(URL_2[[#This Row],[Data]])","v":0}]
["Deaths","","Brazil",-14.234999999999999,-51.9253,"2020-01-25",0,{"$f":"VALUE(URL_2[[#This Row],[Data]])","v":0}]
["Deaths","","Brazil",-14.234999999999999,-51.9253,"2020-02-10",0,{"$f":"VALUE(URL_2[[#This Row],[Data]])","v":0}]
["Deaths","","Brunei",4.5353000000000003,114.7277,"2020-01-29",0,{"$f":"VALUE(URL_2[[#This Row],[Data]])","v":0}]
["Deaths","","Bulgaria",42.733899999999998,25.485800000000001,"2020-01-24",0,{"$f":"VALUE(URL_2[[#This Row],[Data]])","v":0}]
["Deaths","","Bulgaria",42.733899999999998,25.485800000000001,"2020-02-09",0,{"$f":"VALUE(URL_2[[#This Row],[Data]])","v":0}]
["Deaths","","Burkina Faso",12.238300000000001,-1.5616000000000001,"2020-01-24",0,{"$f":"VALUE(URL_2[[#This Row],[Data]])","v":0}]
["Deaths","","Burkina Faso",12.238300000000001,-1.5616000000000001,"2020-03-15",0,{"$f":"VALUE(URL_2[[#This Row],[Data]])","v":0}]
["Deaths","","Cabo Verde",16.538799999999998,-23.041799999999999,"2020-02-24",0,{"$f":"VALUE(URL_2[[#This Row],[Data]])","v":0}]
["Deaths","","Cambodia",11.55,104.91670000000001,"2020-01-26",0,{"$f":"VALUE(URL_2[[#This Row],[Data]])","v":0}]
["Deaths","","Cambodia",11.55,104.91670000000001,"2020-03-21",0,{"$f":"VALUE(URL_2[[#This Row],[Data]])","v":0}]
["Deaths","","Cameroon",3.8479999999999999,11.5021,"2020-01-22",0,{"$f":"VALUE(URL_2[[#This Row],[Data]])","v":0}]
["Deaths","","Cameroon",3.8479999999999999,11.5021,"2020-02-13",0,{"$f":"VALUE(URL_2[[#This Row],[Data]])","v":0}]
["Deaths","Alberta","Canada",53.933300000000003,-116.5765,"2020-02-05",0,{"$f":"VALUE(URL_2[[#This Row],[Data]])","v":0}]
["Deaths","Alberta","Canada",53.933300000000003,-116.5765,"2020-03-02",0,{"$f":"VALUE(URL_2[[#This Row],[Data]])","v":0}]
["Deaths","British Columbia","Canada",49.282699999999998,-123.1207,"2020-01-26",0,{"$f":"VALUE(URL_2[[#This Row],[Data]])","v":0}]
["Deaths","Grand Princess","Canada",37.648899999999998,-122.66549999999999,"2020-02-20",0,{"$f":"VALUE(URL_2[[#This Row],[Data]])","v":0}]
["Deaths","Grand Princess","Canada",37.648899999999998,-122.66549999999999,"2020-03-24",0,{"$f":"VALUE(URL_2[[#This Row],[Data]])","v":0}]
["Deaths","Manitoba","Canada",53.760899999999999,-98.813900000000004,"2020-01-22",0,{"$f":"VALUE(URL_2[[#This Row],[Data]])","v":0}]
["Deaths","Manitoba","Canada",53.760899999999999,-98.813900000000004,"2020-03-09",0,{"$f":"VALUE(URL_2[[#This Row],[Data]])","v":0}]
["Deaths","New Brunswick","Canada",46.565300000000001,-66.4619,"2020-02-06",0,{"$f":"VALUE(URL_2[[#This Row],[Data]])","v":0}]
["Deaths","New Brunswick","Canada",46.565300000000001,-66.4619,"2020-02-22",0,{"$f":"VALUE(URL_2[[#This Row],[Data]])","v":0}]
["Deaths","New Brunswick","Canada",46.565300000000001,-66.4619,"2020-04-27",0,{"$f":"VALUE(URL_2[[#This Row],[Data]])","v":0}]
["Deaths","Newfoundland and Labrador","Canada",53.1355,-57.660400000000003,"2020-02-07",0,{"$f":"VALUE(URL_2[[#This Row],[Data]])","v":0}]
["Deaths","Newfoundland and Labrador","Canada",53.1355,-57.660400000000003,"2020-03-11",0,{"$f":"VALUE(URL_2[[#This Row],[Data]])","v":0}]
["Deaths","Nova Scotia","Canada",44.681999999999995,-63.744300000000003,"2020-02-05",0,{"$f":"VALUE(URL_2[[#This Row],[Data]])","v":0}]
["Deaths","Nova Scotia","Canada",44.681999999999995,-63.744300000000003,"2020-03-17",0,{"$f":"VALUE(URL_2[[#This Row],[Data]])","v":0}]
["Deaths","Ontario","Canada",51.253799999999998,-85.3232,"2020-02-16",0,{"$f":"VALUE(URL_2[[#This Row],[Data]])","v":0}]
["Deaths","Prince Edward Island","Canada",46.5107,-63.416800000000002,"2020-02-16",0,{"$f":"VALUE(URL_2[[#This Row],[Data]])","v":0}]
["Deaths","Prince Edward Island","Canada",46.5107,-63.416800000000002,"2020-03-20",0,{"$f":"VALUE(URL_2[[#This Row],[Data]])","v":0}]
["Deaths","Prince Edward Island","Canada",46.5107,-63.416800000000002,"2020-04-17",0,{"$f":"VALUE(URL_2[[#This Row],[Data]])","v":0}]
["Deaths","Quebec","Canada",52.939900000000002,-73.549099999999996,"2020-03-06",0,{"$f":"VALUE(URL_2[[#This Row],[Data]])","v":0}]
["Deaths","Saskatchewan","Canada",52.939900000000002,-106.4509,"2020-02-11",0,{"$f":"VALUE(URL_2[[#This Row],[Data]])","v":0}]
["Deaths","Saskatchewan","Canada",52.939900000000002,-106.4509,"2020-02-21",0,{"$f":"VALUE(URL_2[[#This Row],[Data]])","v":0}]
["Deaths","","Central African Republic",6.6111000000000004,20.939399999999999,"2020-01-22",0,{"$f":"VALUE(URL_2[[#This Row],[Data]])","v":0}]
["Deaths","","Central African Republic",6.6111000000000004,20.939399999999999,"2020-04-03",0,{"$f":"VALUE(URL_2[[#This Row],[Data]])","v":0}]
["Deaths","","Central African Republic",6.6111000000000004,20.939399999999999,"2020-04-19",0,{"$f":"VALUE(URL_2[[#This Row],[Data]])","v":0}]
["Deaths","","Chad",15.4542,18.732199999999999,"2020-02-18",0,{"$f":"VALUE(URL_2[[#This Row],[Data]])","v":0}]
["Deaths","","Chad",15.4542,18.732199999999999,"2020-03-13",0,{"$f":"VALUE(URL_2[[#This Row],[Data]])","v":0}]
["Deaths","","Chile",-35.6751,-71.543000000000006,"2020-01-31",0,{"$f":"VALUE(URL_2[[#This Row],[Data]])","v":0}]
["Deaths","","Chile",-35.6751,-71.543000000000006,"2020-03-04",0,{"$f":"VALUE(URL_2[[#This Row],[Data]])","v":0}]
["Deaths","Chongqing","China",30.057200000000002,107.874,"2020-01-30",0,{"$f":"VALUE(URL_2[[#This Row],[Data]])","v":0}]
["Deaths","Gansu","China",37.809899999999999,101.0583,"2020-01-29",0,{"$f":"VALUE(URL_2[[#This Row],[Data]])","v":0}]
["Deaths","Guangxi","China",23.829799999999999,108.7881,"2020-01-29",0,{"$f":"VALUE(URL_2[[#This Row],[Data]])","v":0}]
["Deaths","Hunan","China",27.610399999999998,111.7088,"2020-01-27",0,{"$f":"VALUE(URL_2[[#This Row],[Data]])","v":0}]
["Deaths","Inner Mongolia","China",44.093499999999999,113.9448,"2020-02-20",0,{"$f":"VALUE(URL_2[[#This Row],[Data]])","v":0}]
["Deaths","Jiangsu","China",32.9711,119.455,"2020-02-03",0,{"$f":"VALUE(URL_2[[#This Row],[Data]])","v":0}]
["Deaths","Jiangsu","China",32.9711,119.455,"2020-03-29",0,{"$f":"VALUE(URL_2[[#This Row],[Data]])","v":0}]
["Deaths","Jiangsu","China",32.9711,119.455,"2020-04-22",0,{"$f":"VALUE(URL_2[[#This Row],[Data]])","v":0}]
["Deaths","Jiangxi","China",27.614000000000001,115.7221,"2020-02-04",0,{"$f":"VALUE(URL_2[[#This Row],[Data]])","v":0}]
["Deaths","Macau","China",22.166699999999999,113.55,"2020-02-20",0,{"$f":"VALUE(URL_2[[#This Row],[Data]])","v":0}]
["Deaths","Macau","China",22.166699999999999,113.55,"2020-03-24",0,{"$f":"VALUE(URL_2[[#This Row],[Data]])","v":0}]
["Deaths","Macau","China",22.166699999999999,113.55,"2020-05-01",0,{"$f":"VALUE(URL_2[[#This Row],[Data]])","v":0}]
["Deaths","Ningxia","China",37.269199999999998,106.16549999999999,"2020-01-30",0,{"$f":"VALUE(URL_2[[#This Row],[Data]])","v":0}]
["Deaths","Ningxia","China",37.269199999999998,106.16549999999999,"2020-04-11",0,{"$f":"VALUE(URL_2[[#This Row],[Data]])","v":0}]
["Deaths","Ningxia","China",37.269199999999998,106.16549999999999,"2020-04-27",0,{"$f":"VALUE(URL_2[[#This Row],[Data]])","v":0}]
["Deaths","Qinghai","China",35.745199999999997,95.995599999999996,"2020-03-19",0,{"$f":"VALUE(URL_2[[#This Row],[Data]])","v":0}]
["Deaths","Qinghai","China",35.745199999999997,95.995599999999996,"2020-04-12",0,{"$f":"VALUE(URL_2[[#This Row],[Data]])","v":0}]
["Deaths","Shaanxi","China",35.191699999999997,108.87009999999999,"2020-02-03",0,{"$f":"VALUE(URL_2[[#This Row],[Data]])","v":0}]
["Deaths","Shandong","China",36.342700000000001,118.1498,"2020-02-07",0,{"$f":"VALUE(URL_2[[#This Row],[Data]])","v":0}]
["Deaths","Shanxi","China",37.5777,112.29219999999999,"2020-02-24",0,{"$f":"VALUE(URL_2[[#This Row],[Data]])","v":0}]
["Deaths","Shanxi","China",37.5777,112.29219999999999,"2020-04-12",0,{"$f":"VALUE(URL_2[[#This Row],[Data]])","v":0}]
["Deaths","Tianjin","China",39.305399999999999,117.32299999999999,"2020-01-27",0,{"$f":"VALUE(URL_2[[#This Row],[Data]])","v":0}]
["Deaths","Tibet","China",31.692699999999999,88.092399999999998,"2020-03-13",0,{"$f":"VALUE(URL_2[[#This Row],[Data]])","v":0}]
["Deaths","Tibet","China",31.692699999999999,88.092399999999998,"2020-04-09",0,{"$f":"VALUE(URL_2[[#This Row],[Data]])","v":0}]
["Deaths","Tibet","China",31.692699999999999,88.092399999999998,"2020-04-25",0,{"$f":"VALUE(URL_2[[#This Row],[Data]])","v":0}]
["Deaths","Zhejiang","China",29.183199999999999,120.0934,"2020-02-05",0,{"$f":"VALUE(URL_2[[#This Row],[Data]])","v":0}]
["Deaths","Zhejiang","China",29.183199999999999,120.0934,"2020-02-13",0,{"$f":"VALUE(URL_2[[#This Row],[Data]])","v":0}]
["Deaths","","Colombia",4.5709,-74.297300000000007,"2020-02-24",0,{"$f":"VALUE(URL_2[[#This Row],[Data]])","v":0}]
["Deaths","","Congo (Brazzaville)",-4.0382999999999996,21.758700000000001,"2020-01-28",0,{"$f":"VALUE(URL_2[[#This Row],[Data]])","v":0}]
["Deaths","","Congo (Brazzaville)",-4.0382999999999996,21.758700000000001,"2020-03-23",0,{"$f":"VALUE(URL_2[[#This Row],[Data]])","v":0}]
["Deaths","","Congo (Kinshasa)",-4.0382999999999996,21.758700000000001,"2020-02-20",0,{"$f":"VALUE(URL_2[[#This Row],[Data]])","v":0}]
["Deaths","","Congo (Kinshasa)",-4.0382999999999996,21.758700000000001,"2020-03-17",0,{"$f":"VALUE(URL_2[[#This Row],[Data]])","v":0}]
["Deaths","","Costa Rica",9.7489000000000008,-83.753399999999999,"2020-03-13",0,{"$f":"VALUE(URL_2[[#This Row],[Data]])","v":0}]
["Deaths","","Cote d'Ivoire",7.54,-5.5471000000000004,"2020-02-18",0,{"$f":"VALUE(URL_2[[#This Row],[Data]])","v":0}]
["Deaths","","Croatia",45.1,15.2,"2020-01-29",0,{"$f":"VALUE(URL_2[[#This Row],[Data]])","v":0}]
["Deaths","","Croatia",45.1,15.2,"2020-03-09",0,{"$f":"VALUE(URL_2[[#This Row],[Data]])","v":0}]
["Deaths","","Diamond Princess",0,0,"2020-02-14",0,{"$f":"VALUE(URL_2[[#This Row],[Data]])","v":0}]
["Deaths","","Cuba",22,-80,"2020-02-21",0,{"$f":"VALUE(URL_2[[#This Row],[Data]])","v":0}]
["Deaths","","Cyprus",35.126399999999997,33.429900000000004,"2020-02-16",0,{"$f":"VALUE(URL_2[[#This Row],[Data]])","v":0}]
["Deaths","","Cyprus",35.126399999999997,33.429900000000004,"2020-03-20",0,{"$f":"VALUE(URL_2[[#This Row],[Data]])","v":0}]
["Deaths","","Czechia",49.817500000000003,15.473000000000001,"2020-03-15",0,{"$f":"VALUE(URL_2[[#This Row],[Data]])","v":0}]
["Deaths","Faroe Islands","Denmark",61.892600000000002,-6.9118000000000004,"2020-02-06",0,{"$f":"VALUE(URL_2[[#This Row],[Data]])","v":0}]
["Deaths","Faroe Islands","Denmark",61.892600000000002,-6.9118000000000004,"2020-03-03",0,{"$f":"VALUE(URL_2[[#This Row],[Data]])","v":0}]
["Deaths","Faroe Islands","Denmark",61.892600000000002,-6.9118000000000004,"2020-04-05",0,{"$f":"VALUE(URL_2[[#This Row],[Data]])","v":0}]
["Deaths","Greenland","Denmark",71.706900000000005,-42.604300000000002,"2020-03-06",0,{"$f":"VALUE(URL_2[[#This Row],[Data]])","v":0}]
["Deaths","Greenland","Denmark",71.706900000000005,-42.604300000000002,"2020-04-11",0,{"$f":"VALUE(URL_2[[#This Row],[Data]])","v":0}]
["Deaths","Greenland","Denmark",71.706900000000005,-42.604300000000002,"2020-04-23",0,{"$f":"VALUE(URL_2[[#This Row],[Data]])","v":0}]
["Deaths","","Denmark",56.2639,9.5017999999999994,"2020-02-14",0,{"$f":"VALUE(URL_2[[#This Row],[Data]])","v":0}]
["Deaths","","Djibouti",11.825100000000001,42.590299999999999,"2020-02-17",0,{"$f":"VALUE(URL_2[[#This Row],[Data]])","v":0}]
["Deaths","","Djibouti",11.825100000000001,42.590299999999999,"2020-03-11",0,{"$f":"VALUE(URL_2[[#This Row],[Data]])","v":0}]
["Deaths","","Dominican Republic",18.735700000000001,-70.162700000000001,"2020-02-25",0,{"$f":"VALUE(URL_2[[#This Row],[Data]])","v":0}]
["Deaths","","Ecuador",-1.8311999999999999,-78.183400000000006,"2020-02-03",0,{"$f":"VALUE(URL_2[[#This Row],[Data]])","v":0}]
["Deaths","","Ecuador",-1.8311999999999999,-78.183400000000006,"2020-03-07",0,{"$f":"VALUE(URL_2[[#This Row],[Data]])","v":0}]
["Deaths","","Egypt",26,30,"2020-02-21",0,{"$f":"VALUE(URL_2[[#This Row],[Data]])","v":0}]
["Deaths","","El Salvador",13.7942,-88.896500000000003,"2020-02-25",0,{"$f":"VALUE(URL_2[[#This Row],[Data]])","v":0}]
["Deaths","","El Salvador",13.7942,-88.896500000000003,"2020-03-29",0,{"$f":"VALUE(URL_2[[#This Row],[Data]])","v":0}]
["Deaths","","Equatorial Guinea",1.5,10,"2020-02-09",0,{"$f":"VALUE(URL_2[[#This Row],[Data]])","v":0}]
["Deaths","","Equatorial Guinea",1.5,10,"2020-04-16",0,{"$f":"VALUE(URL_2[[#This Row],[Data]])","v":0}]
["Deaths","","Eritrea",15.179399999999999,39.782299999999999,"2020-02-01",0,{"$f":"VALUE(URL_2[[#This Row],[Data]])","v":0}]
["Deaths","","Eritrea",15.179399999999999,39.782299999999999,"2020-03-05",0,{"$f":"VALUE(URL_2[[#This Row],[Data]])","v":0}]
["Deaths","","Eritrea",15.179399999999999,39.782299999999999,"2020-04-19",0,{"$f":"VALUE(URL_2[[#This Row],[Data]])","v":0}]
["Deaths","","Estonia",58.595300000000002,25.0136,"2020-02-19",0,{"$f":"VALUE(URL_2[[#This Row],[Data]])","v":0}]
["Deaths","","Estonia",58.595300000000002,25.0136,"2020-03-23",0,{"$f":"VALUE(URL_2[[#This Row],[Data]])","v":0}]
["Deaths","","Eswatini",-26.522500000000001,31.465900000000001,"2020-03-15",0,{"$f":"VALUE(URL_2[[#This Row],[Data]])","v":0}]
["Deaths","","Ethiopia",9.1449999999999996,40.489699999999999,"2020-01-27",0,{"$f":"VALUE(URL_2[[#This Row],[Data]])","v":0}]
["Deaths","","Ethiopia",9.1449999999999996,40.489699999999999,"2020-02-24",0,{"$f":"VALUE(URL_2[[#This Row],[Data]])","v":0}]
["Deaths","","Fiji",-17.7134,178.065,"2020-02-05",0,{"$f":"VALUE(URL_2[[#This Row],[Data]])","v":0}]
["Deaths","","Fiji",-17.7134,178.065,"2020-03-09",0,{"$f":"VALUE(URL_2[[#This Row],[Data]])","v":0}]
["Deaths","","Fiji",-17.7134,178.065,"2020-04-23",0,{"$f":"VALUE(URL_2[[#This Row],[Data]])","v":0}]
["Deaths","","Finland",64,26,"2020-02-23",0,{"$f":"VALUE(URL_2[[#This Row],[Data]])","v":0}]
["Deaths","French Guiana","France",3.9339,-53.125799999999998,"2020-01-28",0,{"$f":"VALUE(URL_2[[#This Row],[Data]])","v":0}]
["Deaths","French Guiana","France",3.9339,-53.125799999999998,"2020-03-02",0,{"$f":"VALUE(URL_2[[#This Row],[Data]])","v":0}]
["Deaths","French Polynesia","France",-17.6797,149.4068,"2020-01-26",0,{"$f":"VALUE(URL_2[[#This Row],[Data]])","v":0}]
["Deaths","French Polynesia","France",-17.6797,149.4068,"2020-02-28",0,{"$f":"VALUE(URL_2[[#This Row],[Data]])","v":0}]
["Deaths","French Polynesia","France",-17.6797,149.4068,"2020-03-15",0,{"$f":"VALUE(URL_2[[#This Row],[Data]])","v":0}]
["Deaths","Guadeloupe","France",16.25,-61.583300000000001,"2020-02-01",0,{"$f":"VALUE(URL_2[[#This Row],[Data]])","v":0}]
["Deaths","Guadeloupe","France",16.25,-61.583300000000001,"2020-02-29",0,{"$f":"VALUE(URL_2[[#This Row],[Data]])","v":0}]
["Deaths","Mayotte","France",-12.827500000000001,45.166200000000003,"2020-02-02",0,{"$f":"VALUE(URL_2[[#This Row],[Data]])","v":0}]
["Deaths","Mayotte","France",-12.827500000000001,45.166200000000003,"2020-03-06",0,{"$f":"VALUE(URL_2[[#This Row],[Data]])","v":0}]
["Deaths","New Caledonia","France",-20.904299999999999,165.61799999999999,"2020-03-10",0,{"$f":"VALUE(URL_2[[#This Row],[Data]])","v":0}]
["Deaths","New Caledonia","France",-20.904299999999999,165.61799999999999,"2020-03-24",0,{"$f":"VALUE(URL_2[[#This Row],[Data]])","v":0}]
["Deaths","New Caledonia","France",-20.904299999999999,165.61799999999999,"2020-04-26",0,{"$f":"VALUE(URL_2[[#This Row],[Data]])","v":0}]
["Deaths","Reunion","France",-21.135100000000001,55.247100000000003,"2020-03-10",0,{"$f":"VALUE(URL_2[[#This Row],[Data]])","v":0}]
["Deaths","Reunion","France",-21.135100000000001,55.247100000000003,"2020-03-31",0,{"$f":"VALUE(URL_2[[#This Row],[Data]])","v":0}]
["Deaths","Saint Barthelemy","France",17.899999999999999,-62.833300000000001,"2020-02-24",0,{"$f":"VALUE(URL_2[[#This Row],[Data]])","v":0}]
["Deaths","Saint Barthelemy","France",17.899999999999999,-62.833300000000001,"2020-03-28",0,{"$f":"VALUE(URL_2[[#This Row],[Data]])","v":0}]
["Deaths","St Martin","France",18.070799999999998,-63.0501,"2020-01-28",0,{"$f":"VALUE(URL_2[[#This Row],[Data]])","v":0}]
["Deaths","St Martin","France",18.070799999999998,-63.0501,"2020-03-13",0,{"$f":"VALUE(URL_2[[#This Row],[Data]])","v":0}]
["Deaths","Martinique","France",14.641500000000001,-61.0242,"2020-02-07",0,{"$f":"VALUE(URL_2[[#This Row],[Data]])","v":0}]
["Deaths","Martinique","France",14.641500000000001,-61.0242,"2020-03-11",0,{"$f":"VALUE(URL_2[[#This Row],[Data]])","v":0}]
["Deaths","","France",46.227600000000002,2.2136999999999998,"2020-02-04",0,{"$f":"VALUE(URL_2[[#This Row],[Data]])","v":0}]
["Deaths","","Gambia",13.443199999999999,-15.3101,"2020-01-22",0,{"$f":"VALUE(URL_2[[#This Row],[Data]])","v":0}]
["Deaths","","Gambia",13.443199999999999,-15.3101,"2020-02-07",0,{"$f":"VALUE(URL_2[[#This Row],[Data]])","v":0}]
["Deaths","","Gambia",13.443199999999999,-15.3101,"2020-03-11",0,{"$f":"VALUE(URL_2[[#This Row],[Data]])","v":0}]
["Deaths","","Georgia",42.315399999999997,43.356900000000003,"2020-02-22",0,{"$f":"VALUE(URL_2[[#This Row],[Data]])","v":0}]
["Deaths","","Germany",51,9,"2020-01-24",0,{"$f":"VALUE(URL_2[[#This Row],[Data]])","v":0}]
["Deaths","","Germany",51,9,"2020-02-26",0,{"$f":"VALUE(URL_2[[#This Row],[Data]])","v":0}]
["Deaths","","Ghana",7.9465000000000003,-1.0232000000000001,"2020-03-05",0,{"$f":"VALUE(URL_2[[#This Row],[Data]])","v":0}]
["Deaths","","Greece",39.074199999999998,21.824300000000001,"2020-02-10",0,{"$f":"VALUE(URL_2[[#This Row],[Data]])","v":0}]
["Deaths","","Guatemala",15.7835,-90.230800000000002,"2020-01-22",0,{"$f":"VALUE(URL_2[[#This Row],[Data]])","v":0}]
["Deaths","","Guinea",9.9456000000000007,-9.6966000000000001,"2020-01-23",0,{"$f":"VALUE(URL_2[[#This Row],[Data]])","v":0}]
["Deaths","","Guinea",9.9456000000000007,-9.6966000000000001,"2020-02-25",0,{"$f":"VALUE(URL_2[[#This Row],[Data]])","v":0}]
["Deaths","","Guinea",9.9456000000000007,-9.6966000000000001,"2020-04-08",0,{"$f":"VALUE(URL_2[[#This Row],[Data]])","v":0}]
["Deaths","","Guyana",5,-58.75,"2020-02-28",0,{"$f":"VALUE(URL_2[[#This Row],[Data]])","v":0}]
["Deaths","","Haiti",18.9712,-72.285200000000003,"2020-02-11",0,{"$f":"VALUE(URL_2[[#This Row],[Data]])","v":0}]
["Deaths","","Haiti",18.9712,-72.285200000000003,"2020-03-14",0,{"$f":"VALUE(URL_2[[#This Row],[Data]])","v":0}]
["Deaths","","Holy See",41.902900000000002,12.4534,"2020-02-24",0,{"$f":"VALUE(URL_2[[#This Row],[Data]])","v":0}]
["Deaths","","Holy See",41.902900000000002,12.4534,"2020-03-28",0,{"$f":"VALUE(URL_2[[#This Row],[Data]])","v":0}]
["Deaths","","Holy See",41.902900000000002,12.4534,"2020-04-13",0,{"$f":"VALUE(URL_2[[#This Row],[Data]])","v":0}]
["Deaths","","Honduras",15.2,-86.241900000000001,"2020-02-28",0,{"$f":"VALUE(URL_2[[#This Row],[Data]])","v":0}]
["Deaths","","Hungary",47.162500000000001,19.503299999999999,"2020-02-11",0,{"$f":"VALUE(URL_2[[#This Row],[Data]])","v":0}]
["Deaths","","Hungary",47.162500000000001,19.503299999999999,"2020-02-27",0,{"$f":"VALUE(URL_2[[#This Row],[Data]])","v":0}]
["Deaths","","Iceland",64.963099999999997,-19.020800000000001,"2020-02-07",0,{"$f":"VALUE(URL_2[[#This Row],[Data]])","v":0}]
["Deaths","","India",21,78,"2020-02-23",0,{"$f":"VALUE(URL_2[[#This Row],[Data]])","v":0}]
["Deaths","","India",21,78,"2020-03-10",0,{"$f":"VALUE(URL_2[[#This Row],[Data]])","v":0}]
["Deaths","","Indonesia",-0.7893,113.9213,"2020-02-23",0,{"$f":"VALUE(URL_2[[#This Row],[Data]])","v":0}]
["Deaths","","Iraq",33,44,"2020-02-01",0,{"$f":"VALUE(URL_2[[#This Row],[Data]])","v":0}]
["Deaths","","Iraq",33,44,"2020-02-20",0,{"$f":"VALUE(URL_2[[#This Row],[Data]])","v":0}]
["Deaths","","Israel",31,35,"2020-01-28",0,{"$f":"VALUE(URL_2[[#This Row],[Data]])","v":0}]
["Deaths","","Israel",31,35,"2020-03-01",0,{"$f":"VALUE(URL_2[[#This Row],[Data]])","v":0}]
["Deaths","","Italy",43,12,"2020-02-11",0,{"$f":"VALUE(URL_2[[#This Row],[Data]])","v":0}]
["Deaths","","Italy",43,12,"2020-02-19",0,{"$f":"VALUE(URL_2[[#This Row],[Data]])","v":0}]
["Deaths","","Japan",36,138,"2020-02-04",0,{"$f":"VALUE(URL_2[[#This Row],[Data]])","v":0}]
["Deaths","","Jordan",31.24,36.51,"2020-02-15",0,{"$f":"VALUE(URL_2[[#This Row],[Data]])","v":0}]
["Deaths","","Jordan",31.24,36.51,"2020-03-02",0,{"$f":"VALUE(URL_2[[#This Row],[Data]])","v":0}]
["Deaths","","Kazakhstan",48.019599999999997,66.923699999999997,"2020-03-08",0,{"$f":"VALUE(URL_2[[#This Row],[Data]])","v":0}]
["Deaths","","Kazakhstan",48.019599999999997,66.923699999999997,"2020-03-25",0,{"$f":"VALUE(URL_2[[#This Row],[Data]])","v":0}]
["Deaths","","Kenya",-2.3599999999999999E-2,37.906199999999998,"2020-02-23",0,{"$f":"VALUE(URL_2[[#This Row],[Data]])","v":0}]
["Deaths","","Korea, South",36,128,"2020-01-31",0,{"$f":"VALUE(URL_2[[#This Row],[Data]])","v":0}]
["Deaths","","Kuwait",29.5,47.75,"2020-02-17",0,{"$f":"VALUE(URL_2[[#This Row],[Data]])","v":0}]
["Deaths","","Kuwait",29.5,47.75,"2020-03-21",0,{"$f":"VALUE(URL_2[[#This Row],[Data]])","v":0}]
["Deaths","","Kyrgyzstan",41.2044,74.766099999999994,"2020-03-03",0,{"$f":"VALUE(URL_2[[#This Row],[Data]])","v":0}]
["Deaths","","Latvia",56.879600000000003,24.603200000000001,"2020-01-24",0,{"$f":"VALUE(URL_2[[#This Row],[Data]])","v":0}]
["Deaths","","Latvia",56.879600000000003,24.603200000000001,"2020-02-25",0,{"$f":"VALUE(URL_2[[#This Row],[Data]])","v":0}]
["Deaths","","Lebanon",33.854700000000001,35.862299999999998,"2020-02-08",0,{"$f":"VALUE(URL_2[[#This Row],[Data]])","v":0}]
["Deaths","","Lebanon",33.854700000000001,35.862299999999998,"2020-02-24",0,{"$f":"VALUE(URL_2[[#This Row],[Data]])","v":0}]
["Deaths","","Liberia",6.4280999999999997,-9.4295000000000009,"2020-02-25",0,{"$f":"VALUE(URL_2[[#This Row],[Data]])","v":0}]
["Deaths","","Liechtenstein",47.14,9.5500000000000007,"2020-02-07",0,{"$f":"VALUE(URL_2[[#This Row],[Data]])","v":0}]
["Deaths","","Liechtenstein",47.14,9.5500000000000007,"2020-03-11",0,{"$f":"VALUE(URL_2[[#This Row],[Data]])","v":0}]
["Deaths","","Lithuania",55.169400000000003,23.8813,"2020-01-28",0,{"$f":"VALUE(URL_2[[#This Row],[Data]])","v":0}]
["Deaths","","Lithuania",55.169400000000003,23.8813,"2020-02-15",0,{"$f":"VALUE(URL_2[[#This Row],[Data]])","v":0}]
["Deaths","","Luxembourg",49.815300000000001,6.1295999999999999,"2020-02-28",0,{"$f":"VALUE(URL_2[[#This Row],[Data]])","v":0}]
["Deaths","","Madagascar",-18.7669,46.869100000000003,"2020-01-23",0,{"$f":"VALUE(URL_2[[#This Row],[Data]])","v":0}]
["Deaths","","Madagascar",-18.7669,46.869100000000003,"2020-03-18",0,{"$f":"VALUE(URL_2[[#This Row],[Data]])","v":0}]
["Deaths","","Malaysia",2.5,112.5,"2020-01-25",0,{"$f":"VALUE(URL_2[[#This Row],[Data]])","v":0}]
["Deaths","","Malaysia",2.5,112.5,"2020-02-10",0,{"$f":"VALUE(URL_2[[#This Row],[Data]])","v":0}]
["Deaths","","Malaysia",2.5,112.5,"2020-03-14",0,{"$f":"VALUE(URL_2[[#This Row],[Data]])","v":0}]
["Deaths","","Maldives",3.2027999999999999,73.220699999999994,"2020-02-19",0,{"$f":"VALUE(URL_2[[#This Row],[Data]])","v":0}]
["Deaths","","Maldives",3.2027999999999999,73.220699999999994,"2020-04-15",0,{"$f":"VALUE(URL_2[[#This Row],[Data]])","v":0}]
["Deaths","","Malta",35.9375,14.375400000000001,"2020-02-10",0,{"$f":"VALUE(URL_2[[#This Row],[Data]])","v":0}]
["Deaths","","Malta",35.9375,14.375400000000001,"2020-04-02",0,{"$f":"VALUE(URL_2[[#This Row],[Data]])","v":0}]
["Deaths","","Mauritania",21.007899999999999,10.940799999999999,"2020-02-20",0,{"$f":"VALUE(URL_2[[#This Row],[Data]])","v":0}]
["Deaths","","Mauritania",21.007899999999999,10.940799999999999,"2020-03-07",0,{"$f":"VALUE(URL_2[[#This Row],[Data]])","v":0}]
["Deaths","","Mauritius",-20.2,57.5,"2020-03-11",0,{"$f":"VALUE(URL_2[[#This Row],[Data]])","v":0}]
["Deaths","","Mexico",23.634499999999999,-102.5528,"2020-02-19",0,{"$f":"VALUE(URL_2[[#This Row],[Data]])","v":0}]
["Deaths","","Mexico",23.634499999999999,-102.5528,"2020-02-29",0,{"$f":"VALUE(URL_2[[#This Row],[Data]])","v":0}]
["Deaths","","Moldova",47.4116,28.369900000000001,"2020-03-15",0,{"$f":"VALUE(URL_2[[#This Row],[Data]])","v":0}]
["Deaths","","Monaco",43.7333,7.4166999999999996,"2020-02-21",0,{"$f":"VALUE(URL_2[[#This Row],[Data]])","v":0}]
["Deaths","","Monaco",43.7333,7.4166999999999996,"2020-03-06",0,{"$f":"VALUE(URL_2[[#This Row],[Data]])","v":0}]
["Deaths","","Mongolia",46.862499999999997,103.8467,"2020-02-02",0,{"$f":"VALUE(URL_2[[#This Row],[Data]])","v":0}]
["Deaths","","Mongolia",46.862499999999997,103.8467,"2020-03-28",0,{"$f":"VALUE(URL_2[[#This Row],[Data]])","v":0}]
["Deaths","","Mongolia",46.862499999999997,103.8467,"2020-04-30",0,{"$f":"VALUE(URL_2[[#This Row],[Data]])","v":0}]
["Deaths","","Montenegro",42.5,19.3,"2020-02-27",0,{"$f":"VALUE(URL_2[[#This Row],[Data]])","v":0}]
["Deaths","","Morocco",31.791699999999999,-7.0926,"2020-02-14",0,{"$f":"VALUE(URL_2[[#This Row],[Data]])","v":0}]
["Deaths","","Namibia",-22.957599999999999,18.490400000000001,"2020-01-30",0,{"$f":"VALUE(URL_2[[#This Row],[Data]])","v":0}]
["Deaths","","Namibia",-22.957599999999999,18.490400000000001,"2020-03-03",0,{"$f":"VALUE(URL_2[[#This Row],[Data]])","v":0}]
["Deaths","","Namibia",-22.957599999999999,18.490400000000001,"2020-04-25",0,{"$f":"VALUE(URL_2[[#This Row],[Data]])","v":0}]
["Deaths","","Nepal",28.166699999999999,84.25,"2020-02-17",0,{"$f":"VALUE(URL_2[[#This Row],[Data]])","v":0}]
["Deaths","","Nepal",28.166699999999999,84.25,"2020-04-12",0,{"$f":"VALUE(URL_2[[#This Row],[Data]])","v":0}]
["Deaths","","Nepal",28.166699999999999,84.25,"2020-04-26",0,{"$f":"VALUE(URL_2[[#This Row],[Data]])","v":0}]
["Deaths","Aruba","Netherlands",12.518599999999999,-70.035799999999995,"2020-03-06",0,{"$f":"VALUE(URL_2[[#This Row],[Data]])","v":0}]
["Deaths","Aruba","Netherlands",12.518599999999999,-70.035799999999995,"2020-03-22",0,{"$f":"VALUE(URL_2[[#This Row],[Data]])","v":0}]
["Deaths","Curacao","Netherlands",12.169600000000001,-68.989999999999995,"2020-03-10",0,{"$f":"VALUE(URL_2[[#This Row],[Data]])","v":0}]
["Deaths","Sint Maarten","Netherlands",18.0425,-63.0548,"2020-02-10",0,{"$f":"VALUE(URL_2[[#This Row],[Data]])","v":0}]
["Deaths","Sint Maarten","Netherlands",18.0425,-63.0548,"2020-03-01",0,{"$f":"VALUE(URL_2[[#This Row],[Data]])","v":0}]
["Deaths","","Netherlands",52.132599999999996,5.2912999999999997,"2020-03-03",0,{"$f":"VALUE(URL_2[[#This Row],[Data]])","v":0}]
["Deaths","","New Zealand",-40.900599999999997,174.886,"2020-02-04",0,{"$f":"VALUE(URL_2[[#This Row],[Data]])","v":0}]
["Deaths","","New Zealand",-40.900599999999997,174.886,"2020-03-28",0,{"$f":"VALUE(URL_2[[#This Row],[Data]])","v":0}]
["Deaths","","Nicaragua",12.865399999999999,-85.2072,"2020-02-02",0,{"$f":"VALUE(URL_2[[#This Row],[Data]])","v":0}]
["Deaths","","Niger",17.607800000000001,8.0816999999999997,"2020-01-23",0,{"$f":"VALUE(URL_2[[#This Row],[Data]])","v":0}]
["Deaths","","Niger",17.607800000000001,8.0816999999999997,"2020-02-25",0,{"$f":"VALUE(URL_2[[#This Row],[Data]])","v":0}]
["Deaths","","Nigeria",9.0820000000000007,8.6753,"2020-01-22",0,{"$f":"VALUE(URL_2[[#This Row],[Data]])","v":0}]
["Deaths","","Nigeria",9.0820000000000007,8.6753,"2020-03-20",0,{"$f":"VALUE(URL_2[[#This Row],[Data]])","v":0}]
["Deaths","","North Macedonia",41.608600000000003,21.7453,"2020-02-21",0,{"$f":"VALUE(URL_2[[#This Row],[Data]])","v":0}]
["Deaths","","Norway",60.472000000000001,8.4688999999999997,"2020-02-11",0,{"$f":"VALUE(URL_2[[#This Row],[Data]])","v":0}]
["Deaths","","Oman",21,57,"2020-01-27",0,{"$f":"VALUE(URL_2[[#This Row],[Data]])","v":0}]
["Deaths","","Oman",21,57,"2020-02-12",0,{"$f":"VALUE(URL_2[[#This Row],[Data]])","v":0}]
["Deaths","","Pakistan",30.375299999999999,69.345100000000002,"2020-02-15",0,{"$f":"VALUE(URL_2[[#This Row],[Data]])","v":0}]
["Deaths","","Panama",8.5380000000000003,-80.7821,"2020-01-25",0,{"$f":"VALUE(URL_2[[#This Row],[Data]])","v":0}]
["Deaths","","Panama",8.5380000000000003,-80.7821,"2020-02-06",0,{"$f":"VALUE(URL_2[[#This Row],[Data]])","v":0}]
["Deaths","","Panama",8.5380000000000003,-80.7821,"2020-03-10",0,{"$f":"VALUE(URL_2[[#This Row],[Data]])","v":0}]
["Deaths","","Papua New Guinea",-6.3150000000000004,143.9555,"2020-04-02",0,{"$f":"VALUE(URL_2[[#This Row],[Data]])","v":0}]
["Deaths","","Papua New Guinea",-6.3150000000000004,143.9555,"2020-04-14",0,{"$f":"VALUE(URL_2[[#This Row],[Data]])","v":0}]
["Deaths","","Paraguay",-23.442499999999999,-58.443800000000003,"2020-02-08",0,{"$f":"VALUE(URL_2[[#This Row],[Data]])","v":0}]
["Deaths","","Peru",-9.19,-75.015199999999993,"2020-02-04",0,{"$f":"VALUE(URL_2[[#This Row],[Data]])","v":0}]
["Deaths","","Peru",-9.19,-75.015199999999993,"2020-03-08",0,{"$f":"VALUE(URL_2[[#This Row],[Data]])","v":0}]
["Deaths","","Poland",51.919400000000003,19.145099999999999,"2020-02-05",0,{"$f":"VALUE(URL_2[[#This Row],[Data]])","v":0}]
["Deaths","","Portugal",39.399900000000002,-8.2245000000000008,"2020-02-05",0,{"$f":"VALUE(URL_2[[#This Row],[Data]])","v":0}]
["Deaths","","Portugal",39.399900000000002,-8.2245000000000008,"2020-03-09",0,{"$f":"VALUE(URL_2[[#This Row],[Data]])","v":0}]
["Deaths","","Qatar",25.354800000000001,51.183900000000001,"2020-02-03",0,{"$f":"VALUE(URL_2[[#This Row],[Data]])","v":0}]
["Deaths","","Romania",45.943199999999997,24.966799999999999,"2020-02-04",0,{"$f":"VALUE(URL_2[[#This Row],[Data]])","v":0}]
["Deaths","","Romania",45.943199999999997,24.966799999999999,"2020-03-08",0,{"$f":"VALUE(URL_2[[#This Row],[Data]])","v":0}]
["Deaths","","Russia",60,90,"2020-01-24",0,{"$f":"VALUE(URL_2[[#This Row],[Data]])","v":0}]
["Deaths","","Russia",60,90,"2020-03-15",0,{"$f":"VALUE(URL_2[[#This Row],[Data]])","v":0}]
["Deaths","","Rwanda",-1.9402999999999999,29.873899999999999,"2020-03-11",0,{"$f":"VALUE(URL_2[[#This Row],[Data]])","v":0}]
["Deaths","","Rwanda",-1.9402999999999999,29.873899999999999,"2020-03-27",0,{"$f":"VALUE(URL_2[[#This Row],[Data]])","v":0}]
["Deaths","","Saint Lucia",13.9094,-60.978900000000003,"2020-02-26",0,{"$f":"VALUE(URL_2[[#This Row],[Data]])","v":0}]
["Deaths","","Saint Lucia",13.9094,-60.978900000000003,"2020-03-23",0,{"$f":"VALUE(URL_2[[#This Row],[Data]])","v":0}]
["Deaths","","Saint Lucia",13.9094,-60.978900000000003,"2020-04-14",0,{"$f":"VALUE(URL_2[[#This Row],[Data]])","v":0}]
["Deaths","","Saint Vincent and the Grenadines",12.984299999999999,-61.287199999999999,"2020-02-05",0,{"$f":"VALUE(URL_2[[#This Row],[Data]])","v":0}]
["Deaths","","Saint Vincent and the Grenadines",12.984299999999999,-61.287199999999999,"2020-03-31",0,{"$f":"VALUE(URL_2[[#This Row],[Data]])","v":0}]
["Deaths","","San Marino",43.942399999999999,12.457800000000001,"2020-02-09",0,{"$f":"VALUE(URL_2[[#This Row],[Data]])","v":0}]
["Deaths","","San Marino",43.942399999999999,12.457800000000001,"2020-02-23",0,{"$f":"VALUE(URL_2[[#This Row],[Data]])","v":0}]
["Deaths","","Saudi Arabia",24,45,"2020-03-08",0,{"$f":"VALUE(URL_2[[#This Row],[Data]])","v":0}]
["Deaths","","Senegal",14.497400000000001,-14.452400000000001,"2020-02-08",0,{"$f":"VALUE(URL_2[[#This Row],[Data]])","v":0}]
["Deaths","","Senegal",14.497400000000001,-14.452400000000001,"2020-03-06",0,{"$f":"VALUE(URL_2[[#This Row],[Data]])","v":0}]
["Deaths","","Serbia",44.016500000000001,21.0059,"2020-02-25",0,{"$f":"VALUE(URL_2[[#This Row],[Data]])","v":0}]
["Deaths","","Seychelles",-4.6795999999999998,55.491999999999997,"2020-01-31",0,{"$f":"VALUE(URL_2[[#This Row],[Data]])","v":0}]
["Deaths","","Seychelles",-4.6795999999999998,55.491999999999997,"2020-03-19",0,{"$f":"VALUE(URL_2[[#This Row],[Data]])","v":0}]
["Deaths","","Seychelles",-4.6795999999999998,55.491999999999997,"2020-04-27",0,{"$f":"VALUE(URL_2[[#This Row],[Data]])","v":0}]
["Deaths","","Singapore",1.2833000000000001,103.83329999999999,"2020-02-01",0,{"$f":"VALUE(URL_2[[#This Row],[Data]])","v":0}]
["Deaths","","Singapore",1.2833000000000001,103.83329999999999,"2020-03-05",0,{"$f":"VALUE(URL_2[[#This Row],[Data]])","v":0}]
["Deaths","","Slovakia",48.668999999999997,19.699000000000002,"2020-03-23",0,{"$f":"VALUE(URL_2[[#This Row],[Data]])","v":0}]
["Deaths","","Slovenia",46.151200000000003,14.9955,"2020-01-27",0,{"$f":"VALUE(URL_2[[#This Row],[Data]])","v":0}]
["Deaths","","Slovenia",46.151200000000003,14.9955,"2020-02-29",0,{"$f":"VALUE(URL_2[[#This Row],[Data]])","v":0}]
["Deaths","","Somalia",5.1520999999999999,46.199599999999997,"2020-02-10",0,{"$f":"VALUE(URL_2[[#This Row],[Data]])","v":0}]
["Deaths","","Somalia",5.1520999999999999,46.199599999999997,"2020-03-30",0,{"$f":"VALUE(URL_2[[#This Row],[Data]])","v":0}]
["Deaths","","South Africa",-30.5595,22.9375,"2020-02-20",0,{"$f":"VALUE(URL_2[[#This Row],[Data]])","v":0}]
["Deaths","","Spain",40,-4,"2020-02-10",0,{"$f":"VALUE(URL_2[[#This Row],[Data]])","v":0}]
["Deaths","","Sri Lanka",7,81,"2020-02-02",0,{"$f":"VALUE(URL_2[[#This Row],[Data]])","v":0}]
["Deaths","","Sri Lanka",7,81,"2020-03-08",0,{"$f":"VALUE(URL_2[[#This Row],[Data]])","v":0}]
["Deaths","","Sudan",12.8628,30.217600000000001,"2020-02-23",0,{"$f":"VALUE(URL_2[[#This Row],[Data]])","v":0}]
["Deaths","","Suriname",3.9192999999999998,-56.027799999999999,"2020-02-05",0,{"$f":"VALUE(URL_2[[#This Row],[Data]])","v":0}]
["Deaths","","Suriname",3.9192999999999998,-56.027799999999999,"2020-02-23",0,{"$f":"VALUE(URL_2[[#This Row],[Data]])","v":0}]
["Deaths","","Sweden",63,16,"2020-02-20",0,{"$f":"VALUE(URL_2[[#This Row],[Data]])","v":0}]
["Deaths","","Switzerland",46.818199999999997,8.2274999999999991,"2020-02-04",0,{"$f":"VALUE(URL_2[[#This Row],[Data]])","v":0}]
["Deaths","","Switzerland",46.818199999999997,8.2274999999999991,"2020-02-20",0,{"$f":"VALUE(URL_2[[#This Row],[Data]])","v":0}]
["Deaths","","Tanzania",-6.3689999999999998,34.888800000000003,"2020-02-01",0,{"$f":"VALUE(URL_2[[#This Row],[Data]])","v":0}]
["Deaths","","Tanzania",-6.3689999999999998,34.888800000000003,"2020-03-27",0,{"$f":"VALUE(URL_2[[#This Row],[Data]])","v":0}]
["Deaths","","Thailand",15,101,"2020-02-03",0,{"$f":"VALUE(URL_2[[#This Row],[Data]])","v":0}]
["Deaths","","Togo",8.6195000000000004,0.82479999999999998,"2020-01-28",0,{"$f":"VALUE(URL_2[[#This Row],[Data]])","v":0}]
["Deaths","","Trinidad and Tobago",10.691800000000001,-61.222499999999997,"2020-01-26",0,{"$f":"VALUE(URL_2[[#This Row],[Data]])","v":0}]
["Deaths","","Trinidad and Tobago",10.691800000000001,-61.222499999999997,"2020-02-19",0,{"$f":"VALUE(URL_2[[#This Row],[Data]])","v":0}]
["Deaths","","Trinidad and Tobago",10.691800000000001,-61.222499999999997,"2020-03-23",0,{"$f":"VALUE(URL_2[[#This Row],[Data]])","v":0}]
["Deaths","","Tunisia",34,9,"2020-03-15",0,{"$f":"VALUE(URL_2[[#This Row],[Data]])","v":0}]
["Deaths","","Turkey",38.963700000000003,35.243299999999998,"2020-03-07",0,{"$f":"VALUE(URL_2[[#This Row],[Data]])","v":0}]
["Deaths","","Uganda",1,32,"2020-01-28",0,{"$f":"VALUE(URL_2[[#This Row],[Data]])","v":0}]
["Deaths","","Uganda",1,32,"2020-03-23",0,{"$f":"VALUE(URL_2[[#This Row],[Data]])","v":0}]
["Deaths","","Uganda",1,32,"2020-04-24",0,{"$f":"VALUE(URL_2[[#This Row],[Data]])","v":0}]
["Deaths","","Ukraine",48.379399999999997,31.165600000000001,"2020-03-08",0,{"$f":"VALUE(URL_2[[#This Row],[Data]])","v":0}]
["Deaths","","United Arab Emirates",24,54,"2020-02-19",0,{"$f":"VALUE(URL_2[[#This Row],[Data]])","v":0}]
["Deaths","Bermuda","United Kingdom",32.3078,-64.750500000000002,"2020-01-25",0,{"$f":"VALUE(URL_2[[#This Row],[Data]])","v":0}]
["Deaths","Bermuda","United Kingdom",32.3078,-64.750500000000002,"2020-03-11",0,{"$f":"VALUE(URL_2[[#This Row],[Data]])","v":0}]
["Deaths","Cayman Islands","United Kingdom",19.313300000000002,-81.254599999999996,"2020-02-06",0,{"$f":"VALUE(URL_2[[#This Row],[Data]])","v":0}]
["Deaths","Cayman Islands","United Kingdom",19.313300000000002,-81.254599999999996,"2020-03-10",0,{"$f":"VALUE(URL_2[[#This Row],[Data]])","v":0}]
["Deaths","Channel Islands","United Kingdom",49.372300000000003,-2.3643999999999998,"2020-02-01",0,{"$f":"VALUE(URL_2[[#This Row],[Data]])","v":0}]
["Deaths","Channel Islands","United Kingdom",49.372300000000003,-2.3643999999999998,"2020-03-05",0,{"$f":"VALUE(URL_2[[#This Row],[Data]])","v":0}]
["Deaths","Gibraltar","United Kingdom",36.140799999999999,-5.3536000000000001,"2020-02-24",0,{"$f":"VALUE(URL_2[[#This Row],[Data]])","v":0}]
["Deaths","Gibraltar","United Kingdom",36.140799999999999,-5.3536000000000001,"2020-03-28",0,{"$f":"VALUE(URL_2[[#This Row],[Data]])","v":0}]
["Deaths","Gibraltar","United Kingdom",36.140799999999999,-5.3536000000000001,"2020-04-30",0,{"$f":"VALUE(URL_2[[#This Row],[Data]])","v":0}]
["Deaths","Isle of Man","United Kingdom",54.2361,-4.5480999999999998,"2020-03-06",0,{"$f":"VALUE(URL_2[[#This Row],[Data]])","v":0}]
["Deaths","Montserrat","United Kingdom",16.7425,-62.187399999999997,"2020-02-05",0,{"$f":"VALUE(URL_2[[#This Row],[Data]])","v":0}]
["Deaths","Montserrat","United Kingdom",16.7425,-62.187399999999997,"2020-03-31",0,{"$f":"VALUE(URL_2[[#This Row],[Data]])","v":0}]
["Deaths","","United Kingdom",55.378100000000003,-3.4360000000000004,"2020-02-13",0,{"$f":"VALUE(URL_2[[#This Row],[Data]])","v":0}]
["Deaths","","United Kingdom",55.378100000000003,-3.4360000000000004,"2020-03-03",0,{"$f":"VALUE(URL_2[[#This Row],[Data]])","v":0}]
["Deaths","","Uruguay",-32.522799999999997,-55.765799999999999,"2020-03-14",0,{"$f":"VALUE(URL_2[[#This Row],[Data]])","v":0}]
["Deaths","","US",37.090200000000003,-95.712900000000005,"2020-02-09",0,{"$f":"VALUE(URL_2[[#This Row],[Data]])","v":0}]
["Deaths","","US",37.090200000000003,-95.712900000000005,"2020-02-25",0,{"$f":"VALUE(URL_2[[#This Row],[Data]])","v":0}]
["Deaths","","Venezuela",6.4238,-66.589699999999993,"2020-01-24",0,{"$f":"VALUE(URL_2[[#This Row],[Data]])","v":0}]
["Deaths","","Venezuela",6.4238,-66.589699999999993,"2020-02-26",0,{"$f":"VALUE(URL_2[[#This Row],[Data]])","v":0}]
["Deaths","","Venezuela",6.4238,-66.589699999999993,"2020-03-13",0,{"$f":"VALUE(URL_2[[#This Row],[Data]])","v":0}]
["Deaths","","Vietnam",16,108,"2020-02-24",0,{"$f":"VALUE(URL_2[[#This Row],[Data]])","v":0}]
["Deaths","","Vietnam",16,108,"2020-04-21",0,{"$f":"VALUE(URL_2[[#This Row],[Data]])","v":0}]
["Deaths","","Zambia",-15.416700000000001,28.283300000000001,"2020-01-26",0,{"$f":"VALUE(URL_2[[#This Row],[Data]])","v":0}]
["Deaths","","Zambia",-15.416700000000001,28.283300000000001,"2020-02-28",0,{"$f":"VALUE(URL_2[[#This Row],[Data]])","v":0}]
["Deaths","","Zimbabwe",-20,30,"2020-02-18",0,{"$f":"VALUE(URL_2[[#This Row],[Data]])","v":0}]
["Deaths","","Zimbabwe",-20,30,"2020-03-15",0,{"$f":"VALUE(URL_2[[#This Row],[Data]])","v":0}]
["Deaths","Diamond Princess","Canada",0,0,"2020-02-16",0,{"$f":"VALUE(URL_2[[#This Row],[Data]])","v":0}]
["Deaths","","Dominica",15.414999999999999,-61.371000000000002,"2020-02-11",0,{"$f":"VALUE(URL_2[[#This Row],[Data]])","v":0}]
["Deaths","","Dominica",15.414999999999999,-61.371000000000002,"2020-03-29",0,{"$f":"VALUE(URL_2[[#This Row],[Data]])","v":0}]
["Deaths","","Dominica",15.414999999999999,-61.371000000000002,"2020-04-16",0,{"$f":"VALUE(URL_2[[#This Row],[Data]])","v":0}]
["Deaths","","Grenada",12.1165,-61.678999999999995,"2020-02-29",0,{"$f":"VALUE(URL_2[[#This Row],[Data]])","v":0}]
["Deaths","","Grenada",12.1165,-61.678999999999995,"2020-03-30",0,{"$f":"VALUE(URL_2[[#This Row],[Data]])","v":0}]
["Deaths","","Grenada",12.1165,-61.678999999999995,"2020-04-17",0,{"$f":"VALUE(URL_2[[#This Row],[Data]])","v":0}]
["Deaths","","Mozambique",-18.665694999999999,35.529561999999999,"2020-03-18",0,{"$f":"VALUE(URL_2[[#This Row],[Data]])","v":0}]
["Deaths","","Mozambique",-18.665694999999999,35.529561999999999,"2020-04-20",0,{"$f":"VALUE(URL_2[[#This Row],[Data]])","v":0}]
["Deaths","","Syria",34.802075000000002,38.996815000000012,"2020-02-22",0,{"$f":"VALUE(URL_2[[#This Row],[Data]])","v":0}]
["Deaths","","Syria",34.802075000000002,38.996815000000012,"2020-02-26",0,{"$f":"VALUE(URL_2[[#This Row],[Data]])","v":0}]
["Deaths","","Timor-Leste",-8.8742169999999998,125.72753899999999,"2020-03-02",0,{"$f":"VALUE(URL_2[[#This Row],[Data]])","v":0}]
["Deaths","","Timor-Leste",-8.8742169999999998,125.72753899999999,"2020-03-18",0,{"$f":"VALUE(URL_2[[#This Row],[Data]])","v":0}]
["Deaths","","Timor-Leste",-8.8742169999999998,125.72753899999999,"2020-04-18",0,{"$f":"VALUE(URL_2[[#This Row],[Data]])","v":0}]
["Deaths","","Belize",13.193899999999999,-59.543199999999999,"2020-03-03",0,{"$f":"VALUE(URL_2[[#This Row],[Data]])","v":0}]
["Deaths","","Belize",13.193899999999999,-59.543199999999999,"2020-04-05",0,{"$f":"VALUE(URL_2[[#This Row],[Data]])","v":0}]
["Deaths","Recovered","Canada",0,0,"2020-02-23",0,{"$f":"VALUE(URL_2[[#This Row],[Data]])","v":0}]
["Deaths","Recovered","Canada",0,0,"2020-04-08",0,{"$f":"VALUE(URL_2[[#This Row],[Data]])","v":0}]
["Deaths","","Laos",19.856269999999999,102.495496,"2020-02-08",0,{"$f":"VALUE(URL_2[[#This Row],[Data]])","v":0}]
["Deaths","","Laos",19.856269999999999,102.495496,"2020-04-03",0,{"$f":"VALUE(URL_2[[#This Row],[Data]])","v":0}]
["Deaths","","Laos",19.856269999999999,102.495496,"2020-04-09",0,{"$f":"VALUE(URL_2[[#This Row],[Data]])","v":0}]
["Deaths","","Libya",26.335100000000001,17.228331000000001,"2020-02-26",0,{"$f":"VALUE(URL_2[[#This Row],[Data]])","v":0}]
["Deaths","","West Bank and Gaza",31.952200000000001,35.233199999999997,"2020-02-10",0,{"$f":"VALUE(URL_2[[#This Row],[Data]])","v":0}]
["Deaths","","West Bank and Gaza",31.952200000000001,35.233199999999997,"2020-03-14",0,{"$f":"VALUE(URL_2[[#This Row],[Data]])","v":0}]
["Deaths","","Guinea-Bissau",11.803699999999999,-15.180400000000001,"2020-01-24",0,{"$f":"VALUE(URL_2[[#This Row],[Data]])","v":0}]
["Deaths","","Guinea-Bissau",11.803699999999999,-15.180400000000001,"2020-02-27",0,{"$f":"VALUE(URL_2[[#This Row],[Data]])","v":0}]
["Deaths","","Mali",17.570692000000001,-3.996166000000001,"2020-02-04",0,{"$f":"VALUE(URL_2[[#This Row],[Data]])","v":0}]
["Deaths","","Mali",17.570692000000001,-3.996166000000001,"2020-02-20",0,{"$f":"VALUE(URL_2[[#This Row],[Data]])","v":0}]
["Deaths","","Saint Kitts and Nevis",17.357821999999999,-62.782997999999999,"2020-01-29",0,{"$f":"VALUE(URL_2[[#This Row],[Data]])","v":0}]
["Deaths","","Saint Kitts and Nevis",17.357821999999999,-62.782997999999999,"2020-02-18",0,{"$f":"VALUE(URL_2[[#This Row],[Data]])","v":0}]
["Deaths","","Saint Kitts and Nevis",17.357821999999999,-62.782997999999999,"2020-04-13",0,{"$f":"VALUE(URL_2[[#This Row],[Data]])","v":0}]
["Deaths","Northwest Territories","Canada",64.825500000000005,-124.84569999999999,"2020-02-04",0,{"$f":"VALUE(URL_2[[#This Row],[Data]])","v":0}]
["Deaths","Northwest Territories","Canada",64.825500000000005,-124.84569999999999,"2020-03-28",0,{"$f":"VALUE(URL_2[[#This Row],[Data]])","v":0}]
["Deaths","Northwest Territories","Canada",64.825500000000005,-124.84569999999999,"2020-05-01",0,{"$f":"VALUE(URL_2[[#This Row],[Data]])","v":0}]
["Deaths","Yukon","Canada",64.282300000000006,-135,"2020-02-22",0,{"$f":"VALUE(URL_2[[#This Row],[Data]])","v":0}]
["Deaths","Yukon","Canada",64.282300000000006,-135,"2020-04-04",0,{"$f":"VALUE(URL_2[[#This Row],[Data]])","v":0}]
["Deaths","","Kosovo",42.602635999999997,20.902977,"2020-02-07",0,{"$f":"VALUE(URL_2[[#This Row],[Data]])","v":0}]
["Deaths","","Kosovo",42.602635999999997,20.902977,"2020-03-11",0,{"$f":"VALUE(URL_2[[#This Row],[Data]])","v":0}]
["Deaths","","Burma",21.9162,95.956000000000003,"2020-03-02",0,{"$f":"VALUE(URL_2[[#This Row],[Data]])","v":0}]
["Deaths","","Burma",21.9162,95.956000000000003,"2020-03-30",0,{"$f":"VALUE(URL_2[[#This Row],[Data]])","v":0}]
["Deaths","Anguilla","United Kingdom",18.220600000000001,-63.068600000000004,"2020-02-10",0,{"$f":"VALUE(URL_2[[#This Row],[Data]])","v":0}]
["Deaths","Anguilla","United Kingdom",18.220600000000001,-63.068600000000004,"2020-03-14",0,{"$f":"VALUE(URL_2[[#This Row],[Data]])","v":0}]
["Deaths","British Virgin Islands","United Kingdom",18.4207,-64.64,"2020-02-13",0,{"$f":"VALUE(URL_2[[#This Row],[Data]])","v":0}]
["Deaths","British Virgin Islands","United Kingdom",18.4207,-64.64,"2020-03-26",0,{"$f":"VALUE(URL_2[[#This Row],[Data]])","v":0}]
["Deaths","British Virgin Islands","United Kingdom",18.4207,-64.64,"2020-04-01",0,{"$f":"VALUE(URL_2[[#This Row],[Data]])","v":0}]
["Deaths","Turks and Caicos Islands","United Kingdom",21.69400000000001,-71.797899999999998,"2020-03-16",0,{"$f":"VALUE(URL_2[[#This Row],[Data]])","v":0}]
["Deaths","Turks and Caicos Islands","United Kingdom",21.69400000000001,-71.797899999999998,"2020-04-01",0,{"$f":"VALUE(URL_2[[#This Row],[Data]])","v":0}]
["Deaths","","MS Zaandam",0,0,"2020-02-16",0,{"$f":"VALUE(URL_2[[#This Row],[Data]])","v":0}]
["Deaths","","Botswana",-22.328499999999998,24.684899999999999,"2020-02-04",0,{"$f":"VALUE(URL_2[[#This Row],[Data]])","v":0}]
["Deaths","","Botswana",-22.328499999999998,24.684899999999999,"2020-03-08",0,{"$f":"VALUE(URL_2[[#This Row],[Data]])","v":0}]
["Deaths","","Burundi",-3.3731,29.918900000000001,"2020-02-01",0,{"$f":"VALUE(URL_2[[#This Row],[Data]])","v":0}]
["Deaths","","Burundi",-3.3731,29.918900000000001,"2020-03-15",0,{"$f":"VALUE(URL_2[[#This Row],[Data]])","v":0}]
["Deaths","","Sierra Leone",8.4605550000000012,-11.779889000000001,"2020-02-06",0,{"$f":"VALUE(URL_2[[#This Row],[Data]])","v":0}]
["Deaths","","Sierra Leone",8.4605550000000012,-11.779889000000001,"2020-04-01",0,{"$f":"VALUE(URL_2[[#This Row],[Data]])","v":0}]
["Deaths","","Sierra Leone",8.4605550000000012,-11.779889000000001,"2020-04-05",0,{"$f":"VALUE(URL_2[[#This Row],[Data]])","v":0}]
["Deaths","Bonaire, Sint Eustatius and Saba","Netherlands",12.1784,-68.238500000000002,"2020-03-05",0,{"$f":"VALUE(URL_2[[#This Row],[Data]])","v":0}]
["Deaths","Bonaire, Sint Eustatius and Saba","Netherlands",12.1784,-68.238500000000002,"2020-03-21",0,{"$f":"VALUE(URL_2[[#This Row],[Data]])","v":0}]
["Deaths","","Malawi",-13.254307999999998,34.301524999999998,"2020-02-20",0,{"$f":"VALUE(URL_2[[#This Row],[Data]])","v":0}]
["Deaths","","Malawi",-13.254307999999998,34.301524999999998,"2020-03-03",0,{"$f":"VALUE(URL_2[[#This Row],[Data]])","v":0}]
["Deaths","Falkland Islands (Malvinas)","United Kingdom",-51.796300000000002,-59.523600000000002,"2020-01-23",0,{"$f":"VALUE(URL_2[[#This Row],[Data]])","v":0}]
["Deaths","Falkland Islands (Malvinas)","United Kingdom",-51.796300000000002,-59.523600000000002,"2020-02-25",0,{"$f":"VALUE(URL_2[[#This Row],[Data]])","v":0}]
["Deaths","Falkland Islands (Malvinas)","United Kingdom",-51.796300000000002,-59.523600000000002,"2020-04-20",0,{"$f":"VALUE(URL_2[[#This Row],[Data]])","v":0}]
["Deaths","Saint Pierre and Miquelon","France",46.885199999999998,-56.315899999999999,"2020-02-21",0,{"$f":"VALUE(URL_2[[#This Row],[Data]])","v":0}]
["Deaths","Saint Pierre and Miquelon","France",46.885199999999998,-56.315899999999999,"2020-03-14",0,{"$f":"VALUE(URL_2[[#This Row],[Data]])","v":0}]
["Deaths","","South Sudan",6.8770000000000024,31.306999999999999,"2020-01-27",0,{"$f":"VALUE(URL_2[[#This Row],[Data]])","v":0}]
["Deaths","","South Sudan",6.8770000000000024,31.306999999999999,"2020-02-29",0,{"$f":"VALUE(URL_2[[#This Row],[Data]])","v":0}]
["Deaths","","South Sudan",6.8770000000000024,31.306999999999999,"2020-04-20",0,{"$f":"VALUE(URL_2[[#This Row],[Data]])","v":0}]
["Deaths","","Western Sahara",24.215499999999999,-12.8858,"2020-02-14",0,{"$f":"VALUE(URL_2[[#This Row],[Data]])","v":0}]
["Deaths","","Western Sahara",24.215499999999999,-12.8858,"2020-03-18",0,{"$f":"VALUE(URL_2[[#This Row],[Data]])","v":0}]
["Deaths","","Western Sahara",24.215499999999999,-12.8858,"2020-04-27",0,{"$f":"VALUE(URL_2[[#This Row],[Data]])","v":0}]
["Deaths","","Sao Tome and Principe",0.18636,6.6130810000000002,"2020-03-03",0,{"$f":"VALUE(URL_2[[#This Row],[Data]])","v":0}]
["Deaths","","Sao Tome and Principe",0.18636,6.6130810000000002,"2020-04-05",0,{"$f":"VALUE(URL_2[[#This Row],[Data]])","v":0}]
["Deaths","","Sao Tome and Principe",0.18636,6.6130810000000002,"2020-04-21",0,{"$f":"VALUE(URL_2[[#This Row],[Data]])","v":0}]
["Deaths","","Yemen",15.552727000000001,48.516387999999999,"2020-03-17",0,{"$f":"VALUE(URL_2[[#This Row],[Data]])","v":0}]
["Deaths","","Yemen",15.552727000000001,48.516387999999999,"2020-04-08",0,{"$f":"VALUE(URL_2[[#This Row],[Data]])","v":0}]
["Deaths","","Comoros",-11.6455,43.333300000000001,"2020-02-02",0,{"$f":"VALUE(URL_2[[#This Row],[Data]])","v":0}]
["Deaths","","Comoros",-11.6455,43.333300000000001,"2020-04-14",0,{"$f":"VALUE(URL_2[[#This Row],[Data]])","v":0}]
["Deaths","","Comoros",-11.6455,43.333300000000001,"2020-04-16",0,{"$f":"VALUE(URL_2[[#This Row],[Data]])","v":0}]
["Deaths","","Tajikistan",38.861033999999997,71.276093000000003,"2020-02-20",0,{"$f":"VALUE(URL_2[[#This Row],[Data]])","v":0}]
["Deaths","","Tajikistan",38.861033999999997,71.276093000000003,"2020-03-24",0,{"$f":"VALUE(URL_2[[#This Row],[Data]])","v":0}]
["Recovered","","Afghanistan",33,65,"2020-02-07",0,{"$f":"VALUE(URL_2[[#This Row],[Data]])","v":0}]
["Recovered","","Afghanistan",33,65,"2020-03-05",0,{"$f":"VALUE(URL_2[[#This Row],[Data]])","v":0}]
["Recovered","","Albania",41.153300000000002,20.168299999999999,"2020-03-11",0,{"$f":"VALUE(URL_2[[#This Row],[Data]])","v":0}]
["Recovered","","Algeria",28.033899999999999,1.6596,"2020-02-14",0,{"$f":"VALUE(URL_2[[#This Row],[Data]])","v":0}]
["Recovered","","Andorra",42.506300000000003,1.5218,"2020-02-12",0,{"$f":"VALUE(URL_2[[#This Row],[Data]])","v":0}]
["Recovered","","Angola",-11.2027,17.873899999999999,"2020-01-31",0,{"$f":"VALUE(URL_2[[#This Row],[Data]])","v":0}]
["Recovered","","Angola",-11.2027,17.873899999999999,"2020-03-04",0,{"$f":"VALUE(URL_2[[#This Row],[Data]])","v":0}]
["Recovered","","Angola",-11.2027,17.873899999999999,"2020-03-20",0,{"$f":"VALUE(URL_2[[#This Row],[Data]])","v":0}]
["Recovered","","Antigua and Barbuda",17.0608,-61.796399999999998,"2020-02-21",0,{"$f":"VALUE(URL_2[[#This Row],[Data]])","v":0}]
["Recovered","","Argentina",-38.4161,-63.616700000000002,"2020-02-01",0,{"$f":"VALUE(URL_2[[#This Row],[Data]])","v":0}]
["Recovered","","Argentina",-38.4161,-63.616700000000002,"2020-02-17",0,{"$f":"VALUE(URL_2[[#This Row],[Data]])","v":0}]
["Recovered","","Armenia",40.069099999999999,45.038200000000003,"2020-01-29",0,{"$f":"VALUE(URL_2[[#This Row],[Data]])","v":0}]
["Recovered","Australian Capital Territory","Australia",-35.473500000000001,149.01240000000001,"2020-01-23",0,{"$f":"VALUE(URL_2[[#This Row],[Data]])","v":0}]
["Recovered","Australian Capital Territory","Australia",-35.473500000000001,149.01240000000001,"2020-03-01",0,{"$f":"VALUE(URL_2[[#This Row],[Data]])","v":0}]
["Recovered","Northern Territory","Australia",-12.4634,130.84559999999999,"2020-01-22",0,{"$f":"VALUE(URL_2[[#This Row],[Data]])","v":0}]
["Recovered","Northern Territory","Australia",-12.4634,130.84559999999999,"2020-03-17",0,{"$f":"VALUE(URL_2[[#This Row],[Data]])","v":0}]
["Recovered","Queensland","Australia",-28.0167,153.4,"2020-02-14",0,{"$f":"VALUE(URL_2[[#This Row],[Data]])","v":0}]
["Recovered","South Australia","Australia",-34.9285,138.60069999999999,"2020-02-08",0,{"$f":"VALUE(URL_2[[#This Row],[Data]])","v":0}]
["Recovered","Tasmania","Australia",-41.454500000000003,145.97069999999999,"2020-03-08",0,{"$f":"VALUE(URL_2[[#This Row],[Data]])","v":0}]
["Recovered","Victoria","Australia",-37.813600000000001,144.9631,"2020-02-04",0,{"$f":"VALUE(URL_2[[#This Row],[Data]])","v":0}]
["Recovered","Western Australia","Australia",-31.950500000000002,115.8605,"2020-02-23",0,{"$f":"VALUE(URL_2[[#This Row],[Data]])","v":0}]
["Recovered","","Austria",47.516199999999998,14.5501,"2020-02-15",0,{"$f":"VALUE(URL_2[[#This Row],[Data]])","v":0}]
["Recovered","","Azerbaijan",40.143099999999997,47.576900000000002,"2020-02-01",0,{"$f":"VALUE(URL_2[[#This Row],[Data]])","v":0}]
["Recovered","","Azerbaijan",40.143099999999997,47.576900000000002,"2020-03-10",0,{"$f":"VALUE(URL_2[[#This Row],[Data]])","v":0}]
["Recovered","","Bahamas",25.034300000000002,-77.396299999999997,"2020-03-10",0,{"$f":"VALUE(URL_2[[#This Row],[Data]])","v":0}]
["Recovered","","Bahrain",26.0275,50.55,"2020-02-08",0,{"$f":"VALUE(URL_2[[#This Row],[Data]])","v":0}]
["Recovered","","Bahrain",26.0275,50.55,"2020-02-24",0,{"$f":"VALUE(URL_2[[#This Row],[Data]])","v":0}]
["Recovered","","Bangladesh",23.684999999999999,90.356300000000005,"2020-03-14",0,{"$f":"VALUE(URL_2[[#This Row],[Data]])","v":0}]
["Recovered","","Barbados",13.193899999999999,-59.543199999999999,"2020-02-13",0,{"$f":"VALUE(URL_2[[#This Row],[Data]])","v":0}]
["Recovered","","Barbados",13.193899999999999,-59.543199999999999,"2020-03-17",0,{"$f":"VALUE(URL_2[[#This Row],[Data]])","v":0}]
["Recovered","","Belarus",53.709800000000001,27.953399999999998,"2020-02-05",0,{"$f":"VALUE(URL_2[[#This Row],[Data]])","v":0}]
["Recovered","","Belgium",50.833300000000001,4,"2020-01-28",0,{"$f":"VALUE(URL_2[[#This Row],[Data]])","v":0}]
["Recovered","","Belize",13.193899999999999,-59.543199999999999,"2020-02-19",0,{"$f":"VALUE(URL_2[[#This Row],[Data]])","v":0}]
["Recovered","","Belize",13.193899999999999,-59.543199999999999,"2020-03-23",0,{"$f":"VALUE(URL_2[[#This Row],[Data]])","v":0}]
["Recovered","","Benin",9.3077000000000005,2.3157999999999999,"2020-02-19",0,{"$f":"VALUE(URL_2[[#This Row],[Data]])","v":0}]
["Recovered","","Benin",9.3077000000000005,2.3157999999999999,"2020-03-15",0,{"$f":"VALUE(URL_2[[#This Row],[Data]])","v":0}]
["Recovered","","Bhutan",27.514199999999999,90.433599999999998,"2020-03-08",0,{"$f":"VALUE(URL_2[[#This Row],[Data]])","v":0}]
["Recovered","","Bolivia",-16.290199999999999,-63.588700000000003,"2020-01-30",0,{"$f":"VALUE(URL_2[[#This Row],[Data]])","v":0}]
["Recovered","","Bolivia",-16.290199999999999,-63.588700000000003,"2020-03-16",0,{"$f":"VALUE(URL_2[[#This Row],[Data]])","v":0}]
["Recovered","","Bosnia and Herzegovina",43.915900000000001,17.679099999999998,"2020-02-16",0,{"$f":"VALUE(URL_2[[#This Row],[Data]])","v":0}]
["Recovered","","Brazil",-14.234999999999999,-51.9253,"2020-01-25",0,{"$f":"VALUE(URL_2[[#This Row],[Data]])","v":0}]
["Recovered","","Brazil",-14.234999999999999,-51.9253,"2020-02-27",0,{"$f":"VALUE(URL_2[[#This Row],[Data]])","v":0}]
["Recovered","","Brunei",4.5353000000000003,114.7277,"2020-01-26",0,{"$f":"VALUE(URL_2[[#This Row],[Data]])","v":0}]
["Recovered","","Bulgaria",42.733899999999998,25.485800000000001,"2020-02-02",0,{"$f":"VALUE(URL_2[[#This Row],[Data]])","v":0}]
["Recovered","","Bulgaria",42.733899999999998,25.485800000000001,"2020-02-18",0,{"$f":"VALUE(URL_2[[#This Row],[Data]])","v":0}]
["Recovered","","Burkina Faso",12.238300000000001,-1.5616000000000001,"2020-01-23",0,{"$f":"VALUE(URL_2[[#This Row],[Data]])","v":0}]
["Recovered","","Burkina Faso",12.238300000000001,-1.5616000000000001,"2020-03-10",0,{"$f":"VALUE(URL_2[[#This Row],[Data]])","v":0}]
["Recovered","","Cabo Verde",16.538799999999998,-23.041799999999999,"2020-02-20",0,{"$f":"VALUE(URL_2[[#This Row],[Data]])","v":0}]
["Recovered","","Cabo Verde",16.538799999999998,-23.041799999999999,"2020-03-24",0,{"$f":"VALUE(URL_2[[#This Row],[Data]])","v":0}]
["Recovered","","Cameroon",3.8479999999999999,11.5021,"2020-02-12",0,{"$f":"VALUE(URL_2[[#This Row],[Data]])","v":0}]
["Recovered","","Cameroon",3.8479999999999999,11.5021,"2020-03-22",0,{"$f":"VALUE(URL_2[[#This Row],[Data]])","v":0}]
["Recovered","","Central African Republic",6.6111000000000004,20.939399999999999,"2020-01-24",0,{"$f":"VALUE(URL_2[[#This Row],[Data]])","v":0}]
["Recovered","","Central African Republic",6.6111000000000004,20.939399999999999,"2020-03-19",0,{"$f":"VALUE(URL_2[[#This Row],[Data]])","v":0}]
["Recovered","","Central African Republic",6.6111000000000004,20.939399999999999,"2020-04-10",0,{"$f":"VALUE(URL_2[[#This Row],[Data]])","v":0}]
["Recovered","","Chad",15.4542,18.732199999999999,"2020-03-02",0,{"$f":"VALUE(URL_2[[#This Row],[Data]])","v":0}]
["Recovered","","Chile",-35.6751,-71.543000000000006,"2020-02-10",0,{"$f":"VALUE(URL_2[[#This Row],[Data]])","v":0}]
["Recovered","","Chile",-35.6751,-71.543000000000006,"2020-03-14",0,{"$f":"VALUE(URL_2[[#This Row],[Data]])","v":0}]
["Recovered","Gansu","China",37.809899999999999,101.0583,"2020-01-24",0,{"$f":"VALUE(URL_2[[#This Row],[Data]])","v":0}]
["Recovered","Heilongjiang","China",47.862000000000002,127.7615,"2020-01-31",0,{"$f":"VALUE(URL_2[[#This Row],[Data]])","v":0}]
["Recovered","Hunan","China",27.610399999999998,111.7088,"2020-01-26",0,{"$f":"VALUE(URL_2[[#This Row],[Data]])","v":0}]
["Recovered","Jiangxi","China",27.614000000000001,115.7221,"2020-01-22",0,{"$f":"VALUE(URL_2[[#This Row],[Data]])","v":0}]
["Recovered","Shaanxi","China",35.191699999999997,108.87009999999999,"2020-01-22",0,{"$f":"VALUE(URL_2[[#This Row],[Data]])","v":0}]
["Recovered","Shanxi","China",37.5777,112.29219999999999,"2020-01-26",0,{"$f":"VALUE(URL_2[[#This Row],[Data]])","v":0}]
["Recovered","Tibet","China",31.692699999999999,88.092399999999998,"2020-02-03",0,{"$f":"VALUE(URL_2[[#This Row],[Data]])","v":0}]
["Recovered","Yunnan","China",24.974,101.48699999999999,"2020-01-26",0,{"$f":"VALUE(URL_2[[#This Row],[Data]])","v":0}]
["Recovered","","Colombia",4.5709,-74.297300000000007,"2020-02-21",0,{"$f":"VALUE(URL_2[[#This Row],[Data]])","v":0}]
["Recovered","","Congo (Brazzaville)",-4.0382999999999996,21.758700000000001,"2020-02-16",0,{"$f":"VALUE(URL_2[[#This Row],[Data]])","v":0}]
["Recovered","","Congo (Brazzaville)",-4.0382999999999996,21.758700000000001,"2020-03-20",0,{"$f":"VALUE(URL_2[[#This Row],[Data]])","v":0}]
["Recovered","","Congo (Kinshasa)",-4.0382999999999996,21.758700000000001,"2020-03-07",0,{"$f":"VALUE(URL_2[[#This Row],[Data]])","v":0}]
["Recovered","","Costa Rica",9.7489000000000008,-83.753399999999999,"2020-01-31",0,{"$f":"VALUE(URL_2[[#This Row],[Data]])","v":0}]
["Recovered","","Cote d'Ivoire",7.54,-5.5471000000000004,"2020-01-27",0,{"$f":"VALUE(URL_2[[#This Row],[Data]])","v":0}]
["Recovered","","Cote d'Ivoire",7.54,-5.5471000000000004,"2020-02-29",0,{"$f":"VALUE(URL_2[[#This Row],[Data]])","v":0}]
["Recovered","","Croatia",45.1,15.2,"2020-02-18",0,{"$f":"VALUE(URL_2[[#This Row],[Data]])","v":0}]
["Recovered","","Croatia",45.1,15.2,"2020-02-22",0,{"$f":"VALUE(URL_2[[#This Row],[Data]])","v":0}]
["Recovered","","Cuba",22,-80,"2020-02-12",0,{"$f":"VALUE(URL_2[[#This Row],[Data]])","v":0}]
["Recovered","","Cuba",22,-80,"2020-03-16",0,{"$f":"VALUE(URL_2[[#This Row],[Data]])","v":0}]
["Recovered","","Cyprus",35.126399999999997,33.429900000000004,"2020-02-03",0,{"$f":"VALUE(URL_2[[#This Row],[Data]])","v":0}]
["Recovered","","Czechia",49.817500000000003,15.473000000000001,"2020-02-10",0,{"$f":"VALUE(URL_2[[#This Row],[Data]])","v":0}]
["Recovered","","Czechia",49.817500000000003,15.473000000000001,"2020-02-26",0,{"$f":"VALUE(URL_2[[#This Row],[Data]])","v":0}]
["Recovered","Faroe Islands","Denmark",61.892600000000002,-6.9118000000000004,"2020-02-05",0,{"$f":"VALUE(URL_2[[#This Row],[Data]])","v":0}]
["Recovered","Faroe Islands","Denmark",61.892600000000002,-6.9118000000000004,"2020-03-21",0,{"$f":"VALUE(URL_2[[#This Row],[Data]])","v":0}]
["Recovered","Greenland","Denmark",71.706900000000005,-42.604300000000002,"2020-03-01",0,{"$f":"VALUE(URL_2[[#This Row],[Data]])","v":0}]
["Recovered","","Denmark",56.2639,9.5017999999999994,"2020-02-01",0,{"$f":"VALUE(URL_2[[#This Row],[Data]])","v":0}]
["Recovered","","Djibouti",11.825100000000001,42.590299999999999,"2020-01-22",0,{"$f":"VALUE(URL_2[[#This Row],[Data]])","v":0}]
["Recovered","","Djibouti",11.825100000000001,42.590299999999999,"2020-03-15",0,{"$f":"VALUE(URL_2[[#This Row],[Data]])","v":0}]
["Recovered","","Dominica",15.414999999999999,-61.371000000000002,"2020-02-05",0,{"$f":"VALUE(URL_2[[#This Row],[Data]])","v":0}]
["Recovered","","Dominica",15.414999999999999,-61.371000000000002,"2020-03-31",0,{"$f":"VALUE(URL_2[[#This Row],[Data]])","v":0}]
["Recovered","","Dominican Republic",18.735700000000001,-70.162700000000001,"2020-02-05",0,{"$f":"VALUE(URL_2[[#This Row],[Data]])","v":0}]
["Recovered","","Dominican Republic",18.735700000000001,-70.162700000000001,"2020-03-21",0,{"$f":"VALUE(URL_2[[#This Row],[Data]])","v":0}]
["Recovered","","Ecuador",-1.8311999999999999,-78.183400000000006,"2020-03-14",0,{"$f":"VALUE(URL_2[[#This Row],[Data]])","v":0}]
["Recovered","","Egypt",26,30,"2020-02-17",0,{"$f":"VALUE(URL_2[[#This Row],[Data]])","v":0}]
["Recovered","","El Salvador",13.7942,-88.896500000000003,"2020-02-14",0,{"$f":"VALUE(URL_2[[#This Row],[Data]])","v":0}]
["Recovered","","El Salvador",13.7942,-88.896500000000003,"2020-02-28",0,{"$f":"VALUE(URL_2[[#This Row],[Data]])","v":0}]
["Recovered","","Equatorial Guinea",1.5,10,"2020-02-27",0,{"$f":"VALUE(URL_2[[#This Row],[Data]])","v":0}]
["Recovered","","Equatorial Guinea",1.5,10,"2020-03-14",0,{"$f":"VALUE(URL_2[[#This Row],[Data]])","v":0}]
["Recovered","","Eritrea",15.179399999999999,39.782299999999999,"2020-03-04",0,{"$f":"VALUE(URL_2[[#This Row],[Data]])","v":0}]
["Recovered","","Eritrea",15.179399999999999,39.782299999999999,"2020-04-01",0,{"$f":"VALUE(URL_2[[#This Row],[Data]])","v":0}]
["Recovered","","Estonia",58.595300000000002,25.0136,"2020-02-07",0,{"$f":"VALUE(URL_2[[#This Row],[Data]])","v":0}]
["Recovered","","Estonia",58.595300000000002,25.0136,"2020-03-11",0,{"$f":"VALUE(URL_2[[#This Row],[Data]])","v":0}]
["Recovered","","Eswatini",-26.522500000000001,31.465900000000001,"2020-02-22",0,{"$f":"VALUE(URL_2[[#This Row],[Data]])","v":0}]
["Recovered","","Ethiopia",9.1449999999999996,40.489699999999999,"2020-01-30",0,{"$f":"VALUE(URL_2[[#This Row],[Data]])","v":0}]
["Recovered","","Ethiopia",9.1449999999999996,40.489699999999999,"2020-03-03",0,{"$f":"VALUE(URL_2[[#This Row],[Data]])","v":0}]
["Recovered","","Fiji",-17.7134,178.065,"2020-02-24",0,{"$f":"VALUE(URL_2[[#This Row],[Data]])","v":0}]
["Recovered","","Fiji",-17.7134,178.065,"2020-03-26",0,{"$f":"VALUE(URL_2[[#This Row],[Data]])","v":0}]
["Recovered","","Fiji",-17.7134,178.065,"2020-04-11",0,{"$f":"VALUE(URL_2[[#This Row],[Data]])","v":0}]
["Recovered","French Guiana","France",3.9339,-53.125799999999998,"2020-03-04",0,{"$f":"VALUE(URL_2[[#This Row],[Data]])","v":0}]
["Recovered","French Polynesia","France",-17.6797,149.4068,"2020-02-15",0,{"$f":"VALUE(URL_2[[#This Row],[Data]])","v":0}]
["Recovered","French Polynesia","France",-17.6797,149.4068,"2020-02-21",0,{"$f":"VALUE(URL_2[[#This Row],[Data]])","v":0}]
["Recovered","Guadeloupe","France",16.25,-61.583300000000001,"2020-02-06",0,{"$f":"VALUE(URL_2[[#This Row],[Data]])","v":0}]
["Recovered","Guadeloupe","France",16.25,-61.583300000000001,"2020-03-10",0,{"$f":"VALUE(URL_2[[#This Row],[Data]])","v":0}]
["Recovered","Martinique","France",14.641500000000001,-61.0242,"2020-01-22",0,{"$f":"VALUE(URL_2[[#This Row],[Data]])","v":0}]
["Recovered","Martinique","France",14.641500000000001,-61.0242,"2020-02-21",0,{"$f":"VALUE(URL_2[[#This Row],[Data]])","v":0}]
["Recovered","Mayotte","France",-12.827500000000001,45.166200000000003,"2020-02-07",0,{"$f":"VALUE(URL_2[[#This Row],[Data]])","v":0}]
["Recovered","Mayotte","France",-12.827500000000001,45.166200000000003,"2020-03-11",0,{"$f":"VALUE(URL_2[[#This Row],[Data]])","v":0}]
["Recovered","New Caledonia","France",-20.904299999999999,165.61799999999999,"2020-02-15",0,{"$f":"VALUE(URL_2[[#This Row],[Data]])","v":0}]
["Recovered","New Caledonia","France",-20.904299999999999,165.61799999999999,"2020-03-30",0,{"$f":"VALUE(URL_2[[#This Row],[Data]])","v":0}]
["Recovered","Reunion","France",-21.135100000000001,55.247100000000003,"2020-02-21",0,{"$f":"VALUE(URL_2[[#This Row],[Data]])","v":0}]
["Recovered","Saint Barthelemy","France",17.899999999999999,-62.833300000000001,"2020-01-22",0,{"$f":"VALUE(URL_2[[#This Row],[Data]])","v":0}]
["Recovered","Saint Barthelemy","France",17.899999999999999,-62.833300000000001,"2020-03-17",0,{"$f":"VALUE(URL_2[[#This Row],[Data]])","v":0}]
["Recovered","St Martin","France",18.070799999999998,-63.0501,"2020-02-11",0,{"$f":"VALUE(URL_2[[#This Row],[Data]])","v":0}]
["Recovered","","France",46.227600000000002,2.2136999999999998,"2020-01-29",0,{"$f":"VALUE(URL_2[[#This Row],[Data]])","v":0}]
["Recovered","","Gabon",-0.80369999999999997,11.609400000000001,"2020-01-26",0,{"$f":"VALUE(URL_2[[#This Row],[Data]])","v":0}]
["Recovered","","Gabon",-0.80369999999999997,11.609400000000001,"2020-03-13",0,{"$f":"VALUE(URL_2[[#This Row],[Data]])","v":0}]
["Recovered","","Gabon",-0.80369999999999997,11.609400000000001,"2020-03-29",0,{"$f":"VALUE(URL_2[[#This Row],[Data]])","v":0}]
["Recovered","","Gambia",13.443199999999999,-15.3101,"2020-03-29",0,{"$f":"VALUE(URL_2[[#This Row],[Data]])","v":0}]
["Recovered","","Georgia",42.315399999999997,43.356900000000003,"2020-02-20",0,{"$f":"VALUE(URL_2[[#This Row],[Data]])","v":0}]
["Recovered","","Georgia",42.315399999999997,43.356900000000003,"2020-03-07",0,{"$f":"VALUE(URL_2[[#This Row],[Data]])","v":0}]
["Recovered","","Ghana",7.9465000000000003,-1.0232000000000001,"2020-01-24",0,{"$f":"VALUE(URL_2[[#This Row],[Data]])","v":0}]
["Recovered","","Ghana",7.9465000000000003,-1.0232000000000001,"2020-03-19",0,{"$f":"VALUE(URL_2[[#This Row],[Data]])","v":0}]
["Recovered","","Grenada",12.1165,-61.679000000000002,"2020-03-12",0,{"$f":"VALUE(URL_2[[#This Row],[Data]])","v":0}]
["Recovered","","Grenada",12.1165,-61.679000000000002,"2020-03-20",0,{"$f":"VALUE(URL_2[[#This Row],[Data]])","v":0}]
["Recovered","","Greece",39.074199999999998,21.824300000000001,"2020-02-18",0,{"$f":"VALUE(URL_2[[#This Row],[Data]])","v":0}]
["Recovered","","Guatemala",15.7835,-90.230800000000002,"2020-02-06",0,{"$f":"VALUE(URL_2[[#This Row],[Data]])","v":0}]
["Recovered","","Guatemala",15.7835,-90.230800000000002,"2020-03-24",0,{"$f":"VALUE(URL_2[[#This Row],[Data]])","v":0}]
["Recovered","","Guinea",9.9456000000000007,-9.6966000000000001,"2020-02-23",0,{"$f":"VALUE(URL_2[[#This Row],[Data]])","v":0}]
["Recovered","","Guinea",9.9456000000000007,-9.6966000000000001,"2020-03-27",0,{"$f":"VALUE(URL_2[[#This Row],[Data]])","v":0}]
["Recovered","","Guinea-Bissau",11.803699999999999,-15.180400000000001,"2020-03-09",0,{"$f":"VALUE(URL_2[[#This Row],[Data]])","v":0}]
["Recovered","","Guinea-Bissau",11.803699999999999,-15.180400000000001,"2020-04-11",0,{"$f":"VALUE(URL_2[[#This Row],[Data]])","v":0}]
["Recovered","","Guyana",5,-58.75,"2020-01-30",0,{"$f":"VALUE(URL_2[[#This Row],[Data]])","v":0}]
["Recovered","","Haiti",18.9712,-72.285200000000003,"2020-01-27",0,{"$f":"VALUE(URL_2[[#This Row],[Data]])","v":0}]
["Recovered","","Haiti",18.9712,-72.285200000000003,"2020-01-29",0,{"$f":"VALUE(URL_2[[#This Row],[Data]])","v":0}]
["Recovered","","Haiti",18.9712,-72.285200000000003,"2020-03-15",0,{"$f":"VALUE(URL_2[[#This Row],[Data]])","v":0}]
["Recovered","","Holy See",41.902900000000002,12.4534,"2020-01-25",0,{"$f":"VALUE(URL_2[[#This Row],[Data]])","v":0}]
["Recovered","","Holy See",41.902900000000002,12.4534,"2020-04-06",0,{"$f":"VALUE(URL_2[[#This Row],[Data]])","v":0}]
["Recovered","","Honduras",15.2,-86.241900000000001,"2020-02-05",0,{"$f":"VALUE(URL_2[[#This Row],[Data]])","v":0}]
["Recovered","","Honduras",15.2,-86.241900000000001,"2020-03-08",0,{"$f":"VALUE(URL_2[[#This Row],[Data]])","v":0}]
["Recovered","","Hungary",47.162500000000001,19.503299999999999,"2020-02-26",0,{"$f":"VALUE(URL_2[[#This Row],[Data]])","v":0}]
["Recovered","","Iceland",64.963099999999997,-19.020800000000001,"2020-02-07",0,{"$f":"VALUE(URL_2[[#This Row],[Data]])","v":0}]
["Recovered","","India",21,78,"2020-01-29",0,{"$f":"VALUE(URL_2[[#This Row],[Data]])","v":0}]
["Recovered","","Indonesia",-0.7893,113.9213,"2020-02-19",0,{"$f":"VALUE(URL_2[[#This Row],[Data]])","v":0}]
["Recovered","","Iran",32,53,"2020-02-04",0,{"$f":"VALUE(URL_2[[#This Row],[Data]])","v":0}]
["Recovered","","Iraq",33,44,"2020-01-30",0,{"$f":"VALUE(URL_2[[#This Row],[Data]])","v":0}]
["Recovered","","Ireland",53.142400000000002,-7.6920999999999999,"2020-02-09",0,{"$f":"VALUE(URL_2[[#This Row],[Data]])","v":0}]
["Recovered","","Ireland",53.142400000000002,-7.6920999999999999,"2020-03-13",0,{"$f":"VALUE(URL_2[[#This Row],[Data]])","v":0}]
["Recovered","","Israel",31,35,"2020-02-03",0,{"$f":"VALUE(URL_2[[#This Row],[Data]])","v":0}]
["Recovered","","Jamaica",18.1096,-77.297499999999999,"2020-01-22",0,{"$f":"VALUE(URL_2[[#This Row],[Data]])","v":0}]
["Recovered","","Jamaica",18.1096,-77.297499999999999,"2020-03-11",0,{"$f":"VALUE(URL_2[[#This Row],[Data]])","v":0}]
["Recovered","","Jordan",31.24,36.51,"2020-01-29",0,{"$f":"VALUE(URL_2[[#This Row],[Data]])","v":0}]
["Recovered","","Jordan",31.24,36.51,"2020-03-02",0,{"$f":"VALUE(URL_2[[#This Row],[Data]])","v":0}]
["Recovered","","Kazakhstan",48.019599999999997,66.923699999999997,"2020-03-20",0,{"$f":"VALUE(URL_2[[#This Row],[Data]])","v":0}]
["Recovered","","Kenya",-2.3599999999999999E-2,37.906199999999998,"2020-02-03",0,{"$f":"VALUE(URL_2[[#This Row],[Data]])","v":0}]
["Recovered","","Kenya",-2.3599999999999999E-2,37.906199999999998,"2020-03-07",0,{"$f":"VALUE(URL_2[[#This Row],[Data]])","v":0}]
["Recovered","","Kuwait",29.5,47.75,"2020-02-12",0,{"$f":"VALUE(URL_2[[#This Row],[Data]])","v":0}]
["Recovered","","Kyrgyzstan",41.2044,74.766099999999994,"2020-02-21",0,{"$f":"VALUE(URL_2[[#This Row],[Data]])","v":0}]
["Recovered","","Kyrgyzstan",41.2044,74.766099999999994,"2020-03-02",0,{"$f":"VALUE(URL_2[[#This Row],[Data]])","v":0}]
["Recovered","","Latvia",56.879600000000003,24.603200000000001,"2020-02-18",0,{"$f":"VALUE(URL_2[[#This Row],[Data]])","v":0}]
["Recovered","","Lebanon",33.854700000000001,35.862299999999998,"2020-02-08",0,{"$f":"VALUE(URL_2[[#This Row],[Data]])","v":0}]
["Recovered","","Liberia",6.4280999999999997,-9.4295000000000009,"2020-02-15",0,{"$f":"VALUE(URL_2[[#This Row],[Data]])","v":0}]
["Recovered","","Liberia",6.4280999999999997,-9.4295000000000009,"2020-03-19",0,{"$f":"VALUE(URL_2[[#This Row],[Data]])","v":0}]
["Recovered","","Libya",26.335100000000001,17.228331000000001,"2020-02-08",0,{"$f":"VALUE(URL_2[[#This Row],[Data]])","v":0}]
["Recovered","","Libya",26.335100000000001,17.228331000000001,"2020-04-01",0,{"$f":"VALUE(URL_2[[#This Row],[Data]])","v":0}]
["Recovered","","Liechtenstein",47.14,9.5500000000000007,"2020-02-21",0,{"$f":"VALUE(URL_2[[#This Row],[Data]])","v":0}]
["Recovered","","Liechtenstein",47.14,9.5500000000000007,"2020-03-08",0,{"$f":"VALUE(URL_2[[#This Row],[Data]])","v":0}]
["Recovered","","Lithuania",55.169400000000003,23.8813,"2020-01-26",0,{"$f":"VALUE(URL_2[[#This Row],[Data]])","v":0}]
["Recovered","","Lithuania",55.169400000000003,23.8813,"2020-03-05",0,{"$f":"VALUE(URL_2[[#This Row],[Data]])","v":0}]
["Recovered","","Luxembourg",49.815300000000001,6.1295999999999999,"2020-02-29",0,{"$f":"VALUE(URL_2[[#This Row],[Data]])","v":0}]
["Recovered","","Madagascar",-18.7669,46.869100000000003,"2020-02-02",0,{"$f":"VALUE(URL_2[[#This Row],[Data]])","v":0}]
["Recovered","","Madagascar",-18.7669,46.869100000000003,"2020-03-06",0,{"$f":"VALUE(URL_2[[#This Row],[Data]])","v":0}]
["Recovered","","Maldives",3.2027999999999999,73.220699999999994,"2020-01-29",0,{"$f":"VALUE(URL_2[[#This Row],[Data]])","v":0}]
["Recovered","","Maldives",3.2027999999999999,73.220699999999994,"2020-03-03",0,{"$f":"VALUE(URL_2[[#This Row],[Data]])","v":0}]
["Recovered","","Mali",17.570692000000001,-3.996166000000001,"2020-02-25",0,{"$f":"VALUE(URL_2[[#This Row],[Data]])","v":0}]
["Recovered","","Mali",17.570692000000001,-3.996166000000001,"2020-03-10",0,{"$f":"VALUE(URL_2[[#This Row],[Data]])","v":0}]
["Recovered","","Malta",35.9375,14.375400000000001,"2020-02-17",0,{"$f":"VALUE(URL_2[[#This Row],[Data]])","v":0}]
["Recovered","","Mauritania",21.007899999999999,10.940799999999999,"2020-02-21",0,{"$f":"VALUE(URL_2[[#This Row],[Data]])","v":0}]
["Recovered","","Mauritania",21.007899999999999,10.940799999999999,"2020-03-25",0,{"$f":"VALUE(URL_2[[#This Row],[Data]])","v":0}]
["Recovered","","Mauritius",-20.2,57.5,"2020-02-09",0,{"$f":"VALUE(URL_2[[#This Row],[Data]])","v":0}]
["Recovered","","Mexico",23.634499999999999,-102.5528,"2020-02-01",0,{"$f":"VALUE(URL_2[[#This Row],[Data]])","v":0}]
["Recovered","","Moldova",47.4116,28.369900000000001,"2020-01-24",0,{"$f":"VALUE(URL_2[[#This Row],[Data]])","v":0}]
["Recovered","","Moldova",47.4116,28.369900000000001,"2020-02-09",0,{"$f":"VALUE(URL_2[[#This Row],[Data]])","v":0}]
["Recovered","","Monaco",43.7333,7.4166999999999996,"2020-02-07",0,{"$f":"VALUE(URL_2[[#This Row],[Data]])","v":0}]
["Recovered","","Mongolia",46.862499999999997,103.8467,"2020-01-29",0,{"$f":"VALUE(URL_2[[#This Row],[Data]])","v":0}]
["Recovered","","Mongolia",46.862499999999997,103.8467,"2020-02-14",0,{"$f":"VALUE(URL_2[[#This Row],[Data]])","v":0}]
["Recovered","","Mongolia",46.862499999999997,103.8467,"2020-03-18",0,{"$f":"VALUE(URL_2[[#This Row],[Data]])","v":0}]
["Recovered","","Montenegro",42.5,19.3,"2020-03-17",0,{"$f":"VALUE(URL_2[[#This Row],[Data]])","v":0}]
["Recovered","","Morocco",31.791699999999999,-7.0926,"2020-01-25",0,{"$f":"VALUE(URL_2[[#This Row],[Data]])","v":0}]
["Recovered","","Morocco",31.791699999999999,-7.0926,"2020-02-27",0,{"$f":"VALUE(URL_2[[#This Row],[Data]])","v":0}]
["Recovered","","Mozambique",-18.665700000000001,35.529600000000002,"2020-02-26",0,{"$f":"VALUE(URL_2[[#This Row],[Data]])","v":0}]
["Recovered","","Mozambique",-18.665700000000001,35.529600000000002,"2020-04-03",0,{"$f":"VALUE(URL_2[[#This Row],[Data]])","v":0}]
["Recovered","","Namibia",-22.957599999999999,18.490400000000001,"2020-02-23",0,{"$f":"VALUE(URL_2[[#This Row],[Data]])","v":0}]
["Recovered","Aruba","Netherlands",12.518599999999999,-70.035799999999995,"2020-01-26",0,{"$f":"VALUE(URL_2[[#This Row],[Data]])","v":0}]
["Recovered","Aruba","Netherlands",12.518599999999999,-70.035799999999995,"2020-03-02",0,{"$f":"VALUE(URL_2[[#This Row],[Data]])","v":0}]
["Recovered","Curacao","Netherlands",12.169600000000001,-68.989999999999995,"2020-02-20",0,{"$f":"VALUE(URL_2[[#This Row],[Data]])","v":0}]
["Recovered","Curacao","Netherlands",12.169600000000001,-68.989999999999995,"2020-03-24",0,{"$f":"VALUE(URL_2[[#This Row],[Data]])","v":0}]
["Recovered","Sint Maarten","Netherlands",18.0425,-63.0548,"2020-02-22",0,{"$f":"VALUE(URL_2[[#This Row],[Data]])","v":0}]
["Recovered","","Netherlands",52.132599999999996,5.2912999999999997,"2020-02-02",0,{"$f":"VALUE(URL_2[[#This Row],[Data]])","v":0}]
["Recovered","","Netherlands",52.132599999999996,5.2912999999999997,"2020-03-10",0,{"$f":"VALUE(URL_2[[#This Row],[Data]])","v":0}]
["Recovered","","New Zealand",-40.900599999999997,174.886,"2020-01-22",0,{"$f":"VALUE(URL_2[[#This Row],[Data]])","v":0}]
["Recovered","","New Zealand",-40.900599999999997,174.886,"2020-02-24",0,{"$f":"VALUE(URL_2[[#This Row],[Data]])","v":0}]
["Recovered","","Nicaragua",12.865399999999999,-85.2072,"2020-01-30",0,{"$f":"VALUE(URL_2[[#This Row],[Data]])","v":0}]
["Recovered","","Nicaragua",12.865399999999999,-85.2072,"2020-03-20",0,{"$f":"VALUE(URL_2[[#This Row],[Data]])","v":0}]
["Recovered","","Niger",17.607800000000001,8.0816999999999997,"2020-02-01",0,{"$f":"VALUE(URL_2[[#This Row],[Data]])","v":0}]
["Recovered","","Niger",17.607800000000001,8.0816999999999997,"2020-03-05",0,{"$f":"VALUE(URL_2[[#This Row],[Data]])","v":0}]
["Recovered","","Nigeria",9.0820000000000007,8.6753,"2020-02-11",0,{"$f":"VALUE(URL_2[[#This Row],[Data]])","v":0}]
["Recovered","","North Macedonia",41.608600000000003,21.7453,"2020-01-22",0,{"$f":"VALUE(URL_2[[#This Row],[Data]])","v":0}]
["Recovered","","Norway",60.472000000000001,8.4688999999999997,"2020-01-26",0,{"$f":"VALUE(URL_2[[#This Row],[Data]])","v":0}]
["Recovered","","Norway",60.472000000000001,8.4688999999999997,"2020-02-07",0,{"$f":"VALUE(URL_2[[#This Row],[Data]])","v":0}]
["Recovered","","Oman",21,57,"2020-02-13",0,{"$f":"VALUE(URL_2[[#This Row],[Data]])","v":0}]
["Recovered","","Pakistan",30.375299999999999,69.345100000000002,"2020-03-01",0,{"$f":"VALUE(URL_2[[#This Row],[Data]])","v":0}]
["Recovered","","Panama",8.5380000000000003,-80.7821,"2020-02-17",0,{"$f":"VALUE(URL_2[[#This Row],[Data]])","v":0}]
["Recovered","","Panama",8.5380000000000003,-80.7821,"2020-03-08",0,{"$f":"VALUE(URL_2[[#This Row],[Data]])","v":0}]
["Recovered","","Papua New Guinea",-6.3150000000000004,143.9555,"2020-02-03",0,{"$f":"VALUE(URL_2[[#This Row],[Data]])","v":0}]
["Recovered","","Papua New Guinea",-6.3150000000000004,143.9555,"2020-04-15",0,{"$f":"VALUE(URL_2[[#This Row],[Data]])","v":0}]
["Recovered","","Papua New Guinea",-6.3150000000000004,143.9555,"2020-05-01",0,{"$f":"VALUE(URL_2[[#This Row],[Data]])","v":0}]
["Recovered","","Paraguay",-23.442499999999999,-58.443800000000003,"2020-03-11",0,{"$f":"VALUE(URL_2[[#This Row],[Data]])","v":0}]
["Recovered","","Peru",-9.19,-75.015199999999993,"2020-02-28",0,{"$f":"VALUE(URL_2[[#This Row],[Data]])","v":0}]
["Recovered","","Peru",-9.19,-75.015199999999993,"2020-03-15",0,{"$f":"VALUE(URL_2[[#This Row],[Data]])","v":0}]
["Recovered","","Poland",51.919400000000003,19.145099999999999,"2020-02-01",0,{"$f":"VALUE(URL_2[[#This Row],[Data]])","v":0}]
["Recovered","","Portugal",39.399900000000002,-8.2245000000000008,"2020-02-12",0,{"$f":"VALUE(URL_2[[#This Row],[Data]])","v":0}]
["Recovered","","Portugal",39.399900000000002,-8.2245000000000008,"2020-03-05",0,{"$f":"VALUE(URL_2[[#This Row],[Data]])","v":0}]
["Recovered","","Qatar",25.354800000000001,51.183900000000001,"2020-02-16",0,{"$f":"VALUE(URL_2[[#This Row],[Data]])","v":0}]
["Recovered","","Romania",45.943199999999997,24.966799999999999,"2020-02-12",0,{"$f":"VALUE(URL_2[[#This Row],[Data]])","v":0}]
["Recovered","","Russia",60,90,"2020-02-09",0,{"$f":"VALUE(URL_2[[#This Row],[Data]])","v":0}]
["Recovered","","Rwanda",-1.9402999999999999,29.873899999999999,"2020-02-21",0,{"$f":"VALUE(URL_2[[#This Row],[Data]])","v":0}]
["Recovered","","Saint Kitts and Nevis",17.357821999999999,-62.782997999999999,"2020-02-02",0,{"$f":"VALUE(URL_2[[#This Row],[Data]])","v":0}]
["Recovered","","Saint Kitts and Nevis",17.357821999999999,-62.782997999999999,"2020-03-07",0,{"$f":"VALUE(URL_2[[#This Row],[Data]])","v":0}]
["Recovered","","Saint Kitts and Nevis",17.357821999999999,-62.782997999999999,"2020-03-21",0,{"$f":"VALUE(URL_2[[#This Row],[Data]])","v":0}]
["Recovered","","Saint Lucia",13.9094,-60.978900000000003,"2020-03-02",0,{"$f":"VALUE(URL_2[[#This Row],[Data]])","v":0}]
["Recovered","","Saint Vincent and the Grenadines",12.984299999999999,-61.287199999999999,"2020-01-30",0,{"$f":"VALUE(URL_2[[#This Row],[Data]])","v":0}]
["Recovered","","Saint Vincent and the Grenadines",12.984299999999999,-61.287199999999999,"2020-02-09",0,{"$f":"VALUE(URL_2[[#This Row],[Data]])","v":0}]
["Recovered","","Saint Vincent and the Grenadines",12.984299999999999,-61.287199999999999,"2020-03-18",0,{"$f":"VALUE(URL_2[[#This Row],[Data]])","v":0}]
["Recovered","","San Marino",43.942399999999999,12.457800000000001,"2020-03-07",0,{"$f":"VALUE(URL_2[[#This Row],[Data]])","v":0}]
["Recovered","","Saudi Arabia",24,45,"2020-02-17",0,{"$f":"VALUE(URL_2[[#This Row],[Data]])","v":0}]
["Recovered","","Senegal",14.497400000000001,-14.452400000000001,"2020-02-04",0,{"$f":"VALUE(URL_2[[#This Row],[Data]])","v":0}]
["Recovered","","Serbia",44.016500000000001,21.0059,"2020-02-10",0,{"$f":"VALUE(URL_2[[#This Row],[Data]])","v":0}]
["Recovered","","Serbia",44.016500000000001,21.0059,"2020-03-14",0,{"$f":"VALUE(URL_2[[#This Row],[Data]])","v":0}]
["Recovered","","Seychelles",-4.6795999999999998,55.491999999999997,"2020-02-23",0,{"$f":"VALUE(URL_2[[#This Row],[Data]])","v":0}]
["Recovered","","Seychelles",-4.6795999999999998,55.491999999999997,"2020-03-25",0,{"$f":"VALUE(URL_2[[#This Row],[Data]])","v":0}]
["Recovered","","Singapore",1.2833000000000001,103.83329999999999,"2020-02-01",0,{"$f":"VALUE(URL_2[[#This Row],[Data]])","v":0}]
["Recovered","","Slovakia",48.668999999999997,19.699000000000002,"2020-03-10",0,{"$f":"VALUE(URL_2[[#This Row],[Data]])","v":0}]
["Recovered","","Slovakia",48.668999999999997,19.699000000000002,"2020-03-20",0,{"$f":"VALUE(URL_2[[#This Row],[Data]])","v":0}]
["Recovered","","Slovenia",46.151200000000003,14.9955,"2020-03-15",0,{"$f":"VALUE(URL_2[[#This Row],[Data]])","v":0}]
["Recovered","","Somalia",5.1520999999999999,46.199599999999997,"2020-01-28",0,{"$f":"VALUE(URL_2[[#This Row],[Data]])","v":0}]
["Recovered","","South Africa",-30.5595,22.9375,"2020-01-31",0,{"$f":"VALUE(URL_2[[#This Row],[Data]])","v":0}]
["Recovered","","South Africa",-30.5595,22.9375,"2020-02-18",0,{"$f":"VALUE(URL_2[[#This Row],[Data]])","v":0}]
["Recovered","","South Africa",-30.5595,22.9375,"2020-03-19",0,{"$f":"VALUE(URL_2[[#This Row],[Data]])","v":0}]
["Recovered","","Sudan",12.8628,30.217600000000001,"2020-02-17",0,{"$f":"VALUE(URL_2[[#This Row],[Data]])","v":0}]
["Recovered","","Sudan",12.8628,30.217600000000001,"2020-03-04",0,{"$f":"VALUE(URL_2[[#This Row],[Data]])","v":0}]
["Recovered","","Suriname",3.9192999999999998,-56.027799999999999,"2020-02-13",0,{"$f":"VALUE(URL_2[[#This Row],[Data]])","v":0}]
["Recovered","","Suriname",3.9192999999999998,-56.027799999999999,"2020-02-29",0,{"$f":"VALUE(URL_2[[#This Row],[Data]])","v":0}]
["Recovered","","Sweden",63,16,"2020-02-07",0,{"$f":"VALUE(URL_2[[#This Row],[Data]])","v":0}]
["Recovered","","Switzerland",46.818199999999997,8.2274999999999991,"2020-01-24",0,{"$f":"VALUE(URL_2[[#This Row],[Data]])","v":0}]
["Recovered","","Syria",34.802100000000003,38.9968,"2020-02-15",0,{"$f":"VALUE(URL_2[[#This Row],[Data]])","v":0}]
["Recovered","","Syria",34.802100000000003,38.9968,"2020-03-10",0,{"$f":"VALUE(URL_2[[#This Row],[Data]])","v":0}]
["Recovered","","Taiwan*",23.7,121,"2020-01-30",0,{"$f":"VALUE(URL_2[[#This Row],[Data]])","v":0}]
["Recovered","","Tanzania",-6.3689999999999998,34.888800000000003,"2020-03-01",0,{"$f":"VALUE(URL_2[[#This Row],[Data]])","v":0}]
["Recovered","","Timor-Leste",-8.8742000000000001,125.72750000000001,"2020-02-02",0,{"$f":"VALUE(URL_2[[#This Row],[Data]])","v":0}]
["Recovered","","Timor-Leste",-8.8742000000000001,125.72750000000001,"2020-03-06",0,{"$f":"VALUE(URL_2[[#This Row],[Data]])","v":0}]
["Recovered","","Togo",8.6195000000000004,0.82479999999999998,"2020-02-11",0,{"$f":"VALUE(URL_2[[#This Row],[Data]])","v":0}]
["Recovered","","Togo",8.6195000000000004,0.82479999999999998,"2020-03-14",0,{"$f":"VALUE(URL_2[[#This Row],[Data]])","v":0}]
["Recovered","","Trinidad and Tobago",10.691800000000001,-61.222499999999997,"2020-02-01",0,{"$f":"VALUE(URL_2[[#This Row],[Data]])","v":0}]
["Recovered","","Trinidad and Tobago",10.691800000000001,-61.222499999999997,"2020-03-05",0,{"$f":"VALUE(URL_2[[#This Row],[Data]])","v":0}]
["Recovered","","Tunisia",34,9,"2020-03-15",0,{"$f":"VALUE(URL_2[[#This Row],[Data]])","v":0}]
["Recovered","","Turkey",38.963700000000003,35.243299999999998,"2020-01-23",0,{"$f":"VALUE(URL_2[[#This Row],[Data]])","v":0}]
["Recovered","","Turkey",38.963700000000003,35.243299999999998,"2020-03-03",0,{"$f":"VALUE(URL_2[[#This Row],[Data]])","v":0}]
["Recovered","","Uganda",1,32,"2020-03-12",0,{"$f":"VALUE(URL_2[[#This Row],[Data]])","v":0}]
["Recovered","","Uganda",1,32,"2020-03-28",0,{"$f":"VALUE(URL_2[[#This Row],[Data]])","v":0}]
["Recovered","","Ukraine",48.379399999999997,31.165600000000001,"2020-02-10",0,{"$f":"VALUE(URL_2[[#This Row],[Data]])","v":0}]
["Recovered","","United Arab Emirates",24,54,"2020-02-05",0,{"$f":"VALUE(URL_2[[#This Row],[Data]])","v":0}]
["Recovered","Bermuda","United Kingdom",32.3078,-64.750500000000002,"2020-02-17",0,{"$f":"VALUE(URL_2[[#This Row],[Data]])","v":0}]
["Recovered","Cayman Islands","United Kingdom",19.313300000000002,-81.254599999999996,"2020-02-07",0,{"$f":"VALUE(URL_2[[#This Row],[Data]])","v":0}]
["Recovered","Cayman Islands","United Kingdom",19.313300000000002,-81.254599999999996,"2020-03-11",0,{"$f":"VALUE(URL_2[[#This Row],[Data]])","v":0}]
["Recovered","Channel Islands","United Kingdom",49.372300000000003,-2.3643999999999998,"2020-01-31",0,{"$f":"VALUE(URL_2[[#This Row],[Data]])","v":0}]
["Recovered","Channel Islands","United Kingdom",49.372300000000003,-2.3643999999999998,"2020-02-16",0,{"$f":"VALUE(URL_2[[#This Row],[Data]])","v":0}]
["Recovered","Gibraltar","United Kingdom",36.140799999999999,-5.3536000000000001,"2020-01-22",0,{"$f":"VALUE(URL_2[[#This Row],[Data]])","v":0}]
["Recovered","Isle of Man","United Kingdom",54.2361,-4.5480999999999998,"2020-01-31",0,{"$f":"VALUE(URL_2[[#This Row],[Data]])","v":0}]
["Recovered","Isle of Man","United Kingdom",54.2361,-4.5480999999999998,"2020-02-16",0,{"$f":"VALUE(URL_2[[#This Row],[Data]])","v":0}]
["Recovered","Montserrat","United Kingdom",16.7425,-62.187399999999997,"2020-02-13",0,{"$f":"VALUE(URL_2[[#This Row],[Data]])","v":0}]
["Recovered","Montserrat","United Kingdom",16.7425,-62.187399999999997,"2020-02-29",0,{"$f":"VALUE(URL_2[[#This Row],[Data]])","v":0}]
["Recovered","Montserrat","United Kingdom",16.7425,-62.187399999999997,"2020-04-01",0,{"$f":"VALUE(URL_2[[#This Row],[Data]])","v":0}]
["Recovered","","United Kingdom",55.378100000000003,-3.4360000000000004,"2020-04-13",0,{"$f":"VALUE(URL_2[[#This Row],[Data]])","v":0}]
["Recovered","","Uruguay",-32.522799999999997,-55.765799999999999,"2020-02-26",0,{"$f":"VALUE(URL_2[[#This Row],[Data]])","v":0}]
["Recovered","","US",37.090200000000003,-95.712900000000005,"2020-02-04",0,{"$f":"VALUE(URL_2[[#This Row],[Data]])","v":0}]
["Recovered","","Uzbekistan",41.377499999999998,64.585300000000004,"2020-02-04",0,{"$f":"VALUE(URL_2[[#This Row],[Data]])","v":0}]
["Recovered","","Venezuela",6.4238,-66.589699999999993,"2020-01-25",0,{"$f":"VALUE(URL_2[[#This Row],[Data]])","v":0}]
["Recovered","","Venezuela",6.4238,-66.589699999999993,"2020-02-24",0,{"$f":"VALUE(URL_2[[#This Row],[Data]])","v":0}]
["Recovered","","Zambia",-15.416700000000001,28.283300000000001,"2020-02-11",0,{"$f":"VALUE(URL_2[[#This Row],[Data]])","v":0}]
["Recovered","","Zambia",-15.416700000000001,28.283300000000001,"2020-03-15",0,{"$f":"VALUE(URL_2[[#This Row],[Data]])","v":0}]
["Recovered","","Zimbabwe",-20,30,"2020-02-05",0,{"$f":"VALUE(URL_2[[#This Row],[Data]])","v":0}]
["Recovered","","Zimbabwe",-20,30,"2020-03-20",0,{"$f":"VALUE(URL_2[[#This Row],[Data]])","v":0}]
["Recovered","","West Bank and Gaza",31.952200000000001,35.233199999999997,"2020-02-08",0,{"$f":"VALUE(URL_2[[#This Row],[Data]])","v":0}]
["Recovered","","West Bank and Gaza",31.952200000000001,35.233199999999997,"2020-03-12",0,{"$f":"VALUE(URL_2[[#This Row],[Data]])","v":0}]
["Recovered","","Laos",19.856269999999999,102.495496,"2020-01-30",0,{"$f":"VALUE(URL_2[[#This Row],[Data]])","v":0}]
["Recovered","","Laos",19.856269999999999,102.495496,"2020-04-08",0,{"$f":"VALUE(URL_2[[#This Row],[Data]])","v":0}]
["Recovered","","Kosovo",42.602635999999997,20.902977,"2020-02-03",0,{"$f":"VALUE(URL_2[[#This Row],[Data]])","v":0}]
["Recovered","","Kosovo",42.602635999999997,20.902977,"2020-03-07",0,{"$f":"VALUE(URL_2[[#This Row],[Data]])","v":0}]
["Recovered","","Burma",21.9162,95.956000000000003,"2020-03-14",0,{"$f":"VALUE(URL_2[[#This Row],[Data]])","v":0}]
["Recovered","","Burma",21.9162,95.956000000000003,"2020-03-20",0,{"$f":"VALUE(URL_2[[#This Row],[Data]])","v":0}]
["Recovered","Anguilla","United Kingdom",18.220600000000001,-63.068600000000004,"2020-02-13",0,{"$f":"VALUE(URL_2[[#This Row],[Data]])","v":0}]
["Recovered","Anguilla","United Kingdom",18.220600000000001,-63.068600000000004,"2020-03-17",0,{"$f":"VALUE(URL_2[[#This Row],[Data]])","v":0}]
["Recovered","British Virgin Islands","United Kingdom",18.4207,-64.64,"2020-03-01",0,{"$f":"VALUE(URL_2[[#This Row],[Data]])","v":0}]
["Recovered","British Virgin Islands","United Kingdom",18.4207,-64.64,"2020-03-22",0,{"$f":"VALUE(URL_2[[#This Row],[Data]])","v":0}]
["Recovered","Turks and Caicos Islands","United Kingdom",21.69400000000001,-71.797899999999998,"2020-02-26",0,{"$f":"VALUE(URL_2[[#This Row],[Data]])","v":0}]
["Recovered","Turks and Caicos Islands","United Kingdom",21.69400000000001,-71.797899999999998,"2020-03-30",0,{"$f":"VALUE(URL_2[[#This Row],[Data]])","v":0}]
["Recovered","","MS Zaandam",0,0,"2020-02-20",0,{"$f":"VALUE(URL_2[[#This Row],[Data]])","v":0}]
["Recovered","","MS Zaandam",0,0,"2020-03-26",0,{"$f":"VALUE(URL_2[[#This Row],[Data]])","v":0}]
["Recovered","","MS Zaandam",0,0,"2020-04-28",0,{"$f":"VALUE(URL_2[[#This Row],[Data]])","v":0}]
["Recovered","","Botswana",-22.328499999999998,24.684899999999999,"2020-02-02",0,{"$f":"VALUE(URL_2[[#This Row],[Data]])","v":0}]
["Recovered","","Botswana",-22.328499999999998,24.684899999999999,"2020-03-18",0,{"$f":"VALUE(URL_2[[#This Row],[Data]])","v":0}]
["Recovered","","Burundi",-3.3731,29.918900000000001,"2020-02-08",0,{"$f":"VALUE(URL_2[[#This Row],[Data]])","v":0}]
["Recovered","","Burundi",-3.3731,29.918900000000001,"2020-02-24",0,{"$f":"VALUE(URL_2[[#This Row],[Data]])","v":0}]
["Recovered","","Burundi",-3.3731,29.918900000000001,"2020-03-28",0,{"$f":"VALUE(URL_2[[#This Row],[Data]])","v":0}]
["Recovered","","Sierra Leone",8.4605550000000012,-11.779889000000001,"2020-02-21",0,{"$f":"VALUE(URL_2[[#This Row],[Data]])","v":0}]
["Recovered","","Sierra Leone",8.4605550000000012,-11.779889000000001,"2020-03-26",0,{"$f":"VALUE(URL_2[[#This Row],[Data]])","v":0}]
["Recovered","Bonaire, Sint Eustatius and Saba","Netherlands",12.1784,-68.238500000000002,"2020-01-31",0,{"$f":"VALUE(URL_2[[#This Row],[Data]])","v":0}]
["Recovered","Bonaire, Sint Eustatius and Saba","Netherlands",12.1784,-68.238500000000002,"2020-03-26",0,{"$f":"VALUE(URL_2[[#This Row],[Data]])","v":0}]
["Recovered","","Malawi",-13.254307999999998,34.301524999999998,"2020-01-29",0,{"$f":"VALUE(URL_2[[#This Row],[Data]])","v":0}]
["Recovered","","Malawi",-13.254307999999998,34.301524999999998,"2020-02-18",0,{"$f":"VALUE(URL_2[[#This Row],[Data]])","v":0}]
["Recovered","","Malawi",-13.254307999999998,34.301524999999998,"2020-04-13",0,{"$f":"VALUE(URL_2[[#This Row],[Data]])","v":0}]
["Recovered","Falkland Islands (Malvinas)","United Kingdom",-51.796300000000002,-59.523600000000002,"2020-02-15",0,{"$f":"VALUE(URL_2[[#This Row],[Data]])","v":0}]
["Recovered","Saint Pierre and Miquelon","France",46.885199999999998,-56.315899999999999,"2020-01-28",0,{"$f":"VALUE(URL_2[[#This Row],[Data]])","v":0}]
["Recovered","Saint Pierre and Miquelon","France",46.885199999999998,-56.315899999999999,"2020-03-01",0,{"$f":"VALUE(URL_2[[#This Row],[Data]])","v":0}]
["Recovered","Saint Pierre and Miquelon","France",46.885199999999998,-56.315899999999999,"2020-04-03",0,{"$f":"VALUE(URL_2[[#This Row],[Data]])","v":0}]
["Recovered","","South Sudan",6.8770000000000024,31.306999999999999,"2020-02-03",0,{"$f":"VALUE(URL_2[[#This Row],[Data]])","v":0}]
["Recovered","","South Sudan",6.8770000000000024,31.306999999999999,"2020-03-19",0,{"$f":"VALUE(URL_2[[#This Row],[Data]])","v":0}]
["Recovered","","South Sudan",6.8770000000000024,31.306999999999999,"2020-04-21",0,{"$f":"VALUE(URL_2[[#This Row],[Data]])","v":0}]
["Recovered","","Western Sahara",24.215499999999999,-12.8858,"2020-01-26",0,{"$f":"VALUE(URL_2[[#This Row],[Data]])","v":0}]
["Recovered","","Western Sahara",24.215499999999999,-12.8858,"2020-04-02",0,{"$f":"VALUE(URL_2[[#This Row],[Data]])","v":0}]
["Recovered","","Western Sahara",24.215499999999999,-12.8858,"2020-04-22",0,{"$f":"VALUE(URL_2[[#This Row],[Data]])","v":0}]
["Recovered","","Sao Tome and Principe",0.18636,6.6130810000000002,"2020-02-23",0,{"$f":"VALUE(URL_2[[#This Row],[Data]])","v":0}]
["Recovered","","Sao Tome and Principe",0.18636,6.6130810000000002,"2020-03-27",0,{"$f":"VALUE(URL_2[[#This Row],[Data]])","v":0}]
["Recovered","","Yemen",15.552727000000001,48.516387999999999,"2020-02-02",0,{"$f":"VALUE(URL_2[[#This Row],[Data]])","v":0}]
["Recovered","","Yemen",15.552727000000001,48.516387999999999,"2020-03-17",0,{"$f":"VALUE(URL_2[[#This Row],[Data]])","v":0}]
["Recovered","","Yemen",15.552727000000001,48.516387999999999,"2020-04-19",0,{"$f":"VALUE(URL_2[[#This Row],[Data]])","v":0}]
["Recovered","","Comoros",-11.6455,43.333300000000001,"2020-03-21",0,{"$f":"VALUE(URL_2[[#This Row],[Data]])","v":0}]
["Recovered","","Comoros",-11.6455,43.333300000000001,"2020-04-13",0,{"$f":"VALUE(URL_2[[#This Row],[Data]])","v":0}]
["Recovered","","Tajikistan",38.861033999999997,71.276093000000003,"2020-02-26",0,{"$f":"VALUE(URL_2[[#This Row],[Data]])","v":0}]
["Recovered","","Tajikistan",38.861033999999997,71.276093000000003,"2020-03-30",0,{"$f":"VALUE(URL_2[[#This Row],[Data]])","v":0}]
["Recovered","","Tajikistan",38.861033999999997,71.276093000000003,"2020-04-11",0,{"$f":"VALUE(URL_2[[#This Row],[Data]])","v":0}]
["Confirmed","","Armenia",40.069099999999999,45.038200000000003,"2020-03-07",1,{"$f":"VALUE(URL_2[[#This Row],[Data]])","v":1}]
["Confirmed","","Bahamas",25.034300000000002,-77.396299999999997,"2020-03-17",1,{"$f":"VALUE(URL_2[[#This Row],[Data]])","v":1}]
["Confirmed","","Belgium",50.833300000000001,4,"2020-02-12",1,{"$f":"VALUE(URL_2[[#This Row],[Data]])","v":1}]
["Confirmed","","Cambodia",11.55,104.91670000000001,"2020-01-29",1,{"$f":"VALUE(URL_2[[#This Row],[Data]])","v":1}]
["Confirmed","Prince Edward Island","Canada",46.5107,-63.416800000000002,"2020-03-15",1,{"$f":"VALUE(URL_2[[#This Row],[Data]])","v":1}]
["Confirmed","","Chad",15.4542,18.732199999999999,"2020-03-20",1,{"$f":"VALUE(URL_2[[#This Row],[Data]])","v":1}]
["Confirmed","Tibet","China",31.692699999999999,88.092399999999998,"2020-02-10",1,{"$f":"VALUE(URL_2[[#This Row],[Data]])","v":1}]
["Confirmed","Tibet","China",31.692699999999999,88.092399999999998,"2020-04-01",1,{"$f":"VALUE(URL_2[[#This Row],[Data]])","v":1}]
["Confirmed","","Colombia",4.5709,-74.297300000000007,"2020-03-09",1,{"$f":"VALUE(URL_2[[#This Row],[Data]])","v":1}]
["Confirmed","","Dominican Republic",18.735700000000001,-70.162700000000001,"2020-03-04",1,{"$f":"VALUE(URL_2[[#This Row],[Data]])","v":1}]
["Confirmed","","Ethiopia",9.1449999999999996,40.489699999999999,"2020-03-13",1,{"$f":"VALUE(URL_2[[#This Row],[Data]])","v":1}]
["Confirmed","Saint Barthelemy","France",17.899999999999999,-62.833300000000001,"2020-03-15",1,{"$f":"VALUE(URL_2[[#This Row],[Data]])","v":1}]
["Confirmed","","Holy See",41.902900000000002,12.4534,"2020-03-07",1,{"$f":"VALUE(URL_2[[#This Row],[Data]])","v":1}]
["Confirmed","","Latvia",56.879600000000003,24.603200000000001,"2020-03-07",1,{"$f":"VALUE(URL_2[[#This Row],[Data]])","v":1}]
["Confirmed","","Lithuania",55.169400000000003,23.8813,"2020-03-07",1,{"$f":"VALUE(URL_2[[#This Row],[Data]])","v":1}]
["Confirmed","","Morocco",31.791699999999999,-7.0926,"2020-03-04",1,{"$f":"VALUE(URL_2[[#This Row],[Data]])","v":1}]
["Confirmed","","Nepal",28.166699999999999,84.25,"2020-03-19",1,{"$f":"VALUE(URL_2[[#This Row],[Data]])","v":1}]
["Confirmed","","North Macedonia",41.608600000000003,21.7453,"2020-02-28",1,{"$f":"VALUE(URL_2[[#This Row],[Data]])","v":1}]
["Confirmed","","Rwanda",-1.9402999999999999,29.873899999999999,"2020-03-14",1,{"$f":"VALUE(URL_2[[#This Row],[Data]])","v":1}]
["Confirmed","","South Africa",-30.5595,22.9375,"2020-03-05",1,{"$f":"VALUE(URL_2[[#This Row],[Data]])","v":1}]
["Confirmed","","Sri Lanka",7,81,"2020-02-18",1,{"$f":"VALUE(URL_2[[#This Row],[Data]])","v":1}]
["Confirmed","","Sri Lanka",7,81,"2020-03-05",1,{"$f":"VALUE(URL_2[[#This Row],[Data]])","v":1}]
["Confirmed","","Tunisia",34,9,"2020-03-06",1,{"$f":"VALUE(URL_2[[#This Row],[Data]])","v":1}]
["Confirmed","Channel Islands","United Kingdom",49.372300000000003,-2.3643999999999998,"2020-03-10",1,{"$f":"VALUE(URL_2[[#This Row],[Data]])","v":1}]
["Confirmed","","Grenada",12.1165,-61.678999999999995,"2020-03-24",1,{"$f":"VALUE(URL_2[[#This Row],[Data]])","v":1}]
["Confirmed","Northwest Territories","Canada",64.825500000000005,-124.84569999999999,"2020-03-27",1,{"$f":"VALUE(URL_2[[#This Row],[Data]])","v":1}]
["Confirmed","","Yemen",15.552727000000001,48.516387999999999,"2020-04-14",1,{"$f":"VALUE(URL_2[[#This Row],[Data]])","v":1}]
["Deaths","New South Wales","Australia",-33.8688,151.20930000000001,"2020-03-04",1,{"$f":"VALUE(URL_2[[#This Row],[Data]])","v":1}]
["Deaths","Western Australia","Australia",-31.950500000000002,115.8605,"2020-03-25",1,{"$f":"VALUE(URL_2[[#This Row],[Data]])","v":1}]
["Deaths","","Brunei",4.5353000000000003,114.7277,"2020-03-29",1,{"$f":"VALUE(URL_2[[#This Row],[Data]])","v":1}]
["Deaths","","Brunei",4.5353000000000003,114.7277,"2020-04-23",1,{"$f":"VALUE(URL_2[[#This Row],[Data]])","v":1}]
["Deaths","","Cameroon",3.8479999999999999,11.5021,"2020-03-25",1,{"$f":"VALUE(URL_2[[#This Row],[Data]])","v":1}]
["Deaths","Nova Scotia","Canada",44.681999999999995,-63.744300000000003,"2020-04-09",1,{"$f":"VALUE(URL_2[[#This Row],[Data]])","v":1}]
["Deaths","Beijing","China",40.182400000000001,116.41419999999999,"2020-01-28",1,{"$f":"VALUE(URL_2[[#This Row],[Data]])","v":1}]
["Deaths","Fujian","China",26.078900000000001,117.98739999999999,"2020-03-17",1,{"$f":"VALUE(URL_2[[#This Row],[Data]])","v":1}]
["Deaths","Hainan","China",19.195900000000002,109.7453,"2020-01-28",1,{"$f":"VALUE(URL_2[[#This Row],[Data]])","v":1}]
["Deaths","Hebei","China",39.548999999999999,116.1306,"2020-01-29",1,{"$f":"VALUE(URL_2[[#This Row],[Data]])","v":1}]
["Deaths","Inner Mongolia","China",44.093499999999999,113.9448,"2020-03-05",1,{"$f":"VALUE(URL_2[[#This Row],[Data]])","v":1}]
["Deaths","Inner Mongolia","China",44.093499999999999,113.9448,"2020-03-29",1,{"$f":"VALUE(URL_2[[#This Row],[Data]])","v":1}]
["Deaths","Jiangxi","China",27.614000000000001,115.7221,"2020-03-01",1,{"$f":"VALUE(URL_2[[#This Row],[Data]])","v":1}]
["Deaths","Jiangxi","China",27.614000000000001,115.7221,"2020-04-03",1,{"$f":"VALUE(URL_2[[#This Row],[Data]])","v":1}]
["Deaths","Jilin","China",43.6661,126.1923,"2020-02-26",1,{"$f":"VALUE(URL_2[[#This Row],[Data]])","v":1}]
["Deaths","Jilin","China",43.6661,126.1923,"2020-04-04",1,{"$f":"VALUE(URL_2[[#This Row],[Data]])","v":1}]
["Deaths","Liaoning","China",41.2956,122.60850000000001,"2020-02-16",1,{"$f":"VALUE(URL_2[[#This Row],[Data]])","v":1}]
["Deaths","Shaanxi","China",35.191699999999997,108.87009999999999,"2020-02-25",1,{"$f":"VALUE(URL_2[[#This Row],[Data]])","v":1}]
["Deaths","Sichuan","China",30.617100000000001,102.7103,"2020-02-04",1,{"$f":"VALUE(URL_2[[#This Row],[Data]])","v":1}]
["Deaths","Zhejiang","China",29.183199999999999,120.0934,"2020-02-25",1,{"$f":"VALUE(URL_2[[#This Row],[Data]])","v":1}]
["Deaths","Zhejiang","China",29.183199999999999,120.0934,"2020-04-20",1,{"$f":"VALUE(URL_2[[#This Row],[Data]])","v":1}]
["Deaths","","Cote d'Ivoire",7.54,-5.5471000000000004,"2020-04-04",1,{"$f":"VALUE(URL_2[[#This Row],[Data]])","v":1}]
["Deaths","","Equatorial Guinea",1.5,10,"2020-05-02",1,{"$f":"VALUE(URL_2[[#This Row],[Data]])","v":1}]
["Deaths","Martinique","France",14.641500000000001,-61.0242,"2020-03-18",1,{"$f":"VALUE(URL_2[[#This Row],[Data]])","v":1}]
["Deaths","","Gabon",-0.80369999999999997,11.609400000000001,"2020-03-29",1,{"$f":"VALUE(URL_2[[#This Row],[Data]])","v":1}]
["Deaths","","Gambia",13.443199999999999,-15.3101,"2020-04-05",1,{"$f":"VALUE(URL_2[[#This Row],[Data]])","v":1}]
["Deaths","","Gambia",13.443199999999999,-15.3101,"2020-04-15",1,{"$f":"VALUE(URL_2[[#This Row],[Data]])","v":1}]
["Deaths","","Hungary",47.162500000000001,19.503299999999999,"2020-03-16",1,{"$f":"VALUE(URL_2[[#This Row],[Data]])","v":1}]
["Deaths","","Ireland",53.142400000000002,-7.6920999999999999,"2020-03-13",1,{"$f":"VALUE(URL_2[[#This Row],[Data]])","v":1}]
["Deaths","","Liberia",6.4280999999999997,-9.4295000000000009,"2020-04-04",1,{"$f":"VALUE(URL_2[[#This Row],[Data]])","v":1}]
["Deaths","","Liechtenstein",47.14,9.5500000000000007,"2020-04-27",1,{"$f":"VALUE(URL_2[[#This Row],[Data]])","v":1}]
["Deaths","","Mauritania",21.007899999999999,10.940799999999999,"2020-04-14",1,{"$f":"VALUE(URL_2[[#This Row],[Data]])","v":1}]
["Deaths","","Monaco",43.7333,7.4166999999999996,"2020-04-14",1,{"$f":"VALUE(URL_2[[#This Row],[Data]])","v":1}]
["Deaths","Curacao","Netherlands",12.169600000000001,-68.989999999999995,"2020-04-12",1,{"$f":"VALUE(URL_2[[#This Row],[Data]])","v":1}]
["Deaths","","New Zealand",-40.900599999999997,174.886,"2020-04-06",1,{"$f":"VALUE(URL_2[[#This Row],[Data]])","v":1}]
["Deaths","","Nigeria",9.0820000000000007,8.6753,"2020-03-25",1,{"$f":"VALUE(URL_2[[#This Row],[Data]])","v":1}]
["Deaths","","Philippines",13,122,"2020-03-09",1,{"$f":"VALUE(URL_2[[#This Row],[Data]])","v":1}]
["Deaths","","Serbia",44.016500000000001,21.0059,"2020-03-26",1,{"$f":"VALUE(URL_2[[#This Row],[Data]])","v":1}]
["Deaths","","Slovenia",46.151200000000003,14.9955,"2020-03-19",1,{"$f":"VALUE(URL_2[[#This Row],[Data]])","v":1}]
["Deaths","","Taiwan*",23.7,121,"2020-02-22",1,{"$f":"VALUE(URL_2[[#This Row],[Data]])","v":1}]
["Deaths","","Taiwan*",23.7,121,"2020-03-01",1,{"$f":"VALUE(URL_2[[#This Row],[Data]])","v":1}]
["Deaths","","Thailand",15,101,"2020-03-12",1,{"$f":"VALUE(URL_2[[#This Row],[Data]])","v":1}]
["Deaths","Cayman Islands","United Kingdom",19.313300000000002,-81.254599999999996,"2020-03-21",1,{"$f":"VALUE(URL_2[[#This Row],[Data]])","v":1}]
["Deaths","","Venezuela",6.4238,-66.589699999999993,"2020-03-27",1,{"$f":"VALUE(URL_2[[#This Row],[Data]])","v":1}]
["Deaths","","Zimbabwe",-20,30,"2020-04-05",1,{"$f":"VALUE(URL_2[[#This Row],[Data]])","v":1}]
["Deaths","Diamond Princess","Canada",0,0,"2020-04-15",1,{"$f":"VALUE(URL_2[[#This Row],[Data]])","v":1}]
["Deaths","","West Bank and Gaza",31.952200000000001,35.233199999999997,"2020-04-06",1,{"$f":"VALUE(URL_2[[#This Row],[Data]])","v":1}]
["Deaths","","Kosovo",42.602635999999997,20.902977,"2020-04-05",1,{"$f":"VALUE(URL_2[[#This Row],[Data]])","v":1}]
["Deaths","Turks and Caicos Islands","United Kingdom",21.69400000000001,-71.797899999999998,"2020-04-24",1,{"$f":"VALUE(URL_2[[#This Row],[Data]])","v":1}]
["Deaths","","Burundi",-3.3731,29.918900000000001,"2020-04-26",1,{"$f":"VALUE(URL_2[[#This Row],[Data]])","v":1}]
["Recovered","","Andorra",42.506300000000003,1.5218,"2020-03-23",1,{"$f":"VALUE(URL_2[[#This Row],[Data]])","v":1}]
["Recovered","Western Australia","Australia",-31.950500000000002,115.8605,"2020-03-25",1,{"$f":"VALUE(URL_2[[#This Row],[Data]])","v":1}]
["Recovered","","Bolivia",-16.290199999999999,-63.588700000000003,"2020-04-01",1,{"$f":"VALUE(URL_2[[#This Row],[Data]])","v":1}]
["Recovered","","Cambodia",11.55,104.91670000000001,"2020-02-17",1,{"$f":"VALUE(URL_2[[#This Row],[Data]])","v":1}]
["Recovered","Henan","China",33.881999999999998,113.614,"2020-01-29",1,{"$f":"VALUE(URL_2[[#This Row],[Data]])","v":1}]
["Recovered","Liaoning","China",41.2956,122.60850000000001,"2020-01-29",1,{"$f":"VALUE(URL_2[[#This Row],[Data]])","v":1}]
["Recovered","Tibet","China",31.692699999999999,88.092399999999998,"2020-02-25",1,{"$f":"VALUE(URL_2[[#This Row],[Data]])","v":1}]
["Recovered","Tibet","China",31.692699999999999,88.092399999999998,"2020-03-12",1,{"$f":"VALUE(URL_2[[#This Row],[Data]])","v":1}]
["Recovered","","Diamond Princess",0,0,"2020-02-19",1,{"$f":"VALUE(URL_2[[#This Row],[Data]])","v":1}]
["Recovered","","Dominica",15.414999999999999,-61.371000000000002,"2020-04-09",1,{"$f":"VALUE(URL_2[[#This Row],[Data]])","v":1}]
["Recovered","","Egypt",26,30,"2020-03-10",1,{"$f":"VALUE(URL_2[[#This Row],[Data]])","v":1}]
["Recovered","","Finland",64,26,"2020-02-29",1,{"$f":"VALUE(URL_2[[#This Row],[Data]])","v":1}]
["Recovered","","Gabon",-0.80369999999999997,11.609400000000001,"2020-04-07",1,{"$f":"VALUE(URL_2[[#This Row],[Data]])","v":1}]
["Recovered","","Haiti",18.9712,-72.285200000000003,"2020-04-01",1,{"$f":"VALUE(URL_2[[#This Row],[Data]])","v":1}]
["Recovered","","Kuwait",29.5,47.75,"2020-03-10",1,{"$f":"VALUE(URL_2[[#This Row],[Data]])","v":1}]
["Recovered","","Lebanon",33.854700000000001,35.862299999999998,"2020-03-10",1,{"$f":"VALUE(URL_2[[#This Row],[Data]])","v":1}]
["Recovered","","Moldova",47.4116,28.369900000000001,"2020-03-20",1,{"$f":"VALUE(URL_2[[#This Row],[Data]])","v":1}]
["Recovered","","Nepal",28.166699999999999,84.25,"2020-02-24",1,{"$f":"VALUE(URL_2[[#This Row],[Data]])","v":1}]
["Recovered","","Nepal",28.166699999999999,84.25,"2020-03-28",1,{"$f":"VALUE(URL_2[[#This Row],[Data]])","v":1}]
["Recovered","Sint Maarten","Netherlands",18.0425,-63.0548,"2020-04-06",1,{"$f":"VALUE(URL_2[[#This Row],[Data]])","v":1}]
["Recovered","","North Macedonia",41.608600000000003,21.7453,"2020-03-25",1,{"$f":"VALUE(URL_2[[#This Row],[Data]])","v":1}]
["Recovered","","Poland",51.919400000000003,19.145099999999999,"2020-03-20",1,{"$f":"VALUE(URL_2[[#This Row],[Data]])","v":1}]
["Recovered","","Saint Lucia",13.9094,-60.978900000000003,"2020-04-01",1,{"$f":"VALUE(URL_2[[#This Row],[Data]])","v":1}]
["Recovered","","Saint Vincent and the Grenadines",12.984299999999999,-61.287199999999999,"2020-04-19",1,{"$f":"VALUE(URL_2[[#This Row],[Data]])","v":1}]
["Recovered","","Sri Lanka",7,81,"2020-02-17",1,{"$f":"VALUE(URL_2[[#This Row],[Data]])","v":1}]
["Recovered","","Sweden",63,16,"2020-03-18",1,{"$f":"VALUE(URL_2[[#This Row],[Data]])","v":1}]
["Recovered","","Togo",8.6195000000000004,0.82479999999999998,"2020-03-24",1,{"$f":"VALUE(URL_2[[#This Row],[Data]])","v":1}]
["Recovered","","Kosovo",42.602635999999997,20.902977,"2020-03-28",1,{"$f":"VALUE(URL_2[[#This Row],[Data]])","v":1}]
["Recovered","Falkland Islands (Malvinas)","United Kingdom",-51.796300000000002,-59.523600000000002,"2020-04-11",1,{"$f":"VALUE(URL_2[[#This Row],[Data]])","v":1}]
["Confirmed","South Australia","Australia",-34.9285,138.60069999999999,"2020-02-04",2,{"$f":"VALUE(URL_2[[#This Row],[Data]])","v":2}]
["Confirmed","","Brazil",-14.234999999999999,-51.9253,"2020-02-29",2,{"$f":"VALUE(URL_2[[#This Row],[Data]])","v":2}]
["Confirmed","British Columbia","Canada",49.282699999999998,-123.1207,"2020-02-05",2,{"$f":"VALUE(URL_2[[#This Row],[Data]])","v":2}]
["Confirmed","","Dominican Republic",18.735700000000001,-70.162700000000001,"2020-03-06",2,{"$f":"VALUE(URL_2[[#This Row],[Data]])","v":2}]
["Confirmed","","Italy",43,12,"2020-02-05",2,{"$f":"VALUE(URL_2[[#This Row],[Data]])","v":2}]
["Confirmed","","Morocco",31.791699999999999,-7.0926,"2020-03-07",2,{"$f":"VALUE(URL_2[[#This Row],[Data]])","v":2}]
["Confirmed","","Pakistan",30.375299999999999,69.345100000000002,"2020-02-26",2,{"$f":"VALUE(URL_2[[#This Row],[Data]])","v":2}]
["Confirmed","","Saint Lucia",13.9094,-60.978900000000003,"2020-03-17",2,{"$f":"VALUE(URL_2[[#This Row],[Data]])","v":2}]
["Confirmed","","Sudan",12.8628,30.217600000000001,"2020-03-21",2,{"$f":"VALUE(URL_2[[#This Row],[Data]])","v":2}]
["Confirmed","","United Kingdom",55.378100000000003,-3.4360000000000004,"2020-01-31",2,{"$f":"VALUE(URL_2[[#This Row],[Data]])","v":2}]
["Confirmed","","MS Zaandam",0,0,"2020-03-31",2,{"$f":"VALUE(URL_2[[#This Row],[Data]])","v":2}]
["Deaths","","Angola",-11.2027,17.873899999999999,"2020-04-15",2,{"$f":"VALUE(URL_2[[#This Row],[Data]])","v":2}]
["Deaths","","Angola",-11.2027,17.873899999999999,"2020-05-01",2,{"$f":"VALUE(URL_2[[#This Row],[Data]])","v":2}]
["Deaths","New South Wales","Australia",-33.8688,151.20930000000001,"2020-03-14",2,{"$f":"VALUE(URL_2[[#This Row],[Data]])","v":2}]
["Deaths","Chongqing","China",30.057200000000002,107.874,"2020-02-09",2,{"$f":"VALUE(URL_2[[#This Row],[Data]])","v":2}]
["Deaths","Gansu","China",37.809899999999999,101.0583,"2020-02-21",2,{"$f":"VALUE(URL_2[[#This Row],[Data]])","v":2}]
["Deaths","Gansu","China",37.809899999999999,101.0583,"2020-03-25",2,{"$f":"VALUE(URL_2[[#This Row],[Data]])","v":2}]
["Deaths","Guangxi","China",23.829799999999999,108.7881,"2020-02-26",2,{"$f":"VALUE(URL_2[[#This Row],[Data]])","v":2}]
["Deaths","Guangxi","China",23.829799999999999,108.7881,"2020-03-28",2,{"$f":"VALUE(URL_2[[#This Row],[Data]])","v":2}]
["Deaths","Guizhou","China",26.8154,106.87479999999999,"2020-03-08",2,{"$f":"VALUE(URL_2[[#This Row],[Data]])","v":2}]
["Deaths","Guizhou","China",26.8154,106.87479999999999,"2020-04-10",2,{"$f":"VALUE(URL_2[[#This Row],[Data]])","v":2}]
["Deaths","Henan","China",33.881999999999998,113.614,"2020-02-04",2,{"$f":"VALUE(URL_2[[#This Row],[Data]])","v":2}]
["Deaths","Liaoning","China",41.2956,122.60850000000001,"2020-04-09",2,{"$f":"VALUE(URL_2[[#This Row],[Data]])","v":2}]
["Deaths","Shandong","China",36.342700000000001,118.1498,"2020-02-16",2,{"$f":"VALUE(URL_2[[#This Row],[Data]])","v":2}]
["Deaths","Yunnan","China",24.974,101.48699999999999,"2020-03-11",2,{"$f":"VALUE(URL_2[[#This Row],[Data]])","v":2}]
["Deaths","Yunnan","China",24.974,101.48699999999999,"2020-03-29",2,{"$f":"VALUE(URL_2[[#This Row],[Data]])","v":2}]
["Deaths","","Djibouti",11.825100000000001,42.590299999999999,"2020-04-15",2,{"$f":"VALUE(URL_2[[#This Row],[Data]])","v":2}]
["Deaths","","Djibouti",11.825100000000001,42.590299999999999,"2020-05-01",2,{"$f":"VALUE(URL_2[[#This Row],[Data]])","v":2}]
["Deaths","St Martin","France",18.070799999999998,-63.0501,"2020-04-07",2,{"$f":"VALUE(URL_2[[#This Row],[Data]])","v":2}]
["Deaths","","Iceland",64.963099999999997,-19.020800000000001,"2020-03-31",2,{"$f":"VALUE(URL_2[[#This Row],[Data]])","v":2}]
["Deaths","","Montenegro",42.5,19.3,"2020-04-01",2,{"$f":"VALUE(URL_2[[#This Row],[Data]])","v":2}]
["Deaths","","Nicaragua",12.865399999999999,-85.2072,"2020-04-18",2,{"$f":"VALUE(URL_2[[#This Row],[Data]])","v":2}]
["Deaths","","Senegal",14.497400000000001,-14.452400000000001,"2020-04-11",2,{"$f":"VALUE(URL_2[[#This Row],[Data]])","v":2}]
["Deaths","","Taiwan*",23.7,121,"2020-03-28",2,{"$f":"VALUE(URL_2[[#This Row],[Data]])","v":2}]
["Deaths","","Uzbekistan",41.377499999999998,64.585300000000004,"2020-03-30",2,{"$f":"VALUE(URL_2[[#This Row],[Data]])","v":2}]
["Deaths","","Belize",13.193899999999999,-59.543199999999999,"2020-04-24",2,{"$f":"VALUE(URL_2[[#This Row],[Data]])","v":2}]
["Deaths","","West Bank and Gaza",31.952200000000001,35.233199999999997,"2020-04-12",2,{"$f":"VALUE(URL_2[[#This Row],[Data]])","v":2}]
["Deaths","","MS Zaandam",0,0,"2020-05-01",2,{"$f":"VALUE(URL_2[[#This Row],[Data]])","v":2}]
["Recovered","Northern Territory","Australia",-12.4634,130.84559999999999,"2020-04-07",2,{"$f":"VALUE(URL_2[[#This Row],[Data]])","v":2}]
["Recovered","","Bangladesh",23.684999999999999,90.356300000000005,"2020-03-16",2,{"$f":"VALUE(URL_2[[#This Row],[Data]])","v":2}]
["Recovered","","Bolivia",-16.290199999999999,-63.588700000000003,"2020-04-10",2,{"$f":"VALUE(URL_2[[#This Row],[Data]])","v":2}]
["Recovered","Guangxi","China",23.829799999999999,108.7881,"2020-01-31",2,{"$f":"VALUE(URL_2[[#This Row],[Data]])","v":2}]
["Recovered","","Congo (Brazzaville)",-4.0382999999999996,21.758700000000001,"2020-04-06",2,{"$f":"VALUE(URL_2[[#This Row],[Data]])","v":2}]
["Recovered","Greenland","Denmark",71.706900000000005,-42.604300000000002,"2020-03-24",2,{"$f":"VALUE(URL_2[[#This Row],[Data]])","v":2}]
["Recovered","","Haiti",18.9712,-72.285200000000003,"2020-04-24",2,{"$f":"VALUE(URL_2[[#This Row],[Data]])","v":2}]
["Recovered","","Jamaica",18.1096,-77.297499999999999,"2020-03-24",2,{"$f":"VALUE(URL_2[[#This Row],[Data]])","v":2}]
["Recovered","","Malta",35.9375,14.375400000000001,"2020-03-17",2,{"$f":"VALUE(URL_2[[#This Row],[Data]])","v":2}]
["Recovered","","Mauritania",21.007899999999999,10.940799999999999,"2020-04-12",2,{"$f":"VALUE(URL_2[[#This Row],[Data]])","v":2}]
["Recovered","","Oman",21,57,"2020-03-07",2,{"$f":"VALUE(URL_2[[#This Row],[Data]])","v":2}]
["Recovered","","Philippines",13,122,"2020-03-11",2,{"$f":"VALUE(URL_2[[#This Row],[Data]])","v":2}]
["Recovered","","Saint Kitts and Nevis",17.357821999999999,-62.782997999999999,"2020-04-24",2,{"$f":"VALUE(URL_2[[#This Row],[Data]])","v":2}]
["Recovered","","Sudan",12.8628,30.217600000000001,"2020-04-08",2,{"$f":"VALUE(URL_2[[#This Row],[Data]])","v":2}]
["Recovered","Bermuda","United Kingdom",32.3078,-64.750500000000002,"2020-03-28",2,{"$f":"VALUE(URL_2[[#This Row],[Data]])","v":2}]
["Recovered","","Zimbabwe",-20,30,"2020-04-24",2,{"$f":"VALUE(URL_2[[#This Row],[Data]])","v":2}]
["Confirmed","","Azerbaijan",40.143099999999997,47.576900000000002,"2020-03-02",3,{"$f":"VALUE(URL_2[[#This Row],[Data]])","v":3}]
["Confirmed","Ontario","Canada",51.253799999999998,-85.3232,"2020-02-12",3,{"$f":"VALUE(URL_2[[#This Row],[Data]])","v":3}]
["Confirmed","Ontario","Canada",51.253799999999998,-85.3232,"2020-02-20",3,{"$f":"VALUE(URL_2[[#This Row],[Data]])","v":3}]
["Confirmed","Saint Barthelemy","France",17.899999999999999,-62.833300000000001,"2020-03-16",3,{"$f":"VALUE(URL_2[[#This Row],[Data]])","v":3}]
["Confirmed","","India",21,78,"2020-02-04",3,{"$f":"VALUE(URL_2[[#This Row],[Data]])","v":3}]
["Confirmed","","India",21,78,"2020-02-20",3,{"$f":"VALUE(URL_2[[#This Row],[Data]])","v":3}]
["Confirmed","Curacao","Netherlands",12.169600000000001,-68.989999999999995,"2020-03-17",3,{"$f":"VALUE(URL_2[[#This Row],[Data]])","v":3}]
["Confirmed","","North Macedonia",41.608600000000003,21.7453,"2020-03-07",3,{"$f":"VALUE(URL_2[[#This Row],[Data]])","v":3}]
["Confirmed","","Romania",45.943199999999997,24.966799999999999,"2020-02-28",3,{"$f":"VALUE(URL_2[[#This Row],[Data]])","v":3}]
["Confirmed","Channel Islands","United Kingdom",49.372300000000003,-2.3643999999999998,"2020-03-15",3,{"$f":"VALUE(URL_2[[#This Row],[Data]])","v":3}]
["Confirmed","Anguilla","United Kingdom",18.220600000000001,-63.068600000000004,"2020-04-25",3,{"$f":"VALUE(URL_2[[#This Row],[Data]])","v":3}]
["Confirmed","","Burundi",-3.3731,29.918900000000001,"2020-04-09",3,{"$f":"VALUE(URL_2[[#This Row],[Data]])","v":3}]
["Deaths","Victoria","Australia",-37.813600000000001,144.9631,"2020-03-26",3,{"$f":"VALUE(URL_2[[#This Row],[Data]])","v":3}]
["Deaths","","Bulgaria",42.733899999999998,25.485800000000001,"2020-03-24",3,{"$f":"VALUE(URL_2[[#This Row],[Data]])","v":3}]
["Deaths","Nova Scotia","Canada",44.681999999999995,-63.744300000000003,"2020-04-14",3,{"$f":"VALUE(URL_2[[#This Row],[Data]])","v":3}]
["Deaths","Shaanxi","China",35.191699999999997,108.87009999999999,"2020-04-01",3,{"$f":"VALUE(URL_2[[#This Row],[Data]])","v":3}]
["Deaths","Shaanxi","China",35.191699999999997,108.87009999999999,"2020-04-17",3,{"$f":"VALUE(URL_2[[#This Row],[Data]])","v":3}]
["Deaths","Sichuan","China",30.617100000000001,102.7103,"2020-02-18",3,{"$f":"VALUE(URL_2[[#This Row],[Data]])","v":3}]
["Deaths","Sichuan","China",30.617100000000001,102.7103,"2020-04-13",3,{"$f":"VALUE(URL_2[[#This Row],[Data]])","v":3}]
["Deaths","Tianjin","China",39.305399999999999,117.32299999999999,"2020-02-26",3,{"$f":"VALUE(URL_2[[#This Row],[Data]])","v":3}]
["Deaths","Tianjin","China",39.305399999999999,117.32299999999999,"2020-03-27",3,{"$f":"VALUE(URL_2[[#This Row],[Data]])","v":3}]
["Deaths","Tianjin","China",39.305399999999999,117.32299999999999,"2020-04-14",3,{"$f":"VALUE(URL_2[[#This Row],[Data]])","v":3}]
["Deaths","Xinjiang","China",41.112900000000003,85.240099999999998,"2020-04-21",3,{"$f":"VALUE(URL_2[[#This Row],[Data]])","v":3}]
["Deaths","","Costa Rica",9.7489000000000008,-83.753399999999999,"2020-04-08",3,{"$f":"VALUE(URL_2[[#This Row],[Data]])","v":3}]
["Deaths","","Finland",64,26,"2020-03-25",3,{"$f":"VALUE(URL_2[[#This Row],[Data]])","v":3}]
["Deaths","","Guatemala",15.7835,-90.230800000000002,"2020-04-11",3,{"$f":"VALUE(URL_2[[#This Row],[Data]])","v":3}]
["Deaths","","India",21,78,"2020-03-18",3,{"$f":"VALUE(URL_2[[#This Row],[Data]])","v":3}]
["Deaths","","Malta",35.9375,14.375400000000001,"2020-04-12",3,{"$f":"VALUE(URL_2[[#This Row],[Data]])","v":3}]
["Deaths","","Oman",21,57,"2020-04-09",3,{"$f":"VALUE(URL_2[[#This Row],[Data]])","v":3}]
["Deaths","","Serbia",44.016500000000001,21.0059,"2020-03-23",3,{"$f":"VALUE(URL_2[[#This Row],[Data]])","v":3}]
["Deaths","","Trinidad and Tobago",10.691800000000001,-61.222499999999997,"2020-03-31",3,{"$f":"VALUE(URL_2[[#This Row],[Data]])","v":3}]
["Deaths","","Syria",34.802075000000002,38.996815000000012,"2020-04-22",3,{"$f":"VALUE(URL_2[[#This Row],[Data]])","v":3}]
["Recovered","","Antigua and Barbuda",17.0608,-61.796399999999998,"2020-04-14",3,{"$f":"VALUE(URL_2[[#This Row],[Data]])","v":3}]
["Recovered","Tasmania","Australia",-41.454500000000003,145.97069999999999,"2020-03-25",3,{"$f":"VALUE(URL_2[[#This Row],[Data]])","v":3}]
["Recovered","Qinghai","China",35.745199999999997,95.995599999999996,"2020-02-09",3,{"$f":"VALUE(URL_2[[#This Row],[Data]])","v":3}]
["Recovered","","Dominican Republic",18.735700000000001,-70.162700000000001,"2020-03-26",3,{"$f":"VALUE(URL_2[[#This Row],[Data]])","v":3}]
["Recovered","","Ecuador",-1.8311999999999999,-78.183400000000006,"2020-03-27",3,{"$f":"VALUE(URL_2[[#This Row],[Data]])","v":3}]
["Recovered","","Lebanon",33.854700000000001,35.862299999999998,"2020-03-18",3,{"$f":"VALUE(URL_2[[#This Row],[Data]])","v":3}]
["Recovered","","Namibia",-22.957599999999999,18.490400000000001,"2020-04-15",3,{"$f":"VALUE(URL_2[[#This Row],[Data]])","v":3}]
["Recovered","","North Macedonia",41.608600000000003,21.7453,"2020-03-28",3,{"$f":"VALUE(URL_2[[#This Row],[Data]])","v":3}]
["Recovered","","Syria",34.802100000000003,38.9968,"2020-04-07",3,{"$f":"VALUE(URL_2[[#This Row],[Data]])","v":3}]
["Confirmed","","Angola",-11.2027,17.873899999999999,"2020-03-27",4,{"$f":"VALUE(URL_2[[#This Row],[Data]])","v":4}]
["Confirmed","New South Wales","Australia",-33.8688,151.20930000000001,"2020-02-26",4,{"$f":"VALUE(URL_2[[#This Row],[Data]])","v":4}]
["Confirmed","","Bhutan",27.514199999999999,90.433599999999998,"2020-03-31",4,{"$f":"VALUE(URL_2[[#This Row],[Data]])","v":4}]
["Confirmed","","Congo (Brazzaville)",-4.0382999999999996,21.758700000000001,"2020-03-25",4,{"$f":"VALUE(URL_2[[#This Row],[Data]])","v":4}]
["Confirmed","","Gambia",13.443199999999999,-15.3101,"2020-04-04",4,{"$f":"VALUE(URL_2[[#This Row],[Data]])","v":4}]
["Confirmed","","Pakistan",30.375299999999999,69.345100000000002,"2020-03-02",4,{"$f":"VALUE(URL_2[[#This Row],[Data]])","v":4}]
["Confirmed","","Belize",13.193899999999999,-59.543199999999999,"2020-04-04",4,{"$f":"VALUE(URL_2[[#This Row],[Data]])","v":4}]
["Confirmed","","South Sudan",6.8770000000000024,31.306999999999999,"2020-04-22",4,{"$f":"VALUE(URL_2[[#This Row],[Data]])","v":4}]
["Deaths","South Australia","Australia",-34.9285,138.60069999999999,"2020-04-12",4,{"$f":"VALUE(URL_2[[#This Row],[Data]])","v":4}]
["Deaths","South Australia","Australia",-34.9285,138.60069999999999,"2020-04-26",4,{"$f":"VALUE(URL_2[[#This Row],[Data]])","v":4}]
["Deaths","British Columbia","Canada",49.282699999999998,-123.1207,"2020-03-17",4,{"$f":"VALUE(URL_2[[#This Row],[Data]])","v":4}]
["Deaths","Saskatchewan","Canada",52.939900000000002,-106.4509,"2020-04-18",4,{"$f":"VALUE(URL_2[[#This Row],[Data]])","v":4}]
["Deaths","Hong Kong","China",22.3,114.2,"2020-04-13",4,{"$f":"VALUE(URL_2[[#This Row],[Data]])","v":4}]
["Deaths","Hunan","China",27.610399999999998,111.7088,"2020-02-20",4,{"$f":"VALUE(URL_2[[#This Row],[Data]])","v":4}]
["Deaths","Hunan","China",27.610399999999998,111.7088,"2020-03-17",4,{"$f":"VALUE(URL_2[[#This Row],[Data]])","v":4}]
["Deaths","Mayotte","France",-12.827500000000001,45.166200000000003,"2020-04-17",4,{"$f":"VALUE(URL_2[[#This Row],[Data]])","v":4}]
["Deaths","Martinique","France",14.641500000000001,-61.0242,"2020-04-05",4,{"$f":"VALUE(URL_2[[#This Row],[Data]])","v":4}]
["Deaths","","Liberia",6.4280999999999997,-9.4295000000000009,"2020-04-08",4,{"$f":"VALUE(URL_2[[#This Row],[Data]])","v":4}]
["Deaths","","Malta",35.9375,14.375400000000001,"2020-04-30",4,{"$f":"VALUE(URL_2[[#This Row],[Data]])","v":4}]
["Deaths","Bermuda","United Kingdom",32.3078,-64.750500000000002,"2020-04-10",4,{"$f":"VALUE(URL_2[[#This Row],[Data]])","v":4}]
["Deaths","","Burma",21.9162,95.956000000000003,"2020-04-16",4,{"$f":"VALUE(URL_2[[#This Row],[Data]])","v":4}]
["Recovered","New South Wales","Australia",-33.8688,151.20930000000001,"2020-03-26",4,{"$f":"VALUE(URL_2[[#This Row],[Data]])","v":4}]
["Recovered","Victoria","Australia",-37.813600000000001,144.9631,"2020-02-24",4,{"$f":"VALUE(URL_2[[#This Row],[Data]])","v":4}]
["Recovered","Guangdong","China",23.341699999999999,113.42440000000001,"2020-01-27",4,{"$f":"VALUE(URL_2[[#This Row],[Data]])","v":4}]
["Recovered","Saint Barthelemy","France",17.899999999999999,-62.833300000000001,"2020-04-13",4,{"$f":"VALUE(URL_2[[#This Row],[Data]])","v":4}]
["Recovered","","Kenya",-2.3599999999999999E-2,37.906199999999998,"2020-04-02",4,{"$f":"VALUE(URL_2[[#This Row],[Data]])","v":4}]
["Recovered","","Monaco",43.7333,7.4166999999999996,"2020-04-07",4,{"$f":"VALUE(URL_2[[#This Row],[Data]])","v":4}]
["Recovered","","Somalia",5.1520999999999999,46.199599999999997,"2020-04-22",4,{"$f":"VALUE(URL_2[[#This Row],[Data]])","v":4}]
["Recovered","","Laos",19.856269999999999,102.495496,"2020-04-23",4,{"$f":"VALUE(URL_2[[#This Row],[Data]])","v":4}]
["Recovered","","Burundi",-3.3731,29.918900000000001,"2020-04-25",4,{"$f":"VALUE(URL_2[[#This Row],[Data]])","v":4}]
["Confirmed","Queensland","Australia",-28.0167,153.4,"2020-02-19",5,{"$f":"VALUE(URL_2[[#This Row],[Data]])","v":5}]
["Confirmed","","Dominican Republic",18.735700000000001,-70.162700000000001,"2020-03-10",5,{"$f":"VALUE(URL_2[[#This Row],[Data]])","v":5}]
["Confirmed","","Fiji",-17.7134,178.065,"2020-03-30",5,{"$f":"VALUE(URL_2[[#This Row],[Data]])","v":5}]
["Confirmed","","Mexico",23.634499999999999,-102.5528,"2020-03-02",5,{"$f":"VALUE(URL_2[[#This Row],[Data]])","v":5}]
["Confirmed","","United Arab Emirates",24,54,"2020-02-05",5,{"$f":"VALUE(URL_2[[#This Row],[Data]])","v":5}]
["Confirmed","Northwest Territories","Canada",64.825500000000005,-124.84569999999999,"2020-05-01",5,{"$f":"VALUE(URL_2[[#This Row],[Data]])","v":5}]
["Confirmed","","Burundi",-3.3731,29.918900000000001,"2020-04-11",5,{"$f":"VALUE(URL_2[[#This Row],[Data]])","v":5}]
["Deaths","","Bahrain",26.0275,50.55,"2020-04-09",5,{"$f":"VALUE(URL_2[[#This Row],[Data]])","v":5}]
["Deaths","Chongqing","China",30.057200000000002,107.874,"2020-02-14",5,{"$f":"VALUE(URL_2[[#This Row],[Data]])","v":5}]
["Deaths","Hainan","China",19.195900000000002,109.7453,"2020-03-04",5,{"$f":"VALUE(URL_2[[#This Row],[Data]])","v":5}]
["Deaths","","Indonesia",-0.7893,113.9213,"2020-03-17",5,{"$f":"VALUE(URL_2[[#This Row],[Data]])","v":5}]
["Deaths","","Latvia",56.879600000000003,24.603200000000001,"2020-04-16",5,{"$f":"VALUE(URL_2[[#This Row],[Data]])","v":5}]
["Deaths","","Montenegro",42.5,19.3,"2020-04-21",5,{"$f":"VALUE(URL_2[[#This Row],[Data]])","v":5}]
["Deaths","","Taiwan*",23.7,121,"2020-04-05",5,{"$f":"VALUE(URL_2[[#This Row],[Data]])","v":5}]
["Deaths","","Burma",21.9162,95.956000000000003,"2020-04-26",5,{"$f":"VALUE(URL_2[[#This Row],[Data]])","v":5}]
["Recovered","Tasmania","Australia",-41.454500000000003,145.97069999999999,"2020-04-04",5,{"$f":"VALUE(URL_2[[#This Row],[Data]])","v":5}]
["Recovered","","Congo (Brazzaville)",-4.0382999999999996,21.758700000000001,"2020-04-13",5,{"$f":"VALUE(URL_2[[#This Row],[Data]])","v":5}]
["Recovered","","Guinea",9.9456000000000007,-9.6966000000000001,"2020-04-06",5,{"$f":"VALUE(URL_2[[#This Row],[Data]])","v":5}]
["Recovered","","Kyrgyzstan",41.2044,74.766099999999994,"2020-04-02",5,{"$f":"VALUE(URL_2[[#This Row],[Data]])","v":5}]
["Recovered","","Saint Vincent and the Grenadines",12.984299999999999,-61.287199999999999,"2020-04-25",5,{"$f":"VALUE(URL_2[[#This Row],[Data]])","v":5}]
["Recovered","","United Arab Emirates",24,54,"2020-03-03",5,{"$f":"VALUE(URL_2[[#This Row],[Data]])","v":5}]
["Confirmed","","Belarus",53.709800000000001,27.953399999999998,"2020-03-05",6,{"$f":"VALUE(URL_2[[#This Row],[Data]])","v":6}]
["Confirmed","","Cabo Verde",16.538799999999998,-23.041799999999999,"2020-03-29",6,{"$f":"VALUE(URL_2[[#This Row],[Data]])","v":6}]
["Confirmed","Saint Barthelemy","France",17.899999999999999,-62.833300000000001,"2020-04-05",6,{"$f":"VALUE(URL_2[[#This Row],[Data]])","v":6}]
["Confirmed","","France",46.227600000000002,2.2136999999999998,"2020-02-07",6,{"$f":"VALUE(URL_2[[#This Row],[Data]])","v":6}]
["Confirmed","","Nicaragua",12.865399999999999,-85.2072,"2020-04-05",6,{"$f":"VALUE(URL_2[[#This Row],[Data]])","v":6}]
["Confirmed","Channel Islands","United Kingdom",49.372300000000003,-2.3643999999999998,"2020-03-18",6,{"$f":"VALUE(URL_2[[#This Row],[Data]])","v":6}]
["Confirmed","Bonaire, Sint Eustatius and Saba","Netherlands",12.1784,-68.238500000000002,"2020-05-02",6,{"$f":"VALUE(URL_2[[#This Row],[Data]])","v":6}]
["Deaths","Queensland","Australia",-28.0167,153.4,"2020-05-01",6,{"$f":"VALUE(URL_2[[#This Row],[Data]])","v":6}]
["Deaths","Manitoba","Canada",53.760899999999999,-98.813900000000004,"2020-04-22",6,{"$f":"VALUE(URL_2[[#This Row],[Data]])","v":6}]
["Deaths","Anhui","China",31.825700000000001,117.2264,"2020-03-03",6,{"$f":"VALUE(URL_2[[#This Row],[Data]])","v":6}]
["Deaths","Anhui","China",31.825700000000001,117.2264,"2020-03-19",6,{"$f":"VALUE(URL_2[[#This Row],[Data]])","v":6}]
["Deaths","Chongqing","China",30.057200000000002,107.874,"2020-03-19",6,{"$f":"VALUE(URL_2[[#This Row],[Data]])","v":6}]
["Deaths","Chongqing","China",30.057200000000002,107.874,"2020-04-02",6,{"$f":"VALUE(URL_2[[#This Row],[Data]])","v":6}]
["Deaths","Hainan","China",19.195900000000002,109.7453,"2020-03-05",6,{"$f":"VALUE(URL_2[[#This Row],[Data]])","v":6}]
["Deaths","Hainan","China",19.195900000000002,109.7453,"2020-04-07",6,{"$f":"VALUE(URL_2[[#This Row],[Data]])","v":6}]
["Deaths","Hebei","China",39.548999999999999,116.1306,"2020-03-16",6,{"$f":"VALUE(URL_2[[#This Row],[Data]])","v":6}]
["Deaths","Hebei","China",39.548999999999999,116.1306,"2020-04-23",6,{"$f":"VALUE(URL_2[[#This Row],[Data]])","v":6}]
["Deaths","","Costa Rica",9.7489000000000008,-83.753399999999999,"2020-04-22",6,{"$f":"VALUE(URL_2[[#This Row],[Data]])","v":6}]
["Deaths","","El Salvador",13.7942,-88.896500000000003,"2020-04-15",6,{"$f":"VALUE(URL_2[[#This Row],[Data]])","v":6}]
["Deaths","","Ghana",7.9465000000000003,-1.0232000000000001,"2020-04-08",6,{"$f":"VALUE(URL_2[[#This Row],[Data]])","v":6}]
["Deaths","","Kuwait",29.5,47.75,"2020-04-18",6,{"$f":"VALUE(URL_2[[#This Row],[Data]])","v":6}]
["Deaths","","Qatar",25.354800000000001,51.183900000000001,"2020-04-09",6,{"$f":"VALUE(URL_2[[#This Row],[Data]])","v":6}]
["Deaths","","Taiwan*",23.7,121,"2020-04-11",6,{"$f":"VALUE(URL_2[[#This Row],[Data]])","v":6}]
["Recovered","South Australia","Australia",-34.9285,138.60069999999999,"2020-03-28",6,{"$f":"VALUE(URL_2[[#This Row],[Data]])","v":6}]
["Recovered","","Canada",56.130400000000002,-106.3468,"2020-03-01",6,{"$f":"VALUE(URL_2[[#This Row],[Data]])","v":6}]
["Recovered","Inner Mongolia","China",44.093499999999999,113.9448,"2020-02-13",6,{"$f":"VALUE(URL_2[[#This Row],[Data]])","v":6}]
["Recovered","","Grenada",12.1165,-61.679000000000002,"2020-04-23",6,{"$f":"VALUE(URL_2[[#This Row],[Data]])","v":6}]
["Recovered","","Saudi Arabia",24,45,"2020-03-19",6,{"$f":"VALUE(URL_2[[#This Row],[Data]])","v":6}]
["Recovered","","Suriname",3.9192999999999998,-56.027799999999999,"2020-04-16",6,{"$f":"VALUE(URL_2[[#This Row],[Data]])","v":6}]
["Recovered","","Sierra Leone",8.4605550000000012,-11.779889000000001,"2020-04-20",6,{"$f":"VALUE(URL_2[[#This Row],[Data]])","v":6}]
["Confirmed","Saskatchewan","Canada",52.939900000000002,-106.4509,"2020-03-17",7,{"$f":"VALUE(URL_2[[#This Row],[Data]])","v":7}]
["Confirmed","","Greece",39.074199999999998,21.824300000000001,"2020-03-01",7,{"$f":"VALUE(URL_2[[#This Row],[Data]])","v":7}]
["Confirmed","","Mauritania",21.007899999999999,10.940799999999999,"2020-04-14",7,{"$f":"VALUE(URL_2[[#This Row],[Data]])","v":7}]
["Confirmed","","Seychelles",-4.6795999999999998,55.491999999999997,"2020-03-23",7,{"$f":"VALUE(URL_2[[#This Row],[Data]])","v":7}]
["Confirmed","","Saint Kitts and Nevis",17.357821999999999,-62.782997999999999,"2020-03-30",7,{"$f":"VALUE(URL_2[[#This Row],[Data]])","v":7}]
["Deaths","","Azerbaijan",40.143099999999997,47.576900000000002,"2020-04-06",7,{"$f":"VALUE(URL_2[[#This Row],[Data]])","v":7}]
["Deaths","Shandong","China",36.342700000000001,118.1498,"2020-03-25",7,{"$f":"VALUE(URL_2[[#This Row],[Data]])","v":7}]
["Deaths","Shandong","China",36.342700000000001,118.1498,"2020-04-26",7,{"$f":"VALUE(URL_2[[#This Row],[Data]])","v":7}]
["Deaths","Guadeloupe","France",16.25,-61.583300000000001,"2020-04-06",7,{"$f":"VALUE(URL_2[[#This Row],[Data]])","v":7}]
["Deaths","","Jamaica",18.1096,-77.297499999999999,"2020-04-24",7,{"$f":"VALUE(URL_2[[#This Row],[Data]])","v":7}]
["Deaths","","Liberia",6.4280999999999997,-9.4295000000000009,"2020-04-17",7,{"$f":"VALUE(URL_2[[#This Row],[Data]])","v":7}]
["Deaths","","Sri Lanka",7,81,"2020-04-08",7,{"$f":"VALUE(URL_2[[#This Row],[Data]])","v":7}]
["Deaths","","US",37.090200000000003,-95.712900000000005,"2020-03-03",7,{"$f":"VALUE(URL_2[[#This Row],[Data]])","v":7}]
["Recovered","Chongqing","China",30.057200000000002,107.874,"2020-02-02",7,{"$f":"VALUE(URL_2[[#This Row],[Data]])","v":7}]
["Recovered","","Equatorial Guinea",1.5,10,"2020-04-22",7,{"$f":"VALUE(URL_2[[#This Row],[Data]])","v":7}]
["Recovered","","Korea, South",36,128,"2020-02-12",7,{"$f":"VALUE(URL_2[[#This Row],[Data]])","v":7}]
["Recovered","","Poland",51.919400000000003,19.145099999999999,"2020-03-31",7,{"$f":"VALUE(URL_2[[#This Row],[Data]])","v":7}]
["Recovered","","US",37.090200000000003,-95.712900000000005,"2020-03-01",7,{"$f":"VALUE(URL_2[[#This Row],[Data]])","v":7}]
["Confirmed","","Central African Republic",6.6111000000000004,20.939399999999999,"2020-04-06",8,{"$f":"VALUE(URL_2[[#This Row],[Data]])","v":8}]
["Confirmed","","Haiti",18.9712,-72.285200000000003,"2020-03-25",8,{"$f":"VALUE(URL_2[[#This Row],[Data]])","v":8}]
["Confirmed","","Mexico",23.634499999999999,-102.5528,"2020-03-11",8,{"$f":"VALUE(URL_2[[#This Row],[Data]])","v":8}]
["Confirmed","","Saint Vincent and the Grenadines",12.984299999999999,-61.287199999999999,"2020-04-08",8,{"$f":"VALUE(URL_2[[#This Row],[Data]])","v":8}]
["Confirmed","Turks and Caicos Islands","United Kingdom",21.69400000000001,-71.797899999999998,"2020-04-08",8,{"$f":"VALUE(URL_2[[#This Row],[Data]])","v":8}]
["Deaths","New South Wales","Australia",-33.8688,151.20930000000001,"2020-03-31",8,{"$f":"VALUE(URL_2[[#This Row],[Data]])","v":8}]
["Deaths","Beijing","China",40.182400000000001,116.41419999999999,"2020-03-09",8,{"$f":"VALUE(URL_2[[#This Row],[Data]])","v":8}]
["Deaths","Beijing","China",40.182400000000001,116.41419999999999,"2020-04-11",8,{"$f":"VALUE(URL_2[[#This Row],[Data]])","v":8}]
["Deaths","Guangdong","China",23.341699999999999,113.42440000000001,"2020-03-10",8,{"$f":"VALUE(URL_2[[#This Row],[Data]])","v":8}]
["Deaths","","El Salvador",13.7942,-88.896500000000003,"2020-04-25",8,{"$f":"VALUE(URL_2[[#This Row],[Data]])","v":8}]
["Deaths","","Guyana",5,-58.75,"2020-04-29",8,{"$f":"VALUE(URL_2[[#This Row],[Data]])","v":8}]
["Deaths","","Jordan",31.24,36.51,"2020-04-28",8,{"$f":"VALUE(URL_2[[#This Row],[Data]])","v":8}]
["Deaths","","Paraguay",-23.442499999999999,-58.443800000000003,"2020-04-20",8,{"$f":"VALUE(URL_2[[#This Row],[Data]])","v":8}]
["Deaths","","Kosovo",42.602635999999997,20.902977,"2020-04-14",8,{"$f":"VALUE(URL_2[[#This Row],[Data]])","v":8}]
["Recovered","Queensland","Australia",-28.0167,153.4,"2020-03-15",8,{"$f":"VALUE(URL_2[[#This Row],[Data]])","v":8}]
["Recovered","","Bulgaria",42.733899999999998,25.485800000000001,"2020-03-26",8,{"$f":"VALUE(URL_2[[#This Row],[Data]])","v":8}]
["Recovered","","Eswatini",-26.522500000000001,31.465900000000001,"2020-04-18",8,{"$f":"VALUE(URL_2[[#This Row],[Data]])","v":8}]
["Recovered","","Haiti",18.9712,-72.285200000000003,"2020-04-27",8,{"$f":"VALUE(URL_2[[#This Row],[Data]])","v":8}]
["Recovered","","Namibia",-22.957599999999999,18.490400000000001,"2020-04-26",8,{"$f":"VALUE(URL_2[[#This Row],[Data]])","v":8}]
["Recovered","","United Kingdom",55.378100000000003,-3.4360000000000004,"2020-02-16",8,{"$f":"VALUE(URL_2[[#This Row],[Data]])","v":8}]
["Confirmed","","Belarus",53.709800000000001,27.953399999999998,"2020-03-11",9,{"$f":"VALUE(URL_2[[#This Row],[Data]])","v":9}]
["Confirmed","","Equatorial Guinea",1.5,10,"2020-03-24",9,{"$f":"VALUE(URL_2[[#This Row],[Data]])","v":9}]
["Confirmed","","Nicaragua",12.865399999999999,-85.2072,"2020-04-16",9,{"$f":"VALUE(URL_2[[#This Row],[Data]])","v":9}]
["Confirmed","","United Kingdom",55.378100000000003,-3.4360000000000004,"2020-02-15",9,{"$f":"VALUE(URL_2[[#This Row],[Data]])","v":9}]
["Confirmed","","Belize",13.193899999999999,-59.543199999999999,"2020-04-09",9,{"$f":"VALUE(URL_2[[#This Row],[Data]])","v":9}]
["Deaths","Heilongjiang","China",47.861999999999995,127.7615,"2020-02-13",9,{"$f":"VALUE(URL_2[[#This Row],[Data]])","v":9}]
["Deaths","","Iraq",33,44,"2020-03-13",9,{"$f":"VALUE(URL_2[[#This Row],[Data]])","v":9}]
["Deaths","","Paraguay",-23.442499999999999,-58.443800000000003,"2020-04-24",9,{"$f":"VALUE(URL_2[[#This Row],[Data]])","v":9}]
["Deaths","","Paraguay",-23.442499999999999,-58.443800000000003,"2020-04-28",9,{"$f":"VALUE(URL_2[[#This Row],[Data]])","v":9}]
["Recovered","","Canada",56.130400000000002,-106.3468,"2020-03-18",9,{"$f":"VALUE(URL_2[[#This Row],[Data]])","v":9}]
["Recovered","","Congo (Kinshasa)",-4.0382999999999996,21.758700000000001,"2020-04-07",9,{"$f":"VALUE(URL_2[[#This Row],[Data]])","v":9}]
["Recovered","","Japan",36,138,"2020-02-14",9,{"$f":"VALUE(URL_2[[#This Row],[Data]])","v":9}]
["Confirmed","","Bahamas",25.034300000000002,-77.396299999999997,"2020-03-27",10,{"$f":"VALUE(URL_2[[#This Row],[Data]])","v":10}]
["Confirmed","Macau","China",22.166699999999999,113.55,"2020-02-22",10,{"$f":"VALUE(URL_2[[#This Row],[Data]])","v":10}]
["Confirmed","","Gambia",13.443199999999999,-15.3101,"2020-04-25",10,{"$f":"VALUE(URL_2[[#This Row],[Data]])","v":10}]
["Confirmed","","Senegal",14.497400000000001,-14.452400000000001,"2020-03-14",10,{"$f":"VALUE(URL_2[[#This Row],[Data]])","v":10}]
["Confirmed","","Suriname",3.9192999999999998,-56.027799999999999,"2020-04-22",10,{"$f":"VALUE(URL_2[[#This Row],[Data]])","v":10}]
["Confirmed","","Syria",34.802075000000002,38.996815000000012,"2020-04-01",10,{"$f":"VALUE(URL_2[[#This Row],[Data]])","v":10}]
["Deaths","","Bulgaria",42.733899999999998,25.485800000000001,"2020-04-01",10,{"$f":"VALUE(URL_2[[#This Row],[Data]])","v":10}]
["Deaths","","Lebanon",33.854700000000001,35.862299999999998,"2020-03-29",10,{"$f":"VALUE(URL_2[[#This Row],[Data]])","v":10}]
["Deaths","","Thailand",15,101,"2020-03-31",10,{"$f":"VALUE(URL_2[[#This Row],[Data]])","v":10}]
["Recovered","","Azerbaijan",40.143099999999997,47.576900000000002,"2020-03-25",10,{"$f":"VALUE(URL_2[[#This Row],[Data]])","v":10}]
["Recovered","","Central African Republic",6.6111000000000004,20.939399999999999,"2020-04-23",10,{"$f":"VALUE(URL_2[[#This Row],[Data]])","v":10}]
["Recovered","Macau","China",22.166699999999999,113.55,"2020-03-24",10,{"$f":"VALUE(URL_2[[#This Row],[Data]])","v":10}]
["Recovered","Mayotte","France",-12.827500000000001,45.166200000000003,"2020-04-02",10,{"$f":"VALUE(URL_2[[#This Row],[Data]])","v":10}]
["Recovered","","Mongolia",46.862499999999997,103.8467,"2020-04-30",10,{"$f":"VALUE(URL_2[[#This Row],[Data]])","v":10}]
["Recovered","","Sierra Leone",8.4605550000000012,-11.779889000000001,"2020-04-25",10,{"$f":"VALUE(URL_2[[#This Row],[Data]])","v":10}]
["Confirmed","New Brunswick","Canada",46.565300000000001,-66.4619,"2020-03-20",11,{"$f":"VALUE(URL_2[[#This Row],[Data]])","v":11}]
["Confirmed","French Guiana","France",3.9339,-53.125799999999998,"2020-03-18",11,{"$f":"VALUE(URL_2[[#This Row],[Data]])","v":11}]
["Confirmed","","Mongolia",46.862499999999997,103.8467,"2020-03-27",11,{"$f":"VALUE(URL_2[[#This Row],[Data]])","v":11}]
["Confirmed","","Seychelles",-4.6795999999999998,55.491999999999997,"2020-04-23",11,{"$f":"VALUE(URL_2[[#This Row],[Data]])","v":11}]
["Confirmed","","Saint Kitts and Nevis",17.357821999999999,-62.782997999999999,"2020-04-09",11,{"$f":"VALUE(URL_2[[#This Row],[Data]])","v":11}]
["Confirmed","","Burundi",-3.3731,29.918900000000001,"2020-04-30",11,{"$f":"VALUE(URL_2[[#This Row],[Data]])","v":11}]
["Deaths","","Diamond Princess",0,0,"2020-04-03",11,{"$f":"VALUE(URL_2[[#This Row],[Data]])","v":11}]
["Deaths","","North Macedonia",41.608600000000003,21.7453,"2020-04-01",11,{"$f":"VALUE(URL_2[[#This Row],[Data]])","v":11}]
["Recovered","","Antigua and Barbuda",17.0608,-61.796399999999998,"2020-04-30",11,{"$f":"VALUE(URL_2[[#This Row],[Data]])","v":11}]
["Recovered","","Eritrea",15.179399999999999,39.782299999999999,"2020-04-24",11,{"$f":"VALUE(URL_2[[#This Row],[Data]])","v":11}]
["Recovered","","Nepal",28.166699999999999,84.25,"2020-04-24",11,{"$f":"VALUE(URL_2[[#This Row],[Data]])","v":11}]
["Recovered","","Syria",34.802100000000003,38.9968,"2020-04-25",11,{"$f":"VALUE(URL_2[[#This Row],[Data]])","v":11}]
["Confirmed","","Central African Republic",6.6111000000000004,20.939399999999999,"2020-04-17",12,{"$f":"VALUE(URL_2[[#This Row],[Data]])","v":12}]
["Confirmed","","Oman",21,57,"2020-03-03",12,{"$f":"VALUE(URL_2[[#This Row],[Data]])","v":12}]
["Confirmed","","Saint Kitts and Nevis",17.357821999999999,-62.782997999999999,"2020-04-12",12,{"$f":"VALUE(URL_2[[#This Row],[Data]])","v":12}]
["Confirmed","Turks and Caicos Islands","United Kingdom",21.69400000000001,-71.797899999999998,"2020-05-01",12,{"$f":"VALUE(URL_2[[#This Row],[Data]])","v":12}]
["Deaths","","Liberia",6.4280999999999997,-9.4295000000000009,"2020-04-26",12,{"$f":"VALUE(URL_2[[#This Row],[Data]])","v":12}]
["Deaths","","Singapore",1.2833000000000001,103.83329999999999,"2020-04-25",12,{"$f":"VALUE(URL_2[[#This Row],[Data]])","v":12}]
["Recovered","","Bahamas",25.034300000000002,-77.396299999999997,"2020-04-21",12,{"$f":"VALUE(URL_2[[#This Row],[Data]])","v":12}]
["Recovered","","Guyana",5,-58.75,"2020-04-24",12,{"$f":"VALUE(URL_2[[#This Row],[Data]])","v":12}]
["Recovered","","Oman",21,57,"2020-03-19",12,{"$f":"VALUE(URL_2[[#This Row],[Data]])","v":12}]
["Confirmed","Grand Princess","Canada",37.648899999999998,-122.66549999999999,"2020-03-31",13,{"$f":"VALUE(URL_2[[#This Row],[Data]])","v":13}]
["Confirmed","Shanxi","China",37.5777,112.29219999999999,"2020-01-27",13,{"$f":"VALUE(URL_2[[#This Row],[Data]])","v":13}]
["Confirmed","Curacao","Netherlands",12.169600000000001,-68.989999999999995,"2020-04-07",13,{"$f":"VALUE(URL_2[[#This Row],[Data]])","v":13}]
["Confirmed","","US",37.090200000000003,-95.712900000000005,"2020-02-16",13,{"$f":"VALUE(URL_2[[#This Row],[Data]])","v":13}]
["Confirmed","Falkland Islands (Malvinas)","United Kingdom",-51.796300000000002,-59.523600000000002,"2020-05-02",13,{"$f":"VALUE(URL_2[[#This Row],[Data]])","v":13}]
["Deaths","Heilongjiang","China",47.861999999999995,127.7615,"2020-04-07",13,{"$f":"VALUE(URL_2[[#This Row],[Data]])","v":13}]
["Deaths","Heilongjiang","China",47.861999999999995,127.7615,"2020-04-23",13,{"$f":"VALUE(URL_2[[#This Row],[Data]])","v":13}]
["Recovered","","Cambodia",11.55,104.91670000000001,"2020-03-28",13,{"$f":"VALUE(URL_2[[#This Row],[Data]])","v":13}]
["Recovered","Qinghai","China",35.745199999999997,95.995599999999996,"2020-02-16",13,{"$f":"VALUE(URL_2[[#This Row],[Data]])","v":13}]
["Recovered","","Maldives",3.2027999999999999,73.220699999999994,"2020-04-04",13,{"$f":"VALUE(URL_2[[#This Row],[Data]])","v":13}]
["Recovered","","Ukraine",48.379399999999997,31.165600000000001,"2020-04-01",13,{"$f":"VALUE(URL_2[[#This Row],[Data]])","v":13}]
["Confirmed","Curacao","Netherlands",12.169600000000001,-68.989999999999995,"2020-04-09",14,{"$f":"VALUE(URL_2[[#This Row],[Data]])","v":14}]
["Confirmed","Channel Islands","United Kingdom",49.372300000000003,-2.3643999999999998,"2020-03-20",14,{"$f":"VALUE(URL_2[[#This Row],[Data]])","v":14}]
["Confirmed","","Saint Kitts and Nevis",17.357821999999999,-62.782997999999999,"2020-04-16",14,{"$f":"VALUE(URL_2[[#This Row],[Data]])","v":14}]
["Deaths","","Honduras",15.2,-86.241900000000001,"2020-04-02",14,{"$f":"VALUE(URL_2[[#This Row],[Data]])","v":14}]
["Deaths","","Singapore",1.2833000000000001,103.83329999999999,"2020-04-27",14,{"$f":"VALUE(URL_2[[#This Row],[Data]])","v":14}]
["Recovered","","Germany",51,9,"2020-02-21",14,{"$f":"VALUE(URL_2[[#This Row],[Data]])","v":14}]
["Confirmed","Sichuan","China",30.617100000000001,102.7103,"2020-01-24",15,{"$f":"VALUE(URL_2[[#This Row],[Data]])","v":15}]
["Confirmed","","Jamaica",18.1096,-77.297499999999999,"2020-03-19",15,{"$f":"VALUE(URL_2[[#This Row],[Data]])","v":15}]
["Confirmed","Gibraltar","United Kingdom",36.140799999999999,-5.3536000000000001,"2020-03-23",15,{"$f":"VALUE(URL_2[[#This Row],[Data]])","v":15}]
["Deaths","","Azerbaijan",40.143099999999997,47.576900000000002,"2020-04-17",15,{"$f":"VALUE(URL_2[[#This Row],[Data]])","v":15}]
["Deaths","","Singapore",1.2833000000000001,103.83329999999999,"2020-04-30",15,{"$f":"VALUE(URL_2[[#This Row],[Data]])","v":15}]
["Recovered","","Azerbaijan",40.143099999999997,47.576900000000002,"2020-03-26",15,{"$f":"VALUE(URL_2[[#This Row],[Data]])","v":15}]
["Recovered","","Paraguay",-23.442499999999999,-58.443800000000003,"2020-04-07",15,{"$f":"VALUE(URL_2[[#This Row],[Data]])","v":15}]
["Confirmed","","Central African Republic",6.6111000000000004,20.939399999999999,"2020-04-23",16,{"$f":"VALUE(URL_2[[#This Row],[Data]])","v":16}]
["Confirmed","","Ethiopia",9.1449999999999996,40.489699999999999,"2020-03-27",16,{"$f":"VALUE(URL_2[[#This Row],[Data]])","v":16}]
["Confirmed","","Namibia",-22.957599999999999,18.490400000000001,"2020-05-02",16,{"$f":"VALUE(URL_2[[#This Row],[Data]])","v":16}]
["Confirmed","","Nepal",28.166699999999999,84.25,"2020-04-15",16,{"$f":"VALUE(URL_2[[#This Row],[Data]])","v":16}]
["Confirmed","","Vietnam",16,108,"2020-02-25",16,{"$f":"VALUE(URL_2[[#This Row],[Data]])","v":16}]
["Confirmed","","Dominica",15.414999999999999,-61.371000000000002,"2020-05-01",16,{"$f":"VALUE(URL_2[[#This Row],[Data]])","v":16}]
["Deaths","","Serbia",44.016500000000001,21.0059,"2020-03-31",16,{"$f":"VALUE(URL_2[[#This Row],[Data]])","v":16}]
["Recovered","Qinghai","China",35.745199999999997,95.995599999999996,"2020-02-19",16,{"$f":"VALUE(URL_2[[#This Row],[Data]])","v":16}]
["Recovered","","Malta",35.9375,14.375400000000001,"2020-04-11",16,{"$f":"VALUE(URL_2[[#This Row],[Data]])","v":16}]
["Recovered","","Sweden",63,16,"2020-03-31",16,{"$f":"VALUE(URL_2[[#This Row],[Data]])","v":16}]
["Confirmed","Quebec","Canada",52.939900000000002,-73.549099999999996,"2020-03-13",17,{"$f":"VALUE(URL_2[[#This Row],[Data]])","v":17}]
["Confirmed","","Sudan",12.8628,30.217600000000001,"2020-04-10",17,{"$f":"VALUE(URL_2[[#This Row],[Data]])","v":17}]
["Deaths","","Ghana",7.9465000000000003,-1.0232000000000001,"2020-04-30",17,{"$f":"VALUE(URL_2[[#This Row],[Data]])","v":17}]
["Deaths","","Mali",17.570692000000001,-3.996166000000001,"2020-04-22",17,{"$f":"VALUE(URL_2[[#This Row],[Data]])","v":17}]
["Recovered","Guadeloupe","France",16.25,-61.583300000000001,"2020-03-28",17,{"$f":"VALUE(URL_2[[#This Row],[Data]])","v":17}]
["Recovered","","Vietnam",16,108,"2020-03-25",17,{"$f":"VALUE(URL_2[[#This Row],[Data]])","v":17}]
["Confirmed","","Bosnia and Herzegovina",43.915900000000001,17.679099999999998,"2020-03-14",18,{"$f":"VALUE(URL_2[[#This Row],[Data]])","v":18}]
["Confirmed","Qinghai","China",35.745199999999997,95.995599999999996,"2020-02-26",18,{"$f":"VALUE(URL_2[[#This Row],[Data]])","v":18}]
["Confirmed","Qinghai","China",35.745199999999997,95.995599999999996,"2020-04-15",18,{"$f":"VALUE(URL_2[[#This Row],[Data]])","v":18}]
["Confirmed","","Fiji",-17.7134,178.065,"2020-04-30",18,{"$f":"VALUE(URL_2[[#This Row],[Data]])","v":18}]
["Confirmed","New Caledonia","France",-20.904299999999999,165.61799999999999,"2020-04-28",18,{"$f":"VALUE(URL_2[[#This Row],[Data]])","v":18}]
["Confirmed","","Tunisia",34,9,"2020-03-15",18,{"$f":"VALUE(URL_2[[#This Row],[Data]])","v":18}]
["Deaths","","Azerbaijan",40.143099999999997,47.576900000000002,"2020-04-18",18,{"$f":"VALUE(URL_2[[#This Row],[Data]])","v":18}]
["Deaths","","South Africa",-30.5595,22.9375,"2020-04-09",18,{"$f":"VALUE(URL_2[[#This Row],[Data]])","v":18}]
["Recovered","Qinghai","China",35.745199999999997,95.995599999999996,"2020-03-22",18,{"$f":"VALUE(URL_2[[#This Row],[Data]])","v":18}]
["Recovered","Qinghai","China",35.745199999999997,95.995599999999996,"2020-04-15",18,{"$f":"VALUE(URL_2[[#This Row],[Data]])","v":18}]
["Recovered","","Libya",26.335100000000001,17.228331000000001,"2020-04-27",18,{"$f":"VALUE(URL_2[[#This Row],[Data]])","v":18}]
["Confirmed","","Argentina",-38.4161,-63.616700000000002,"2020-03-12",19,{"$f":"VALUE(URL_2[[#This Row],[Data]])","v":19}]
["Confirmed","","Luxembourg",49.815300000000001,6.1295999999999999,"2020-03-12",19,{"$f":"VALUE(URL_2[[#This Row],[Data]])","v":19}]
["Confirmed","","Laos",19.856269999999999,102.495496,"2020-04-12",19,{"$f":"VALUE(URL_2[[#This Row],[Data]])","v":19}]
["Deaths","","Iran",32,53,"2020-02-26",19,{"$f":"VALUE(URL_2[[#This Row],[Data]])","v":19}]
["Recovered","Hong Kong","China",22.3,114.2,"2020-02-24",19,{"$f":"VALUE(URL_2[[#This Row],[Data]])","v":19}]
["Recovered","French Polynesia","France",-17.6797,149.4068,"2020-04-21",19,{"$f":"VALUE(URL_2[[#This Row],[Data]])","v":19}]
["Confirmed","","Russia",60,90,"2020-03-10",20,{"$f":"VALUE(URL_2[[#This Row],[Data]])","v":20}]
["Deaths","","Dominican Republic",18.735700000000001,-70.162700000000001,"2020-03-27",20,{"$f":"VALUE(URL_2[[#This Row],[Data]])","v":20}]
["Deaths","","Mexico",23.634499999999999,-102.5528,"2020-03-29",20,{"$f":"VALUE(URL_2[[#This Row],[Data]])","v":20}]
["Recovered","","Estonia",58.595300000000002,25.0136,"2020-03-29",20,{"$f":"VALUE(URL_2[[#This Row],[Data]])","v":20}]
["Confirmed","British Columbia","Canada",49.282699999999998,-123.1207,"2020-03-07",21,{"$f":"VALUE(URL_2[[#This Row],[Data]])","v":21}]
["Deaths","","Austria",47.516199999999998,14.5501,"2020-03-23",21,{"$f":"VALUE(URL_2[[#This Row],[Data]])","v":21}]
["Deaths","","San Marino",43.942399999999999,12.457800000000001,"2020-03-27",21,{"$f":"VALUE(URL_2[[#This Row],[Data]])","v":21}]
["Confirmed","","Afghanistan",33,65,"2020-03-19",22,{"$f":"VALUE(URL_2[[#This Row],[Data]])","v":22}]
["Confirmed","","Guinea",9.9456000000000007,-9.6966000000000001,"2020-03-30",22,{"$f":"VALUE(URL_2[[#This Row],[Data]])","v":22}]
["Deaths","Quebec","Canada",52.939900000000002,-73.549099999999996,"2020-03-29",22,{"$f":"VALUE(URL_2[[#This Row],[Data]])","v":22}]
["Deaths","Henan","China",33.881999999999998,113.614,"2020-03-31",22,{"$f":"VALUE(URL_2[[#This Row],[Data]])","v":22}]
["Deaths","","Lebanon",33.854700000000001,35.862299999999998,"2020-04-24",22,{"$f":"VALUE(URL_2[[#This Row],[Data]])","v":22}]
["Recovered","","Cyprus",35.126399999999997,33.429900000000004,"2020-03-30",22,{"$f":"VALUE(URL_2[[#This Row],[Data]])","v":22}]
["Recovered","","Mali",17.570692000000001,-3.996166000000001,"2020-04-11",22,{"$f":"VALUE(URL_2[[#This Row],[Data]])","v":22}]
["Confirmed","","Azerbaijan",40.143099999999997,47.576900000000002,"2020-03-15",23,{"$f":"VALUE(URL_2[[#This Row],[Data]])","v":23}]
["Confirmed","","Ghana",7.9465000000000003,-1.0232000000000001,"2020-03-22",23,{"$f":"VALUE(URL_2[[#This Row],[Data]])","v":23}]
["Deaths","","Romania",45.943199999999997,24.966799999999999,"2020-03-26",23,{"$f":"VALUE(URL_2[[#This Row],[Data]])","v":23}]
["Recovered","Beijing","China",40.182400000000001,116.41419999999999,"2020-02-04",23,{"$f":"VALUE(URL_2[[#This Row],[Data]])","v":23}]
["Recovered","","Kosovo",42.602635999999997,20.902977,"2020-04-05",23,{"$f":"VALUE(URL_2[[#This Row],[Data]])","v":23}]
["Confirmed","","Oman",21,57,"2020-03-17",24,{"$f":"VALUE(URL_2[[#This Row],[Data]])","v":24}]
["Deaths","","Cuba",22,-80,"2020-04-15",24,{"$f":"VALUE(URL_2[[#This Row],[Data]])","v":24}]
["Recovered","Northern Territory","Australia",-12.4634,130.84559999999999,"2020-05-02",24,{"$f":"VALUE(URL_2[[#This Row],[Data]])","v":24}]
["Recovered","","Gabon",-0.80369999999999997,11.609400000000001,"2020-04-23",24,{"$f":"VALUE(URL_2[[#This Row],[Data]])","v":24}]
["Confirmed","","Thailand",15,101,"2020-02-07",25,{"$f":"VALUE(URL_2[[#This Row],[Data]])","v":25}]
["Deaths","","Croatia",45.1,15.2,"2020-04-13",25,{"$f":"VALUE(URL_2[[#This Row],[Data]])","v":25}]
["Recovered","","Ethiopia",9.1449999999999996,40.489699999999999,"2020-04-24",25,{"$f":"VALUE(URL_2[[#This Row],[Data]])","v":25}]
["Recovered","","Nigeria",9.0820000000000007,8.6753,"2020-04-03",25,{"$f":"VALUE(URL_2[[#This Row],[Data]])","v":25}]
["Confirmed","Prince Edward Island","Canada",46.5107,-63.416800000000002,"2020-04-26",26,{"$f":"VALUE(URL_2[[#This Row],[Data]])","v":26}]
["Deaths","","Israel",31,35,"2020-04-01",26,{"$f":"VALUE(URL_2[[#This Row],[Data]])","v":26}]
["Recovered","","Estonia",58.595300000000002,25.0136,"2020-03-31",26,{"$f":"VALUE(URL_2[[#This Row],[Data]])","v":26}]
["Confirmed","Prince Edward Island","Canada",46.5107,-63.416800000000002,"2020-04-28",27,{"$f":"VALUE(URL_2[[#This Row],[Data]])","v":27}]
["Deaths","","Japan",36,138,"2020-03-16",27,{"$f":"VALUE(URL_2[[#This Row],[Data]])","v":27}]
["Recovered","","Egypt",26,30,"2020-03-16",27,{"$f":"VALUE(URL_2[[#This Row],[Data]])","v":27}]
["Recovered","","Kuwait",29.5,47.75,"2020-03-21",27,{"$f":"VALUE(URL_2[[#This Row],[Data]])","v":27}]
["Confirmed","French Guiana","France",3.9339,-53.125799999999998,"2020-03-29",28,{"$f":"VALUE(URL_2[[#This Row],[Data]])","v":28}]
["Deaths","","Bolivia",-16.290199999999999,-63.588700000000003,"2020-04-15",28,{"$f":"VALUE(URL_2[[#This Row],[Data]])","v":28}]
["Deaths","","Nigeria",9.0820000000000007,8.6753,"2020-04-22",28,{"$f":"VALUE(URL_2[[#This Row],[Data]])","v":28}]
["Recovered","","Thailand",15,101,"2020-03-01",28,{"$f":"VALUE(URL_2[[#This Row],[Data]])","v":28}]
["Deaths","","Andorra",42.506300000000003,1.5218,"2020-04-13",29,{"$f":"VALUE(URL_2[[#This Row],[Data]])","v":29}]
["Recovered","","Indonesia",-0.7893,113.9213,"2020-03-22",29,{"$f":"VALUE(URL_2[[#This Row],[Data]])","v":29}]
["Confirmed","French Polynesia","France",-17.6797,149.4068,"2020-03-28",30,{"$f":"VALUE(URL_2[[#This Row],[Data]])","v":30}]
["Recovered","","Armenia",40.069099999999999,45.038200000000003,"2020-03-28",30,{"$f":"VALUE(URL_2[[#This Row],[Data]])","v":30}]
["Recovered","","Korea, South",36,128,"2020-03-01",30,{"$f":"VALUE(URL_2[[#This Row],[Data]])","v":30}]
["Confirmed","","Mongolia",46.862499999999997,103.8467,"2020-04-18",31,{"$f":"VALUE(URL_2[[#This Row],[Data]])","v":31}]
["Deaths","","Estonia",58.595300000000002,25.0136,"2020-04-14",31,{"$f":"VALUE(URL_2[[#This Row],[Data]])","v":31}]
["Recovered","","Ghana",7.9465000000000003,-1.0232000000000001,"2020-04-04",31,{"$f":"VALUE(URL_2[[#This Row],[Data]])","v":31}]
["Recovered","","Guinea",9.9456000000000007,-9.6966000000000001,"2020-04-14",31,{"$f":"VALUE(URL_2[[#This Row],[Data]])","v":31}]
["Confirmed","Bermuda","United Kingdom",32.3078,-64.750500000000002,"2020-04-01",32,{"$f":"VALUE(URL_2[[#This Row],[Data]])","v":32}]
["Recovered","","Afghanistan",33,65,"2020-04-09",32,{"$f":"VALUE(URL_2[[#This Row],[Data]])","v":32}]
["Recovered","Zhejiang","China",29.183199999999999,120.0934,"2020-02-02",32,{"$f":"VALUE(URL_2[[#This Row],[Data]])","v":32}]
["Confirmed","Shanghai","China",31.202000000000002,121.4491,"2020-01-25",33,{"$f":"VALUE(URL_2[[#This Row],[Data]])","v":33}]
["Confirmed","","Singapore",1.2833000000000001,103.83329999999999,"2020-02-08",33,{"$f":"VALUE(URL_2[[#This Row],[Data]])","v":33}]
["Recovered","","Chad",15.4542,18.732199999999999,"2020-05-01",33,{"$f":"VALUE(URL_2[[#This Row],[Data]])","v":33}]
["Recovered","Ningxia","China",37.269199999999998,106.16549999999999,"2020-02-15",33,{"$f":"VALUE(URL_2[[#This Row],[Data]])","v":33}]
["Confirmed","","Luxembourg",49.815300000000001,6.1295999999999999,"2020-03-13",34,{"$f":"VALUE(URL_2[[#This Row],[Data]])","v":34}]
["Deaths","","South Africa",-30.5595,22.9375,"2020-04-15",34,{"$f":"VALUE(URL_2[[#This Row],[Data]])","v":34}]
["Recovered","","Oman",21,57,"2020-04-01",34,{"$f":"VALUE(URL_2[[#This Row],[Data]])","v":34}]
["Confirmed","Bermuda","United Kingdom",32.3078,-64.750500000000002,"2020-04-04",35,{"$f":"VALUE(URL_2[[#This Row],[Data]])","v":35}]
["Deaths","","San Marino",43.942399999999999,12.457800000000001,"2020-04-13",35,{"$f":"VALUE(URL_2[[#This Row],[Data]])","v":35}]
["Confirmed","Beijing","China",40.182400000000001,116.41419999999999,"2020-01-24",36,{"$f":"VALUE(URL_2[[#This Row],[Data]])","v":36}]
["Confirmed","","Rwanda",-1.9402999999999999,29.873899999999999,"2020-03-23",36,{"$f":"VALUE(URL_2[[#This Row],[Data]])","v":36}]
["Recovered","Hong Kong","China",22.3,114.2,"2020-03-02",36,{"$f":"VALUE(URL_2[[#This Row],[Data]])","v":36}]
["Deaths","","Lithuania",55.169400000000003,23.8813,"2020-04-20",37,{"$f":"VALUE(URL_2[[#This Row],[Data]])","v":37}]
["Recovered","","Saudi Arabia",24,45,"2020-03-28",37,{"$f":"VALUE(URL_2[[#This Row],[Data]])","v":37}]
["Confirmed","","Kenya",-2.3599999999999999E-2,37.906199999999998,"2020-03-28",38,{"$f":"VALUE(URL_2[[#This Row],[Data]])","v":38}]
["Confirmed","","Vietnam",16,108,"2020-03-11",38,{"$f":"VALUE(URL_2[[#This Row],[Data]])","v":38}]
["Confirmed","","Eritrea",15.179399999999999,39.782299999999999,"2020-04-22",39,{"$f":"VALUE(URL_2[[#This Row],[Data]])","v":39}]
["Confirmed","","Mongolia",46.862499999999997,103.8467,"2020-05-02",39,{"$f":"VALUE(URL_2[[#This Row],[Data]])","v":39}]
["Recovered","","Colombia",4.5709,-74.297300000000007,"2020-04-01",39,{"$f":"VALUE(URL_2[[#This Row],[Data]])","v":39}]
["Recovered","Aruba","Netherlands",12.518599999999999,-70.035799999999995,"2020-04-16",39,{"$f":"VALUE(URL_2[[#This Row],[Data]])","v":39}]
["Deaths","Alberta","Canada",53.933300000000003,-116.5765,"2020-04-11",40,{"$f":"VALUE(URL_2[[#This Row],[Data]])","v":40}]
["Recovered","Reunion","France",-21.135100000000001,55.247100000000003,"2020-04-07",40,{"$f":"VALUE(URL_2[[#This Row],[Data]])","v":40}]
["Confirmed","","Portugal",39.399900000000002,-8.2245000000000008,"2020-03-10",41,{"$f":"VALUE(URL_2[[#This Row],[Data]])","v":41}]
["Deaths","","San Marino",43.942399999999999,12.457800000000001,"2020-05-01",41,{"$f":"VALUE(URL_2[[#This Row],[Data]])","v":41}]
["Recovered","","Niger",17.607800000000001,8.0816999999999997,"2020-04-11",41,{"$f":"VALUE(URL_2[[#This Row],[Data]])","v":41}]
["Recovered","","Bangladesh",23.684999999999999,90.356300000000005,"2020-04-14",42,{"$f":"VALUE(URL_2[[#This Row],[Data]])","v":42}]
["Recovered","","Uzbekistan",41.377499999999998,64.585300000000004,"2020-04-10",42,{"$f":"VALUE(URL_2[[#This Row],[Data]])","v":42}]
["Confirmed","French Guiana","France",3.9339,-53.125799999999998,"2020-03-31",43,{"$f":"VALUE(URL_2[[#This Row],[Data]])","v":43}]
["Recovered","Xinjiang","China",41.112900000000003,85.240099999999998,"2020-02-27",43,{"$f":"VALUE(URL_2[[#This Row],[Data]])","v":43}]
["Confirmed","Heilongjiang","China",47.861999999999995,127.7615,"2020-01-30",44,{"$f":"VALUE(URL_2[[#This Row],[Data]])","v":44}]
["Confirmed","","Ethiopia",9.1449999999999996,40.489699999999999,"2020-04-06",44,{"$f":"VALUE(URL_2[[#This Row],[Data]])","v":44}]
["Recovered","","West Bank and Gaza",31.952200000000001,35.233199999999997,"2020-04-09",44,{"$f":"VALUE(URL_2[[#This Row],[Data]])","v":44}]
["Confirmed","","Congo (Brazzaville)",-4.0382999999999996,21.758700000000001,"2020-04-07",45,{"$f":"VALUE(URL_2[[#This Row],[Data]])","v":45}]
["Confirmed","","Taiwan*",23.7,121,"2020-03-06",45,{"$f":"VALUE(URL_2[[#This Row],[Data]])","v":45}]
["Deaths","","Ukraine",48.379399999999997,31.165600000000001,"2020-04-07",45,{"$f":"VALUE(URL_2[[#This Row],[Data]])","v":45}]
["Confirmed","","Guinea-Bissau",11.803699999999999,-15.180400000000001,"2020-04-18",46,{"$f":"VALUE(URL_2[[#This Row],[Data]])","v":46}]
["Confirmed","","Bahamas",25.034300000000002,-77.396299999999997,"2020-04-13",47,{"$f":"VALUE(URL_2[[#This Row],[Data]])","v":47}]
["Confirmed","","Jamaica",18.1096,-77.297499999999999,"2020-04-02",47,{"$f":"VALUE(URL_2[[#This Row],[Data]])","v":47}]
["Confirmed","","Oman",21,57,"2020-03-20",48,{"$f":"VALUE(URL_2[[#This Row],[Data]])","v":48}]
["Recovered","Tasmania","Australia",-41.454500000000003,145.97069999999999,"2020-04-12",48,{"$f":"VALUE(URL_2[[#This Row],[Data]])","v":48}]
["Recovered","Bermuda","United Kingdom",32.3078,-64.750500000000002,"2020-05-01",48,{"$f":"VALUE(URL_2[[#This Row],[Data]])","v":48}]
["Recovered","","Guatemala",15.7835,-90.230800000000002,"2020-04-26",49,{"$f":"VALUE(URL_2[[#This Row],[Data]])","v":49}]
["Confirmed","","Kenya",-2.3599999999999999E-2,37.906199999999998,"2020-03-30",50,{"$f":"VALUE(URL_2[[#This Row],[Data]])","v":50}]
["Recovered","French Polynesia","France",-17.6797,149.4068,"2020-04-30",50,{"$f":"VALUE(URL_2[[#This Row],[Data]])","v":50}]
["Recovered","","San Marino",43.942399999999999,12.457800000000001,"2020-04-10",50,{"$f":"VALUE(URL_2[[#This Row],[Data]])","v":50}]
["Deaths","","Cuba",22,-80,"2020-04-25",51,{"$f":"VALUE(URL_2[[#This Row],[Data]])","v":51}]
["Recovered","French Guiana","France",3.9339,-53.125799999999998,"2020-04-16",51,{"$f":"VALUE(URL_2[[#This Row],[Data]])","v":51}]
["Recovered","Xinjiang","China",41.112900000000003,85.240099999999998,"2020-02-28",52,{"$f":"VALUE(URL_2[[#This Row],[Data]])","v":52}]
["Recovered","","Venezuela",6.4238,-66.589699999999993,"2020-04-05",52,{"$f":"VALUE(URL_2[[#This Row],[Data]])","v":52}]
["Confirmed","","Kazakhstan",48.019599999999997,66.923699999999997,"2020-03-21",53,{"$f":"VALUE(URL_2[[#This Row],[Data]])","v":53}]
["Recovered","","Belarus",53.709800000000001,27.953399999999998,"2020-04-01",53,{"$f":"VALUE(URL_2[[#This Row],[Data]])","v":53}]
["Deaths","","Cuba",22,-80,"2020-04-26",54,{"$f":"VALUE(URL_2[[#This Row],[Data]])","v":54}]
["Recovered","Faroe Islands","Denmark",61.892600000000002,-6.9118000000000004,"2020-03-27",54,{"$f":"VALUE(URL_2[[#This Row],[Data]])","v":54}]
["Confirmed","","Guyana",5,-58.75,"2020-04-15",55,{"$f":"VALUE(URL_2[[#This Row],[Data]])","v":55}]
["Recovered","","Liechtenstein",47.14,9.5500000000000007,"2020-05-02",55,{"$f":"VALUE(URL_2[[#This Row],[Data]])","v":55}]
["Confirmed","","Uganda",1,32,"2020-04-20",56,{"$f":"VALUE(URL_2[[#This Row],[Data]])","v":56}]
["Confirmed","Martinique","France",14.641500000000001,-61.0242,"2020-03-24",57,{"$f":"VALUE(URL_2[[#This Row],[Data]])","v":57}]
["Recovered","Guizhou","China",26.8154,106.87479999999999,"2020-02-17",57,{"$f":"VALUE(URL_2[[#This Row],[Data]])","v":57}]
["Confirmed","","Jamaica",18.1096,-77.297499999999999,"2020-04-06",58,{"$f":"VALUE(URL_2[[#This Row],[Data]])","v":58}]
["Recovered","","Kosovo",42.602635999999997,20.902977,"2020-04-12",58,{"$f":"VALUE(URL_2[[#This Row],[Data]])","v":58}]
["Deaths","","Bolivia",-16.290199999999999,-63.588700000000003,"2020-04-29",59,{"$f":"VALUE(URL_2[[#This Row],[Data]])","v":59}]
["Recovered","","Indonesia",-0.7893,113.9213,"2020-03-28",59,{"$f":"VALUE(URL_2[[#This Row],[Data]])","v":59}]
["Recovered","","Lebanon",33.854700000000001,35.862299999999998,"2020-04-06",60,{"$f":"VALUE(URL_2[[#This Row],[Data]])","v":60}]
["Recovered","","Rwanda",-1.9402999999999999,29.873899999999999,"2020-04-16",60,{"$f":"VALUE(URL_2[[#This Row],[Data]])","v":60}]
["Deaths","","Honduras",15.2,-86.241900000000001,"2020-04-27",61,{"$f":"VALUE(URL_2[[#This Row],[Data]])","v":61}]
["Confirmed","Gansu","China",37.809899999999999,101.0583,"2020-02-05",62,{"$f":"VALUE(URL_2[[#This Row],[Data]])","v":62}]
["Deaths","","Argentina",-38.4161,-63.616700000000002,"2020-04-08",63,{"$f":"VALUE(URL_2[[#This Row],[Data]])","v":63}]
["Recovered","","El Salvador",13.7942,-88.896500000000003,"2020-04-22",63,{"$f":"VALUE(URL_2[[#This Row],[Data]])","v":63}]
["Confirmed","","Paraguay",-23.442499999999999,-58.443800000000003,"2020-03-30",64,{"$f":"VALUE(URL_2[[#This Row],[Data]])","v":64}]
["Deaths","","Bosnia and Herzegovina",43.915900000000001,17.679099999999998,"2020-04-29",65,{"$f":"VALUE(URL_2[[#This Row],[Data]])","v":65}]
["Recovered","","Brunei",4.5353000000000003,114.7277,"2020-04-03",65,{"$f":"VALUE(URL_2[[#This Row],[Data]])","v":65}]
["Confirmed","Cayman Islands","United Kingdom",19.313300000000002,-81.254599999999996,"2020-04-21",66,{"$f":"VALUE(URL_2[[#This Row],[Data]])","v":66}]
["Confirmed","Sint Maarten","Netherlands",18.0425,-63.0548,"2020-04-20",67,{"$f":"VALUE(URL_2[[#This Row],[Data]])","v":67}]
["Recovered","Guadeloupe","France",16.25,-61.583300000000001,"2020-04-15",67,{"$f":"VALUE(URL_2[[#This Row],[Data]])","v":67}]
["Confirmed","Beijing","China",40.182400000000001,116.41419999999999,"2020-01-26",68,{"$f":"VALUE(URL_2[[#This Row],[Data]])","v":68}]
["Deaths","","Iraq",33,44,"2020-04-08",69,{"$f":"VALUE(URL_2[[#This Row],[Data]])","v":69}]
["Confirmed","","Bangladesh",23.684999999999999,90.356300000000005,"2020-04-04",70,{"$f":"VALUE(URL_2[[#This Row],[Data]])","v":70}]
["Confirmed","","Madagascar",-18.7669,46.869100000000003,"2020-04-04",70,{"$f":"VALUE(URL_2[[#This Row],[Data]])","v":70}]
["Confirmed","Aruba","Netherlands",12.518599999999999,-70.035799999999995,"2020-04-06",71,{"$f":"VALUE(URL_2[[#This Row],[Data]])","v":71}]
["Confirmed","","Barbados",13.193899999999999,-59.543199999999999,"2020-04-14",72,{"$f":"VALUE(URL_2[[#This Row],[Data]])","v":72}]
["Confirmed","","Haiti",18.9712,-72.285200000000003,"2020-04-24",72,{"$f":"VALUE(URL_2[[#This Row],[Data]])","v":72}]
["Recovered","Ningxia","China",37.269199999999998,106.16549999999999,"2020-03-13",72,{"$f":"VALUE(URL_2[[#This Row],[Data]])","v":72}]
["Recovered","Ningxia","China",37.269199999999998,106.16549999999999,"2020-03-14",73,{"$f":"VALUE(URL_2[[#This Row],[Data]])","v":73}]
["Recovered","Xinjiang","China",41.112900000000003,85.240099999999998,"2020-03-24",73,{"$f":"VALUE(URL_2[[#This Row],[Data]])","v":73}]
["Recovered","Xinjiang","China",41.112900000000003,85.240099999999998,"2020-04-26",73,{"$f":"VALUE(URL_2[[#This Row],[Data]])","v":73}]
["Confirmed","Ningxia","China",37.269199999999998,106.16549999999999,"2020-03-03",74,{"$f":"VALUE(URL_2[[#This Row],[Data]])","v":74}]
["Recovered","Inner Mongolia","China",44.093499999999999,113.9448,"2020-03-28",74,{"$f":"VALUE(URL_2[[#This Row],[Data]])","v":74}]
["Confirmed","Inner Mongolia","China",44.093499999999999,113.9448,"2020-02-20",75,{"$f":"VALUE(URL_2[[#This Row],[Data]])","v":75}]
["Confirmed","Ningxia","China",37.269199999999998,106.16549999999999,"2020-03-25",75,{"$f":"VALUE(URL_2[[#This Row],[Data]])","v":75}]
["Confirmed","Ningxia","China",37.269199999999998,106.16549999999999,"2020-05-02",75,{"$f":"VALUE(URL_2[[#This Row],[Data]])","v":75}]
["Recovered","Ningxia","China",37.269199999999998,106.16549999999999,"2020-03-26",75,{"$f":"VALUE(URL_2[[#This Row],[Data]])","v":75}]
["Recovered","Ningxia","China",37.269199999999998,106.16549999999999,"2020-04-28",75,{"$f":"VALUE(URL_2[[#This Row],[Data]])","v":75}]
["Confirmed","Xinjiang","China",41.112900000000003,85.240099999999998,"2020-02-25",76,{"$f":"VALUE(URL_2[[#This Row],[Data]])","v":76}]
["Confirmed","Xinjiang","China",41.112900000000003,85.240099999999998,"2020-04-17",76,{"$f":"VALUE(URL_2[[#This Row],[Data]])","v":76}]
["Deaths","","Iraq",33,44,"2020-04-12",76,{"$f":"VALUE(URL_2[[#This Row],[Data]])","v":76}]
["Confirmed","","Lebanon",33.854700000000001,35.862299999999998,"2020-03-13",77,{"$f":"VALUE(URL_2[[#This Row],[Data]])","v":77}]
["Deaths","British Columbia","Canada",49.282699999999998,-123.1207,"2020-04-17",77,{"$f":"VALUE(URL_2[[#This Row],[Data]])","v":77}]
["Confirmed","","Brunei",4.5353000000000003,114.7277,"2020-03-20",78,{"$f":"VALUE(URL_2[[#This Row],[Data]])","v":78}]
["Confirmed","","Equatorial Guinea",1.5,10,"2020-04-17",79,{"$f":"VALUE(URL_2[[#This Row],[Data]])","v":79}]
["Deaths","","Saudi Arabia",24,45,"2020-04-15",79,{"$f":"VALUE(URL_2[[#This Row],[Data]])","v":79}]
["Deaths","","Slovenia",46.151200000000003,14.9955,"2020-04-24",80,{"$f":"VALUE(URL_2[[#This Row],[Data]])","v":80}]
["Confirmed","Guizhou","China",26.8154,106.87479999999999,"2020-02-07",81,{"$f":"VALUE(URL_2[[#This Row],[Data]])","v":81}]
["Deaths","","Slovenia",46.151200000000003,14.9955,"2020-04-25",81,{"$f":"VALUE(URL_2[[#This Row],[Data]])","v":81}]
["Deaths","","Iraq",33,44,"2020-04-18",82,{"$f":"VALUE(URL_2[[#This Row],[Data]])","v":82}]
["Recovered","Guadeloupe","France",16.25,-61.583300000000001,"2020-04-25",82,{"$f":"VALUE(URL_2[[#This Row],[Data]])","v":82}]
["Recovered","Martinique","France",14.641500000000001,-61.0242,"2020-04-28",83,{"$f":"VALUE(URL_2[[#This Row],[Data]])","v":83}]
["Recovered","Gibraltar","United Kingdom",36.140799999999999,-5.3536000000000001,"2020-04-13",84,{"$f":"VALUE(URL_2[[#This Row],[Data]])","v":84}]
["Recovered","","Brunei",4.5353000000000003,114.7277,"2020-04-07",85,{"$f":"VALUE(URL_2[[#This Row],[Data]])","v":85}]
["Confirmed","French Guiana","France",3.9339,-53.125799999999998,"2020-04-16",86,{"$f":"VALUE(URL_2[[#This Row],[Data]])","v":86}]
["Recovered","French Guiana","France",3.9339,-53.125799999999998,"2020-04-25",87,{"$f":"VALUE(URL_2[[#This Row],[Data]])","v":87}]
["Recovered","Australian Capital Territory","Australia",-35.473500000000001,149.01240000000001,"2020-04-19",88,{"$f":"VALUE(URL_2[[#This Row],[Data]])","v":88}]
["Recovered","","Costa Rica",9.7489000000000008,-83.753399999999999,"2020-04-17",88,{"$f":"VALUE(URL_2[[#This Row],[Data]])","v":88}]
["Confirmed","Gansu","China",37.809899999999999,101.0583,"2020-02-16",90,{"$f":"VALUE(URL_2[[#This Row],[Data]])","v":90}]
["Confirmed","Gansu","China",37.809899999999999,101.0583,"2020-02-18",91,{"$f":"VALUE(URL_2[[#This Row],[Data]])","v":91}]
["Confirmed","Hong Kong","China",22.3,114.2,"2020-02-26",91,{"$f":"VALUE(URL_2[[#This Row],[Data]])","v":91}]
["Recovered","Jilin","China",43.6661,126.1923,"2020-03-13",91,{"$f":"VALUE(URL_2[[#This Row],[Data]])","v":91}]
["Recovered","Sichuan","China",30.617100000000001,102.7103,"2020-02-12",92,{"$f":"VALUE(URL_2[[#This Row],[Data]])","v":92}]
["Confirmed","Jilin","China",43.6661,126.1923,"2020-02-26",93,{"$f":"VALUE(URL_2[[#This Row],[Data]])","v":93}]
["Confirmed","Martinique","France",14.641500000000001,-61.0242,"2020-03-30",93,{"$f":"VALUE(URL_2[[#This Row],[Data]])","v":93}]
["Recovered","","Uruguay",-32.522799999999997,-55.765799999999999,"2020-04-05",93,{"$f":"VALUE(URL_2[[#This Row],[Data]])","v":93}]
["Confirmed","","Uruguay",-32.522799999999997,-55.765799999999999,"2020-03-20",94,{"$f":"VALUE(URL_2[[#This Row],[Data]])","v":94}]
["Confirmed","Saskatchewan","Canada",52.939900000000002,-106.4509,"2020-03-26",95,{"$f":"VALUE(URL_2[[#This Row],[Data]])","v":95}]
["Confirmed","","Cote d'Ivoire",7.54,-5.5471000000000004,"2020-03-26",96,{"$f":"VALUE(URL_2[[#This Row],[Data]])","v":96}]
["Confirmed","Jilin","China",43.6661,126.1923,"2020-03-28",97,{"$f":"VALUE(URL_2[[#This Row],[Data]])","v":97}]
["Confirmed","Jilin","China",43.6661,126.1923,"2020-04-11",98,{"$f":"VALUE(URL_2[[#This Row],[Data]])","v":98}]
["Recovered","Beijing","China",40.182400000000001,116.41419999999999,"2020-02-15",98,{"$f":"VALUE(URL_2[[#This Row],[Data]])","v":98}]
["Confirmed","","Senegal",14.497400000000001,-14.452400000000001,"2020-03-25",99,{"$f":"VALUE(URL_2[[#This Row],[Data]])","v":99}]
["Confirmed","Aruba","Netherlands",12.518599999999999,-70.035799999999995,"2020-04-22",100,{"$f":"VALUE(URL_2[[#This Row],[Data]])","v":100}]
["Confirmed","","Sweden",63,16,"2020-03-06",101,{"$f":"VALUE(URL_2[[#This Row],[Data]])","v":101}]
["Confirmed","","Sri Lanka",7,81,"2020-03-25",102,{"$f":"VALUE(URL_2[[#This Row],[Data]])","v":102}]
["Recovered","","Djibouti",11.825100000000001,42.590299999999999,"2020-04-19",102,{"$f":"VALUE(URL_2[[#This Row],[Data]])","v":102}]
["Deaths","","Israel",31,35,"2020-04-12",103,{"$f":"VALUE(URL_2[[#This Row],[Data]])","v":103}]
["Recovered","Guizhou","China",26.8154,106.87479999999999,"2020-02-25",104,{"$f":"VALUE(URL_2[[#This Row],[Data]])","v":104}]
["Deaths","","United Arab Emirates",24,54,"2020-04-30",105,{"$f":"VALUE(URL_2[[#This Row],[Data]])","v":105}]
["Confirmed","French Guiana","France",3.9339,-53.125799999999998,"2020-04-23",107,{"$f":"VALUE(URL_2[[#This Row],[Data]])","v":107}]
["Confirmed","Hong Kong","China",22.3,114.2,"2020-03-07",108,{"$f":"VALUE(URL_2[[#This Row],[Data]])","v":108}]
["Confirmed","","Belgium",50.833300000000001,4,"2020-03-06",109,{"$f":"VALUE(URL_2[[#This Row],[Data]])","v":109}]
["Confirmed","","Egypt",26,30,"2020-03-15",110,{"$f":"VALUE(URL_2[[#This Row],[Data]])","v":110}]
["Confirmed","","Singapore",1.2833000000000001,103.83329999999999,"2020-03-04",110,{"$f":"VALUE(URL_2[[#This Row],[Data]])","v":110}]
["Recovered","Liaoning","China",41.2956,122.60850000000001,"2020-03-11",111,{"$f":"VALUE(URL_2[[#This Row],[Data]])","v":111}]
["Confirmed","","Sri Lanka",7,81,"2020-03-28",113,{"$f":"VALUE(URL_2[[#This Row],[Data]])","v":113}]
["Confirmed","","Ethiopia",9.1449999999999996,40.489699999999999,"2020-04-21",114,{"$f":"VALUE(URL_2[[#This Row],[Data]])","v":114}]
["Recovered","Beijing","China",40.182400000000001,116.41419999999999,"2020-02-17",114,{"$f":"VALUE(URL_2[[#This Row],[Data]])","v":114}]
["Confirmed","","Estonia",58.595300000000002,25.0136,"2020-03-14",115,{"$f":"VALUE(URL_2[[#This Row],[Data]])","v":115}]
["Confirmed","Yunnan","China",24.974,101.48699999999999,"2020-02-03",117,{"$f":"VALUE(URL_2[[#This Row],[Data]])","v":117}]
["Recovered","","Bolivia",-16.290199999999999,-63.588700000000003,"2020-04-29",117,{"$f":"VALUE(URL_2[[#This Row],[Data]])","v":117}]
["Recovered","","Malta",35.9375,14.375400000000001,"2020-04-19",118,{"$f":"VALUE(URL_2[[#This Row],[Data]])","v":118}]
["Confirmed","","Madagascar",-18.7669,46.869100000000003,"2020-04-18",120,{"$f":"VALUE(URL_2[[#This Row],[Data]])","v":120}]
["Recovered","Heilongjiang","China",47.862000000000002,127.7615,"2020-02-19",120,{"$f":"VALUE(URL_2[[#This Row],[Data]])","v":120}]
["Confirmed","","Madagascar",-18.7669,46.869100000000003,"2020-04-21",121,{"$f":"VALUE(URL_2[[#This Row],[Data]])","v":121}]
["Confirmed","","Cambodia",11.55,104.91670000000001,"2020-04-22",122,{"$f":"VALUE(URL_2[[#This Row],[Data]])","v":122}]
["Confirmed","","Vietnam",16,108,"2020-03-23",123,{"$f":"VALUE(URL_2[[#This Row],[Data]])","v":123}]
["Confirmed","","Iraq",33,44,"2020-03-16",124,{"$f":"VALUE(URL_2[[#This Row],[Data]])","v":124}]
["Confirmed","Liaoning","China",41.2956,122.60850000000001,"2020-03-08",125,{"$f":"VALUE(URL_2[[#This Row],[Data]])","v":125}]
["Confirmed","","Bosnia and Herzegovina",43.915900000000001,17.679099999999998,"2020-03-22",126,{"$f":"VALUE(URL_2[[#This Row],[Data]])","v":126}]
["Recovered","","Sri Lanka",7,81,"2020-04-27",126,{"$f":"VALUE(URL_2[[#This Row],[Data]])","v":126}]
["Confirmed","","Croatia",45.1,15.2,"2020-03-20",128,{"$f":"VALUE(URL_2[[#This Row],[Data]])","v":128}]
["Confirmed","Jiangsu","China",32.9711,119.455,"2020-01-30",129,{"$f":"VALUE(URL_2[[#This Row],[Data]])","v":129}]
["Deaths","","Poland",51.919400000000003,19.145099999999999,"2020-04-07",129,{"$f":"VALUE(URL_2[[#This Row],[Data]])","v":129}]
["Recovered","","Switzerland",46.818199999999997,8.2274999999999991,"2020-03-25",131,{"$f":"VALUE(URL_2[[#This Row],[Data]])","v":131}]
["Recovered","Liaoning","China",41.2956,122.60850000000001,"2020-04-09",132,{"$f":"VALUE(URL_2[[#This Row],[Data]])","v":132}]
["Recovered","Gibraltar","United Kingdom",36.140799999999999,-5.3536000000000001,"2020-05-02",132,{"$f":"VALUE(URL_2[[#This Row],[Data]])","v":132}]
["Confirmed","Shanxi","China",37.5777,112.29219999999999,"2020-03-21",133,{"$f":"VALUE(URL_2[[#This Row],[Data]])","v":133}]
["Confirmed","Gansu","China",37.809899999999999,101.0583,"2020-03-21",134,{"$f":"VALUE(URL_2[[#This Row],[Data]])","v":134}]
["Recovered","","Ghana",7.9465000000000003,-1.0232000000000001,"2020-04-24",134,{"$f":"VALUE(URL_2[[#This Row],[Data]])","v":134}]
["Confirmed","Shanxi","China",37.5777,112.29219999999999,"2020-03-27",135,{"$f":"VALUE(URL_2[[#This Row],[Data]])","v":135}]
["Recovered","","United Kingdom",55.378100000000003,-3.4360000000000004,"2020-03-29",135,{"$f":"VALUE(URL_2[[#This Row],[Data]])","v":135}]
["Confirmed","Tianjin","China",39.305399999999999,117.32299999999999,"2020-02-27",136,{"$f":"VALUE(URL_2[[#This Row],[Data]])","v":136}]
["Confirmed","","Panama",8.5380000000000003,-80.7821,"2020-03-20",137,{"$f":"VALUE(URL_2[[#This Row],[Data]])","v":137}]
["Confirmed","","Brunei",4.5353000000000003,114.7277,"2020-04-24",138,{"$f":"VALUE(URL_2[[#This Row],[Data]])","v":138}]
["Recovered","","Kazakhstan",48.019599999999997,66.923699999999997,"2020-04-13",138,{"$f":"VALUE(URL_2[[#This Row],[Data]])","v":138}]
["Recovered","","Bosnia and Herzegovina",43.915900000000001,17.679099999999998,"2020-04-11",139,{"$f":"VALUE(URL_2[[#This Row],[Data]])","v":139}]
["Confirmed","Liaoning","China",41.2956,122.60850000000001,"2020-04-01",140,{"$f":"VALUE(URL_2[[#This Row],[Data]])","v":140}]
["Recovered","Isle of Man","United Kingdom",54.2361,-4.5480999999999998,"2020-04-14",141,{"$f":"VALUE(URL_2[[#This Row],[Data]])","v":141}]
["Recovered","","Venezuela",6.4238,-66.589699999999993,"2020-04-27",142,{"$f":"VALUE(URL_2[[#This Row],[Data]])","v":142}]
["Recovered","Guizhou","China",26.8154,106.87479999999999,"2020-03-16",144,{"$f":"VALUE(URL_2[[#This Row],[Data]])","v":144}]
["Recovered","Guizhou","China",26.8154,106.87479999999999,"2020-04-03",144,{"$f":"VALUE(URL_2[[#This Row],[Data]])","v":144}]
["Recovered","","Singapore",1.2833000000000001,103.83329999999999,"2020-03-22",144,{"$f":"VALUE(URL_2[[#This Row],[Data]])","v":144}]
["Confirmed","Guizhou","China",26.8154,106.87479999999999,"2020-03-06",146,{"$f":"VALUE(URL_2[[#This Row],[Data]])","v":146}]
["Confirmed","Guizhou","China",26.8154,106.87479999999999,"2020-03-23",146,{"$f":"VALUE(URL_2[[#This Row],[Data]])","v":146}]
["Deaths","","Austria",47.516199999999998,14.5501,"2020-04-01",146,{"$f":"VALUE(URL_2[[#This Row],[Data]])","v":146}]
["Confirmed","Guizhou","China",26.8154,106.87479999999999,"2020-04-20",147,{"$f":"VALUE(URL_2[[#This Row],[Data]])","v":147}]
["Recovered","","Tunisia",34,9,"2020-04-21",148,{"$f":"VALUE(URL_2[[#This Row],[Data]])","v":148}]
["Confirmed","","Egypt",26,30,"2020-03-16",150,{"$f":"VALUE(URL_2[[#This Row],[Data]])","v":150}]
["Confirmed","Guangdong","China",23.341699999999999,113.42440000000001,"2020-01-27",151,{"$f":"VALUE(URL_2[[#This Row],[Data]])","v":151}]
["Confirmed","","United Arab Emirates",24,54,"2020-03-22",153,{"$f":"VALUE(URL_2[[#This Row],[Data]])","v":153}]
["Confirmed","Inner Mongolia","China",44.093499999999999,113.9448,"2020-04-11",155,{"$f":"VALUE(URL_2[[#This Row],[Data]])","v":155}]
["Confirmed","Martinique","France",14.641500000000001,-61.0242,"2020-04-14",157,{"$f":"VALUE(URL_2[[#This Row],[Data]])","v":157}]
["Confirmed","","Germany",51,9,"2020-03-02",159,{"$f":"VALUE(URL_2[[#This Row],[Data]])","v":159}]
["Confirmed","","Congo (Kinshasa)",-4.0382999999999996,21.758700000000001,"2020-04-06",161,{"$f":"VALUE(URL_2[[#This Row],[Data]])","v":161}]
["Recovered","Hainan","China",19.195900000000002,109.7453,"2020-04-09",162,{"$f":"VALUE(URL_2[[#This Row],[Data]])","v":162}]
["Confirmed","Hainan","China",19.195900000000002,109.7453,"2020-02-17",163,{"$f":"VALUE(URL_2[[#This Row],[Data]])","v":163}]
["Confirmed","","Bangladesh",23.684999999999999,90.356300000000005,"2020-04-07",164,{"$f":"VALUE(URL_2[[#This Row],[Data]])","v":164}]
["Deaths","","Panama",8.5380000000000003,-80.7821,"2020-04-26",165,{"$f":"VALUE(URL_2[[#This Row],[Data]])","v":165}]
["Confirmed","Hainan","China",19.195900000000002,109.7453,"2020-03-23",168,{"$f":"VALUE(URL_2[[#This Row],[Data]])","v":168}]
["Confirmed","Hainan","China",19.195900000000002,109.7453,"2020-03-31",168,{"$f":"VALUE(URL_2[[#This Row],[Data]])","v":168}]
["Deaths","","Bangladesh",23.684999999999999,90.356300000000005,"2020-04-30",168,{"$f":"VALUE(URL_2[[#This Row],[Data]])","v":168}]
["Recovered","","Iraq",33,44,"2020-03-31",170,{"$f":"VALUE(URL_2[[#This Row],[Data]])","v":170}]
["Confirmed","Yunnan","China",24.974,101.48699999999999,"2020-02-18",172,{"$f":"VALUE(URL_2[[#This Row],[Data]])","v":172}]
["Recovered","Yunnan","China",24.974,101.48699999999999,"2020-03-16",172,{"$f":"VALUE(URL_2[[#This Row],[Data]])","v":172}]
["Recovered","Yunnan","China",24.974,101.48699999999999,"2020-04-09",173,{"$f":"VALUE(URL_2[[#This Row],[Data]])","v":173}]
["Confirmed","","Montenegro",42.5,19.3,"2020-04-03",174,{"$f":"VALUE(URL_2[[#This Row],[Data]])","v":174}]
["Confirmed","Yunnan","China",24.974,101.48699999999999,"2020-03-25",176,{"$f":"VALUE(URL_2[[#This Row],[Data]])","v":176}]
["Confirmed","","Poland",51.919400000000003,19.145099999999999,"2020-03-16",177,{"$f":"VALUE(URL_2[[#This Row],[Data]])","v":177}]
["Recovered","Yunnan","China",24.974,101.48699999999999,"2020-04-22",178,{"$f":"VALUE(URL_2[[#This Row],[Data]])","v":178}]
["Recovered","South Australia","Australia",-34.9285,138.60069999999999,"2020-04-13",179,{"$f":"VALUE(URL_2[[#This Row],[Data]])","v":179}]
["Recovered","Isle of Man","United Kingdom",54.2361,-4.5480999999999998,"2020-04-18",180,{"$f":"VALUE(URL_2[[#This Row],[Data]])","v":180}]
["Recovered","Fujian","China",26.078900000000001,117.98739999999999,"2020-02-24",183,{"$f":"VALUE(URL_2[[#This Row],[Data]])","v":183}]
["Confirmed","Yunnan","China",24.974,101.48699999999999,"2020-04-05",184,{"$f":"VALUE(URL_2[[#This Row],[Data]])","v":184}]
["Confirmed","Shanxi","China",37.5777,112.29219999999999,"2020-04-15",186,{"$f":"VALUE(URL_2[[#This Row],[Data]])","v":186}]
["Recovered","","United Arab Emirates",24,54,"2020-04-07",186,{"$f":"VALUE(URL_2[[#This Row],[Data]])","v":186}]
["Recovered","","Afghanistan",33,65,"2020-04-25",188,{"$f":"VALUE(URL_2[[#This Row],[Data]])","v":188}]
["Confirmed","Inner Mongolia","China",44.093499999999999,113.9448,"2020-04-14",190,{"$f":"VALUE(URL_2[[#This Row],[Data]])","v":190}]
["Recovered","","India",21,78,"2020-04-02",191,{"$f":"VALUE(URL_2[[#This Row],[Data]])","v":191}]
["Confirmed","Inner Mongolia","China",44.093499999999999,113.9448,"2020-04-22",194,{"$f":"VALUE(URL_2[[#This Row],[Data]])","v":194}]
["Confirmed","","Egypt",26,30,"2020-03-17",196,{"$f":"VALUE(URL_2[[#This Row],[Data]])","v":196}]
["Confirmed","","Sri Lanka",7,81,"2020-04-11",198,{"$f":"VALUE(URL_2[[#This Row],[Data]])","v":198}]
["Confirmed","Inner Mongolia","China",44.093499999999999,113.9448,"2020-04-29",200,{"$f":"VALUE(URL_2[[#This Row],[Data]])","v":200}]
["Recovered","","Jordan",31.24,36.51,"2020-04-12",201,{"$f":"VALUE(URL_2[[#This Row],[Data]])","v":201}]
["Confirmed","","Uzbekistan",41.377499999999998,64.585300000000004,"2020-04-02",205,{"$f":"VALUE(URL_2[[#This Row],[Data]])","v":205}]
["Recovered","","Mali",17.570692000000001,-3.996166000000001,"2020-05-02",206,{"$f":"VALUE(URL_2[[#This Row],[Data]])","v":206}]
["Recovered","","Nigeria",9.0820000000000007,8.6753,"2020-04-24",208,{"$f":"VALUE(URL_2[[#This Row],[Data]])","v":208}]
["Confirmed","","Singapore",1.2833000000000001,103.83329999999999,"2020-03-14",212,{"$f":"VALUE(URL_2[[#This Row],[Data]])","v":212}]
["Deaths","","Argentina",-38.4161,-63.616700000000002,"2020-04-29",214,{"$f":"VALUE(URL_2[[#This Row],[Data]])","v":214}]
["Recovered","","Dominican Republic",18.735700000000001,-70.162700000000001,"2020-04-16",215,{"$f":"VALUE(URL_2[[#This Row],[Data]])","v":215}]
["Recovered","","Vietnam",16,108,"2020-05-01",219,{"$f":"VALUE(URL_2[[#This Row],[Data]])","v":219}]
["Confirmed","Tasmania","Australia",-41.454500000000003,145.97069999999999,"2020-05-01",221,{"$f":"VALUE(URL_2[[#This Row],[Data]])","v":221}]
["Confirmed","","Jamaica",18.1096,-77.297499999999999,"2020-04-20",223,{"$f":"VALUE(URL_2[[#This Row],[Data]])","v":223}]
["Deaths","","Dominican Republic",18.735700000000001,-70.162700000000001,"2020-04-19",226,{"$f":"VALUE(URL_2[[#This Row],[Data]])","v":226}]
["Confirmed","Isle of Man","United Kingdom",54.2361,-4.5480999999999998,"2020-04-12",228,{"$f":"VALUE(URL_2[[#This Row],[Data]])","v":228}]
["Confirmed","Western Australia","Australia",-31.950500000000002,115.8605,"2020-03-27",231,{"$f":"VALUE(URL_2[[#This Row],[Data]])","v":231}]
["Confirmed","","Iraq",33,44,"2020-03-22",233,{"$f":"VALUE(URL_2[[#This Row],[Data]])","v":233}]
["Recovered","","Taiwan*",23.7,121,"2020-04-22",236,{"$f":"VALUE(URL_2[[#This Row],[Data]])","v":236}]
["Recovered","Reunion","France",-21.135100000000001,55.247100000000003,"2020-04-16",237,{"$f":"VALUE(URL_2[[#This Row],[Data]])","v":237}]
["Recovered","Shaanxi","China",35.191699999999997,108.87009999999999,"2020-03-25",240,{"$f":"VALUE(URL_2[[#This Row],[Data]])","v":240}]
["Recovered","Zhejiang","China",29.183199999999999,120.0934,"2020-02-10",242,{"$f":"VALUE(URL_2[[#This Row],[Data]])","v":242}]
["Confirmed","Shaanxi","China",35.191699999999997,108.87009999999999,"2020-03-07",245,{"$f":"VALUE(URL_2[[#This Row],[Data]])","v":245}]
["Confirmed","","Kenya",-2.3599999999999999E-2,37.906199999999998,"2020-04-17",246,{"$f":"VALUE(URL_2[[#This Row],[Data]])","v":246}]
["Confirmed","","United Arab Emirates",24,54,"2020-03-24",248,{"$f":"VALUE(URL_2[[#This Row],[Data]])","v":248}]
["Confirmed","Manitoba","Canada",53.760899999999999,-98.813900000000004,"2020-04-17",250,{"$f":"VALUE(URL_2[[#This Row],[Data]])","v":250}]
["Recovered","Guangxi","China",23.829799999999999,108.7881,"2020-03-29",250,{"$f":"VALUE(URL_2[[#This Row],[Data]])","v":250}]
["Confirmed","Guangxi","China",23.829799999999999,108.7881,"2020-03-13",252,{"$f":"VALUE(URL_2[[#This Row],[Data]])","v":252}]
["Recovered","Guangxi","China",23.829799999999999,108.7881,"2020-04-10",252,{"$f":"VALUE(URL_2[[#This Row],[Data]])","v":252}]
["Confirmed","Guangxi","China",23.829799999999999,108.7881,"2020-03-17",253,{"$f":"VALUE(URL_2[[#This Row],[Data]])","v":253}]
["Confirmed","Guangxi","China",23.829799999999999,108.7881,"2020-04-11",254,{"$f":"VALUE(URL_2[[#This Row],[Data]])","v":254}]
["Recovered","Shaanxi","China",35.191699999999997,108.87009999999999,"2020-04-30",254,{"$f":"VALUE(URL_2[[#This Row],[Data]])","v":254}]
["Confirmed","Shaanxi","China",35.191699999999997,108.87009999999999,"2020-04-13",256,{"$f":"VALUE(URL_2[[#This Row],[Data]])","v":256}]
["Confirmed","Newfoundland and Labrador","Canada",53.1355,-57.660400000000003,"2020-04-30",258,{"$f":"VALUE(URL_2[[#This Row],[Data]])","v":258}]
["Recovered","Shanghai","China",31.202000000000002,121.4491,"2020-02-24",261,{"$f":"VALUE(URL_2[[#This Row],[Data]])","v":261}]
["Confirmed","","Honduras",15.2,-86.241900000000001,"2020-04-04",264,{"$f":"VALUE(URL_2[[#This Row],[Data]])","v":264}]
["Confirmed","","Jordan",31.24,36.51,"2020-03-30",268,{"$f":"VALUE(URL_2[[#This Row],[Data]])","v":268}]
["Recovered","","Greece",39.074199999999998,21.824300000000001,"2020-04-15",269,{"$f":"VALUE(URL_2[[#This Row],[Data]])","v":269}]
["Confirmed","Fujian","China",26.078900000000001,117.98739999999999,"2020-02-12",272,{"$f":"VALUE(URL_2[[#This Row],[Data]])","v":272}]
["Recovered","","Bulgaria",42.733899999999998,25.485800000000001,"2020-05-01",276,{"$f":"VALUE(URL_2[[#This Row],[Data]])","v":276}]
["Confirmed","","Niger",17.607800000000001,8.0816999999999997,"2020-04-07",278,{"$f":"VALUE(URL_2[[#This Row],[Data]])","v":278}]
["Recovered","","Andorra",42.506300000000003,1.5218,"2020-04-21",282,{"$f":"VALUE(URL_2[[#This Row],[Data]])","v":282}]
["Confirmed","Shaanxi","China",35.191699999999997,108.87009999999999,"2020-04-25",286,{"$f":"VALUE(URL_2[[#This Row],[Data]])","v":286}]
["Confirmed","Saskatchewan","Canada",52.939900000000002,-106.4509,"2020-04-11",289,{"$f":"VALUE(URL_2[[#This Row],[Data]])","v":289}]
["Confirmed","Isle of Man","United Kingdom",54.2361,-4.5480999999999998,"2020-04-17",291,{"$f":"VALUE(URL_2[[#This Row],[Data]])","v":291}]
["Recovered","Fujian","China",26.078900000000001,117.98739999999999,"2020-03-30",295,{"$f":"VALUE(URL_2[[#This Row],[Data]])","v":295}]
["Confirmed","Fujian","China",26.078900000000001,117.98739999999999,"2020-03-10",296,{"$f":"VALUE(URL_2[[#This Row],[Data]])","v":296}]
["Confirmed","","El Salvador",13.7942,-88.896500000000003,"2020-04-26",298,{"$f":"VALUE(URL_2[[#This Row],[Data]])","v":298}]
["Recovered","","Finland",64,26,"2020-04-09",300,{"$f":"VALUE(URL_2[[#This Row],[Data]])","v":300}]
["Confirmed","","Montenegro",42.5,19.3,"2020-04-16",303,{"$f":"VALUE(URL_2[[#This Row],[Data]])","v":303}]
["Confirmed","Hebei","China",39.548999999999999,116.1306,"2020-02-18",306,{"$f":"VALUE(URL_2[[#This Row],[Data]])","v":306}]
["Recovered","","Nigeria",9.0820000000000007,8.6753,"2020-04-29",307,{"$f":"VALUE(URL_2[[#This Row],[Data]])","v":307}]
["Recovered","","Japan",36,138,"2020-03-25",310,{"$f":"VALUE(URL_2[[#This Row],[Data]])","v":310}]
["Recovered","","Dominican Republic",18.735700000000001,-70.162700000000001,"2020-04-18",312,{"$f":"VALUE(URL_2[[#This Row],[Data]])","v":312}]
["Confirmed","Saskatchewan","Canada",52.939900000000002,-106.4509,"2020-04-20",316,{"$f":"VALUE(URL_2[[#This Row],[Data]])","v":316}]
["Confirmed","Hebei","China",39.548999999999999,116.1306,"2020-03-08",318,{"$f":"VALUE(URL_2[[#This Row],[Data]])","v":318}]
["Confirmed","Hebei","China",39.548999999999999,116.1306,"2020-03-20",318,{"$f":"VALUE(URL_2[[#This Row],[Data]])","v":318}]
["Confirmed","","Taiwan*",23.7,121,"2020-03-31",322,{"$f":"VALUE(URL_2[[#This Row],[Data]])","v":322}]
["Recovered","","Argentina",-38.4161,-63.616700000000002,"2020-04-06",325,{"$f":"VALUE(URL_2[[#This Row],[Data]])","v":325}]
["Recovered","Shanghai","China",31.202000000000002,121.4491,"2020-03-20",326,{"$f":"VALUE(URL_2[[#This Row],[Data]])","v":326}]
["Confirmed","Hebei","China",39.548999999999999,116.1306,"2020-04-22",328,{"$f":"VALUE(URL_2[[#This Row],[Data]])","v":328}]
["Recovered","South Australia","Australia",-34.9285,138.60069999999999,"2020-04-19",331,{"$f":"VALUE(URL_2[[#This Row],[Data]])","v":331}]
["Confirmed","Jiangxi","China",27.614000000000001,115.7221,"2020-02-02",333,{"$f":"VALUE(URL_2[[#This Row],[Data]])","v":333}]
["Confirmed","","Malta",35.9375,14.375400000000001,"2020-04-09",337,{"$f":"VALUE(URL_2[[#This Row],[Data]])","v":337}]
["Confirmed","","Qatar",25.354800000000001,51.183900000000001,"2020-03-14",337,{"$f":"VALUE(URL_2[[#This Row],[Data]])","v":337}]
["Deaths","","Germany",51,9,"2020-03-27",342,{"$f":"VALUE(URL_2[[#This Row],[Data]])","v":342}]
["Recovered","","Iraq",33,44,"2020-04-06",344,{"$f":"VALUE(URL_2[[#This Row],[Data]])","v":344}]
["Recovered","Shanghai","China",31.202000000000002,121.4491,"2020-04-03",348,{"$f":"VALUE(URL_2[[#This Row],[Data]])","v":348}]
["Recovered","","Nigeria",9.0820000000000007,8.6753,"2020-05-02",351,{"$f":"VALUE(URL_2[[#This Row],[Data]])","v":351}]
["Deaths","","Iran",32,53,"2020-03-11",354,{"$f":"VALUE(URL_2[[#This Row],[Data]])","v":354}]
["Confirmed","","Jordan",31.24,36.51,"2020-04-08",358,{"$f":"VALUE(URL_2[[#This Row],[Data]])","v":358}]
["Recovered","Hong Kong","China",22.3,114.2,"2020-04-13",360,{"$f":"VALUE(URL_2[[#This Row],[Data]])","v":360}]
["Confirmed","Saskatchewan","Canada",52.939900000000002,-106.4509,"2020-04-28",366,{"$f":"VALUE(URL_2[[#This Row],[Data]])","v":366}]
["Recovered","Chongqing","China",30.057200000000002,107.874,"2020-02-25",372,{"$f":"VALUE(URL_2[[#This Row],[Data]])","v":372}]
["Confirmed","","Albania",41.153300000000002,20.168299999999999,"2020-04-06",377,{"$f":"VALUE(URL_2[[#This Row],[Data]])","v":377}]
["Recovered","","Sweden",63,16,"2020-04-15",381,{"$f":"VALUE(URL_2[[#This Row],[Data]])","v":381}]
["Confirmed","Beijing","China",40.182400000000001,116.41419999999999,"2020-02-18",387,{"$f":"VALUE(URL_2[[#This Row],[Data]])","v":387}]
["Confirmed","Western Australia","Australia",-31.950500000000002,115.8605,"2020-04-01",392,{"$f":"VALUE(URL_2[[#This Row],[Data]])","v":392}]
["Confirmed","","Congo (Kinshasa)",-4.0382999999999996,21.758700000000001,"2020-04-24",394,{"$f":"VALUE(URL_2[[#This Row],[Data]])","v":394}]
["Recovered","Beijing","China",40.182400000000001,116.41419999999999,"2020-03-23",400,{"$f":"VALUE(URL_2[[#This Row],[Data]])","v":400}]
["Confirmed","Sichuan","China",30.617100000000001,102.7103,"2020-02-10",405,{"$f":"VALUE(URL_2[[#This Row],[Data]])","v":405}]
["Recovered","","Romania",45.943199999999997,24.966799999999999,"2020-04-06",406,{"$f":"VALUE(URL_2[[#This Row],[Data]])","v":406}]
["Confirmed","Victoria","Australia",-37.813600000000001,144.9631,"2020-03-24",411,{"$f":"VALUE(URL_2[[#This Row],[Data]])","v":411}]
["Confirmed","","Albania",41.153300000000002,20.168299999999999,"2020-04-10",416,{"$f":"VALUE(URL_2[[#This Row],[Data]])","v":416}]
["Confirmed","","Kyrgyzstan",41.2044,74.766099999999994,"2020-04-13",419,{"$f":"VALUE(URL_2[[#This Row],[Data]])","v":419}]
["Recovered","Shanghai","China",31.202000000000002,121.4491,"2020-04-09",422,{"$f":"VALUE(URL_2[[#This Row],[Data]])","v":422}]
["Recovered","Zhejiang","China",29.183199999999999,120.0934,"2020-02-15",428,{"$f":"VALUE(URL_2[[#This Row],[Data]])","v":428}]
["Recovered","","Albania",41.153300000000002,20.168299999999999,"2020-04-28",431,{"$f":"VALUE(URL_2[[#This Row],[Data]])","v":431}]
["Recovered","","Bosnia and Herzegovina",43.915900000000001,17.679099999999998,"2020-04-21",437,{"$f":"VALUE(URL_2[[#This Row],[Data]])","v":437}]
["Confirmed","","Jordan",31.24,36.51,"2020-04-24",441,{"$f":"VALUE(URL_2[[#This Row],[Data]])","v":441}]
["Confirmed","","Slovenia",46.151200000000003,14.9955,"2020-03-23",442,{"$f":"VALUE(URL_2[[#This Row],[Data]])","v":442}]
["Confirmed","","Cyprus",35.126399999999997,33.429900000000004,"2020-04-05",446,{"$f":"VALUE(URL_2[[#This Row],[Data]])","v":446}]
["Confirmed","","Egypt",26,30,"2020-03-25",456,{"$f":"VALUE(URL_2[[#This Row],[Data]])","v":456}]
["Deaths","","Algeria",28.033899999999999,1.6596,"2020-05-02",459,{"$f":"VALUE(URL_2[[#This Row],[Data]])","v":459}]
["Recovered","","Belgium",50.833300000000001,4,"2020-03-24",461,{"$f":"VALUE(URL_2[[#This Row],[Data]])","v":461}]
["Confirmed","","Malta",35.9375,14.375400000000001,"2020-04-30",465,{"$f":"VALUE(URL_2[[#This Row],[Data]])","v":465}]
["Confirmed","Channel Islands","United Kingdom",49.372300000000003,-2.3643999999999998,"2020-04-17",470,{"$f":"VALUE(URL_2[[#This Row],[Data]])","v":470}]
["Recovered","","Japan",36,138,"2020-04-02",472,{"$f":"VALUE(URL_2[[#This Row],[Data]])","v":472}]
["Deaths","Hubei","China",30.9756,112.27070000000001,"2020-02-04",479,{"$f":"VALUE(URL_2[[#This Row],[Data]])","v":479}]
["Confirmed","","Burkina Faso",12.238300000000001,-1.5616000000000001,"2020-04-11",484,{"$f":"VALUE(URL_2[[#This Row],[Data]])","v":484}]
["Deaths","","Brazil",-14.234999999999999,-51.9253,"2020-04-05",486,{"$f":"VALUE(URL_2[[#This Row],[Data]])","v":486}]
["Confirmed","Jiangsu","China",32.9711,119.455,"2020-02-10",492,{"$f":"VALUE(URL_2[[#This Row],[Data]])","v":492}]
["Confirmed","","Bahrain",26.0275,50.55,"2020-03-29",499,{"$f":"VALUE(URL_2[[#This Row],[Data]])","v":499}]
["Confirmed","","Bulgaria",42.733899999999998,25.485800000000001,"2020-04-04",503,{"$f":"VALUE(URL_2[[#This Row],[Data]])","v":503}]
["Recovered","Western Australia","Australia",-31.950500000000002,115.8605,"2020-05-01",511,{"$f":"VALUE(URL_2[[#This Row],[Data]])","v":511}]
["Confirmed","Jiangsu","China",32.9711,119.455,"2020-02-11",515,{"$f":"VALUE(URL_2[[#This Row],[Data]])","v":515}]
["Confirmed","","Afghanistan",33,65,"2020-04-10",521,{"$f":"VALUE(URL_2[[#This Row],[Data]])","v":521}]
["Confirmed","","Somalia",5.1520999999999999,46.199599999999997,"2020-04-28",528,{"$f":"VALUE(URL_2[[#This Row],[Data]])","v":528}]
["Confirmed","","Latvia",56.879600000000003,24.603200000000001,"2020-04-05",533,{"$f":"VALUE(URL_2[[#This Row],[Data]])","v":533}]
["Recovered","Sichuan","China",30.617100000000001,102.7103,"2020-03-31",536,{"$f":"VALUE(URL_2[[#This Row],[Data]])","v":536}]
["Confirmed","Channel Islands","United Kingdom",49.372300000000003,-2.3643999999999998,"2020-04-30",537,{"$f":"VALUE(URL_2[[#This Row],[Data]])","v":537}]
["Confirmed","Channel Islands","United Kingdom",49.372300000000003,-2.3643999999999998,"2020-05-02",543,{"$f":"VALUE(URL_2[[#This Row],[Data]])","v":543}]
["Confirmed","","Oman",21,57,"2020-04-11",546,{"$f":"VALUE(URL_2[[#This Row],[Data]])","v":546}]
["Confirmed","Western Australia","Australia",-31.950500000000002,115.8605,"2020-04-26",549,{"$f":"VALUE(URL_2[[#This Row],[Data]])","v":549}]
["Recovered","Sichuan","China",30.617100000000001,102.7103,"2020-04-17",552,{"$f":"VALUE(URL_2[[#This Row],[Data]])","v":552}]
["Recovered","Sichuan","China",30.617100000000001,102.7103,"2020-05-02",558,{"$f":"VALUE(URL_2[[#This Row],[Data]])","v":558}]
["Confirmed","","Saudi Arabia",24,45,"2020-03-23",562,{"$f":"VALUE(URL_2[[#This Row],[Data]])","v":562}]
["Confirmed","","North Macedonia",41.608600000000003,21.7453,"2020-04-06",570,{"$f":"VALUE(URL_2[[#This Row],[Data]])","v":570}]
["Recovered","Chongqing","China",30.057200000000002,107.874,"2020-04-15",570,{"$f":"VALUE(URL_2[[#This Row],[Data]])","v":570}]
["Recovered","","Cote d'Ivoire",7.54,-5.5471000000000004,"2020-04-30",574,{"$f":"VALUE(URL_2[[#This Row],[Data]])","v":574}]
["Confirmed","Chongqing","China",30.057200000000002,107.874,"2020-03-26",578,{"$f":"VALUE(URL_2[[#This Row],[Data]])","v":578}]
["Confirmed","Chongqing","China",30.057200000000002,107.874,"2020-04-19",579,{"$f":"VALUE(URL_2[[#This Row],[Data]])","v":579}]
["Deaths","","Philippines",13,122,"2020-05-01",579,{"$f":"VALUE(URL_2[[#This Row],[Data]])","v":579}]
["Recovered","","Lithuania",55.169400000000003,23.8813,"2020-04-30",589,{"$f":"VALUE(URL_2[[#This Row],[Data]])","v":589}]
["Confirmed","","Djibouti",11.825100000000001,42.590299999999999,"2020-04-16",591,{"$f":"VALUE(URL_2[[#This Row],[Data]])","v":591}]
["Deaths","","Austria",47.516199999999998,14.5501,"2020-05-02",596,{"$f":"VALUE(URL_2[[#This Row],[Data]])","v":596}]
["Recovered","","Luxembourg",49.815300000000001,6.1295999999999999,"2020-04-18",601,{"$f":"VALUE(URL_2[[#This Row],[Data]])","v":601}]
["Deaths","Hubei","China",30.9756,112.27070000000001,"2020-02-06",618,{"$f":"VALUE(URL_2[[#This Row],[Data]])","v":618}]
["Confirmed","","Cuba",22,-80,"2020-04-11",620,{"$f":"VALUE(URL_2[[#This Row],[Data]])","v":620}]
["Confirmed","","Finland",64,26,"2020-03-22",626,{"$f":"VALUE(URL_2[[#This Row],[Data]])","v":626}]
["Confirmed","Jiangsu","China",32.9711,119.455,"2020-03-15",631,{"$f":"VALUE(URL_2[[#This Row],[Data]])","v":631}]
["Recovered","Jiangsu","China",32.9711,119.455,"2020-03-26",631,{"$f":"VALUE(URL_2[[#This Row],[Data]])","v":631}]
["Confirmed","","Diamond Princess",0,0,"2020-02-22",634,{"$f":"VALUE(URL_2[[#This Row],[Data]])","v":634}]
["Confirmed","Shanghai","China",31.202000000000002,121.4491,"2020-04-25",642,{"$f":"VALUE(URL_2[[#This Row],[Data]])","v":642}]
["Deaths","","Germany",51,9,"2020-03-30",645,{"$f":"VALUE(URL_2[[#This Row],[Data]])","v":645}]
["Recovered","Jiangsu","China",32.9711,119.455,"2020-04-28",647,{"$f":"VALUE(URL_2[[#This Row],[Data]])","v":647}]
["Confirmed","Jiangsu","China",32.9711,119.455,"2020-05-01",653,{"$f":"VALUE(URL_2[[#This Row],[Data]])","v":653}]
["Confirmed","Zhejiang","China",29.183199999999999,120.0934,"2020-02-02",661,{"$f":"VALUE(URL_2[[#This Row],[Data]])","v":661}]
["Confirmed","","Spain",40,-4,"2020-03-08",673,{"$f":"VALUE(URL_2[[#This Row],[Data]])","v":673}]
["Deaths","","Russia",60,90,"2020-04-25",681,{"$f":"VALUE(URL_2[[#This Row],[Data]])","v":681}]
["Confirmed","","Belgium",50.833300000000001,4,"2020-03-14",689,{"$f":"VALUE(URL_2[[#This Row],[Data]])","v":689}]
["Confirmed","","Czechia",49.817500000000003,15.473000000000001,"2020-03-19",694,{"$f":"VALUE(URL_2[[#This Row],[Data]])","v":694}]
["Confirmed","","South Africa",-30.5595,22.9375,"2020-03-25",709,{"$f":"VALUE(URL_2[[#This Row],[Data]])","v":709}]
["Confirmed","","Diamond Princess",0,0,"2020-04-12",712,{"$f":"VALUE(URL_2[[#This Row],[Data]])","v":712}]
["Confirmed","","Diamond Princess",0,0,"2020-04-24",712,{"$f":"VALUE(URL_2[[#This Row],[Data]])","v":712}]
["Confirmed","","Mexico",23.634499999999999,-102.5528,"2020-03-27",717,{"$f":"VALUE(URL_2[[#This Row],[Data]])","v":717}]
["Confirmed","","Andorra",42.506300000000003,1.5218,"2020-04-24",731,{"$f":"VALUE(URL_2[[#This Row],[Data]])","v":731}]
["Recovered","Queensland","Australia",-28.0167,153.4,"2020-04-21",738,{"$f":"VALUE(URL_2[[#This Row],[Data]])","v":738}]
["Recovered","Shandong","China",36.342700000000001,118.1498,"2020-03-18",746,{"$f":"VALUE(URL_2[[#This Row],[Data]])","v":746}]
["Recovered","Shandong","China",36.342700000000001,118.1498,"2020-04-09",756,{"$f":"VALUE(URL_2[[#This Row],[Data]])","v":756}]
["Confirmed","","Kosovo",42.602635999999997,20.902977,"2020-04-26",763,{"$f":"VALUE(URL_2[[#This Row],[Data]])","v":763}]
["Confirmed","","Honduras",15.2,-86.241900000000001,"2020-04-30",771,{"$f":"VALUE(URL_2[[#This Row],[Data]])","v":771}]
["Recovered","","Morocco",31.791699999999999,-7.0926,"2020-04-28",778,{"$f":"VALUE(URL_2[[#This Row],[Data]])","v":778}]
["Confirmed","","Cyprus",35.126399999999997,33.429900000000004,"2020-04-21",784,{"$f":"VALUE(URL_2[[#This Row],[Data]])","v":784}]
["Confirmed","Shandong","China",36.342700000000001,118.1498,"2020-04-23",787,{"$f":"VALUE(URL_2[[#This Row],[Data]])","v":787}]
["Recovered","","Colombia",4.5709,-74.297300000000007,"2020-04-21",804,{"$f":"VALUE(URL_2[[#This Row],[Data]])","v":804}]
["Confirmed","","Kazakhstan",48.019599999999997,66.923699999999997,"2020-04-10",812,{"$f":"VALUE(URL_2[[#This Row],[Data]])","v":812}]
["Confirmed","","Azerbaijan",40.143099999999997,47.576900000000002,"2020-04-08",822,{"$f":"VALUE(URL_2[[#This Row],[Data]])","v":822}]
["Recovered","","Ukraine",48.379399999999997,31.165600000000001,"2020-04-26",840,{"$f":"VALUE(URL_2[[#This Row],[Data]])","v":840}]
["Deaths","","Mexico",23.634499999999999,-102.5528,"2020-04-21",857,{"$f":"VALUE(URL_2[[#This Row],[Data]])","v":857}]
["Recovered","","Armenia",40.069099999999999,45.038200000000003,"2020-04-28",866,{"$f":"VALUE(URL_2[[#This Row],[Data]])","v":866}]
["Recovered","Guangdong","China",23.341699999999999,113.42440000000001,"2020-02-27",890,{"$f":"VALUE(URL_2[[#This Row],[Data]])","v":890}]
["Confirmed","Jiangxi","China",27.614000000000001,115.7221,"2020-02-14",900,{"$f":"VALUE(URL_2[[#This Row],[Data]])","v":900}]
["Recovered","","Dominican Republic",18.735700000000001,-70.162700000000001,"2020-04-26",910,{"$f":"VALUE(URL_2[[#This Row],[Data]])","v":910}]
["Recovered","","Morocco",31.791699999999999,-7.0926,"2020-04-29",928,{"$f":"VALUE(URL_2[[#This Row],[Data]])","v":928}]
["Confirmed","Jiangxi","China",27.614000000000001,115.7221,"2020-02-22",934,{"$f":"VALUE(URL_2[[#This Row],[Data]])","v":934}]
["Confirmed","Jiangxi","China",27.614000000000001,115.7221,"2020-03-11",935,{"$f":"VALUE(URL_2[[#This Row],[Data]])","v":935}]
["Recovered","Jiangxi","China",27.614000000000001,115.7221,"2020-05-01",936,{"$f":"VALUE(URL_2[[#This Row],[Data]])","v":936}]
["Confirmed","Jiangxi","China",27.614000000000001,115.7221,"2020-04-28",937,{"$f":"VALUE(URL_2[[#This Row],[Data]])","v":937}]
["Recovered","","Azerbaijan",40.143099999999997,47.576900000000002,"2020-04-23",948,{"$f":"VALUE(URL_2[[#This Row],[Data]])","v":948}]
["Confirmed","","Djibouti",11.825100000000001,42.590299999999999,"2020-04-22",974,{"$f":"VALUE(URL_2[[#This Row],[Data]])","v":974}]
["Recovered","Anhui","China",31.825700000000001,117.2264,"2020-03-10",984,{"$f":"VALUE(URL_2[[#This Row],[Data]])","v":984}]
["Recovered","Anhui","China",31.825700000000001,117.2264,"2020-03-26",984,{"$f":"VALUE(URL_2[[#This Row],[Data]])","v":984}]
["Deaths","","Portugal",39.399900000000002,-8.2245000000000008,"2020-04-30",989,{"$f":"VALUE(URL_2[[#This Row],[Data]])","v":989}]
["Recovered","","Saudi Arabia",24,45,"2020-04-16",990,{"$f":"VALUE(URL_2[[#This Row],[Data]])","v":990}]
["Confirmed","Anhui","China",31.825700000000001,117.2264,"2020-04-23",991,{"$f":"VALUE(URL_2[[#This Row],[Data]])","v":991}]
["Recovered","","Colombia",4.5709,-74.297300000000007,"2020-04-24",1003,{"$f":"VALUE(URL_2[[#This Row],[Data]])","v":1003}]
["Confirmed","","Armenia",40.069099999999999,45.038200000000003,"2020-04-12",1013,{"$f":"VALUE(URL_2[[#This Row],[Data]])","v":1013}]
["Recovered","Hunan","China",27.610399999999998,111.7088,"2020-04-06",1014,{"$f":"VALUE(URL_2[[#This Row],[Data]])","v":1014}]
["Recovered","Zhejiang","China",29.183199999999999,120.0934,"2020-02-29",1016,{"$f":"VALUE(URL_2[[#This Row],[Data]])","v":1016}]
["Confirmed","Hunan","China",27.610399999999998,111.7088,"2020-04-15",1019,{"$f":"VALUE(URL_2[[#This Row],[Data]])","v":1019}]
["Confirmed","Queensland","Australia",-28.0167,153.4,"2020-04-22",1024,{"$f":"VALUE(URL_2[[#This Row],[Data]])","v":1024}]
["Confirmed","Guangdong","China",23.341699999999999,113.42440000000001,"2020-02-07",1034,{"$f":"VALUE(URL_2[[#This Row],[Data]])","v":1034}]
["Recovered","","South Africa",-30.5595,22.9375,"2020-04-20",1055,{"$f":"VALUE(URL_2[[#This Row],[Data]])","v":1055}]
["Confirmed","","Spain",40,-4,"2020-03-09",1073,{"$f":"VALUE(URL_2[[#This Row],[Data]])","v":1073}]
["Recovered","","Iraq",33,44,"2020-04-21",1096,{"$f":"VALUE(URL_2[[#This Row],[Data]])","v":1096}]
["Confirmed","","Singapore",1.2833000000000001,103.83329999999999,"2020-04-03",1114,{"$f":"VALUE(URL_2[[#This Row],[Data]])","v":1114}]
["Recovered","Guangdong","China",23.341699999999999,113.42440000000001,"2020-03-04",1133,{"$f":"VALUE(URL_2[[#This Row],[Data]])","v":1133}]
["Confirmed","","Switzerland",46.818199999999997,8.2274999999999991,"2020-03-13",1139,{"$f":"VALUE(URL_2[[#This Row],[Data]])","v":1139}]
["Confirmed","Zhejiang","China",29.183199999999999,120.0934,"2020-02-18",1172,{"$f":"VALUE(URL_2[[#This Row],[Data]])","v":1172}]
["Recovered","","Egypt",26,30,"2020-04-26",1176,{"$f":"VALUE(URL_2[[#This Row],[Data]])","v":1176}]
["Recovered","","Argentina",-38.4161,-63.616700000000002,"2020-04-29",1192,{"$f":"VALUE(URL_2[[#This Row],[Data]])","v":1192}]
["Recovered","","Colombia",4.5709,-74.297300000000007,"2020-04-27",1210,{"$f":"VALUE(URL_2[[#This Row],[Data]])","v":1210}]
["Confirmed","","Croatia",45.1,15.2,"2020-04-06",1222,{"$f":"VALUE(URL_2[[#This Row],[Data]])","v":1222}]
["Confirmed","","North Macedonia",41.608600000000003,21.7453,"2020-04-21",1231,{"$f":"VALUE(URL_2[[#This Row],[Data]])","v":1231}]
["Recovered","Zhejiang","China",29.183199999999999,120.0934,"2020-04-19",1247,{"$f":"VALUE(URL_2[[#This Row],[Data]])","v":1247}]
["Confirmed","Zhejiang","China",29.183199999999999,120.0934,"2020-03-28",1251,{"$f":"VALUE(URL_2[[#This Row],[Data]])","v":1251}]
["Recovered","Henan","China",33.881999999999998,113.614,"2020-04-21",1254,{"$f":"VALUE(URL_2[[#This Row],[Data]])","v":1254}]
["Recovered","Zhejiang","China",29.183199999999999,120.0934,"2020-05-02",1265,{"$f":"VALUE(URL_2[[#This Row],[Data]])","v":1265}]
["Confirmed","Zhejiang","China",29.183199999999999,120.0934,"2020-04-15",1268,{"$f":"VALUE(URL_2[[#This Row],[Data]])","v":1268}]
["Confirmed","Henan","China",33.881999999999998,113.614,"2020-03-17",1273,{"$f":"VALUE(URL_2[[#This Row],[Data]])","v":1273}]
["Confirmed","","Ghana",7.9465000000000003,-1.0232000000000001,"2020-04-24",1279,{"$f":"VALUE(URL_2[[#This Row],[Data]])","v":1279}]
["Recovered","","Iceland",64.963099999999997,-19.020800000000001,"2020-04-18",1291,{"$f":"VALUE(URL_2[[#This Row],[Data]])","v":1291}]
["Confirmed","Victoria","Australia",-37.813600000000001,144.9631,"2020-04-17",1302,{"$f":"VALUE(URL_2[[#This Row],[Data]])","v":1302}]
["Confirmed","","New Zealand",-40.900599999999997,174.886,"2020-04-12",1330,{"$f":"VALUE(URL_2[[#This Row],[Data]])","v":1330}]
["Recovered","Guangdong","China",23.341699999999999,113.42440000000001,"2020-03-28",1341,{"$f":"VALUE(URL_2[[#This Row],[Data]])","v":1341}]
["Confirmed","Guangdong","China",23.341699999999999,113.42440000000001,"2020-02-27",1347,{"$f":"VALUE(URL_2[[#This Row],[Data]])","v":1347}]
["Recovered","","Azerbaijan",40.143099999999997,47.576900000000002,"2020-05-01",1365,{"$f":"VALUE(URL_2[[#This Row],[Data]])","v":1365}]
["Recovered","","Egypt",26,30,"2020-04-30",1381,{"$f":"VALUE(URL_2[[#This Row],[Data]])","v":1381}]
["Recovered","","Indonesia",-0.7893,113.9213,"2020-04-29",1391,{"$f":"VALUE(URL_2[[#This Row],[Data]])","v":1391}]
["Confirmed","","Lithuania",55.169400000000003,23.8813,"2020-04-24",1410,{"$f":"VALUE(URL_2[[#This Row],[Data]])","v":1410}]
["Recovered","Guangdong","China",23.341699999999999,113.42440000000001,"2020-04-11",1437,{"$f":"VALUE(URL_2[[#This Row],[Data]])","v":1437}]
["Confirmed","","Luxembourg",49.815300000000001,6.1295999999999999,"2020-03-26",1453,{"$f":"VALUE(URL_2[[#This Row],[Data]])","v":1453}]
["Recovered","","Iraq",33,44,"2020-05-02",1473,{"$f":"VALUE(URL_2[[#This Row],[Data]])","v":1473}]
["Confirmed","","Bulgaria",42.733899999999998,25.485800000000001,"2020-04-30",1506,{"$f":"VALUE(URL_2[[#This Row],[Data]])","v":1506}]
["Confirmed","","Bahrain",26.0275,50.55,"2020-04-14",1528,{"$f":"VALUE(URL_2[[#This Row],[Data]])","v":1528}]
["Confirmed","Guangdong","China",23.341699999999999,113.42440000000001,"2020-04-10",1544,{"$f":"VALUE(URL_2[[#This Row],[Data]])","v":1544}]
["Confirmed","","Iraq",33,44,"2020-04-20",1574,{"$f":"VALUE(URL_2[[#This Row],[Data]])","v":1574}]
["Deaths","Hubei","China",30.9756,112.27070000000001,"2020-02-15",1596,{"$f":"VALUE(URL_2[[#This Row],[Data]])","v":1596}]
["Confirmed","","Qatar",25.354800000000001,51.183900000000001,"2020-04-05",1604,{"$f":"VALUE(URL_2[[#This Row],[Data]])","v":1604}]
["Confirmed","","Panama",8.5380000000000003,-80.7821,"2020-04-04",1673,{"$f":"VALUE(URL_2[[#This Row],[Data]])","v":1673}]
["Recovered","","Finland",64,26,"2020-04-19",1700,{"$f":"VALUE(URL_2[[#This Row],[Data]])","v":1700}]
["Confirmed","","Uzbekistan",41.377499999999998,64.585300000000004,"2020-04-22",1716,{"$f":"VALUE(URL_2[[#This Row],[Data]])","v":1716}]
["Deaths","Hubei","China",30.9756,112.27070000000001,"2020-02-17",1789,{"$f":"VALUE(URL_2[[#This Row],[Data]])","v":1789}]
["Confirmed","","Iraq",33,44,"2020-04-26",1820,{"$f":"VALUE(URL_2[[#This Row],[Data]])","v":1820}]
["Confirmed","","Armenia",40.069099999999999,45.038200000000003,"2020-04-28",1867,{"$f":"VALUE(URL_2[[#This Row],[Data]])","v":1867}]
["Confirmed","","Bahrain",26.0275,50.55,"2020-04-19",1881,{"$f":"VALUE(URL_2[[#This Row],[Data]])","v":1881}]
["Confirmed","","Greece",39.074199999999998,21.824300000000001,"2020-04-09",1955,{"$f":"VALUE(URL_2[[#This Row],[Data]])","v":1955}]
["Recovered","","Finland",64,26,"2020-04-20",2000,{"$f":"VALUE(URL_2[[#This Row],[Data]])","v":2000}]
["Confirmed","","United Arab Emirates",24,54,"2020-04-06",2076,{"$f":"VALUE(URL_2[[#This Row],[Data]])","v":2076}]
["Confirmed","","Pakistan",30.375299999999999,69.345100000000002,"2020-04-01",2118,{"$f":"VALUE(URL_2[[#This Row],[Data]])","v":2118}]
["Recovered","","Pakistan",30.375299999999999,69.345100000000002,"2020-04-22",2156,{"$f":"VALUE(URL_2[[#This Row],[Data]])","v":2156}]
["Confirmed","","Kuwait",29.5,47.75,"2020-04-22",2248,{"$f":"VALUE(URL_2[[#This Row],[Data]])","v":2248}]
["Recovered","","Malaysia",2.5,112.5,"2020-04-13",2276,{"$f":"VALUE(URL_2[[#This Row],[Data]])","v":2276}]
["Confirmed","","Qatar",25.354800000000001,51.183900000000001,"2020-04-09",2376,{"$f":"VALUE(URL_2[[#This Row],[Data]])","v":2376}]
["Confirmed","","Oman",21,57,"2020-05-02",2483,{"$f":"VALUE(URL_2[[#This Row],[Data]])","v":2483}]
["Confirmed","","Panama",8.5380000000000003,-80.7821,"2020-04-09",2528,{"$f":"VALUE(URL_2[[#This Row],[Data]])","v":2528}]
["Recovered","","Spain",40,-4,"2020-03-23",2575,{"$f":"VALUE(URL_2[[#This Row],[Data]])","v":2575}]
["Confirmed","","Thailand",15,101,"2020-04-14",2613,{"$f":"VALUE(URL_2[[#This Row],[Data]])","v":2613}]
["Confirmed","","Indonesia",-0.7893,113.9213,"2020-04-07",2738,{"$f":"VALUE(URL_2[[#This Row],[Data]])","v":2738}]
["Confirmed","","Malaysia",2.5,112.5,"2020-03-31",2766,{"$f":"VALUE(URL_2[[#This Row],[Data]])","v":2766}]
["Recovered","","Czechia",49.817500000000003,15.473000000000001,"2020-04-27",2826,{"$f":"VALUE(URL_2[[#This Row],[Data]])","v":2826}]
["Recovered","","Iran",32,53,"2020-03-13",2959,{"$f":"VALUE(URL_2[[#This Row],[Data]])","v":2959}]
["Deaths","","Italy",43,12,"2020-03-18",2978,{"$f":"VALUE(URL_2[[#This Row],[Data]])","v":2978}]
["Confirmed","","Egypt",26,30,"2020-04-18",3032,{"$f":"VALUE(URL_2[[#This Row],[Data]])","v":3032}]
["Recovered","","Luxembourg",49.815300000000001,6.1295999999999999,"2020-04-29",3134,{"$f":"VALUE(URL_2[[#This Row],[Data]])","v":3134}]
["Deaths","Hubei","China",30.9756,112.27070000000001,"2020-04-02",3199,{"$f":"VALUE(URL_2[[#This Row],[Data]])","v":3199}]
["Confirmed","","Algeria",28.033899999999999,1.6596,"2020-04-25",3256,{"$f":"VALUE(URL_2[[#This Row],[Data]])","v":3256}]
["Confirmed","","Brazil",-14.234999999999999,-51.9253,"2020-03-27",3417,{"$f":"VALUE(URL_2[[#This Row],[Data]])","v":3417}]
["Confirmed","","Indonesia",-0.7893,113.9213,"2020-04-10",3512,{"$f":"VALUE(URL_2[[#This Row],[Data]])","v":3512}]
["Confirmed","","Netherlands",52.132599999999996,5.2912999999999997,"2020-03-21",3631,{"$f":"VALUE(URL_2[[#This Row],[Data]])","v":3631}]
["Confirmed","","Bangladesh",23.684999999999999,90.356300000000005,"2020-04-22",3772,{"$f":"VALUE(URL_2[[#This Row],[Data]])","v":3772}]
["Recovered","","India",21,78,"2020-04-21",3975,{"$f":"VALUE(URL_2[[#This Row],[Data]])","v":3975}]
["Confirmed","","Norway",60.472000000000001,8.4688999999999997,"2020-03-28",4015,{"$f":"VALUE(URL_2[[#This Row],[Data]])","v":4015}]
["Confirmed","","Norway",60.472000000000001,8.4688999999999997,"2020-03-29",4284,{"$f":"VALUE(URL_2[[#This Row],[Data]])","v":4284}]
["Confirmed","","Singapore",1.2833000000000001,103.83329999999999,"2020-04-16",4427,{"$f":"VALUE(URL_2[[#This Row],[Data]])","v":4427}]
["Confirmed","","France",46.227600000000002,2.2136999999999998,"2020-03-14",4469,{"$f":"VALUE(URL_2[[#This Row],[Data]])","v":4469}]
["Confirmed","","South Africa",-30.5595,22.9375,"2020-04-26",4546,{"$f":"VALUE(URL_2[[#This Row],[Data]])","v":4546}]
["Confirmed","","Norway",60.472000000000001,8.4688999999999997,"2020-04-01",4863,{"$f":"VALUE(URL_2[[#This Row],[Data]])","v":4863}]
["Confirmed","","Singapore",1.2833000000000001,103.83329999999999,"2020-04-17",5050,{"$f":"VALUE(URL_2[[#This Row],[Data]])","v":5050}]
["Recovered","","Canada",56.130400000000002,-106.3468,"2020-04-09",5162,{"$f":"VALUE(URL_2[[#This Row],[Data]])","v":5162}]
["Confirmed","","Malaysia",2.5,112.5,"2020-04-20",5425,{"$f":"VALUE(URL_2[[#This Row],[Data]])","v":5425}]
["Confirmed","","Colombia",4.5709,-74.297300000000007,"2020-04-27",5597,{"$f":"VALUE(URL_2[[#This Row],[Data]])","v":5597}]
["Confirmed","","India",21,78,"2020-04-08",5916,{"$f":"VALUE(URL_2[[#This Row],[Data]])","v":5916}]
["Confirmed","","Panama",8.5380000000000003,-80.7821,"2020-04-28",6021,{"$f":"VALUE(URL_2[[#This Row],[Data]])","v":6021}]
["Confirmed","","Indonesia",-0.7893,113.9213,"2020-04-18",6248,{"$f":"VALUE(URL_2[[#This Row],[Data]])","v":6248}]
["Confirmed","","Ireland",53.142400000000002,-7.6920999999999999,"2020-04-09",6574,{"$f":"VALUE(URL_2[[#This Row],[Data]])","v":6574}]
["Confirmed","","Serbia",44.016500000000001,21.0059,"2020-04-20",6630,{"$f":"VALUE(URL_2[[#This Row],[Data]])","v":6630}]
["Confirmed","","Poland",51.919400000000003,19.145099999999999,"2020-04-13",6934,{"$f":"VALUE(URL_2[[#This Row],[Data]])","v":6934}]
["Confirmed","","Czechia",49.817500000000003,15.473000000000001,"2020-04-21",7033,{"$f":"VALUE(URL_2[[#This Row],[Data]])","v":7033}]
["Confirmed","","Switzerland",46.818199999999997,8.2274999999999991,"2020-03-22",7474,{"$f":"VALUE(URL_2[[#This Row],[Data]])","v":7474}]
["Confirmed","","Poland",51.919400000000003,19.145099999999999,"2020-04-15",7582,{"$f":"VALUE(URL_2[[#This Row],[Data]])","v":7582}]
["Recovered","","India",21,78,"2020-04-28",7747,{"$f":"VALUE(URL_2[[#This Row],[Data]])","v":7747}]
["Confirmed","","Korea, South",36,128,"2020-03-17",8320,{"$f":"VALUE(URL_2[[#This Row],[Data]])","v":8320}]
["Confirmed","","Israel",31,35,"2020-04-05",8430,{"$f":"VALUE(URL_2[[#This Row],[Data]])","v":8430}]
["Confirmed","","Mexico",23.634499999999999,-102.5528,"2020-04-20",8772,{"$f":"VALUE(URL_2[[#This Row],[Data]])","v":8772}]
["Confirmed","","Korea, South",36,128,"2020-03-24",9037,{"$f":"VALUE(URL_2[[#This Row],[Data]])","v":9037}]
["Confirmed","","Mexico",23.634499999999999,-102.5528,"2020-04-21",9501,{"$f":"VALUE(URL_2[[#This Row],[Data]])","v":9501}]
["Confirmed","","Korea, South",36,128,"2020-04-02",9976,{"$f":"VALUE(URL_2[[#This Row],[Data]])","v":9976}]
["Recovered","","Austria",47.516199999999998,14.5501,"2020-04-19",10501,{"$f":"VALUE(URL_2[[#This Row],[Data]])","v":10501}]
["Deaths","","Italy",43,12,"2020-03-29",10779,{"$f":"VALUE(URL_2[[#This Row],[Data]])","v":10779}]
["Confirmed","","Brazil",-14.234999999999999,-51.9253,"2020-04-05",11130,{"$f":"VALUE(URL_2[[#This Row],[Data]])","v":11130}]
["Recovered","","Canada",56.130400000000002,-106.3468,"2020-04-19",11847,{"$f":"VALUE(URL_2[[#This Row],[Data]])","v":11847}]
["Recovered","","Mexico",23.634499999999999,-102.5528,"2020-05-01",12377,{"$f":"VALUE(URL_2[[#This Row],[Data]])","v":12377}]
["Recovered","","Austria",47.516199999999998,14.5501,"2020-04-29",12779,{"$f":"VALUE(URL_2[[#This Row],[Data]])","v":12779}]
["Confirmed","","US",37.090200000000003,-95.712900000000005,"2020-03-19",13747,{"$f":"VALUE(URL_2[[#This Row],[Data]])","v":13747}]
["Confirmed","","France",46.227600000000002,2.2136999999999998,"2020-03-21",14282,{"$f":"VALUE(URL_2[[#This Row],[Data]])","v":14282}]
["Confirmed","","United Kingdom",55.378100000000003,-3.4360000000000004,"2020-03-27",14543,{"$f":"VALUE(URL_2[[#This Row],[Data]])","v":14543}]
["Confirmed","Ontario","Canada",51.253799999999998,-85.3232,"2020-04-25",15012,{"$f":"VALUE(URL_2[[#This Row],[Data]])","v":15012}]
["Recovered","","Germany",51,9,"2020-03-31",16100,{"$f":"VALUE(URL_2[[#This Row],[Data]])","v":16100}]
["Deaths","","United Kingdom",55.378100000000003,-3.4360000000000004,"2020-04-17",16879,{"$f":"VALUE(URL_2[[#This Row],[Data]])","v":16879}]
["Confirmed","Quebec","Canada",52.939900000000002,-73.549099999999996,"2020-04-19",17950,{"$f":"VALUE(URL_2[[#This Row],[Data]])","v":17950}]
["Confirmed","","Sweden",63,16,"2020-04-27",18926,{"$f":"VALUE(URL_2[[#This Row],[Data]])","v":18926}]
["Confirmed","","Sweden",63,16,"2020-04-30",21092,{"$f":"VALUE(URL_2[[#This Row],[Data]])","v":21092}]
["Deaths","","Italy",43,12,"2020-04-15",21645,{"$f":"VALUE(URL_2[[#This Row],[Data]])","v":21645}]
["Confirmed","","Ecuador",-1.8311999999999999,-78.183400000000006,"2020-04-27",23240,{"$f":"VALUE(URL_2[[#This Row],[Data]])","v":23240}]
["Recovered","","Italy",43,12,"2020-04-07",24392,{"$f":"VALUE(URL_2[[#This Row],[Data]])","v":24392}]
["Confirmed","","Belgium",50.833300000000001,4,"2020-04-09",24983,{"$f":"VALUE(URL_2[[#This Row],[Data]])","v":24983}]
["Confirmed","","Italy",43,12,"2020-03-16",27980,{"$f":"VALUE(URL_2[[#This Row],[Data]])","v":27980}]
["Confirmed","","Switzerland",46.818199999999997,8.2274999999999991,"2020-04-30",29586,{"$f":"VALUE(URL_2[[#This Row],[Data]])","v":29586}]
["Confirmed","","Belgium",50.833300000000001,4,"2020-04-14",31119,{"$f":"VALUE(URL_2[[#This Row],[Data]])","v":31119}]
["Confirmed","","Belgium",50.833300000000001,4,"2020-04-17",36138,{"$f":"VALUE(URL_2[[#This Row],[Data]])","v":36138}]
["Confirmed","","Turkey",38.963700000000003,35.243299999999998,"2020-04-09",42282,{"$f":"VALUE(URL_2[[#This Row],[Data]])","v":42282}]
["Recovered","","France",46.227600000000002,2.2136999999999998,"2020-04-26",44125,{"$f":"VALUE(URL_2[[#This Row],[Data]])","v":44125}]
["Recovered","Hubei","China",30.9756,112.27070000000001,"2020-03-16",55142,{"$f":"VALUE(URL_2[[#This Row],[Data]])","v":55142}]
["Confirmed","","United Kingdom",55.378100000000003,-3.4360000000000004,"2020-04-07",55242,{"$f":"VALUE(URL_2[[#This Row],[Data]])","v":55242}]
["Recovered","","Spain",40,-4,"2020-04-10",55668,{"$f":"VALUE(URL_2[[#This Row],[Data]])","v":55668}]
["Confirmed","","Iran",32,53,"2020-04-04",55743,{"$f":"VALUE(URL_2[[#This Row],[Data]])","v":55743}]
["Recovered","","Iran",32,53,"2020-04-18",55987,{"$f":"VALUE(URL_2[[#This Row],[Data]])","v":55987}]
["Recovered","Hubei","China",30.9756,112.27070000000001,"2020-03-17",56003,{"$f":"VALUE(URL_2[[#This Row],[Data]])","v":56003}]
["Confirmed","Hubei","China",30.9756,112.27070000000001,"2020-02-15",56249,{"$f":"VALUE(URL_2[[#This Row],[Data]])","v":56249}]
["Deaths","","US",37.090200000000003,-95.712900000000005,"2020-04-27",56259,{"$f":"VALUE(URL_2[[#This Row],[Data]])","v":56259}]
["Recovered","Hubei","China",30.9756,112.27070000000001,"2020-03-18",56927,{"$f":"VALUE(URL_2[[#This Row],[Data]])","v":56927}]
["Confirmed","","Turkey",38.963700000000003,35.243299999999998,"2020-04-12",56956,{"$f":"VALUE(URL_2[[#This Row],[Data]])","v":56956}]
["Confirmed","","France",46.227600000000002,2.2136999999999998,"2020-04-01",56989,{"$f":"VALUE(URL_2[[#This Row],[Data]])","v":56989}]
["Recovered","","Iran",32,53,"2020-04-19",57023,{"$f":"VALUE(URL_2[[#This Row],[Data]])","v":57023}]
["Recovered","","Germany",51,9,"2020-04-11",57400,{"$f":"VALUE(URL_2[[#This Row],[Data]])","v":57400}]
["Recovered","","Italy",43,12,"2020-04-23",57576,{"$f":"VALUE(URL_2[[#This Row],[Data]])","v":57576}]
["Recovered","Hubei","China",30.9756,112.27070000000001,"2020-03-19",57682,{"$f":"VALUE(URL_2[[#This Row],[Data]])","v":57682}]
["Confirmed","","Germany",51,9,"2020-03-28",57695,{"$f":"VALUE(URL_2[[#This Row],[Data]])","v":57695}]
["Confirmed","","Spain",40,-4,"2020-03-26",57786,{"$f":"VALUE(URL_2[[#This Row],[Data]])","v":57786}]
["Confirmed","","Russia",60,90,"2020-04-22",57999,{"$f":"VALUE(URL_2[[#This Row],[Data]])","v":57999}]
["Confirmed","Hubei","China",30.9756,112.27070000000001,"2020-02-16",58182,{"$f":"VALUE(URL_2[[#This Row],[Data]])","v":58182}]
["Confirmed","","Iran",32,53,"2020-04-05",58226,{"$f":"VALUE(URL_2[[#This Row],[Data]])","v":58226}]
["Recovered","","Turkey",38.963700000000003,35.243299999999998,"2020-05-02",58259,{"$f":"VALUE(URL_2[[#This Row],[Data]])","v":58259}]
["Deaths","","US",37.090200000000003,-95.712900000000005,"2020-04-28",58355,{"$f":"VALUE(URL_2[[#This Row],[Data]])","v":58355}]
["Recovered","Hubei","China",30.9756,112.27070000000001,"2020-03-20",58382,{"$f":"VALUE(URL_2[[#This Row],[Data]])","v":58382}]
["Recovered","","US",37.090200000000003,-95.712900000000005,"2020-04-17",58545,{"$f":"VALUE(URL_2[[#This Row],[Data]])","v":58545}]
["Recovered","Hubei","China",30.9756,112.27070000000001,"2020-03-21",58946,{"$f":"VALUE(URL_2[[#This Row],[Data]])","v":58946}]
["Confirmed","","France",46.227600000000002,2.2136999999999998,"2020-04-02",59105,{"$f":"VALUE(URL_2[[#This Row],[Data]])","v":59105}]
["Recovered","","Spain",40,-4,"2020-04-11",59109,{"$f":"VALUE(URL_2[[#This Row],[Data]])","v":59109}]
["Confirmed","","Italy",43,12,"2020-03-22",59138,{"$f":"VALUE(URL_2[[#This Row],[Data]])","v":59138}]
["Recovered","","Iran",32,53,"2020-04-20",59273,{"$f":"VALUE(URL_2[[#This Row],[Data]])","v":59273}]
["Confirmed","","Brazil",-14.234999999999999,-51.9253,"2020-04-25",59324,{"$f":"VALUE(URL_2[[#This Row],[Data]])","v":59324}]
["Recovered","Hubei","China",30.9756,112.27070000000001,"2020-03-22",59433,{"$f":"VALUE(URL_2[[#This Row],[Data]])","v":59433}]
["Recovered","Hubei","China",30.9756,112.27070000000001,"2020-03-23",59879,{"$f":"VALUE(URL_2[[#This Row],[Data]])","v":59879}]
["Confirmed","Hubei","China",30.9756,112.27070000000001,"2020-02-17",59989,{"$f":"VALUE(URL_2[[#This Row],[Data]])","v":59989}]
["Recovered","","Germany",51,9,"2020-04-12",60300,{"$f":"VALUE(URL_2[[#This Row],[Data]])","v":60300}]
["Recovered","Hubei","China",30.9756,112.27070000000001,"2020-03-24",60324,{"$f":"VALUE(URL_2[[#This Row],[Data]])","v":60324}]
["Recovered","","Italy",43,12,"2020-04-24",60498,{"$f":"VALUE(URL_2[[#This Row],[Data]])","v":60498}]
["Confirmed","","Iran",32,53,"2020-04-06",60500,{"$f":"VALUE(URL_2[[#This Row],[Data]])","v":60500}]
["Confirmed","","United Kingdom",55.378100000000003,-3.4360000000000004,"2020-04-08",60733,{"$f":"VALUE(URL_2[[#This Row],[Data]])","v":60733}]
["Recovered","Hubei","China",30.9756,112.27070000000001,"2020-03-25",60811,{"$f":"VALUE(URL_2[[#This Row],[Data]])","v":60811}]
["Recovered","","Iran",32,53,"2020-04-21",60965,{"$f":"VALUE(URL_2[[#This Row],[Data]])","v":60965}]
["Deaths","","US",37.090200000000003,-95.712900000000005,"2020-04-29",60967,{"$f":"VALUE(URL_2[[#This Row],[Data]])","v":60967}]
["Confirmed","","Turkey",38.963700000000003,35.243299999999998,"2020-04-13",61049,{"$f":"VALUE(URL_2[[#This Row],[Data]])","v":61049}]
["Recovered","Hubei","China",30.9756,112.27070000000001,"2020-03-26",61201,{"$f":"VALUE(URL_2[[#This Row],[Data]])","v":61201}]
["Confirmed","Hubei","China",30.9756,112.27070000000001,"2020-02-18",61682,{"$f":"VALUE(URL_2[[#This Row],[Data]])","v":61682}]
["Recovered","Hubei","China",30.9756,112.27070000000001,"2020-03-27",61732,{"$f":"VALUE(URL_2[[#This Row],[Data]])","v":61732}]
["Confirmed","Hubei","China",30.9756,112.27070000000001,"2020-02-19",62031,{"$f":"VALUE(URL_2[[#This Row],[Data]])","v":62031}]
["Confirmed","","Germany",51,9,"2020-03-29",62095,{"$f":"VALUE(URL_2[[#This Row],[Data]])","v":62095}]
["Recovered","Hubei","China",30.9756,112.27070000000001,"2020-03-28",62098,{"$f":"VALUE(URL_2[[#This Row],[Data]])","v":62098}]
["Recovered","","Spain",40,-4,"2020-04-12",62391,{"$f":"VALUE(URL_2[[#This Row],[Data]])","v":62391}]
["Confirmed","Hubei","China",30.9756,112.27070000000001,"2020-02-20",62442,{"$f":"VALUE(URL_2[[#This Row],[Data]])","v":62442}]
["Recovered","Hubei","China",30.9756,112.27070000000001,"2020-03-29",62570,{"$f":"VALUE(URL_2[[#This Row],[Data]])","v":62570}]
["Confirmed","","Iran",32,53,"2020-04-07",62589,{"$f":"VALUE(URL_2[[#This Row],[Data]])","v":62589}]
["Confirmed","Hubei","China",30.9756,112.27070000000001,"2020-02-21",62662,{"$f":"VALUE(URL_2[[#This Row],[Data]])","v":62662}]
["Confirmed","","Russia",60,90,"2020-04-23",62773,{"$f":"VALUE(URL_2[[#This Row],[Data]])","v":62773}]
["Recovered","Hubei","China",30.9756,112.27070000000001,"2020-03-30",62889,{"$f":"VALUE(URL_2[[#This Row],[Data]])","v":62889}]
["Deaths","","US",37.090200000000003,-95.712900000000005,"2020-04-30",62996,{"$f":"VALUE(URL_2[[#This Row],[Data]])","v":62996}]
["Confirmed","","Brazil",-14.234999999999999,-51.9253,"2020-04-26",63100,{"$f":"VALUE(URL_2[[#This Row],[Data]])","v":63100}]
["Recovered","","Iran",32,53,"2020-04-22",63113,{"$f":"VALUE(URL_2[[#This Row],[Data]])","v":63113}]
["Recovered","","Italy",43,12,"2020-04-25",63120,{"$f":"VALUE(URL_2[[#This Row],[Data]])","v":63120}]
["Recovered","Hubei","China",30.9756,112.27070000000001,"2020-03-31",63153,{"$f":"VALUE(URL_2[[#This Row],[Data]])","v":63153}]
["Recovered","Hubei","China",30.9756,112.27070000000001,"2020-04-01",63326,{"$f":"VALUE(URL_2[[#This Row],[Data]])","v":63326}]
["Recovered","Hubei","China",30.9756,112.27070000000001,"2020-04-02",63471,{"$f":"VALUE(URL_2[[#This Row],[Data]])","v":63471}]
["Recovered","Hubei","China",30.9756,112.27070000000001,"2020-04-17",63487,{"$f":"VALUE(URL_2[[#This Row],[Data]])","v":63487}]
["Recovered","Hubei","China",30.9756,112.27070000000001,"2020-04-18",63494,{"$f":"VALUE(URL_2[[#This Row],[Data]])","v":63494}]
["Recovered","Hubei","China",30.9756,112.27070000000001,"2020-04-19",63507,{"$f":"VALUE(URL_2[[#This Row],[Data]])","v":63507}]
["Recovered","Hubei","China",30.9756,112.27070000000001,"2020-04-20",63511,{"$f":"VALUE(URL_2[[#This Row],[Data]])","v":63511}]
["Recovered","Hubei","China",30.9756,112.27070000000001,"2020-04-21",63514,{"$f":"VALUE(URL_2[[#This Row],[Data]])","v":63514}]
["Recovered","Hubei","China",30.9756,112.27070000000001,"2020-04-22",63519,{"$f":"VALUE(URL_2[[#This Row],[Data]])","v":63519}]
["Recovered","Hubei","China",30.9756,112.27070000000001,"2020-04-23",63569,{"$f":"VALUE(URL_2[[#This Row],[Data]])","v":63569}]
["Recovered","Hubei","China",30.9756,112.27070000000001,"2020-04-24",63593,{"$f":"VALUE(URL_2[[#This Row],[Data]])","v":63593}]
["Recovered","Hubei","China",30.9756,112.27070000000001,"2020-04-25",63604,{"$f":"VALUE(URL_2[[#This Row],[Data]])","v":63604}]
["Recovered","Hubei","China",30.9756,112.27070000000001,"2020-04-03",63612,{"$f":"VALUE(URL_2[[#This Row],[Data]])","v":63612}]
["Recovered","Hubei","China",30.9756,112.27070000000001,"2020-04-26",63616,{"$f":"VALUE(URL_2[[#This Row],[Data]])","v":63616}]
["Recovered","Hubei","China",30.9756,112.27070000000001,"2020-04-27",63616,{"$f":"VALUE(URL_2[[#This Row],[Data]])","v":63616}]
["Recovered","Hubei","China",30.9756,112.27070000000001,"2020-04-28",63616,{"$f":"VALUE(URL_2[[#This Row],[Data]])","v":63616}]
["Recovered","Hubei","China",30.9756,112.27070000000001,"2020-04-29",63616,{"$f":"VALUE(URL_2[[#This Row],[Data]])","v":63616}]
["Recovered","Hubei","China",30.9756,112.27070000000001,"2020-04-30",63616,{"$f":"VALUE(URL_2[[#This Row],[Data]])","v":63616}]
["Recovered","Hubei","China",30.9756,112.27070000000001,"2020-05-01",63616,{"$f":"VALUE(URL_2[[#This Row],[Data]])","v":63616}]
["Recovered","Hubei","China",30.9756,112.27070000000001,"2020-05-02",63616,{"$f":"VALUE(URL_2[[#This Row],[Data]])","v":63616}]
["Recovered","Hubei","China",30.9756,112.27070000000001,"2020-04-04",63762,{"$f":"VALUE(URL_2[[#This Row],[Data]])","v":63762}]
["Confirmed","","Italy",43,12,"2020-03-23",63927,{"$f":"VALUE(URL_2[[#This Row],[Data]])","v":63927}]
["Recovered","Hubei","China",30.9756,112.27070000000001,"2020-04-05",63945,{"$f":"VALUE(URL_2[[#This Row],[Data]])","v":63945}]
["Recovered","Hubei","China",30.9756,112.27070000000001,"2020-04-06",64014,{"$f":"VALUE(URL_2[[#This Row],[Data]])","v":64014}]
["Recovered","Hubei","China",30.9756,112.27070000000001,"2020-04-07",64073,{"$f":"VALUE(URL_2[[#This Row],[Data]])","v":64073}]
["Confirmed","Hubei","China",30.9756,112.27070000000001,"2020-02-22",64084,{"$f":"VALUE(URL_2[[#This Row],[Data]])","v":64084}]
["Confirmed","Hubei","China",30.9756,112.27070000000001,"2020-02-23",64084,{"$f":"VALUE(URL_2[[#This Row],[Data]])","v":64084}]
["Recovered","Hubei","China",30.9756,112.27070000000001,"2020-04-08",64142,{"$f":"VALUE(URL_2[[#This Row],[Data]])","v":64142}]
["Recovered","Hubei","China",30.9756,112.27070000000001,"2020-04-09",64187,{"$f":"VALUE(URL_2[[#This Row],[Data]])","v":64187}]
["Recovered","Hubei","China",30.9756,112.27070000000001,"2020-04-10",64236,{"$f":"VALUE(URL_2[[#This Row],[Data]])","v":64236}]
["Recovered","Hubei","China",30.9756,112.27070000000001,"2020-04-11",64264,{"$f":"VALUE(URL_2[[#This Row],[Data]])","v":64264}]
["Recovered","Hubei","China",30.9756,112.27070000000001,"2020-04-12",64281,{"$f":"VALUE(URL_2[[#This Row],[Data]])","v":64281}]
["Confirmed","Hubei","China",30.9756,112.27070000000001,"2020-02-24",64287,{"$f":"VALUE(URL_2[[#This Row],[Data]])","v":64287}]
["Recovered","","Germany",51,9,"2020-04-13",64300,{"$f":"VALUE(URL_2[[#This Row],[Data]])","v":64300}]
["Confirmed","","France",46.227600000000002,2.2136999999999998,"2020-04-03",64338,{"$f":"VALUE(URL_2[[#This Row],[Data]])","v":64338}]
["Recovered","Hubei","China",30.9756,112.27070000000001,"2020-04-13",64338,{"$f":"VALUE(URL_2[[#This Row],[Data]])","v":64338}]
["Recovered","Hubei","China",30.9756,112.27070000000001,"2020-04-14",64363,{"$f":"VALUE(URL_2[[#This Row],[Data]])","v":64363}]
["Recovered","Hubei","China",30.9756,112.27070000000001,"2020-04-15",64402,{"$f":"VALUE(URL_2[[#This Row],[Data]])","v":64402}]
["Recovered","Hubei","China",30.9756,112.27070000000001,"2020-04-16",64435,{"$f":"VALUE(URL_2[[#This Row],[Data]])","v":64435}]
["Confirmed","","Iran",32,53,"2020-04-08",64586,{"$f":"VALUE(URL_2[[#This Row],[Data]])","v":64586}]
["Recovered","","Spain",40,-4,"2020-04-13",64727,{"$f":"VALUE(URL_2[[#This Row],[Data]])","v":64727}]
["Confirmed","Hubei","China",30.9756,112.27070000000001,"2020-02-25",64786,{"$f":"VALUE(URL_2[[#This Row],[Data]])","v":64786}]
["Recovered","","US",37.090200000000003,-95.712900000000005,"2020-04-18",64840,{"$f":"VALUE(URL_2[[#This Row],[Data]])","v":64840}]
["Recovered","","Iran",32,53,"2020-04-23",64843,{"$f":"VALUE(URL_2[[#This Row],[Data]])","v":64843}]
["Recovered","","Italy",43,12,"2020-04-26",64928,{"$f":"VALUE(URL_2[[#This Row],[Data]])","v":64928}]
["Deaths","","US",37.090200000000003,-95.712900000000005,"2020-05-01",64943,{"$f":"VALUE(URL_2[[#This Row],[Data]])","v":64943}]
["Confirmed","","United Kingdom",55.378100000000003,-3.4360000000000004,"2020-04-09",65077,{"$f":"VALUE(URL_2[[#This Row],[Data]])","v":65077}]
["Confirmed","","Turkey",38.963700000000003,35.243299999999998,"2020-04-14",65111,{"$f":"VALUE(URL_2[[#This Row],[Data]])","v":65111}]
["Confirmed","Hubei","China",30.9756,112.27070000000001,"2020-02-26",65187,{"$f":"VALUE(URL_2[[#This Row],[Data]])","v":65187}]
["Confirmed","Hubei","China",30.9756,112.27070000000001,"2020-02-27",65596,{"$f":"VALUE(URL_2[[#This Row],[Data]])","v":65596}]
["Confirmed","","Spain",40,-4,"2020-03-27",65719,{"$f":"VALUE(URL_2[[#This Row],[Data]])","v":65719}]
["Confirmed","","US",37.090200000000003,-95.712900000000005,"2020-03-25",65778,{"$f":"VALUE(URL_2[[#This Row],[Data]])","v":65778}]
["Confirmed","Hubei","China",30.9756,112.27070000000001,"2020-02-28",65914,{"$f":"VALUE(URL_2[[#This Row],[Data]])","v":65914}]
["Confirmed","","Iran",32,53,"2020-04-09",66220,{"$f":"VALUE(URL_2[[#This Row],[Data]])","v":66220}]
["Confirmed","Hubei","China",30.9756,112.27070000000001,"2020-02-29",66337,{"$f":"VALUE(URL_2[[#This Row],[Data]])","v":66337}]
["Deaths","","US",37.090200000000003,-95.712900000000005,"2020-05-02",66369,{"$f":"VALUE(URL_2[[#This Row],[Data]])","v":66369}]
["Recovered","","Iran",32,53,"2020-04-24",66599,{"$f":"VALUE(URL_2[[#This Row],[Data]])","v":66599}]
["Recovered","","Italy",43,12,"2020-04-27",66624,{"$f":"VALUE(URL_2[[#This Row],[Data]])","v":66624}]
["Confirmed","","Germany",51,9,"2020-03-30",66885,{"$f":"VALUE(URL_2[[#This Row],[Data]])","v":66885}]
["Confirmed","Hubei","China",30.9756,112.27070000000001,"2020-03-01",66907,{"$f":"VALUE(URL_2[[#This Row],[Data]])","v":66907}]
["Confirmed","Hubei","China",30.9756,112.27070000000001,"2020-03-02",67103,{"$f":"VALUE(URL_2[[#This Row],[Data]])","v":67103}]
["Confirmed","Hubei","China",30.9756,112.27070000000001,"2020-03-03",67217,{"$f":"VALUE(URL_2[[#This Row],[Data]])","v":67217}]
["Confirmed","Hubei","China",30.9756,112.27070000000001,"2020-03-04",67332,{"$f":"VALUE(URL_2[[#This Row],[Data]])","v":67332}]
["Confirmed","","Brazil",-14.234999999999999,-51.9253,"2020-04-27",67446,{"$f":"VALUE(URL_2[[#This Row],[Data]])","v":67446}]
["Confirmed","Hubei","China",30.9756,112.27070000000001,"2020-03-05",67466,{"$f":"VALUE(URL_2[[#This Row],[Data]])","v":67466}]
["Recovered","","Spain",40,-4,"2020-04-14",67504,{"$f":"VALUE(URL_2[[#This Row],[Data]])","v":67504}]
["Confirmed","Hubei","China",30.9756,112.27070000000001,"2020-03-06",67592,{"$f":"VALUE(URL_2[[#This Row],[Data]])","v":67592}]
["Confirmed","Hubei","China",30.9756,112.27070000000001,"2020-03-07",67666,{"$f":"VALUE(URL_2[[#This Row],[Data]])","v":67666}]
["Confirmed","Hubei","China",30.9756,112.27070000000001,"2020-03-08",67707,{"$f":"VALUE(URL_2[[#This Row],[Data]])","v":67707}]
["Confirmed","Hubei","China",30.9756,112.27070000000001,"2020-03-09",67743,{"$f":"VALUE(URL_2[[#This Row],[Data]])","v":67743}]
["Confirmed","Hubei","China",30.9756,112.27070000000001,"2020-03-10",67760,{"$f":"VALUE(URL_2[[#This Row],[Data]])","v":67760}]
["Confirmed","Hubei","China",30.9756,112.27070000000001,"2020-03-11",67773,{"$f":"VALUE(URL_2[[#This Row],[Data]])","v":67773}]
["Confirmed","Hubei","China",30.9756,112.27070000000001,"2020-03-12",67781,{"$f":"VALUE(URL_2[[#This Row],[Data]])","v":67781}]
["Confirmed","Hubei","China",30.9756,112.27070000000001,"2020-03-13",67786,{"$f":"VALUE(URL_2[[#This Row],[Data]])","v":67786}]
["Confirmed","Hubei","China",30.9756,112.27070000000001,"2020-03-14",67790,{"$f":"VALUE(URL_2[[#This Row],[Data]])","v":67790}]
["Confirmed","Hubei","China",30.9756,112.27070000000001,"2020-03-15",67794,{"$f":"VALUE(URL_2[[#This Row],[Data]])","v":67794}]
["Confirmed","Hubei","China",30.9756,112.27070000000001,"2020-03-16",67798,{"$f":"VALUE(URL_2[[#This Row],[Data]])","v":67798}]
["Confirmed","Hubei","China",30.9756,112.27070000000001,"2020-03-17",67799,{"$f":"VALUE(URL_2[[#This Row],[Data]])","v":67799}]
["Confirmed","Hubei","China",30.9756,112.27070000000001,"2020-03-18",67800,{"$f":"VALUE(URL_2[[#This Row],[Data]])","v":67800}]
["Confirmed","Hubei","China",30.9756,112.27070000000001,"2020-03-19",67800,{"$f":"VALUE(URL_2[[#This Row],[Data]])","v":67800}]
["Confirmed","Hubei","China",30.9756,112.27070000000001,"2020-03-20",67800,{"$f":"VALUE(URL_2[[#This Row],[Data]])","v":67800}]
["Confirmed","Hubei","China",30.9756,112.27070000000001,"2020-03-21",67800,{"$f":"VALUE(URL_2[[#This Row],[Data]])","v":67800}]
["Confirmed","Hubei","China",30.9756,112.27070000000001,"2020-03-22",67800,{"$f":"VALUE(URL_2[[#This Row],[Data]])","v":67800}]
["Confirmed","Hubei","China",30.9756,112.27070000000001,"2020-03-23",67800,{"$f":"VALUE(URL_2[[#This Row],[Data]])","v":67800}]
["Confirmed","Hubei","China",30.9756,112.27070000000001,"2020-03-24",67801,{"$f":"VALUE(URL_2[[#This Row],[Data]])","v":67801}]
["Confirmed","Hubei","China",30.9756,112.27070000000001,"2020-03-25",67801,{"$f":"VALUE(URL_2[[#This Row],[Data]])","v":67801}]
["Confirmed","Hubei","China",30.9756,112.27070000000001,"2020-03-26",67801,{"$f":"VALUE(URL_2[[#This Row],[Data]])","v":67801}]
["Confirmed","Hubei","China",30.9756,112.27070000000001,"2020-03-27",67801,{"$f":"VALUE(URL_2[[#This Row],[Data]])","v":67801}]
["Confirmed","Hubei","China",30.9756,112.27070000000001,"2020-03-28",67801,{"$f":"VALUE(URL_2[[#This Row],[Data]])","v":67801}]
["Confirmed","Hubei","China",30.9756,112.27070000000001,"2020-03-29",67801,{"$f":"VALUE(URL_2[[#This Row],[Data]])","v":67801}]
["Confirmed","Hubei","China",30.9756,112.27070000000001,"2020-03-30",67801,{"$f":"VALUE(URL_2[[#This Row],[Data]])","v":67801}]
["Confirmed","Hubei","China",30.9756,112.27070000000001,"2020-03-31",67801,{"$f":"VALUE(URL_2[[#This Row],[Data]])","v":67801}]
["Confirmed","Hubei","China",30.9756,112.27070000000001,"2020-04-01",67802,{"$f":"VALUE(URL_2[[#This Row],[Data]])","v":67802}]
["Confirmed","Hubei","China",30.9756,112.27070000000001,"2020-04-02",67802,{"$f":"VALUE(URL_2[[#This Row],[Data]])","v":67802}]
["Confirmed","Hubei","China",30.9756,112.27070000000001,"2020-04-03",67802,{"$f":"VALUE(URL_2[[#This Row],[Data]])","v":67802}]
["Confirmed","Hubei","China",30.9756,112.27070000000001,"2020-04-04",67803,{"$f":"VALUE(URL_2[[#This Row],[Data]])","v":67803}]
["Confirmed","Hubei","China",30.9756,112.27070000000001,"2020-04-05",67803,{"$f":"VALUE(URL_2[[#This Row],[Data]])","v":67803}]
["Confirmed","Hubei","China",30.9756,112.27070000000001,"2020-04-06",67803,{"$f":"VALUE(URL_2[[#This Row],[Data]])","v":67803}]
["Confirmed","Hubei","China",30.9756,112.27070000000001,"2020-04-07",67803,{"$f":"VALUE(URL_2[[#This Row],[Data]])","v":67803}]
["Confirmed","Hubei","China",30.9756,112.27070000000001,"2020-04-08",67803,{"$f":"VALUE(URL_2[[#This Row],[Data]])","v":67803}]
["Confirmed","Hubei","China",30.9756,112.27070000000001,"2020-04-09",67803,{"$f":"VALUE(URL_2[[#This Row],[Data]])","v":67803}]
["Confirmed","Hubei","China",30.9756,112.27070000000001,"2020-04-10",67803,{"$f":"VALUE(URL_2[[#This Row],[Data]])","v":67803}]
["Confirmed","Hubei","China",30.9756,112.27070000000001,"2020-04-11",67803,{"$f":"VALUE(URL_2[[#This Row],[Data]])","v":67803}]
["Confirmed","Hubei","China",30.9756,112.27070000000001,"2020-04-12",67803,{"$f":"VALUE(URL_2[[#This Row],[Data]])","v":67803}]
["Confirmed","Hubei","China",30.9756,112.27070000000001,"2020-04-13",67803,{"$f":"VALUE(URL_2[[#This Row],[Data]])","v":67803}]
["Confirmed","Hubei","China",30.9756,112.27070000000001,"2020-04-14",67803,{"$f":"VALUE(URL_2[[#This Row],[Data]])","v":67803}]
["Confirmed","Hubei","China",30.9756,112.27070000000001,"2020-04-15",67803,{"$f":"VALUE(URL_2[[#This Row],[Data]])","v":67803}]
["Confirmed","Hubei","China",30.9756,112.27070000000001,"2020-04-16",67803,{"$f":"VALUE(URL_2[[#This Row],[Data]])","v":67803}]
["Confirmed","Hubei","China",30.9756,112.27070000000001,"2020-04-17",68128,{"$f":"VALUE(URL_2[[#This Row],[Data]])","v":68128}]
["Confirmed","Hubei","China",30.9756,112.27070000000001,"2020-04-18",68128,{"$f":"VALUE(URL_2[[#This Row],[Data]])","v":68128}]
["Confirmed","Hubei","China",30.9756,112.27070000000001,"2020-04-19",68128,{"$f":"VALUE(URL_2[[#This Row],[Data]])","v":68128}]
["Confirmed","Hubei","China",30.9756,112.27070000000001,"2020-04-20",68128,{"$f":"VALUE(URL_2[[#This Row],[Data]])","v":68128}]
["Confirmed","Hubei","China",30.9756,112.27070000000001,"2020-04-21",68128,{"$f":"VALUE(URL_2[[#This Row],[Data]])","v":68128}]
["Confirmed","Hubei","China",30.9756,112.27070000000001,"2020-04-22",68128,{"$f":"VALUE(URL_2[[#This Row],[Data]])","v":68128}]
["Confirmed","Hubei","China",30.9756,112.27070000000001,"2020-04-23",68128,{"$f":"VALUE(URL_2[[#This Row],[Data]])","v":68128}]
["Confirmed","Hubei","China",30.9756,112.27070000000001,"2020-04-24",68128,{"$f":"VALUE(URL_2[[#This Row],[Data]])","v":68128}]
["Confirmed","Hubei","China",30.9756,112.27070000000001,"2020-04-25",68128,{"$f":"VALUE(URL_2[[#This Row],[Data]])","v":68128}]
["Confirmed","Hubei","China",30.9756,112.27070000000001,"2020-04-26",68128,{"$f":"VALUE(URL_2[[#This Row],[Data]])","v":68128}]
["Confirmed","Hubei","China",30.9756,112.27070000000001,"2020-04-27",68128,{"$f":"VALUE(URL_2[[#This Row],[Data]])","v":68128}]
["Confirmed","Hubei","China",30.9756,112.27070000000001,"2020-04-28",68128,{"$f":"VALUE(URL_2[[#This Row],[Data]])","v":68128}]
["Confirmed","Hubei","China",30.9756,112.27070000000001,"2020-04-29",68128,{"$f":"VALUE(URL_2[[#This Row],[Data]])","v":68128}]
["Confirmed","Hubei","China",30.9756,112.27070000000001,"2020-04-30",68128,{"$f":"VALUE(URL_2[[#This Row],[Data]])","v":68128}]
["Confirmed","Hubei","China",30.9756,112.27070000000001,"2020-05-01",68128,{"$f":"VALUE(URL_2[[#This Row],[Data]])","v":68128}]
["Confirmed","Hubei","China",30.9756,112.27070000000001,"2020-05-02",68128,{"$f":"VALUE(URL_2[[#This Row],[Data]])","v":68128}]
["Confirmed","","Iran",32,53,"2020-04-10",68192,{"$f":"VALUE(URL_2[[#This Row],[Data]])","v":68192}]
["Recovered","","Iran",32,53,"2020-04-25",68193,{"$f":"VALUE(URL_2[[#This Row],[Data]])","v":68193}]
["Recovered","","Germany",51,9,"2020-04-14",68200,{"$f":"VALUE(URL_2[[#This Row],[Data]])","v":68200}]
["Confirmed","","France",46.227600000000002,2.2136999999999998,"2020-04-04",68605,{"$f":"VALUE(URL_2[[#This Row],[Data]])","v":68605}]
["Confirmed","","Russia",60,90,"2020-04-24",68622,{"$f":"VALUE(URL_2[[#This Row],[Data]])","v":68622}]
["Recovered","","Italy",43,12,"2020-04-28",68941,{"$f":"VALUE(URL_2[[#This Row],[Data]])","v":68941}]
["Confirmed","","Italy",43,12,"2020-03-24",69176,{"$f":"VALUE(URL_2[[#This Row],[Data]])","v":69176}]
["Confirmed","","Turkey",38.963700000000003,35.243299999999998,"2020-04-15",69392,{"$f":"VALUE(URL_2[[#This Row],[Data]])","v":69392}]
["Recovered","","Iran",32,53,"2020-04-26",69657,{"$f":"VALUE(URL_2[[#This Row],[Data]])","v":69657}]
["Confirmed","","Iran",32,53,"2020-04-11",70029,{"$f":"VALUE(URL_2[[#This Row],[Data]])","v":70029}]
["Recovered","","US",37.090200000000003,-95.712900000000005,"2020-04-19",70337,{"$f":"VALUE(URL_2[[#This Row],[Data]])","v":70337}]
["Confirmed","","France",46.227600000000002,2.2136999999999998,"2020-04-05",70478,{"$f":"VALUE(URL_2[[#This Row],[Data]])","v":70478}]
["Recovered","","Spain",40,-4,"2020-04-15",70853,{"$f":"VALUE(URL_2[[#This Row],[Data]])","v":70853}]
["Recovered","","Iran",32,53,"2020-04-27",70933,{"$f":"VALUE(URL_2[[#This Row],[Data]])","v":70933}]
["Recovered","","Italy",43,12,"2020-04-29",71252,{"$f":"VALUE(URL_2[[#This Row],[Data]])","v":71252}]
["Confirmed","","Iran",32,53,"2020-04-12",71686,{"$f":"VALUE(URL_2[[#This Row],[Data]])","v":71686}]
["Confirmed","","Germany",51,9,"2020-03-31",71808,{"$f":"VALUE(URL_2[[#This Row],[Data]])","v":71808}]
["Recovered","","US",37.090200000000003,-95.712900000000005,"2020-04-20",72329,{"$f":"VALUE(URL_2[[#This Row],[Data]])","v":72329}]
["Recovered","","Iran",32,53,"2020-04-28",72439,{"$f":"VALUE(URL_2[[#This Row],[Data]])","v":72439}]
["Recovered","","Germany",51,9,"2020-04-15",72600,{"$f":"VALUE(URL_2[[#This Row],[Data]])","v":72600}]
["Confirmed","","Brazil",-14.234999999999999,-51.9253,"2020-04-28",73235,{"$f":"VALUE(URL_2[[#This Row],[Data]])","v":73235}]
["Confirmed","","Spain",40,-4,"2020-03-28",73235,{"$f":"VALUE(URL_2[[#This Row],[Data]])","v":73235}]
["Confirmed","","Iran",32,53,"2020-04-13",73303,{"$f":"VALUE(URL_2[[#This Row],[Data]])","v":73303}]
["Confirmed","","United Kingdom",55.378100000000003,-3.4360000000000004,"2020-04-10",73758,{"$f":"VALUE(URL_2[[#This Row],[Data]])","v":73758}]
["Recovered","","Iran",32,53,"2020-04-29",73791,{"$f":"VALUE(URL_2[[#This Row],[Data]])","v":73791}]
["Confirmed","","Turkey",38.963700000000003,35.243299999999998,"2020-04-16",74193,{"$f":"VALUE(URL_2[[#This Row],[Data]])","v":74193}]
["Confirmed","","Italy",43,12,"2020-03-25",74386,{"$f":"VALUE(URL_2[[#This Row],[Data]])","v":74386}]
["Confirmed","","France",46.227600000000002,2.2136999999999998,"2020-04-06",74390,{"$f":"VALUE(URL_2[[#This Row],[Data]])","v":74390}]
["Confirmed","","Russia",60,90,"2020-04-25",74588,{"$f":"VALUE(URL_2[[#This Row],[Data]])","v":74588}]
["Recovered","","Spain",40,-4,"2020-04-16",74797,{"$f":"VALUE(URL_2[[#This Row],[Data]])","v":74797}]
["Recovered","","Spain",40,-4,"2020-04-17",74797,{"$f":"VALUE(URL_2[[#This Row],[Data]])","v":74797}]
["Recovered","","Spain",40,-4,"2020-04-18",74797,{"$f":"VALUE(URL_2[[#This Row],[Data]])","v":74797}]
["Confirmed","","Iran",32,53,"2020-04-14",74877,{"$f":"VALUE(URL_2[[#This Row],[Data]])","v":74877}]
["Recovered","","Iran",32,53,"2020-04-30",75103,{"$f":"VALUE(URL_2[[#This Row],[Data]])","v":75103}]
["Recovered","","US",37.090200000000003,-95.712900000000005,"2020-04-21",75204,{"$f":"VALUE(URL_2[[#This Row],[Data]])","v":75204}]
["Recovered","","Italy",43,12,"2020-04-30",75945,{"$f":"VALUE(URL_2[[#This Row],[Data]])","v":75945}]
["Recovered","","Iran",32,53,"2020-05-01",76318,{"$f":"VALUE(URL_2[[#This Row],[Data]])","v":76318}]
["Confirmed","","Iran",32,53,"2020-04-15",76389,{"$f":"VALUE(URL_2[[#This Row],[Data]])","v":76389}]
["Recovered","","Germany",51,9,"2020-04-16",77000,{"$f":"VALUE(URL_2[[#This Row],[Data]])","v":77000}]
["Recovered","","Iran",32,53,"2020-05-02",77350,{"$f":"VALUE(URL_2[[#This Row],[Data]])","v":77350}]
["Recovered","","Spain",40,-4,"2020-04-19",77357,{"$f":"VALUE(URL_2[[#This Row],[Data]])","v":77357}]
["Recovered","","US",37.090200000000003,-95.712900000000005,"2020-04-22",77366,{"$f":"VALUE(URL_2[[#This Row],[Data]])","v":77366}]
["Confirmed","","Germany",51,9,"2020-04-01",77872,{"$f":"VALUE(URL_2[[#This Row],[Data]])","v":77872}]
["Confirmed","","Iran",32,53,"2020-04-16",77995,{"$f":"VALUE(URL_2[[#This Row],[Data]])","v":77995}]
["Confirmed","","France",46.227600000000002,2.2136999999999998,"2020-04-07",78167,{"$f":"VALUE(URL_2[[#This Row],[Data]])","v":78167}]
["Recovered","","Italy",43,12,"2020-05-01",78249,{"$f":"VALUE(URL_2[[#This Row],[Data]])","v":78249}]
["Confirmed","","Turkey",38.963700000000003,35.243299999999998,"2020-04-17",78546,{"$f":"VALUE(URL_2[[#This Row],[Data]])","v":78546}]
["Confirmed","","United Kingdom",55.378100000000003,-3.4360000000000004,"2020-04-11",78991,{"$f":"VALUE(URL_2[[#This Row],[Data]])","v":78991}]
["Confirmed","","Iran",32,53,"2020-04-17",79494,{"$f":"VALUE(URL_2[[#This Row],[Data]])","v":79494}]
["Confirmed","","Brazil",-14.234999999999999,-51.9253,"2020-04-29",79685,{"$f":"VALUE(URL_2[[#This Row],[Data]])","v":79685}]
["Recovered","","Italy",43,12,"2020-05-02",79914,{"$f":"VALUE(URL_2[[#This Row],[Data]])","v":79914}]
["Confirmed","","Spain",40,-4,"2020-03-29",80110,{"$f":"VALUE(URL_2[[#This Row],[Data]])","v":80110}]
["Recovered","","US",37.090200000000003,-95.712900000000005,"2020-04-23",80203,{"$f":"VALUE(URL_2[[#This Row],[Data]])","v":80203}]
["Recovered","","Spain",40,-4,"2020-04-20",80587,{"$f":"VALUE(URL_2[[#This Row],[Data]])","v":80587}]
["Confirmed","","Italy",43,12,"2020-03-26",80589,{"$f":"VALUE(URL_2[[#This Row],[Data]])","v":80589}]
["Confirmed","","Iran",32,53,"2020-04-18",80868,{"$f":"VALUE(URL_2[[#This Row],[Data]])","v":80868}]
["Confirmed","","Russia",60,90,"2020-04-26",80949,{"$f":"VALUE(URL_2[[#This Row],[Data]])","v":80949}]
["Confirmed","","France",46.227600000000002,2.2136999999999998,"2020-04-08",82048,{"$f":"VALUE(URL_2[[#This Row],[Data]])","v":82048}]
["Confirmed","","Iran",32,53,"2020-04-19",82211,{"$f":"VALUE(URL_2[[#This Row],[Data]])","v":82211}]
["Confirmed","","Turkey",38.963700000000003,35.243299999999998,"2020-04-18",82329,{"$f":"VALUE(URL_2[[#This Row],[Data]])","v":82329}]
["Recovered","","Spain",40,-4,"2020-04-21",82514,{"$f":"VALUE(URL_2[[#This Row],[Data]])","v":82514}]
["Recovered","","Germany",51,9,"2020-04-17",83114,{"$f":"VALUE(URL_2[[#This Row],[Data]])","v":83114}]
["Confirmed","","Iran",32,53,"2020-04-20",83505,{"$f":"VALUE(URL_2[[#This Row],[Data]])","v":83505}]
["Confirmed","","US",37.090200000000003,-95.712900000000005,"2020-03-26",83836,{"$f":"VALUE(URL_2[[#This Row],[Data]])","v":83836}]
["Confirmed","","United Kingdom",55.378100000000003,-3.4360000000000004,"2020-04-12",84279,{"$f":"VALUE(URL_2[[#This Row],[Data]])","v":84279}]
["Confirmed","","Germany",51,9,"2020-04-02",84794,{"$f":"VALUE(URL_2[[#This Row],[Data]])","v":84794}]
["Confirmed","","Iran",32,53,"2020-04-21",84802,{"$f":"VALUE(URL_2[[#This Row],[Data]])","v":84802}]
["Recovered","","Germany",51,9,"2020-04-18",85400,{"$f":"VALUE(URL_2[[#This Row],[Data]])","v":85400}]
["Recovered","","Spain",40,-4,"2020-04-22",85915,{"$f":"VALUE(URL_2[[#This Row],[Data]])","v":85915}]
["Confirmed","","Iran",32,53,"2020-04-22",85996,{"$f":"VALUE(URL_2[[#This Row],[Data]])","v":85996}]
["Confirmed","","Turkey",38.963700000000003,35.243299999999998,"2020-04-19",86306,{"$f":"VALUE(URL_2[[#This Row],[Data]])","v":86306}]
["Confirmed","","France",46.227600000000002,2.2136999999999998,"2020-04-09",86334,{"$f":"VALUE(URL_2[[#This Row],[Data]])","v":86334}]
["Confirmed","","Italy",43,12,"2020-03-27",86498,{"$f":"VALUE(URL_2[[#This Row],[Data]])","v":86498}]
["Confirmed","","Iran",32,53,"2020-04-23",87026,{"$f":"VALUE(URL_2[[#This Row],[Data]])","v":87026}]
["Confirmed","","Russia",60,90,"2020-04-27",87147,{"$f":"VALUE(URL_2[[#This Row],[Data]])","v":87147}]
["Confirmed","","Brazil",-14.234999999999999,-51.9253,"2020-04-30",87187,{"$f":"VALUE(URL_2[[#This Row],[Data]])","v":87187}]
["Confirmed","","Spain",40,-4,"2020-03-30",87956,{"$f":"VALUE(URL_2[[#This Row],[Data]])","v":87956}]
["Recovered","","Germany",51,9,"2020-04-19",88000,{"$f":"VALUE(URL_2[[#This Row],[Data]])","v":88000}]
["Confirmed","","Iran",32,53,"2020-04-24",88194,{"$f":"VALUE(URL_2[[#This Row],[Data]])","v":88194}]
["Confirmed","","United Kingdom",55.378100000000003,-3.4360000000000004,"2020-04-13",88621,{"$f":"VALUE(URL_2[[#This Row],[Data]])","v":88621}]
["Recovered","","Spain",40,-4,"2020-04-23",89250,{"$f":"VALUE(URL_2[[#This Row],[Data]])","v":89250}]
["Confirmed","","Iran",32,53,"2020-04-25",89328,{"$f":"VALUE(URL_2[[#This Row],[Data]])","v":89328}]
["Confirmed","","Iran",32,53,"2020-04-26",90481,{"$f":"VALUE(URL_2[[#This Row],[Data]])","v":90481}]
["Confirmed","","France",46.227600000000002,2.2136999999999998,"2020-04-10",90676,{"$f":"VALUE(URL_2[[#This Row],[Data]])","v":90676}]
["Confirmed","","Turkey",38.963700000000003,35.243299999999998,"2020-04-20",90980,{"$f":"VALUE(URL_2[[#This Row],[Data]])","v":90980}]
["Confirmed","","Germany",51,9,"2020-04-03",91159,{"$f":"VALUE(URL_2[[#This Row],[Data]])","v":91159}]
["Confirmed","","Iran",32,53,"2020-04-27",91472,{"$f":"VALUE(URL_2[[#This Row],[Data]])","v":91472}]
["Recovered","","Germany",51,9,"2020-04-20",91500,{"$f":"VALUE(URL_2[[#This Row],[Data]])","v":91500}]
["Confirmed","","Brazil",-14.234999999999999,-51.9253,"2020-05-01",92202,{"$f":"VALUE(URL_2[[#This Row],[Data]])","v":92202}]
["Recovered","","Spain",40,-4,"2020-04-24",92355,{"$f":"VALUE(URL_2[[#This Row],[Data]])","v":92355}]
["Confirmed","","Italy",43,12,"2020-03-28",92472,{"$f":"VALUE(URL_2[[#This Row],[Data]])","v":92472}]
["Confirmed","","Iran",32,53,"2020-04-28",92584,{"$f":"VALUE(URL_2[[#This Row],[Data]])","v":92584}]
["Confirmed","","Russia",60,90,"2020-04-28",93558,{"$f":"VALUE(URL_2[[#This Row],[Data]])","v":93558}]
["Confirmed","","Iran",32,53,"2020-04-29",93657,{"$f":"VALUE(URL_2[[#This Row],[Data]])","v":93657}]
["Confirmed","","France",46.227600000000002,2.2136999999999998,"2020-04-11",93790,{"$f":"VALUE(URL_2[[#This Row],[Data]])","v":93790}]
["Confirmed","","United Kingdom",55.378100000000003,-3.4360000000000004,"2020-04-14",93873,{"$f":"VALUE(URL_2[[#This Row],[Data]])","v":93873}]
["Confirmed","","Iran",32,53,"2020-04-30",94640,{"$f":"VALUE(URL_2[[#This Row],[Data]])","v":94640}]
["Recovered","","Germany",51,9,"2020-04-21",95200,{"$f":"VALUE(URL_2[[#This Row],[Data]])","v":95200}]
["Confirmed","","Turkey",38.963700000000003,35.243299999999998,"2020-04-21",95591,{"$f":"VALUE(URL_2[[#This Row],[Data]])","v":95591}]
["Confirmed","","Iran",32,53,"2020-05-01",95646,{"$f":"VALUE(URL_2[[#This Row],[Data]])","v":95646}]
["Recovered","","Spain",40,-4,"2020-04-25",95708,{"$f":"VALUE(URL_2[[#This Row],[Data]])","v":95708}]
["Confirmed","","Spain",40,-4,"2020-03-31",95923,{"$f":"VALUE(URL_2[[#This Row],[Data]])","v":95923}]
["Confirmed","","Germany",51,9,"2020-04-04",96092,{"$f":"VALUE(URL_2[[#This Row],[Data]])","v":96092}]
["Confirmed","","Iran",32,53,"2020-05-02",96448,{"$f":"VALUE(URL_2[[#This Row],[Data]])","v":96448}]
["Confirmed","","Brazil",-14.234999999999999,-51.9253,"2020-05-02",97100,{"$f":"VALUE(URL_2[[#This Row],[Data]])","v":97100}]
["Confirmed","","Italy",43,12,"2020-03-29",97689,{"$f":"VALUE(URL_2[[#This Row],[Data]])","v":97689}]
["Recovered","","Spain",40,-4,"2020-04-26",98372,{"$f":"VALUE(URL_2[[#This Row],[Data]])","v":98372}]
["Confirmed","","United Kingdom",55.378100000000003,-3.4360000000000004,"2020-04-15",98476,{"$f":"VALUE(URL_2[[#This Row],[Data]])","v":98476}]
["Confirmed","","Turkey",38.963700000000003,35.243299999999998,"2020-04-22",98674,{"$f":"VALUE(URL_2[[#This Row],[Data]])","v":98674}]
["Recovered","","US",37.090200000000003,-95.712900000000005,"2020-04-24",99079,{"$f":"VALUE(URL_2[[#This Row],[Data]])","v":99079}]
["Confirmed","","Russia",60,90,"2020-04-29",99399,{"$f":"VALUE(URL_2[[#This Row],[Data]])","v":99399}]
["Recovered","","Germany",51,9,"2020-04-22",99400,{"$f":"VALUE(URL_2[[#This Row],[Data]])","v":99400}]
["Confirmed","","Germany",51,9,"2020-04-05",100123,{"$f":"VALUE(URL_2[[#This Row],[Data]])","v":100123}]
["Recovered","","US",37.090200000000003,-95.712900000000005,"2020-04-25",100372,{"$f":"VALUE(URL_2[[#This Row],[Data]])","v":100372}]
["Recovered","","Spain",40,-4,"2020-04-27",100875,{"$f":"VALUE(URL_2[[#This Row],[Data]])","v":100875}]
["Confirmed","","US",37.090200000000003,-95.712900000000005,"2020-03-27",101657,{"$f":"VALUE(URL_2[[#This Row],[Data]])","v":101657}]
["Confirmed","","Italy",43,12,"2020-03-30",101739,{"$f":"VALUE(URL_2[[#This Row],[Data]])","v":101739}]
["Confirmed","","Turkey",38.963700000000003,35.243299999999998,"2020-04-23",101790,{"$f":"VALUE(URL_2[[#This Row],[Data]])","v":101790}]
["Recovered","","Spain",40,-4,"2020-04-28",102548,{"$f":"VALUE(URL_2[[#This Row],[Data]])","v":102548}]
["Confirmed","","United Kingdom",55.378100000000003,-3.4360000000000004,"2020-04-16",103093,{"$f":"VALUE(URL_2[[#This Row],[Data]])","v":103093}]
["Recovered","","Germany",51,9,"2020-04-23",103300,{"$f":"VALUE(URL_2[[#This Row],[Data]])","v":103300}]
["Confirmed","","Germany",51,9,"2020-04-06",103374,{"$f":"VALUE(URL_2[[#This Row],[Data]])","v":103374}]
["Confirmed","","Spain",40,-4,"2020-04-01",104118,{"$f":"VALUE(URL_2[[#This Row],[Data]])","v":104118}]
["Confirmed","","Turkey",38.963700000000003,35.243299999999998,"2020-04-24",104912,{"$f":"VALUE(URL_2[[#This Row],[Data]])","v":104912}]
["Confirmed","","Italy",43,12,"2020-03-31",105792,{"$f":"VALUE(URL_2[[#This Row],[Data]])","v":105792}]
["Confirmed","","Russia",60,90,"2020-04-30",106498,{"$f":"VALUE(URL_2[[#This Row],[Data]])","v":106498}]
["Recovered","","US",37.090200000000003,-95.712900000000005,"2020-04-26",106988,{"$f":"VALUE(URL_2[[#This Row],[Data]])","v":106988}]
["Confirmed","","Germany",51,9,"2020-04-07",107663,{"$f":"VALUE(URL_2[[#This Row],[Data]])","v":107663}]
["Confirmed","","Turkey",38.963700000000003,35.243299999999998,"2020-04-25",107773,{"$f":"VALUE(URL_2[[#This Row],[Data]])","v":107773}]
["Confirmed","","United Kingdom",55.378100000000003,-3.4360000000000004,"2020-04-17",108692,{"$f":"VALUE(URL_2[[#This Row],[Data]])","v":108692}]
["Recovered","","Spain",40,-4,"2020-04-29",108947,{"$f":"VALUE(URL_2[[#This Row],[Data]])","v":108947}]
["Recovered","","Germany",51,9,"2020-04-24",109800,{"$f":"VALUE(URL_2[[#This Row],[Data]])","v":109800}]
["Recovered","","Germany",51,9,"2020-04-25",109800,{"$f":"VALUE(URL_2[[#This Row],[Data]])","v":109800}]
["Confirmed","","Turkey",38.963700000000003,35.243299999999998,"2020-04-26",110130,{"$f":"VALUE(URL_2[[#This Row],[Data]])","v":110130}]
["Confirmed","","Italy",43,12,"2020-04-01",110574,{"$f":"VALUE(URL_2[[#This Row],[Data]])","v":110574}]
["Recovered","","US",37.090200000000003,-95.712900000000005,"2020-04-27",111424,{"$f":"VALUE(URL_2[[#This Row],[Data]])","v":111424}]
["Recovered","","Germany",51,9,"2020-04-26",112000,{"$f":"VALUE(URL_2[[#This Row],[Data]])","v":112000}]
["Recovered","","Spain",40,-4,"2020-04-30",112050,{"$f":"VALUE(URL_2[[#This Row],[Data]])","v":112050}]
["Recovered","","Spain",40,-4,"2020-05-01",112050,{"$f":"VALUE(URL_2[[#This Row],[Data]])","v":112050}]
["Confirmed","","Spain",40,-4,"2020-04-02",112065,{"$f":"VALUE(URL_2[[#This Row],[Data]])","v":112065}]
["Confirmed","","Turkey",38.963700000000003,35.243299999999998,"2020-04-27",112261,{"$f":"VALUE(URL_2[[#This Row],[Data]])","v":112261}]
["Confirmed","","Germany",51,9,"2020-04-08",113296,{"$f":"VALUE(URL_2[[#This Row],[Data]])","v":113296}]
["Confirmed","","United Kingdom",55.378100000000003,-3.4360000000000004,"2020-04-18",114217,{"$f":"VALUE(URL_2[[#This Row],[Data]])","v":114217}]
["Confirmed","","Russia",60,90,"2020-05-01",114431,{"$f":"VALUE(URL_2[[#This Row],[Data]])","v":114431}]
["Recovered","","Germany",51,9,"2020-04-27",114500,{"$f":"VALUE(URL_2[[#This Row],[Data]])","v":114500}]
["Confirmed","","Turkey",38.963700000000003,35.243299999999998,"2020-04-28",114653,{"$f":"VALUE(URL_2[[#This Row],[Data]])","v":114653}]
["Confirmed","","Italy",43,12,"2020-04-02",115242,{"$f":"VALUE(URL_2[[#This Row],[Data]])","v":115242}]
["Recovered","","US",37.090200000000003,-95.712900000000005,"2020-04-28",115936,{"$f":"VALUE(URL_2[[#This Row],[Data]])","v":115936}]
["Recovered","","Spain",40,-4,"2020-05-02",117248,{"$f":"VALUE(URL_2[[#This Row],[Data]])","v":117248}]
["Recovered","","Germany",51,9,"2020-04-28",117400,{"$f":"VALUE(URL_2[[#This Row],[Data]])","v":117400}]
["Confirmed","","Turkey",38.963700000000003,35.243299999999998,"2020-04-29",117589,{"$f":"VALUE(URL_2[[#This Row],[Data]])","v":117589}]
["Confirmed","","Germany",51,9,"2020-04-09",118181,{"$f":"VALUE(URL_2[[#This Row],[Data]])","v":118181}]
["Confirmed","","Spain",40,-4,"2020-04-03",119199,{"$f":"VALUE(URL_2[[#This Row],[Data]])","v":119199}]
["Confirmed","","Italy",43,12,"2020-04-03",119827,{"$f":"VALUE(URL_2[[#This Row],[Data]])","v":119827}]
["Confirmed","","United Kingdom",55.378100000000003,-3.4360000000000004,"2020-04-19",120067,{"$f":"VALUE(URL_2[[#This Row],[Data]])","v":120067}]
["Confirmed","","Turkey",38.963700000000003,35.243299999999998,"2020-04-30",120204,{"$f":"VALUE(URL_2[[#This Row],[Data]])","v":120204}]
["Recovered","","Germany",51,9,"2020-04-29",120400,{"$f":"VALUE(URL_2[[#This Row],[Data]])","v":120400}]
["Confirmed","","France",46.227600000000002,2.2136999999999998,"2020-04-12",120633,{"$f":"VALUE(URL_2[[#This Row],[Data]])","v":120633}]
["Recovered","","US",37.090200000000003,-95.712900000000005,"2020-04-29",120720,{"$f":"VALUE(URL_2[[#This Row],[Data]])","v":120720}]
["Confirmed","","US",37.090200000000003,-95.712900000000005,"2020-03-28",121465,{"$f":"VALUE(URL_2[[#This Row],[Data]])","v":121465}]
["Confirmed","","Germany",51,9,"2020-04-10",122171,{"$f":"VALUE(URL_2[[#This Row],[Data]])","v":122171}]
["Confirmed","","Turkey",38.963700000000003,35.243299999999998,"2020-05-01",122392,{"$f":"VALUE(URL_2[[#This Row],[Data]])","v":122392}]
["Recovered","","Germany",51,9,"2020-04-30",123500,{"$f":"VALUE(URL_2[[#This Row],[Data]])","v":123500}]
["Confirmed","","Russia",60,90,"2020-05-02",124054,{"$f":"VALUE(URL_2[[#This Row],[Data]])","v":124054}]
["Confirmed","","France",46.227600000000002,2.2136999999999998,"2020-04-13",124298,{"$f":"VALUE(URL_2[[#This Row],[Data]])","v":124298}]
["Confirmed","","Turkey",38.963700000000003,35.243299999999998,"2020-05-02",124375,{"$f":"VALUE(URL_2[[#This Row],[Data]])","v":124375}]
["Confirmed","","Italy",43,12,"2020-04-04",124632,{"$f":"VALUE(URL_2[[#This Row],[Data]])","v":124632}]
["Confirmed","","United Kingdom",55.378100000000003,-3.4360000000000004,"2020-04-20",124743,{"$f":"VALUE(URL_2[[#This Row],[Data]])","v":124743}]
["Confirmed","","Germany",51,9,"2020-04-11",124908,{"$f":"VALUE(URL_2[[#This Row],[Data]])","v":124908}]
["Confirmed","","Spain",40,-4,"2020-04-04",126168,{"$f":"VALUE(URL_2[[#This Row],[Data]])","v":126168}]
["Recovered","","Germany",51,9,"2020-05-01",126900,{"$f":"VALUE(URL_2[[#This Row],[Data]])","v":126900}]
["Confirmed","","Germany",51,9,"2020-04-12",127854,{"$f":"VALUE(URL_2[[#This Row],[Data]])","v":127854}]
["Confirmed","","Italy",43,12,"2020-04-05",128948,{"$f":"VALUE(URL_2[[#This Row],[Data]])","v":128948}]
["Recovered","","Germany",51,9,"2020-05-02",129000,{"$f":"VALUE(URL_2[[#This Row],[Data]])","v":129000}]
["Confirmed","","United Kingdom",55.378100000000003,-3.4360000000000004,"2020-04-21",129044,{"$f":"VALUE(URL_2[[#This Row],[Data]])","v":129044}]
["Confirmed","","France",46.227600000000002,2.2136999999999998,"2020-04-14",129257,{"$f":"VALUE(URL_2[[#This Row],[Data]])","v":129257}]
["Confirmed","","Germany",51,9,"2020-04-13",130072,{"$f":"VALUE(URL_2[[#This Row],[Data]])","v":130072}]
["Confirmed","","Germany",51,9,"2020-04-14",131359,{"$f":"VALUE(URL_2[[#This Row],[Data]])","v":131359}]
["Confirmed","","Spain",40,-4,"2020-04-05",131646,{"$f":"VALUE(URL_2[[#This Row],[Data]])","v":131646}]
["Confirmed","","France",46.227600000000002,2.2136999999999998,"2020-04-15",132473,{"$f":"VALUE(URL_2[[#This Row],[Data]])","v":132473}]
["Confirmed","","Italy",43,12,"2020-04-06",132547,{"$f":"VALUE(URL_2[[#This Row],[Data]])","v":132547}]
["Confirmed","","United Kingdom",55.378100000000003,-3.4360000000000004,"2020-04-22",133495,{"$f":"VALUE(URL_2[[#This Row],[Data]])","v":133495}]
["Confirmed","","Germany",51,9,"2020-04-15",134753,{"$f":"VALUE(URL_2[[#This Row],[Data]])","v":134753}]
["Confirmed","","Italy",43,12,"2020-04-07",135586,{"$f":"VALUE(URL_2[[#This Row],[Data]])","v":135586}]
["Confirmed","","Spain",40,-4,"2020-04-06",136675,{"$f":"VALUE(URL_2[[#This Row],[Data]])","v":136675}]
["Confirmed","","Germany",51,9,"2020-04-16",137698,{"$f":"VALUE(URL_2[[#This Row],[Data]])","v":137698}]
["Confirmed","","United Kingdom",55.378100000000003,-3.4360000000000004,"2020-04-23",138078,{"$f":"VALUE(URL_2[[#This Row],[Data]])","v":138078}]
["Confirmed","","Italy",43,12,"2020-04-08",139422,{"$f":"VALUE(URL_2[[#This Row],[Data]])","v":139422}]
["Confirmed","","US",37.090200000000003,-95.712900000000005,"2020-03-29",140909,{"$f":"VALUE(URL_2[[#This Row],[Data]])","v":140909}]
["Confirmed","","Germany",51,9,"2020-04-17",141397,{"$f":"VALUE(URL_2[[#This Row],[Data]])","v":141397}]
["Confirmed","","Spain",40,-4,"2020-04-07",141942,{"$f":"VALUE(URL_2[[#This Row],[Data]])","v":141942}]
["Confirmed","","Germany",51,9,"2020-04-18",143342,{"$f":"VALUE(URL_2[[#This Row],[Data]])","v":143342}]
["Confirmed","","United Kingdom",55.378100000000003,-3.4360000000000004,"2020-04-24",143464,{"$f":"VALUE(URL_2[[#This Row],[Data]])","v":143464}]
["Confirmed","","Italy",43,12,"2020-04-09",143626,{"$f":"VALUE(URL_2[[#This Row],[Data]])","v":143626}]
["Confirmed","","France",46.227600000000002,2.2136999999999998,"2020-04-16",144944,{"$f":"VALUE(URL_2[[#This Row],[Data]])","v":144944}]
["Confirmed","","Germany",51,9,"2020-04-19",145184,{"$f":"VALUE(URL_2[[#This Row],[Data]])","v":145184}]
["Confirmed","","France",46.227600000000002,2.2136999999999998,"2020-04-18",146906,{"$f":"VALUE(URL_2[[#This Row],[Data]])","v":146906}]
["Confirmed","","France",46.227600000000002,2.2136999999999998,"2020-04-17",146923,{"$f":"VALUE(URL_2[[#This Row],[Data]])","v":146923}]
["Confirmed","","Germany",51,9,"2020-04-20",147065,{"$f":"VALUE(URL_2[[#This Row],[Data]])","v":147065}]
["Confirmed","","Italy",43,12,"2020-04-10",147577,{"$f":"VALUE(URL_2[[#This Row],[Data]])","v":147577}]
["Confirmed","","Spain",40,-4,"2020-04-08",148220,{"$f":"VALUE(URL_2[[#This Row],[Data]])","v":148220}]
["Confirmed","","Germany",51,9,"2020-04-21",148291,{"$f":"VALUE(URL_2[[#This Row],[Data]])","v":148291}]
["Confirmed","","United Kingdom",55.378100000000003,-3.4360000000000004,"2020-04-25",148377,{"$f":"VALUE(URL_2[[#This Row],[Data]])","v":148377}]
["Confirmed","","Germany",51,9,"2020-04-22",150648,{"$f":"VALUE(URL_2[[#This Row],[Data]])","v":150648}]
["Confirmed","","France",46.227600000000002,2.2136999999999998,"2020-04-19",151808,{"$f":"VALUE(URL_2[[#This Row],[Data]])","v":151808}]
["Confirmed","","Italy",43,12,"2020-04-11",152271,{"$f":"VALUE(URL_2[[#This Row],[Data]])","v":152271}]
["Confirmed","","United Kingdom",55.378100000000003,-3.4360000000000004,"2020-04-26",152840,{"$f":"VALUE(URL_2[[#This Row],[Data]])","v":152840}]
["Confirmed","","Germany",51,9,"2020-04-23",153129,{"$f":"VALUE(URL_2[[#This Row],[Data]])","v":153129}]
["Confirmed","","Spain",40,-4,"2020-04-09",153222,{"$f":"VALUE(URL_2[[#This Row],[Data]])","v":153222}]
["Recovered","","US",37.090200000000003,-95.712900000000005,"2020-04-30",153947,{"$f":"VALUE(URL_2[[#This Row],[Data]])","v":153947}]
["Confirmed","","France",46.227600000000002,2.2136999999999998,"2020-04-20",154188,{"$f":"VALUE(URL_2[[#This Row],[Data]])","v":154188}]
["Confirmed","","France",46.227600000000002,2.2136999999999998,"2020-04-22",154715,{"$f":"VALUE(URL_2[[#This Row],[Data]])","v":154715}]
["Confirmed","","Germany",51,9,"2020-04-24",154999,{"$f":"VALUE(URL_2[[#This Row],[Data]])","v":154999}]
["Confirmed","","Italy",43,12,"2020-04-12",156363,{"$f":"VALUE(URL_2[[#This Row],[Data]])","v":156363}]
["Confirmed","","Germany",51,9,"2020-04-25",156513,{"$f":"VALUE(URL_2[[#This Row],[Data]])","v":156513}]
["Confirmed","","France",46.227600000000002,2.2136999999999998,"2020-04-21",156921,{"$f":"VALUE(URL_2[[#This Row],[Data]])","v":156921}]
["Confirmed","","France",46.227600000000002,2.2136999999999998,"2020-04-23",157026,{"$f":"VALUE(URL_2[[#This Row],[Data]])","v":157026}]
["Confirmed","","United Kingdom",55.378100000000003,-3.4360000000000004,"2020-04-27",157149,{"$f":"VALUE(URL_2[[#This Row],[Data]])","v":157149}]
["Confirmed","","Germany",51,9,"2020-04-26",157770,{"$f":"VALUE(URL_2[[#This Row],[Data]])","v":157770}]
["Confirmed","","Spain",40,-4,"2020-04-10",158273,{"$f":"VALUE(URL_2[[#This Row],[Data]])","v":158273}]
["Confirmed","","France",46.227600000000002,2.2136999999999998,"2020-04-24",158636,{"$f":"VALUE(URL_2[[#This Row],[Data]])","v":158636}]
["Confirmed","","Germany",51,9,"2020-04-27",158758,{"$f":"VALUE(URL_2[[#This Row],[Data]])","v":158758}]
["Confirmed","","Italy",43,12,"2020-04-13",159516,{"$f":"VALUE(URL_2[[#This Row],[Data]])","v":159516}]
["Confirmed","","Germany",51,9,"2020-04-28",159912,{"$f":"VALUE(URL_2[[#This Row],[Data]])","v":159912}]
["Confirmed","","France",46.227600000000002,2.2136999999999998,"2020-04-25",160292,{"$f":"VALUE(URL_2[[#This Row],[Data]])","v":160292}]
["Confirmed","","France",46.227600000000002,2.2136999999999998,"2020-04-26",160847,{"$f":"VALUE(URL_2[[#This Row],[Data]])","v":160847}]
["Confirmed","","United Kingdom",55.378100000000003,-3.4360000000000004,"2020-04-28",161145,{"$f":"VALUE(URL_2[[#This Row],[Data]])","v":161145}]
["Confirmed","","Germany",51,9,"2020-04-29",161539,{"$f":"VALUE(URL_2[[#This Row],[Data]])","v":161539}]
["Confirmed","","US",37.090200000000003,-95.712900000000005,"2020-03-30",161831,{"$f":"VALUE(URL_2[[#This Row],[Data]])","v":161831}]
["Confirmed","","Italy",43,12,"2020-04-14",162488,{"$f":"VALUE(URL_2[[#This Row],[Data]])","v":162488}]
["Confirmed","","Germany",51,9,"2020-04-30",163009,{"$f":"VALUE(URL_2[[#This Row],[Data]])","v":163009}]
["Confirmed","","Spain",40,-4,"2020-04-11",163027,{"$f":"VALUE(URL_2[[#This Row],[Data]])","v":163027}]
["Recovered","","US",37.090200000000003,-95.712900000000005,"2020-05-01",164015,{"$f":"VALUE(URL_2[[#This Row],[Data]])","v":164015}]
["Confirmed","","Germany",51,9,"2020-05-01",164077,{"$f":"VALUE(URL_2[[#This Row],[Data]])","v":164077}]
["Confirmed","","France",46.227600000000002,2.2136999999999998,"2020-04-27",164589,{"$f":"VALUE(URL_2[[#This Row],[Data]])","v":164589}]
["Confirmed","","Germany",51,9,"2020-05-02",164967,{"$f":"VALUE(URL_2[[#This Row],[Data]])","v":164967}]
["Confirmed","","France",46.227600000000002,2.2136999999999998,"2020-04-29",165093,{"$f":"VALUE(URL_2[[#This Row],[Data]])","v":165093}]
["Confirmed","","Italy",43,12,"2020-04-15",165155,{"$f":"VALUE(URL_2[[#This Row],[Data]])","v":165155}]
["Confirmed","","United Kingdom",55.378100000000003,-3.4360000000000004,"2020-04-29",165221,{"$f":"VALUE(URL_2[[#This Row],[Data]])","v":165221}]
["Confirmed","","France",46.227600000000002,2.2136999999999998,"2020-04-30",165764,{"$f":"VALUE(URL_2[[#This Row],[Data]])","v":165764}]
["Confirmed","","France",46.227600000000002,2.2136999999999998,"2020-05-01",165764,{"$f":"VALUE(URL_2[[#This Row],[Data]])","v":165764}]
["Confirmed","","Spain",40,-4,"2020-04-12",166831,{"$f":"VALUE(URL_2[[#This Row],[Data]])","v":166831}]
["Confirmed","","France",46.227600000000002,2.2136999999999998,"2020-05-02",166976,{"$f":"VALUE(URL_2[[#This Row],[Data]])","v":166976}]
["Confirmed","","France",46.227600000000002,2.2136999999999998,"2020-04-28",167605,{"$f":"VALUE(URL_2[[#This Row],[Data]])","v":167605}]
["Confirmed","","Italy",43,12,"2020-04-16",168941,{"$f":"VALUE(URL_2[[#This Row],[Data]])","v":168941}]
["Confirmed","","Spain",40,-4,"2020-04-13",170099,{"$f":"VALUE(URL_2[[#This Row],[Data]])","v":170099}]
["Confirmed","","United Kingdom",55.378100000000003,-3.4360000000000004,"2020-04-30",171253,{"$f":"VALUE(URL_2[[#This Row],[Data]])","v":171253}]
["Confirmed","","Italy",43,12,"2020-04-17",172434,{"$f":"VALUE(URL_2[[#This Row],[Data]])","v":172434}]
["Confirmed","","Spain",40,-4,"2020-04-14",172541,{"$f":"VALUE(URL_2[[#This Row],[Data]])","v":172541}]
["Recovered","","US",37.090200000000003,-95.712900000000005,"2020-05-02",175382,{"$f":"VALUE(URL_2[[#This Row],[Data]])","v":175382}]
["Confirmed","","Italy",43,12,"2020-04-18",175925,{"$f":"VALUE(URL_2[[#This Row],[Data]])","v":175925}]
["Confirmed","","United Kingdom",55.378100000000003,-3.4360000000000004,"2020-05-01",177454,{"$f":"VALUE(URL_2[[#This Row],[Data]])","v":177454}]
["Confirmed","","Spain",40,-4,"2020-04-15",177644,{"$f":"VALUE(URL_2[[#This Row],[Data]])","v":177644}]
["Confirmed","","Italy",43,12,"2020-04-19",178972,{"$f":"VALUE(URL_2[[#This Row],[Data]])","v":178972}]
["Confirmed","","Italy",43,12,"2020-04-20",181228,{"$f":"VALUE(URL_2[[#This Row],[Data]])","v":181228}]
["Confirmed","","United Kingdom",55.378100000000003,-3.4360000000000004,"2020-05-02",182260,{"$f":"VALUE(URL_2[[#This Row],[Data]])","v":182260}]
["Confirmed","","Italy",43,12,"2020-04-21",183957,{"$f":"VALUE(URL_2[[#This Row],[Data]])","v":183957}]
["Confirmed","","Spain",40,-4,"2020-04-16",184948,{"$f":"VALUE(URL_2[[#This Row],[Data]])","v":184948}]
["Confirmed","","Italy",43,12,"2020-04-22",187327,{"$f":"VALUE(URL_2[[#This Row],[Data]])","v":187327}]
["Confirmed","","US",37.090200000000003,-95.712900000000005,"2020-03-31",188172,{"$f":"VALUE(URL_2[[#This Row],[Data]])","v":188172}]
["Confirmed","","Italy",43,12,"2020-04-23",189973,{"$f":"VALUE(URL_2[[#This Row],[Data]])","v":189973}]
["Confirmed","","Spain",40,-4,"2020-04-17",190839,{"$f":"VALUE(URL_2[[#This Row],[Data]])","v":190839}]
["Confirmed","","Spain",40,-4,"2020-04-18",191726,{"$f":"VALUE(URL_2[[#This Row],[Data]])","v":191726}]
["Confirmed","","Italy",43,12,"2020-04-24",192994,{"$f":"VALUE(URL_2[[#This Row],[Data]])","v":192994}]
["Confirmed","","Italy",43,12,"2020-04-25",195351,{"$f":"VALUE(URL_2[[#This Row],[Data]])","v":195351}]
["Confirmed","","Italy",43,12,"2020-04-26",197675,{"$f":"VALUE(URL_2[[#This Row],[Data]])","v":197675}]
["Confirmed","","Spain",40,-4,"2020-04-19",198674,{"$f":"VALUE(URL_2[[#This Row],[Data]])","v":198674}]
["Confirmed","","Italy",43,12,"2020-04-27",199414,{"$f":"VALUE(URL_2[[#This Row],[Data]])","v":199414}]
["Confirmed","","Spain",40,-4,"2020-04-20",200210,{"$f":"VALUE(URL_2[[#This Row],[Data]])","v":200210}]
["Confirmed","","Italy",43,12,"2020-04-28",201505,{"$f":"VALUE(URL_2[[#This Row],[Data]])","v":201505}]
["Confirmed","","Spain",40,-4,"2020-04-24",202990,{"$f":"VALUE(URL_2[[#This Row],[Data]])","v":202990}]
["Confirmed","","Italy",43,12,"2020-04-29",203591,{"$f":"VALUE(URL_2[[#This Row],[Data]])","v":203591}]
["Confirmed","","Spain",40,-4,"2020-04-21",204178,{"$f":"VALUE(URL_2[[#This Row],[Data]])","v":204178}]
["Confirmed","","Italy",43,12,"2020-04-30",205463,{"$f":"VALUE(URL_2[[#This Row],[Data]])","v":205463}]
["Confirmed","","Spain",40,-4,"2020-04-25",205905,{"$f":"VALUE(URL_2[[#This Row],[Data]])","v":205905}]
["Confirmed","","Italy",43,12,"2020-05-01",207428,{"$f":"VALUE(URL_2[[#This Row],[Data]])","v":207428}]
["Confirmed","","Spain",40,-4,"2020-04-26",207634,{"$f":"VALUE(URL_2[[#This Row],[Data]])","v":207634}]
["Confirmed","","Spain",40,-4,"2020-04-22",208389,{"$f":"VALUE(URL_2[[#This Row],[Data]])","v":208389}]
["Confirmed","","Italy",43,12,"2020-05-02",209328,{"$f":"VALUE(URL_2[[#This Row],[Data]])","v":209328}]
["Confirmed","","Spain",40,-4,"2020-04-27",209465,{"$f":"VALUE(URL_2[[#This Row],[Data]])","v":209465}]
["Confirmed","","Spain",40,-4,"2020-04-28",210773,{"$f":"VALUE(URL_2[[#This Row],[Data]])","v":210773}]
["Confirmed","","Spain",40,-4,"2020-04-29",212917,{"$f":"VALUE(URL_2[[#This Row],[Data]])","v":212917}]
["Confirmed","","Spain",40,-4,"2020-04-23",213024,{"$f":"VALUE(URL_2[[#This Row],[Data]])","v":213024}]
["Confirmed","","US",37.090200000000003,-95.712900000000005,"2020-04-01",213242,{"$f":"VALUE(URL_2[[#This Row],[Data]])","v":213242}]
["Confirmed","","Spain",40,-4,"2020-04-30",213435,{"$f":"VALUE(URL_2[[#This Row],[Data]])","v":213435}]
["Confirmed","","Spain",40,-4,"2020-05-01",213435,{"$f":"VALUE(URL_2[[#This Row],[Data]])","v":213435}]
["Confirmed","","Spain",40,-4,"2020-05-02",216582,{"$f":"VALUE(URL_2[[#This Row],[Data]])","v":216582}]
["Confirmed","","US",37.090200000000003,-95.712900000000005,"2020-04-02",243622,{"$f":"VALUE(URL_2[[#This Row],[Data]])","v":243622}]
["Confirmed","","US",37.090200000000003,-95.712900000000005,"2020-04-03",275367,{"$f":"VALUE(URL_2[[#This Row],[Data]])","v":275367}]
["Confirmed","","US",37.090200000000003,-95.712900000000005,"2020-04-04",308650,{"$f":"VALUE(URL_2[[#This Row],[Data]])","v":308650}]
["Confirmed","","US",37.090200000000003,-95.712900000000005,"2020-04-05",336802,{"$f":"VALUE(URL_2[[#This Row],[Data]])","v":336802}]
["Confirmed","","US",37.090200000000003,-95.712900000000005,"2020-04-06",366317,{"$f":"VALUE(URL_2[[#This Row],[Data]])","v":366317}]
["Confirmed","","US",37.090200000000003,-95.712900000000005,"2020-04-07",397121,{"$f":"VALUE(URL_2[[#This Row],[Data]])","v":397121}]
["Confirmed","","US",37.090200000000003,-95.712900000000005,"2020-04-08",428654,{"$f":"VALUE(URL_2[[#This Row],[Data]])","v":428654}]
["Confirmed","","US",37.090200000000003,-95.712900000000005,"2020-04-09",462780,{"$f":"VALUE(URL_2[[#This Row],[Data]])","v":462780}]
["Confirmed","","US",37.090200000000003,-95.712900000000005,"2020-04-10",496535,{"$f":"VALUE(URL_2[[#This Row],[Data]])","v":496535}]
["Confirmed","","US",37.090200000000003,-95.712900000000005,"2020-04-11",526396,{"$f":"VALUE(URL_2[[#This Row],[Data]])","v":526396}]
["Confirmed","","US",37.090200000000003,-95.712900000000005,"2020-04-12",555313,{"$f":"VALUE(URL_2[[#This Row],[Data]])","v":555313}]
["Confirmed","","US",37.090200000000003,-95.712900000000005,"2020-04-13",580619,{"$f":"VALUE(URL_2[[#This Row],[Data]])","v":580619}]
["Confirmed","","US",37.090200000000003,-95.712900000000005,"2020-04-14",607670,{"$f":"VALUE(URL_2[[#This Row],[Data]])","v":607670}]
["Confirmed","","US",37.090200000000003,-95.712900000000005,"2020-04-15",636350,{"$f":"VALUE(URL_2[[#This Row],[Data]])","v":636350}]
["Confirmed","","US",37.090200000000003,-95.712900000000005,"2020-04-16",667592,{"$f":"VALUE(URL_2[[#This Row],[Data]])","v":667592}]
["Confirmed","","US",37.090200000000003,-95.712900000000005,"2020-04-17",699706,{"$f":"VALUE(URL_2[[#This Row],[Data]])","v":699706}]
["Confirmed","","US",37.090200000000003,-95.712900000000005,"2020-04-18",732197,{"$f":"VALUE(URL_2[[#This Row],[Data]])","v":732197}]
["Confirmed","","US",37.090200000000003,-95.712900000000005,"2020-04-19",758809,{"$f":"VALUE(URL_2[[#This Row],[Data]])","v":758809}]
["Confirmed","","US",37.090200000000003,-95.712900000000005,"2020-04-20",784326,{"$f":"VALUE(URL_2[[#This Row],[Data]])","v":784326}]
["Confirmed","","US",37.090200000000003,-95.712900000000005,"2020-04-21",811865,{"$f":"VALUE(URL_2[[#This Row],[Data]])","v":811865}]
["Confirmed","","US",37.090200000000003,-95.712900000000005,"2020-04-22",840351,{"$f":"VALUE(URL_2[[#This Row],[Data]])","v":840351}]
["Confirmed","","US",37.090200000000003,-95.712900000000005,"2020-04-23",869170,{"$f":"VALUE(URL_2[[#This Row],[Data]])","v":869170}]
["Confirmed","","US",37.090200000000003,-95.712900000000005,"2020-04-24",905358,{"$f":"VALUE(URL_2[[#This Row],[Data]])","v":905358}]
["Confirmed","","US",37.090200000000003,-95.712900000000005,"2020-04-25",938154,{"$f":"VALUE(URL_2[[#This Row],[Data]])","v":938154}]
["Confirmed","","US",37.090200000000003,-95.712900000000005,"2020-04-26",965785,{"$f":"VALUE(URL_2[[#This Row],[Data]])","v":965785}]
["Confirmed","","US",37.090200000000003,-95.712900000000005,"2020-04-27",988197,{"$f":"VALUE(URL_2[[#This Row],[Data]])","v":988197}]
["Confirmed","","US",37.090200000000003,-95.712900000000005,"2020-04-28",1012582,{"$f":"VALUE(URL_2[[#This Row],[Data]])","v":1012582}]
["Confirmed","","US",37.090200000000003,-95.712900000000005,"2020-04-29",1039909,{"$f":"VALUE(URL_2[[#This Row],[Data]])","v":1039909}]
["Confirmed","","US",37.090200000000003,-95.712900000000005,"2020-04-30",1069424,{"$f":"VALUE(URL_2[[#This Row],[Data]])","v":1069424}]
["Confirmed","","US",37.090200000000003,-95.712900000000005,"2020-05-01",1103461,{"$f":"VALUE(URL_2[[#This Row],[Data]])","v":1103461}]
["Confirmed","","US",37.090200000000003,-95.712900000000005,"2020-05-02",1132539,{"$f":"VALUE(URL_2[[#This Row],[Data]])","v":1132539}]

{"sheet":"Pop","index":5,"n_rows":196,"n_cols":2,"rows_kept":196,"cut":false,"hidden":false,"merged":[]}
["countries And Territories","Pop"]
["Afghanistan",37172386]
["Angola",77006]
["Albania",2866376]
["Andorra",77006]
["Argentina",44494502]
["Antigua_and_Barbuda",77006]
["Algeria",2866376]
["Anguilla",77006]
["Armenia",2951776]
["Aruba",105845]
["Australia",24992369]
["Austria",8847037]
["Azerbaijan",9942334]
["Bahamas",385640]
["Bahrain",1569439]
["Bangladesh",161356039]
["Barbados",286641]
["Belarus",9485386]
["Belgium",11422068]
["Belize",383071]
["Benin",11485048]
["Bermuda",63968]
["Bhutan",754394]
["Bolivia",11353142]
["Bosnia_and_Herzegovina",3323929]
["Brazil",209469333]
["British_Virgin_Islands",29802]
["Brunei_Darussalam",428962]
["Bulgaria",7024216]
["Burkina_Faso",19751535]
["Cambodia",16249798]
["Cameroon",25216237]
["Canada",37058856]
["Cape_Verde",543767]
["Cases_on_an_international_conveyance_Japan",3000]
["Cayman_Islands",64174]
["Central_African_Republic",4666377]
["Chad",15477751]
["Chile",18729160]
["China",1392730000]
["Colombia",49648685]
["Congo",5244363]
["Costa_Rica",4999441]
["Cote_dIvoire",25069229]
["Croatia",4089400]
["Cuba",11338138]
["Curaþao",159849]
["Cyprus",1189265]
["Czech_Republic",10625695]
["Democratic_Republic_of_the_Congo",84068091]
["Denmark",5797446]
["Djibouti",958920]
["Dominica",71625]
["Dominican_Republic",10627165]
["Ecuador",17084357]
["Egypt",98423595]
["El_Salvador",6420744]
["Equatorial_Guinea",1308974]
["Eritrea",3214427]
["Estonia",1320884]
["Eswatini",1367000]
["Ethiopia",109224559]
["Faroe_Islands",48497]
["Fiji",883483]
["Finland",5518050]
["France",66987244]
["French_Polynesia",277679]
["Gabon",2119275]
["Gambia",2280102]
["Georgia",3731000]
["Germany",82927922]
["Ghana",29767108]
["Gibraltar",33718]
["Greece",10727668]
["Greenland",56025]
["Grenada",111454]
["Guam",165768]
["Guatemala",17247807]
["Guernsey",63026]
["Guinea",12414318]
["Guinea_Bissau",1874309]
["Guyana",779004]
["Haiti",11123176]
["Holy_See",1000]
["Honduras",9587522]
["Hungary",9768785]
["Iceland",353574]
["India",1352617328]
["Indonesia",267663435]
["Iran",81800269]
["Iraq",38433600]
["Ireland",4853506]
["Isle_of_Man",84077]
["Israel",8883800]
["Italy",60431283]
["Jamaica",2934855]
["Japan",126529100]
["Jersey",106800]
["Jordan",9956011]
["Kazakhstan",18276499]
["Kenya",51393010]
["Kosovo",1845300]
["Kuwait",4137309]
["Kyrgyzstan",6315800]
["Laos",7061507]
["Latvia",1926542]
["Lebanon",6848925]
["Liberia",4818977]
["Libya",6678567]
["Liechtenstein",37910]
["Lithuania",2789533]
["Luxembourg",607728]
["Madagascar",26262368]
["Malaysia",31528585]
["Maldives",515696]
["Mali",19077690]
["Malta",483530]
["Mauritania",4403319]
["Mauritius",1265303]
["Mexico",126190788]
["Moldova",3545883]
["Monaco",38682]
["Mongolia",3170208]
["Montenegro",622345]
["Montserrat",5900]
["Morocco",36029138]
["Mozambique",29495962]
["Myanmar",53708395]
["Namibia",2448255]
["Nepal",28087871]
["Netherlands",17231017]
["New_Caledonia",284060]
["New_Zealand",4885500]
["Nicaragua",6465513]
["Niger",22442948]
["Nigeria",195874740]
["North_Macedonia",2082958]
["Norway",5314336]
["Oman",4829483]
["Pakistan",212215030]
["Palestine",4569087]
["Panama",4176873]
["Papua_New_Guinea",8606316]
["Paraguay",6956071]
["Peru",31989256]
["Philippines",106651922]
["Poland",37978548]
["Portugal",10281762]
["Qatar",2781677]
["Romania",19473936]
["Russia",144478050]
["Rwanda",12301939]
["Saint_Kitts_and_Nevis",52441]
["Saint_Lucia",181889]
["Saint_Vincent_and_the_Grenadines",110210]
["San_Marino",33785]
["Saudi_Arabia",33699947]
["Senegal",15854360]
["Serbia",6982084]
["Seychelles",96762]
["Singapore",5638676]
["Sint_Maarten",41486]
["Slovakia",5447011]
["Slovenia",2067372]
["Somalia",15008154]
["South_Africa",57779622]
["South_Korea",51635256]
["Spain",46723749]
["Sri_Lanka",21670000]
["Sudan",41801533]
["Suriname",575991]
["Sweden",10183175]
["Switzerland",8516543]
["Syria",16906283]
["Taiwan",23780452]
["Thailand",69428524]
["Timor_Leste",1267972]
["Togo",7889094]
["Trinidad_and_Tobago",1389858]
["Tunisia",11565204]
["Turkey",82319724]
["Turks_and_Caicos_islands",31458]
["Uganda",42723139]
["Ukraine",44622516]
["United_Arab_Emirates",9630959]
["United_Kingdom",66488991]
["United_Republic_of_Tanzania",56318348]
["United_States_of_America",327167434]
["United_States_Virgin_Islands",106977]
["Uruguay",3449299]
["Uzbekistan",32955400]
["Venezuela",28870195]
["Vietnam",95540395]
["Zambia",17351822]
["Zimbabwe",14439018]

{"sheet":"Piv","index":6,"n_rows":0,"n_cols":0,"rows_kept":0,"cut":false,"hidden":false,"merged":[]}

{"sheet":"Piv2","index":7,"n_rows":0,"n_cols":0,"rows_kept":0,"cut":false,"hidden":false,"merged":[]}

{"sheet":"Rank","index":8,"n_rows":188,"n_cols":12,"rows_kept":188,"cut":false,"hidden":false,"merged":[]}
[null,"Country","Confirmed",null,"Country","Deaths",null,"Country","Recovered",null,"Country","Active"]
[1,{"$f":"INDEX(Piv!B5:B$250,ScrollA+List!$J$2)","v":0},{"$f":"INDEX(Piv!C5:C$250,ScrollA+List!$J$2)","v":0},null,{"$f":"INDEX(Piv!E5:E$250,List!$F$2)","v":0},{"$f":"INDEX(Piv!F5:F$200,List!$F$2)","v":0},null,{"$f":"INDEX(Piv!H5:H$250,List!$G$2)","v":0},{"$f":"INDEX(Piv!I5:I$200,List!$G$2)","v":0},null,{"$f":"INDEX(Piv!K5:K$250,List!$H$2)","v":0},{"$f":"INDEX(Piv!O5:O$200,List!$H$2)","v":0}]
[2,{"$f":"INDEX(Piv!B6:B$250,ScrollA+List!$J$2)","v":0},{"$f":"INDEX(Piv!C6:C$250,ScrollA+List!$J$2)","v":0},null,{"$f":"INDEX(Piv!E6:E$250,List!$F$2)","v":0},{"$f":"INDEX(Piv!F6:F$200,List!$F$2)","v":0},null,{"$f":"INDEX(Piv!H6:H$250,List!$G$2)","v":0},{"$f":"INDEX(Piv!I6:I$200,List!$G$2)","v":0},null,{"$f":"INDEX(Piv!K6:K$250,List!$H$2)","v":0},{"$f":"INDEX(Piv!O6:O$200,List!$H$2)","v":0}]
[3,{"$f":"INDEX(Piv!B7:B$250,ScrollA+List!$J$2)","v":0},{"$f":"INDEX(Piv!C7:C$250,ScrollA+List!$J$2)","v":0},null,{"$f":"INDEX(Piv!E7:E$250,List!$F$2)","v":0},{"$f":"INDEX(Piv!F7:F$200,List!$F$2)","v":0},null,{"$f":"INDEX(Piv!H7:H$250,List!$G$2)","v":0},{"$f":"INDEX(Piv!I7:I$200,List!$G$2)","v":0},null,{"$f":"INDEX(Piv!K7:K$250,List!$H$2)","v":0},{"$f":"INDEX(Piv!O7:O$200,List!$H$2)","v":0}]
[4,{"$f":"INDEX(Piv!B8:B$250,ScrollA+List!$J$2)","v":0},{"$f":"INDEX(Piv!C8:C$250,ScrollA+List!$J$2)","v":0},null,{"$f":"INDEX(Piv!E8:E$250,List!$F$2)","v":0},{"$f":"INDEX(Piv!F8:F$200,List!$F$2)","v":0},null,{"$f":"INDEX(Piv!H8:H$250,List!$G$2)","v":0},{"$f":"INDEX(Piv!I8:I$200,List!$G$2)","v":0},null,{"$f":"INDEX(Piv!K8:K$250,List!$H$2)","v":0},{"$f":"INDEX(Piv!O8:O$200,List!$H$2)","v":0}]
[5,{"$f":"INDEX(Piv!B9:B$250,ScrollA+List!$J$2)","v":0},{"$f":"INDEX(Piv!C9:C$250,ScrollA+List!$J$2)","v":0},null,{"$f":"INDEX(Piv!E9:E$250,List!$F$2)","v":0},{"$f":"INDEX(Piv!F9:F$200,List!$F$2)","v":0},null,{"$f":"INDEX(Piv!H9:H$250,List!$G$2)","v":0},{"$f":"INDEX(Piv!I9:I$200,List!$G$2)","v":0},null,{"$f":"INDEX(Piv!K9:K$250,List!$H$2)","v":0},{"$f":"INDEX(Piv!O9:O$200,List!$H$2)","v":0}]
[6,{"$f":"INDEX(Piv!B10:B$250,ScrollA+List!$J$2)","v":0},{"$f":"INDEX(Piv!C10:C$250,ScrollA+List!$J$2)","v":0},null,{"$f":"INDEX(Piv!E10:E$250,List!$F$2)","v":0},{"$f":"INDEX(Piv!F10:F$200,List!$F$2)","v":0},null,{"$f":"INDEX(Piv!H10:H$250,List!$G$2)","v":0},{"$f":"INDEX(Piv!I10:I$200,List!$G$2)","v":0},null,{"$f":"INDEX(Piv!K10:K$250,List!$H$2)","v":0},{"$f":"INDEX(Piv!O10:O$200,List!$H$2)","v":0}]
[7,{"$f":"INDEX(Piv!B11:B$250,ScrollA+List!$J$2)","v":0},{"$f":"INDEX(Piv!C11:C$250,ScrollA+List!$J$2)","v":0},null,{"$f":"INDEX(Piv!E11:E$250,List!$F$2)","v":0},{"$f":"INDEX(Piv!F11:F$200,List!$F$2)","v":0},null,{"$f":"INDEX(Piv!H11:H$250,List!$G$2)","v":0},{"$f":"INDEX(Piv!I11:I$200,List!$G$2)","v":0},null,{"$f":"INDEX(Piv!K11:K$250,List!$H$2)","v":0},{"$f":"INDEX(Piv!O11:O$200,List!$H$2)","v":0}]
[8,{"$f":"INDEX(Piv!B12:B$250,ScrollA+List!$J$2)","v":0},{"$f":"INDEX(Piv!C12:C$250,ScrollA+List!$J$2)","v":0},null,{"$f":"INDEX(Piv!E12:E$250,List!$F$2)","v":0},{"$f":"INDEX(Piv!F12:F$200,List!$F$2)","v":0},null,{"$f":"INDEX(Piv!H12:H$250,List!$G$2)","v":0},{"$f":"INDEX(Piv!I12:I$200,List!$G$2)","v":0},null,{"$f":"INDEX(Piv!K12:K$250,List!$H$2)","v":0},{"$f":"INDEX(Piv!O12:O$200,List!$H$2)","v":0}]
[9,{"$f":"INDEX(Piv!B13:B$250,ScrollA+List!$J$2)","v":0},{"$f":"INDEX(Piv!C13:C$250,ScrollA+List!$J$2)","v":0},null,{"$f":"INDEX(Piv!E13:E$250,List!$F$2)","v":0},{"$f":"INDEX(Piv!F13:F$200,List!$F$2)","v":0},null,{"$f":"INDEX(Piv!H13:H$250,List!$G$2)","v":0},{"$f":"INDEX(Piv!I13:I$200,List!$G$2)","v":0},null,{"$f":"INDEX(Piv!K13:K$250,List!$H$2)","v":0},{"$f":"INDEX(Piv!O13:O$200,List!$H$2)","v":0}]
[10,{"$f":"INDEX(Piv!B14:B$250,ScrollA+List!$J$2)","v":0},{"$f":"INDEX(Piv!C14:C$250,ScrollA+List!$J$2)","v":0},null,{"$f":"INDEX(Piv!E14:E$250,List!$F$2)","v":0},{"$f":"INDEX(Piv!F14:F$200,List!$F$2)","v":0},null,{"$f":"INDEX(Piv!H14:H$250,List!$G$2)","v":0},{"$f":"INDEX(Piv!I14:I$200,List!$G$2)","v":0},null,{"$f":"INDEX(Piv!K14:K$250,List!$H$2)","v":0},{"$f":"INDEX(Piv!O14:O$200,List!$H$2)","v":0}]
[11,{"$f":"INDEX(Piv!B15:B$250,ScrollA+List!$J$2)","v":0},{"$f":"INDEX(Piv!C15:C$250,ScrollA+List!$J$2)","v":0},null,{"$f":"INDEX(Piv!E15:E$250,List!$F$2)","v":0},{"$f":"INDEX(Piv!F15:F$200,List!$F$2)","v":0},null,{"$f":"INDEX(Piv!H15:H$250,List!$G$2)","v":0},{"$f":"INDEX(Piv!I15:I$200,List!$G$2)","v":0},null,{"$f":"INDEX(Piv!K15:K$250,List!$H$2)","v":0},{"$f":"INDEX(Piv!O15:O$200,List!$H$2)","v":0}]
[12,{"$f":"INDEX(Piv!B16:B$250,ScrollA+List!$J$2)","v":0},{"$f":"INDEX(Piv!C16:C$250,ScrollA+List!$J$2)","v":0},null,{"$f":"INDEX(Piv!E16:E$250,List!$F$2)","v":0},{"$f":"INDEX(Piv!F16:F$200,List!$F$2)","v":0},null,{"$f":"INDEX(Piv!H16:H$250,List!$G$2)","v":0},{"$f":"INDEX(Piv!I16:I$200,List!$G$2)","v":0},null,{"$f":"INDEX(Piv!K16:K$250,List!$H$2)","v":0},{"$f":"INDEX(Piv!O16:O$200,List!$H$2)","v":0}]
[13,{"$f":"INDEX(Piv!B17:B$250,ScrollA+List!$J$2)","v":0},{"$f":"INDEX(Piv!C17:C$250,ScrollA+List!$J$2)","v":0},null,{"$f":"INDEX(Piv!E17:E$250,List!$F$2)","v":0},{"$f":"INDEX(Piv!F17:F$200,List!$F$2)","v":0},null,{"$f":"INDEX(Piv!H17:H$250,List!$G$2)","v":0},{"$f":"INDEX(Piv!I17:I$200,List!$G$2)","v":0},null,{"$f":"INDEX(Piv!K17:K$250,List!$H$2)","v":0},{"$f":"INDEX(Piv!O17:O$200,List!$H$2)","v":0}]
[14,{"$f":"INDEX(Piv!B18:B$250,ScrollA+List!$J$2)","v":0},{"$f":"INDEX(Piv!C18:C$250,ScrollA+List!$J$2)","v":0},null,{"$f":"INDEX(Piv!E18:E$250,List!$F$2)","v":0},{"$f":"INDEX(Piv!F18:F$200,List!$F$2)","v":0},null,{"$f":"INDEX(Piv!H18:H$250,List!$G$2)","v":0},{"$f":"INDEX(Piv!I18:I$200,List!$G$2)","v":0},null,{"$f":"INDEX(Piv!K18:K$250,List!$H$2)","v":0},{"$f":"INDEX(Piv!O18:O$200,List!$H$2)","v":0}]
[15,{"$f":"INDEX(Piv!B19:B$250,ScrollA+List!$J$2)","v":0},{"$f":"INDEX(Piv!C19:C$250,ScrollA+List!$J$2)","v":0},null,{"$f":"INDEX(Piv!E19:E$250,List!$F$2)","v":0},{"$f":"INDEX(Piv!F19:F$200,List!$F$2)","v":0},null,{"$f":"INDEX(Piv!H19:H$250,List!$G$2)","v":0},{"$f":"INDEX(Piv!I19:I$200,List!$G$2)","v":0},null,{"$f":"INDEX(Piv!K19:K$250,List!$H$2)","v":0},{"$f":"INDEX(Piv!O19:O$200,List!$H$2)","v":0}]
[16,{"$f":"INDEX(Piv!B20:B$250,ScrollA+List!$J$2)","v":0},{"$f":"INDEX(Piv!C20:C$250,ScrollA+List!$J$2)","v":0},null,{"$f":"INDEX(Piv!E20:E$250,List!$F$2)","v":0},{"$f":"INDEX(Piv!F20:F$200,List!$F$2)","v":0},null,{"$f":"INDEX(Piv!H20:H$250,List!$G$2)","v":0},{"$f":"INDEX(Piv!I20:I$200,List!$G$2)","v":0},null,{"$f":"INDEX(Piv!K20:K$250,List!$H$2)","v":0},{"$f":"INDEX(Piv!O20:O$200,List!$H$2)","v":0}]
[17,{"$f":"INDEX(Piv!B21:B$250,ScrollA+List!$J$2)","v":0},{"$f":"INDEX(Piv!C21:C$250,ScrollA+List!$J$2)","v":0},null,{"$f":"INDEX(Piv!E21:E$250,List!$F$2)","v":0},{"$f":"INDEX(Piv!F21:F$200,List!$F$2)","v":0},null,{"$f":"INDEX(Piv!H21:H$250,List!$G$2)","v":0},{"$f":"INDEX(Piv!I21:I$200,List!$G$2)","v":0},null,{"$f":"INDEX(Piv!K21:K$250,List!$H$2)","v":0},{"$f":"INDEX(Piv!O21:O$200,List!$H$2)","v":0}]
[18,{"$f":"INDEX(Piv!B22:B$250,ScrollA+List!$J$2)","v":0},{"$f":"INDEX(Piv!C22:C$250,ScrollA+List!$J$2)","v":0},null,{"$f":"INDEX(Piv!E22:E$250,List!$F$2)","v":0},{"$f":"INDEX(Piv!F22:F$200,List!$F$2)","v":0},null,{"$f":"INDEX(Piv!H22:H$250,List!$G$2)","v":0},{"$f":"INDEX(Piv!I22:I$200,List!$G$2)","v":0},null,{"$f":"INDEX(Piv!K22:K$250,List!$H$2)","v":0},{"$f":"INDEX(Piv!O22:O$200,List!$H$2)","v":0}]
[19,{"$f":"INDEX(Piv!B23:B$250,ScrollA+List!$J$2)","v":0},{"$f":"INDEX(Piv!C23:C$250,ScrollA+List!$J$2)","v":0},null,{"$f":"INDEX(Piv!E23:E$250,List!$F$2)","v":0},{"$f":"INDEX(Piv!F23:F$200,List!$F$2)","v":0},null,{"$f":"INDEX(Piv!H23:H$250,List!$G$2)","v":0},{"$f":"INDEX(Piv!I23:I$200,List!$G$2)","v":0},null,{"$f":"INDEX(Piv!K23:K$250,List!$H$2)","v":0},{"$f":"INDEX(Piv!O23:O$200,List!$H$2)","v":0}]
[20,{"$f":"INDEX(Piv!B24:B$250,ScrollA+List!$J$2)","v":0},{"$f":"INDEX(Piv!C24:C$250,ScrollA+List!$J$2)","v":0},null,{"$f":"INDEX(Piv!E24:E$250,List!$F$2)","v":0},{"$f":"INDEX(Piv!F24:F$200,List!$F$2)","v":0},null,{"$f":"INDEX(Piv!H24:H$250,List!$G$2)","v":0},{"$f":"INDEX(Piv!I24:I$200,List!$G$2)","v":0},null,{"$f":"INDEX(Piv!K24:K$250,List!$H$2)","v":0},{"$f":"INDEX(Piv!O24:O$200,List!$H$2)","v":0}]
[21,{"$f":"INDEX(Piv!B25:B$250,ScrollA+List!$J$2)","v":0},{"$f":"INDEX(Piv!C25:C$250,ScrollA+List!$J$2)","v":0},null,{"$f":"INDEX(Piv!E25:E$250,List!$F$2)","v":0},{"$f":"INDEX(Piv!F25:F$200,List!$F$2)","v":0},null,{"$f":"INDEX(Piv!H25:H$250,List!$G$2)","v":0},{"$f":"INDEX(Piv!I25:I$200,List!$G$2)","v":0},null,{"$f":"INDEX(Piv!K25:K$250,List!$H$2)","v":0},{"$f":"INDEX(Piv!O25:O$200,List!$H$2)","v":0}]
[22,{"$f":"INDEX(Piv!B26:B$250,ScrollA+List!$J$2)","v":0},{"$f":"INDEX(Piv!C26:C$250,ScrollA+List!$J$2)","v":0},null,{"$f":"INDEX(Piv!E26:E$250,List!$F$2)","v":0},{"$f":"INDEX(Piv!F26:F$200,List!$F$2)","v":0},null,{"$f":"INDEX(Piv!H26:H$250,List!$G$2)","v":0},{"$f":"INDEX(Piv!I26:I$200,List!$G$2)","v":0},null,{"$f":"INDEX(Piv!K26:K$250,List!$H$2)","v":0},{"$f":"INDEX(Piv!O26:O$200,List!$H$2)","v":0}]
[23,{"$f":"INDEX(Piv!B27:B$250,ScrollA+List!$J$2)","v":0},{"$f":"INDEX(Piv!C27:C$250,ScrollA+List!$J$2)","v":0},null,{"$f":"INDEX(Piv!E27:E$250,List!$F$2)","v":0},{"$f":"INDEX(Piv!F27:F$200,List!$F$2)","v":0},null,{"$f":"INDEX(Piv!H27:H$250,List!$G$2)","v":0},{"$f":"INDEX(Piv!I27:I$200,List!$G$2)","v":0},null,{"$f":"INDEX(Piv!K27:K$250,List!$H$2)","v":0},{"$f":"INDEX(Piv!O27:O$200,List!$H$2)","v":0}]
[24,{"$f":"INDEX(Piv!B28:B$250,ScrollA+List!$J$2)","v":0},{"$f":"INDEX(Piv!C28:C$250,ScrollA+List!$J$2)","v":0},null,{"$f":"INDEX(Piv!E28:E$250,List!$F$2)","v":0},{"$f":"INDEX(Piv!F28:F$200,List!$F$2)","v":0},null,{"$f":"INDEX(Piv!H28:H$250,List!$G$2)","v":0},{"$f":"INDEX(Piv!I28:I$200,List!$G$2)","v":0},null,{"$f":"INDEX(Piv!K28:K$250,List!$H$2)","v":0},{"$f":"INDEX(Piv!O28:O$200,List!$H$2)","v":0}]
[25,{"$f":"INDEX(Piv!B29:B$250,ScrollA+List!$J$2)","v":0},{"$f":"INDEX(Piv!C29:C$250,ScrollA+List!$J$2)","v":0},null,{"$f":"INDEX(Piv!E29:E$250,List!$F$2)","v":0},{"$f":"INDEX(Piv!F29:F$200,List!$F$2)","v":0},null,{"$f":"INDEX(Piv!H29:H$250,List!$G$2)","v":0},{"$f":"INDEX(Piv!I29:I$200,List!$G$2)","v":0},null,{"$f":"INDEX(Piv!K29:K$250,List!$H$2)","v":0},{"$f":"INDEX(Piv!O29:O$200,List!$H$2)","v":0}]
[26,{"$f":"INDEX(Piv!B30:B$250,ScrollA+List!$J$2)","v":0},{"$f":"INDEX(Piv!C30:C$250,ScrollA+List!$J$2)","v":0},null,{"$f":"INDEX(Piv!E30:E$250,List!$F$2)","v":0},{"$f":"INDEX(Piv!F30:F$200,List!$F$2)","v":0},null,{"$f":"INDEX(Piv!H30:H$250,List!$G$2)","v":0},{"$f":"INDEX(Piv!I30:I$200,List!$G$2)","v":0},null,{"$f":"INDEX(Piv!K30:K$250,List!$H$2)","v":0},{"$f":"INDEX(Piv!O30:O$200,List!$H$2)","v":0}]
[27,{"$f":"INDEX(Piv!B31:B$250,ScrollA+List!$J$2)","v":0},{"$f":"INDEX(Piv!C31:C$250,ScrollA+List!$J$2)","v":0},null,{"$f":"INDEX(Piv!E31:E$250,List!$F$2)","v":0},{"$f":"INDEX(Piv!F31:F$200,List!$F$2)","v":0},null,{"$f":"INDEX(Piv!H31:H$250,List!$G$2)","v":0},{"$f":"INDEX(Piv!I31:I$200,List!$G$2)","v":0},null,{"$f":"INDEX(Piv!K31:K$250,List!$H$2)","v":0},{"$f":"INDEX(Piv!O31:O$200,List!$H$2)","v":0}]
[28,{"$f":"INDEX(Piv!B32:B$250,ScrollA+List!$J$2)","v":0},{"$f":"INDEX(Piv!C32:C$250,ScrollA+List!$J$2)","v":0},null,{"$f":"INDEX(Piv!E32:E$250,List!$F$2)","v":0},{"$f":"INDEX(Piv!F32:F$200,List!$F$2)","v":0},null,{"$f":"INDEX(Piv!H32:H$250,List!$G$2)","v":0},{"$f":"INDEX(Piv!I32:I$200,List!$G$2)","v":0},null,{"$f":"INDEX(Piv!K32:K$250,List!$H$2)","v":0},{"$f":"INDEX(Piv!O32:O$200,List!$H$2)","v":0}]
[29,{"$f":"INDEX(Piv!B33:B$250,ScrollA+List!$J$2)","v":0},{"$f":"INDEX(Piv!C33:C$250,ScrollA+List!$J$2)","v":0},null,{"$f":"INDEX(Piv!E33:E$250,List!$F$2)","v":0},{"$f":"INDEX(Piv!F33:F$200,List!$F$2)","v":0},null,{"$f":"INDEX(Piv!H33:H$250,List!$G$2)","v":0},{"$f":"INDEX(Piv!I33:I$200,List!$G$2)","v":0},null,{"$f":"INDEX(Piv!K33:K$250,List!$H$2)","v":0},{"$f":"INDEX(Piv!O33:O$200,List!$H$2)","v":0}]
[30,{"$f":"INDEX(Piv!B34:B$250,ScrollA+List!$J$2)","v":0},{"$f":"INDEX(Piv!C34:C$250,ScrollA+List!$J$2)","v":0},null,{"$f":"INDEX(Piv!E34:E$250,List!$F$2)","v":0},{"$f":"INDEX(Piv!F34:F$200,List!$F$2)","v":0},null,{"$f":"INDEX(Piv!H34:H$250,List!$G$2)","v":0},{"$f":"INDEX(Piv!I34:I$200,List!$G$2)","v":0},null,{"$f":"INDEX(Piv!K34:K$250,List!$H$2)","v":0},{"$f":"INDEX(Piv!O34:O$200,List!$H$2)","v":0}]
[31,{"$f":"INDEX(Piv!B35:B$250,ScrollA+List!$J$2)","v":0},{"$f":"INDEX(Piv!C35:C$250,ScrollA+List!$J$2)","v":0},null,{"$f":"INDEX(Piv!E35:E$250,List!$F$2)","v":0},{"$f":"INDEX(Piv!F35:F$200,List!$F$2)","v":0},null,{"$f":"INDEX(Piv!H35:H$250,List!$G$2)","v":0},{"$f":"INDEX(Piv!I35:I$200,List!$G$2)","v":0},null,{"$f":"INDEX(Piv!K35:K$250,List!$H$2)","v":0},{"$f":"INDEX(Piv!O35:O$200,List!$H$2)","v":0}]
[32,{"$f":"INDEX(Piv!B36:B$250,ScrollA+List!$J$2)","v":0},{"$f":"INDEX(Piv!C36:C$250,ScrollA+List!$J$2)","v":0},null,{"$f":"INDEX(Piv!E36:E$250,List!$F$2)","v":0},{"$f":"INDEX(Piv!F36:F$200,List!$F$2)","v":0},null,{"$f":"INDEX(Piv!H36:H$250,List!$G$2)","v":0},{"$f":"INDEX(Piv!I36:I$200,List!$G$2)","v":0},null,{"$f":"INDEX(Piv!K36:K$250,List!$H$2)","v":0},{"$f":"INDEX(Piv!O36:O$200,List!$H$2)","v":0}]
[33,{"$f":"INDEX(Piv!B37:B$250,ScrollA+List!$J$2)","v":0},{"$f":"INDEX(Piv!C37:C$250,ScrollA+List!$J$2)","v":0},null,{"$f":"INDEX(Piv!E37:E$250,List!$F$2)","v":0},{"$f":"INDEX(Piv!F37:F$200,List!$F$2)","v":0},null,{"$f":"INDEX(Piv!H37:H$250,List!$G$2)","v":0},{"$f":"INDEX(Piv!I37:I$200,List!$G$2)","v":0},null,{"$f":"INDEX(Piv!K37:K$250,List!$H$2)","v":0},{"$f":"INDEX(Piv!O37:O$200,List!$H$2)","v":0}]
[34,{"$f":"INDEX(Piv!B38:B$250,ScrollA+List!$J$2)","v":0},{"$f":"INDEX(Piv!C38:C$250,ScrollA+List!$J$2)","v":0},null,{"$f":"INDEX(Piv!E38:E$250,List!$F$2)","v":0},{"$f":"INDEX(Piv!F38:F$200,List!$F$2)","v":0},null,{"$f":"INDEX(Piv!H38:H$250,List!$G$2)","v":0},{"$f":"INDEX(Piv!I38:I$200,List!$G$2)","v":0},null,{"$f":"INDEX(Piv!K38:K$250,List!$H$2)","v":0},{"$f":"INDEX(Piv!O38:O$200,List!$H$2)","v":0}]
[35,{"$f":"INDEX(Piv!B39:B$250,ScrollA+List!$J$2)","v":0},{"$f":"INDEX(Piv!C39:C$250,ScrollA+List!$J$2)","v":0},null,{"$f":"INDEX(Piv!E39:E$250,List!$F$2)","v":0},{"$f":"INDEX(Piv!F39:F$200,List!$F$2)","v":0},null,{"$f":"INDEX(Piv!H39:H$250,List!$G$2)","v":0},{"$f":"INDEX(Piv!I39:I$200,List!$G$2)","v":0},null,{"$f":"INDEX(Piv!K39:K$250,List!$H$2)","v":0},{"$f":"INDEX(Piv!O39:O$200,List!$H$2)","v":0}]
[36,{"$f":"INDEX(Piv!B40:B$250,ScrollA+List!$J$2)","v":0},{"$f":"INDEX(Piv!C40:C$250,ScrollA+List!$J$2)","v":0},null,{"$f":"INDEX(Piv!E40:E$250,List!$F$2)","v":0},{"$f":"INDEX(Piv!F40:F$200,List!$F$2)","v":0},null,{"$f":"INDEX(Piv!H40:H$250,List!$G$2)","v":0},{"$f":"INDEX(Piv!I40:I$200,List!$G$2)","v":0},null,{"$f":"INDEX(Piv!K40:K$250,List!$H$2)","v":0},{"$f":"INDEX(Piv!O40:O$200,List!$H$2)","v":0}]
[37,{"$f":"INDEX(Piv!B41:B$250,ScrollA+List!$J$2)","v":0},{"$f":"INDEX(Piv!C41:C$250,ScrollA+List!$J$2)","v":0},null,{"$f":"INDEX(Piv!E41:E$250,List!$F$2)","v":0},{"$f":"INDEX(Piv!F41:F$200,List!$F$2)","v":0},null,{"$f":"INDEX(Piv!H41:H$250,List!$G$2)","v":0},{"$f":"INDEX(Piv!I41:I$200,List!$G$2)","v":0},null,{"$f":"INDEX(Piv!K41:K$250,List!$H$2)","v":0},{"$f":"INDEX(Piv!O41:O$200,List!$H$2)","v":0}]
[38,{"$f":"INDEX(Piv!B42:B$250,ScrollA+List!$J$2)","v":0},{"$f":"INDEX(Piv!C42:C$250,ScrollA+List!$J$2)","v":0},null,{"$f":"INDEX(Piv!E42:E$250,List!$F$2)","v":0},{"$f":"INDEX(Piv!F42:F$200,List!$F$2)","v":0},null,{"$f":"INDEX(Piv!H42:H$250,List!$G$2)","v":0},{"$f":"INDEX(Piv!I42:I$200,List!$G$2)","v":0},null,{"$f":"INDEX(Piv!K42:K$250,List!$H$2)","v":0},{"$f":"INDEX(Piv!O42:O$200,List!$H$2)","v":0}]
[39,{"$f":"INDEX(Piv!B43:B$250,ScrollA+List!$J$2)","v":0},{"$f":"INDEX(Piv!C43:C$250,ScrollA+List!$J$2)","v":0},null,{"$f":"INDEX(Piv!E43:E$250,List!$F$2)","v":0},{"$f":"INDEX(Piv!F43:F$200,List!$F$2)","v":0},null,{"$f":"INDEX(Piv!H43:H$250,List!$G$2)","v":0},{"$f":"INDEX(Piv!I43:I$200,List!$G$2)","v":0},null,{"$f":"INDEX(Piv!K43:K$250,List!$H$2)","v":0},{"$f":"INDEX(Piv!O43:O$200,List!$H$2)","v":0}]
[40,{"$f":"INDEX(Piv!B44:B$250,ScrollA+List!$J$2)","v":0},{"$f":"INDEX(Piv!C44:C$250,ScrollA+List!$J$2)","v":0},null,{"$f":"INDEX(Piv!E44:E$250,List!$F$2)","v":0},{"$f":"INDEX(Piv!F44:F$200,List!$F$2)","v":0},null,{"$f":"INDEX(Piv!H44:H$250,List!$G$2)","v":0},{"$f":"INDEX(Piv!I44:I$200,List!$G$2)","v":0},null,{"$f":"INDEX(Piv!K44:K$250,List!$H$2)","v":0},{"$f":"INDEX(Piv!O44:O$200,List!$H$2)","v":0}]
[41,{"$f":"INDEX(Piv!B45:B$250,ScrollA+List!$J$2)","v":0},{"$f":"INDEX(Piv!C45:C$250,ScrollA+List!$J$2)","v":0},null,{"$f":"INDEX(Piv!E45:E$250,List!$F$2)","v":0},{"$f":"INDEX(Piv!F45:F$200,List!$F$2)","v":0},null,{"$f":"INDEX(Piv!H45:H$250,List!$G$2)","v":0},{"$f":"INDEX(Piv!I45:I$200,List!$G$2)","v":0},null,{"$f":"INDEX(Piv!K45:K$250,List!$H$2)","v":0},{"$f":"INDEX(Piv!O45:O$200,List!$H$2)","v":0}]
[42,{"$f":"INDEX(Piv!B46:B$250,ScrollA+List!$J$2)","v":0},{"$f":"INDEX(Piv!C46:C$250,ScrollA+List!$J$2)","v":0},null,{"$f":"INDEX(Piv!E46:E$250,List!$F$2)","v":0},{"$f":"INDEX(Piv!F46:F$200,List!$F$2)","v":0},null,{"$f":"INDEX(Piv!H46:H$250,List!$G$2)","v":0},{"$f":"INDEX(Piv!I46:I$200,List!$G$2)","v":0},null,{"$f":"INDEX(Piv!K46:K$250,List!$H$2)","v":0},{"$f":"INDEX(Piv!O46:O$200,List!$H$2)","v":0}]
[43,{"$f":"INDEX(Piv!B47:B$250,ScrollA+List!$J$2)","v":0},{"$f":"INDEX(Piv!C47:C$250,ScrollA+List!$J$2)","v":0},null,{"$f":"INDEX(Piv!E47:E$250,List!$F$2)","v":0},{"$f":"INDEX(Piv!F47:F$200,List!$F$2)","v":0},null,{"$f":"INDEX(Piv!H47:H$250,List!$G$2)","v":0},{"$f":"INDEX(Piv!I47:I$200,List!$G$2)","v":0},null,{"$f":"INDEX(Piv!K47:K$250,List!$H$2)","v":0},{"$f":"INDEX(Piv!O47:O$200,List!$H$2)","v":0}]
[44,{"$f":"INDEX(Piv!B48:B$250,ScrollA+List!$J$2)","v":0},{"$f":"INDEX(Piv!C48:C$250,ScrollA+List!$J$2)","v":0},null,{"$f":"INDEX(Piv!E48:E$250,List!$F$2)","v":0},{"$f":"INDEX(Piv!F48:F$200,List!$F$2)","v":0},null,{"$f":"INDEX(Piv!H48:H$250,List!$G$2)","v":0},{"$f":"INDEX(Piv!I48:I$200,List!$G$2)","v":0},null,{"$f":"INDEX(Piv!K48:K$250,List!$H$2)","v":0},{"$f":"INDEX(Piv!O48:O$200,List!$H$2)","v":0}]
[45,{"$f":"INDEX(Piv!B49:B$250,ScrollA+List!$J$2)","v":0},{"$f":"INDEX(Piv!C49:C$250,ScrollA+List!$J$2)","v":0},null,{"$f":"INDEX(Piv!E49:E$250,List!$F$2)","v":0},{"$f":"INDEX(Piv!F49:F$200,List!$F$2)","v":0},null,{"$f":"INDEX(Piv!H49:H$250,List!$G$2)","v":0},{"$f":"INDEX(Piv!I49:I$200,List!$G$2)","v":0},null,{"$f":"INDEX(Piv!K49:K$250,List!$H$2)","v":0},{"$f":"INDEX(Piv!O49:O$200,List!$H$2)","v":0}]
[46,{"$f":"INDEX(Piv!B50:B$250,ScrollA+List!$J$2)","v":0},{"$f":"INDEX(Piv!C50:C$250,ScrollA+List!$J$2)","v":0},null,{"$f":"INDEX(Piv!E50:E$250,List!$F$2)","v":0},{"$f":"INDEX(Piv!F50:F$200,List!$F$2)","v":0},null,{"$f":"INDEX(Piv!H50:H$250,List!$G$2)","v":0},{"$f":"INDEX(Piv!I50:I$200,List!$G$2)","v":0},null,{"$f":"INDEX(Piv!K50:K$250,List!$H$2)","v":0},{"$f":"INDEX(Piv!O50:O$200,List!$H$2)","v":0}]
[47,{"$f":"INDEX(Piv!B51:B$250,ScrollA+List!$J$2)","v":0},{"$f":"INDEX(Piv!C51:C$250,ScrollA+List!$J$2)","v":0},null,{"$f":"INDEX(Piv!E51:E$250,List!$F$2)","v":0},{"$f":"INDEX(Piv!F51:F$200,List!$F$2)","v":0},null,{"$f":"INDEX(Piv!H51:H$250,List!$G$2)","v":0},{"$f":"INDEX(Piv!I51:I$200,List!$G$2)","v":0},null,{"$f":"INDEX(Piv!K51:K$250,List!$H$2)","v":0},{"$f":"INDEX(Piv!O51:O$200,List!$H$2)","v":0}]
[48,{"$f":"INDEX(Piv!B52:B$250,ScrollA+List!$J$2)","v":0},{"$f":"INDEX(Piv!C52:C$250,ScrollA+List!$J$2)","v":0},null,{"$f":"INDEX(Piv!E52:E$250,List!$F$2)","v":0},{"$f":"INDEX(Piv!F52:F$200,List!$F$2)","v":0},null,{"$f":"INDEX(Piv!H52:H$250,List!$G$2)","v":0},{"$f":"INDEX(Piv!I52:I$200,List!$G$2)","v":0},null,{"$f":"INDEX(Piv!K52:K$250,List!$H$2)","v":0},{"$f":"INDEX(Piv!O52:O$200,List!$H$2)","v":0}]
[49,{"$f":"INDEX(Piv!B53:B$250,ScrollA+List!$J$2)","v":0},{"$f":"INDEX(Piv!C53:C$250,ScrollA+List!$J$2)","v":0},null,{"$f":"INDEX(Piv!E53:E$250,List!$F$2)","v":0},{"$f":"INDEX(Piv!F53:F$200,List!$F$2)","v":0},null,{"$f":"INDEX(Piv!H53:H$250,List!$G$2)","v":0},{"$f":"INDEX(Piv!I53:I$200,List!$G$2)","v":0},null,{"$f":"INDEX(Piv!K53:K$250,List!$H$2)","v":0},{"$f":"INDEX(Piv!O53:O$200,List!$H$2)","v":0}]
[50,{"$f":"INDEX(Piv!B54:B$250,ScrollA+List!$J$2)","v":0},{"$f":"INDEX(Piv!C54:C$250,ScrollA+List!$J$2)","v":0},null,{"$f":"INDEX(Piv!E54:E$250,List!$F$2)","v":0},{"$f":"INDEX(Piv!F54:F$200,List!$F$2)","v":0},null,{"$f":"INDEX(Piv!H54:H$250,List!$G$2)","v":0},{"$f":"INDEX(Piv!I54:I$200,List!$G$2)","v":0},null,{"$f":"INDEX(Piv!K54:K$250,List!$H$2)","v":0},{"$f":"INDEX(Piv!O54:O$200,List!$H$2)","v":0}]
[51,{"$f":"INDEX(Piv!B55:B$250,ScrollA+List!$J$2)","v":0},{"$f":"INDEX(Piv!C55:C$250,ScrollA+List!$J$2)","v":0},null,{"$f":"INDEX(Piv!E55:E$250,List!$F$2)","v":0},{"$f":"INDEX(Piv!F55:F$200,List!$F$2)","v":0},null,{"$f":"INDEX(Piv!H55:H$250,List!$G$2)","v":0},{"$f":"INDEX(Piv!I55:I$200,List!$G$2)","v":0},null,{"$f":"INDEX(Piv!K55:K$250,List!$H$2)","v":0},{"$f":"INDEX(Piv!O55:O$200,List!$H$2)","v":0}]
[52,{"$f":"INDEX(Piv!B56:B$250,ScrollA+List!$J$2)","v":0},{"$f":"INDEX(Piv!C56:C$250,ScrollA+List!$J$2)","v":0},null,{"$f":"INDEX(Piv!E56:E$250,List!$F$2)","v":0},{"$f":"INDEX(Piv!F56:F$200,List!$F$2)","v":0},null,{"$f":"INDEX(Piv!H56:H$250,List!$G$2)","v":0},{"$f":"INDEX(Piv!I56:I$200,List!$G$2)","v":0},null,{"$f":"INDEX(Piv!K56:K$250,List!$H$2)","v":0},{"$f":"INDEX(Piv!O56:O$200,List!$H$2)","v":0}]
[53,{"$f":"INDEX(Piv!B57:B$250,ScrollA+List!$J$2)","v":0},{"$f":"INDEX(Piv!C57:C$250,ScrollA+List!$J$2)","v":0},null,{"$f":"INDEX(Piv!E57:E$250,List!$F$2)","v":0},{"$f":"INDEX(Piv!F57:F$200,List!$F$2)","v":0},null,{"$f":"INDEX(Piv!H57:H$250,List!$G$2)","v":0},{"$f":"INDEX(Piv!I57:I$200,List!$G$2)","v":0},null,{"$f":"INDEX(Piv!K57:K$250,List!$H$2)","v":0},{"$f":"INDEX(Piv!O57:O$200,List!$H$2)","v":0}]
[54,{"$f":"INDEX(Piv!B58:B$250,ScrollA+List!$J$2)","v":0},{"$f":"INDEX(Piv!C58:C$250,ScrollA+List!$J$2)","v":0},null,{"$f":"INDEX(Piv!E58:E$250,List!$F$2)","v":0},{"$f":"INDEX(Piv!F58:F$200,List!$F$2)","v":0},null,{"$f":"INDEX(Piv!H58:H$250,List!$G$2)","v":0},{"$f":"INDEX(Piv!I58:I$200,List!$G$2)","v":0},null,{"$f":"INDEX(Piv!K58:K$250,List!$H$2)","v":0},{"$f":"INDEX(Piv!O58:O$200,List!$H$2)","v":0}]
[55,{"$f":"INDEX(Piv!B59:B$250,ScrollA+List!$J$2)","v":0},{"$f":"INDEX(Piv!C59:C$250,ScrollA+List!$J$2)","v":0},null,{"$f":"INDEX(Piv!E59:E$250,List!$F$2)","v":0},{"$f":"INDEX(Piv!F59:F$200,List!$F$2)","v":0},null,{"$f":"INDEX(Piv!H59:H$250,List!$G$2)","v":0},{"$f":"INDEX(Piv!I59:I$200,List!$G$2)","v":0},null,{"$f":"INDEX(Piv!K59:K$250,List!$H$2)","v":0},{"$f":"INDEX(Piv!O59:O$200,List!$H$2)","v":0}]
[56,{"$f":"INDEX(Piv!B60:B$250,ScrollA+List!$J$2)","v":0},{"$f":"INDEX(Piv!C60:C$250,ScrollA+List!$J$2)","v":0},null,{"$f":"INDEX(Piv!E60:E$250,List!$F$2)","v":0},{"$f":"INDEX(Piv!F60:F$200,List!$F$2)","v":0},null,{"$f":"INDEX(Piv!H60:H$250,List!$G$2)","v":0},{"$f":"INDEX(Piv!I60:I$200,List!$G$2)","v":0},null,{"$f":"INDEX(Piv!K60:K$250,List!$H$2)","v":0},{"$f":"INDEX(Piv!O60:O$200,List!$H$2)","v":0}]
[57,{"$f":"INDEX(Piv!B61:B$250,ScrollA+List!$J$2)","v":0},{"$f":"INDEX(Piv!C61:C$250,ScrollA+List!$J$2)","v":0},null,{"$f":"INDEX(Piv!E61:E$250,List!$F$2)","v":0},{"$f":"INDEX(Piv!F61:F$200,List!$F$2)","v":0},null,{"$f":"INDEX(Piv!H61:H$250,List!$G$2)","v":0},{"$f":"INDEX(Piv!I61:I$200,List!$G$2)","v":0},null,{"$f":"INDEX(Piv!K61:K$250,List!$H$2)","v":0},{"$f":"INDEX(Piv!O61:O$200,List!$H$2)","v":0}]
[58,{"$f":"INDEX(Piv!B62:B$250,ScrollA+List!$J$2)","v":0},{"$f":"INDEX(Piv!C62:C$250,ScrollA+List!$J$2)","v":0},null,{"$f":"INDEX(Piv!E62:E$250,List!$F$2)","v":0},{"$f":"INDEX(Piv!F62:F$200,List!$F$2)","v":0},null,{"$f":"INDEX(Piv!H62:H$250,List!$G$2)","v":0},{"$f":"INDEX(Piv!I62:I$200,List!$G$2)","v":0},null,{"$f":"INDEX(Piv!K62:K$250,List!$H$2)","v":0},{"$f":"INDEX(Piv!O62:O$200,List!$H$2)","v":0}]
[59,{"$f":"INDEX(Piv!B63:B$250,ScrollA+List!$J$2)","v":0},{"$f":"INDEX(Piv!C63:C$250,ScrollA+List!$J$2)","v":0},null,{"$f":"INDEX(Piv!E63:E$250,List!$F$2)","v":0},{"$f":"INDEX(Piv!F63:F$200,List!$F$2)","v":0},null,{"$f":"INDEX(Piv!H63:H$250,List!$G$2)","v":0},{"$f":"INDEX(Piv!I63:I$200,List!$G$2)","v":0},null,{"$f":"INDEX(Piv!K63:K$250,List!$H$2)","v":0},{"$f":"INDEX(Piv!O63:O$200,List!$H$2)","v":0}]
[60,{"$f":"INDEX(Piv!B64:B$250,ScrollA+List!$J$2)","v":0},{"$f":"INDEX(Piv!C64:C$250,ScrollA+List!$J$2)","v":0},null,{"$f":"INDEX(Piv!E64:E$250,List!$F$2)","v":0},{"$f":"INDEX(Piv!F64:F$200,List!$F$2)","v":0},null,{"$f":"INDEX(Piv!H64:H$250,List!$G$2)","v":0},{"$f":"INDEX(Piv!I64:I$200,List!$G$2)","v":0},null,{"$f":"INDEX(Piv!K64:K$250,List!$H$2)","v":0},{"$f":"INDEX(Piv!O64:O$200,List!$H$2)","v":0}]
[61,{"$f":"INDEX(Piv!B65:B$250,ScrollA+List!$J$2)","v":0},{"$f":"INDEX(Piv!C65:C$250,ScrollA+List!$J$2)","v":0},null,{"$f":"INDEX(Piv!E65:E$250,List!$F$2)","v":0},{"$f":"INDEX(Piv!F65:F$200,List!$F$2)","v":0},null,{"$f":"INDEX(Piv!H65:H$250,List!$G$2)","v":0},{"$f":"INDEX(Piv!I65:I$200,List!$G$2)","v":0},null,{"$f":"INDEX(Piv!K65:K$250,List!$H$2)","v":0},{"$f":"INDEX(Piv!O65:O$200,List!$H$2)","v":0}]
[62,{"$f":"INDEX(Piv!B66:B$250,ScrollA+List!$J$2)","v":0},{"$f":"INDEX(Piv!C66:C$250,ScrollA+List!$J$2)","v":0},null,{"$f":"INDEX(Piv!E66:E$250,List!$F$2)","v":0},{"$f":"INDEX(Piv!F66:F$200,List!$F$2)","v":0},null,{"$f":"INDEX(Piv!H66:H$250,List!$G$2)","v":0},{"$f":"INDEX(Piv!I66:I$200,List!$G$2)","v":0},null,{"$f":"INDEX(Piv!K66:K$250,List!$H$2)","v":0},{"$f":"INDEX(Piv!O66:O$200,List!$H$2)","v":0}]
[63,{"$f":"INDEX(Piv!B67:B$250,ScrollA+List!$J$2)","v":0},{"$f":"INDEX(Piv!C67:C$250,ScrollA+List!$J$2)","v":0},null,{"$f":"INDEX(Piv!E67:E$250,List!$F$2)","v":0},{"$f":"INDEX(Piv!F67:F$200,List!$F$2)","v":0},null,{"$f":"INDEX(Piv!H67:H$250,List!$G$2)","v":0},{"$f":"INDEX(Piv!I67:I$200,List!$G$2)","v":0},null,{"$f":"INDEX(Piv!K67:K$250,List!$H$2)","v":0},{"$f":"INDEX(Piv!O67:O$200,List!$H$2)","v":0}]
[64,{"$f":"INDEX(Piv!B68:B$250,ScrollA+List!$J$2)","v":0},{"$f":"INDEX(Piv!C68:C$250,ScrollA+List!$J$2)","v":0},null,{"$f":"INDEX(Piv!E68:E$250,List!$F$2)","v":0},{"$f":"INDEX(Piv!F68:F$200,List!$F$2)","v":0},null,{"$f":"INDEX(Piv!H68:H$250,List!$G$2)","v":0},{"$f":"INDEX(Piv!I68:I$200,List!$G$2)","v":0},null,{"$f":"INDEX(Piv!K68:K$250,List!$H$2)","v":0},{"$f":"INDEX(Piv!O68:O$200,List!$H$2)","v":0}]
[65,{"$f":"INDEX(Piv!B69:B$250,ScrollA+List!$J$2)","v":0},{"$f":"INDEX(Piv!C69:C$250,ScrollA+List!$J$2)","v":0},null,{"$f":"INDEX(Piv!E69:E$250,List!$F$2)","v":0},{"$f":"INDEX(Piv!F69:F$200,List!$F$2)","v":0},null,{"$f":"INDEX(Piv!H69:H$250,List!$G$2)","v":0},{"$f":"INDEX(Piv!I69:I$200,List!$G$2)","v":0},null,{"$f":"INDEX(Piv!K69:K$250,List!$H$2)","v":0},{"$f":"INDEX(Piv!O69:O$200,List!$H$2)","v":0}]
[66,{"$f":"INDEX(Piv!B70:B$250,ScrollA+List!$J$2)","v":0},{"$f":"INDEX(Piv!C70:C$250,ScrollA+List!$J$2)","v":0},null,{"$f":"INDEX(Piv!E70:E$250,List!$F$2)","v":0},{"$f":"INDEX(Piv!F70:F$200,List!$F$2)","v":0},null,{"$f":"INDEX(Piv!H70:H$250,List!$G$2)","v":0},{"$f":"INDEX(Piv!I70:I$200,List!$G$2)","v":0},null,{"$f":"INDEX(Piv!K70:K$250,List!$H$2)","v":0},{"$f":"INDEX(Piv!O70:O$200,List!$H$2)","v":0}]
[67,{"$f":"INDEX(Piv!B71:B$250,ScrollA+List!$J$2)","v":0},{"$f":"INDEX(Piv!C71:C$250,ScrollA+List!$J$2)","v":0},null,{"$f":"INDEX(Piv!E71:E$250,List!$F$2)","v":0},{"$f":"INDEX(Piv!F71:F$200,List!$F$2)","v":0},null,{"$f":"INDEX(Piv!H71:H$250,List!$G$2)","v":0},{"$f":"INDEX(Piv!I71:I$200,List!$G$2)","v":0},null,{"$f":"INDEX(Piv!K71:K$250,List!$H$2)","v":0},{"$f":"INDEX(Piv!O71:O$200,List!$H$2)","v":0}]
[68,{"$f":"INDEX(Piv!B72:B$250,ScrollA+List!$J$2)","v":0},{"$f":"INDEX(Piv!C72:C$250,ScrollA+List!$J$2)","v":0},null,{"$f":"INDEX(Piv!E72:E$250,List!$F$2)","v":0},{"$f":"INDEX(Piv!F72:F$200,List!$F$2)","v":0},null,{"$f":"INDEX(Piv!H72:H$250,List!$G$2)","v":0},{"$f":"INDEX(Piv!I72:I$200,List!$G$2)","v":0},null,{"$f":"INDEX(Piv!K72:K$250,List!$H$2)","v":0},{"$f":"INDEX(Piv!O72:O$200,List!$H$2)","v":0}]
[69,{"$f":"INDEX(Piv!B73:B$250,ScrollA+List!$J$2)","v":0},{"$f":"INDEX(Piv!C73:C$250,ScrollA+List!$J$2)","v":0},null,{"$f":"INDEX(Piv!E73:E$250,List!$F$2)","v":0},{"$f":"INDEX(Piv!F73:F$200,List!$F$2)","v":0},null,{"$f":"INDEX(Piv!H73:H$250,List!$G$2)","v":0},{"$f":"INDEX(Piv!I73:I$200,List!$G$2)","v":0},null,{"$f":"INDEX(Piv!K73:K$250,List!$H$2)","v":0},{"$f":"INDEX(Piv!O73:O$200,List!$H$2)","v":0}]
[70,{"$f":"INDEX(Piv!B74:B$250,ScrollA+List!$J$2)","v":0},{"$f":"INDEX(Piv!C74:C$250,ScrollA+List!$J$2)","v":0},null,{"$f":"INDEX(Piv!E74:E$250,List!$F$2)","v":0},{"$f":"INDEX(Piv!F74:F$200,List!$F$2)","v":0},null,{"$f":"INDEX(Piv!H74:H$250,List!$G$2)","v":0},{"$f":"INDEX(Piv!I74:I$200,List!$G$2)","v":0},null,{"$f":"INDEX(Piv!K74:K$250,List!$H$2)","v":0},{"$f":"INDEX(Piv!O74:O$200,List!$H$2)","v":0}]
[71,{"$f":"INDEX(Piv!B75:B$250,ScrollA+List!$J$2)","v":0},{"$f":"INDEX(Piv!C75:C$250,ScrollA+List!$J$2)","v":0},null,{"$f":"INDEX(Piv!E75:E$250,List!$F$2)","v":0},{"$f":"INDEX(Piv!F75:F$200,List!$F$2)","v":0},null,{"$f":"INDEX(Piv!H75:H$250,List!$G$2)","v":0},{"$f":"INDEX(Piv!I75:I$200,List!$G$2)","v":0},null,{"$f":"INDEX(Piv!K75:K$250,List!$H$2)","v":0},{"$f":"INDEX(Piv!O75:O$200,List!$H$2)","v":0}]
[72,{"$f":"INDEX(Piv!B76:B$250,ScrollA+List!$J$2)","v":0},{"$f":"INDEX(Piv!C76:C$250,ScrollA+List!$J$2)","v":0},null,{"$f":"INDEX(Piv!E76:E$250,List!$F$2)","v":0},{"$f":"INDEX(Piv!F76:F$200,List!$F$2)","v":0},null,{"$f":"INDEX(Piv!H76:H$250,List!$G$2)","v":0},{"$f":"INDEX(Piv!I76:I$200,List!$G$2)","v":0},null,{"$f":"INDEX(Piv!K76:K$250,List!$H$2)","v":0},{"$f":"INDEX(Piv!O76:O$200,List!$H$2)","v":0}]
[73,{"$f":"INDEX(Piv!B77:B$250,ScrollA+List!$J$2)","v":0},{"$f":"INDEX(Piv!C77:C$250,ScrollA+List!$J$2)","v":0},null,{"$f":"INDEX(Piv!E77:E$250,List!$F$2)","v":0},{"$f":"INDEX(Piv!F77:F$200,List!$F$2)","v":0},null,{"$f":"INDEX(Piv!H77:H$250,List!$G$2)","v":0},{"$f":"INDEX(Piv!I77:I$200,List!$G$2)","v":0},null,{"$f":"INDEX(Piv!K77:K$250,List!$H$2)","v":0},{"$f":"INDEX(Piv!O77:O$200,List!$H$2)","v":0}]
[74,{"$f":"INDEX(Piv!B78:B$250,ScrollA+List!$J$2)","v":0},{"$f":"INDEX(Piv!C78:C$250,ScrollA+List!$J$2)","v":0},null,{"$f":"INDEX(Piv!E78:E$250,List!$F$2)","v":0},{"$f":"INDEX(Piv!F78:F$200,List!$F$2)","v":0},null,{"$f":"INDEX(Piv!H78:H$250,List!$G$2)","v":0},{"$f":"INDEX(Piv!I78:I$200,List!$G$2)","v":0},null,{"$f":"INDEX(Piv!K78:K$250,List!$H$2)","v":0},{"$f":"INDEX(Piv!O78:O$200,List!$H$2)","v":0}]
[75,{"$f":"INDEX(Piv!B79:B$250,ScrollA+List!$J$2)","v":0},{"$f":"INDEX(Piv!C79:C$250,ScrollA+List!$J$2)","v":0},null,{"$f":"INDEX(Piv!E79:E$250,List!$F$2)","v":0},{"$f":"INDEX(Piv!F79:F$200,List!$F$2)","v":0},null,{"$f":"INDEX(Piv!H79:H$250,List!$G$2)","v":0},{"$f":"INDEX(Piv!I79:I$200,List!$G$2)","v":0},null,{"$f":"INDEX(Piv!K79:K$250,List!$H$2)","v":0},{"$f":"INDEX(Piv!O79:O$200,List!$H$2)","v":0}]
[76,{"$f":"INDEX(Piv!B80:B$250,ScrollA+List!$J$2)","v":0},{"$f":"INDEX(Piv!C80:C$250,ScrollA+List!$J$2)","v":0},null,{"$f":"INDEX(Piv!E80:E$250,List!$F$2)","v":0},{"$f":"INDEX(Piv!F80:F$200,List!$F$2)","v":0},null,{"$f":"INDEX(Piv!H80:H$250,List!$G$2)","v":0},{"$f":"INDEX(Piv!I80:I$200,List!$G$2)","v":0},null,{"$f":"INDEX(Piv!K80:K$250,List!$H$2)","v":0},{"$f":"INDEX(Piv!O80:O$200,List!$H$2)","v":0}]
[77,{"$f":"INDEX(Piv!B81:B$250,ScrollA+List!$J$2)","v":0},{"$f":"INDEX(Piv!C81:C$250,ScrollA+List!$J$2)","v":0},null,{"$f":"INDEX(Piv!E81:E$250,List!$F$2)","v":0},{"$f":"INDEX(Piv!F81:F$200,List!$F$2)","v":0},null,{"$f":"INDEX(Piv!H81:H$250,List!$G$2)","v":0},{"$f":"INDEX(Piv!I81:I$200,List!$G$2)","v":0},null,{"$f":"INDEX(Piv!K81:K$250,List!$H$2)","v":0},{"$f":"INDEX(Piv!O81:O$200,List!$H$2)","v":0}]
[78,{"$f":"INDEX(Piv!B82:B$250,ScrollA+List!$J$2)","v":0},{"$f":"INDEX(Piv!C82:C$250,ScrollA+List!$J$2)","v":0},null,{"$f":"INDEX(Piv!E82:E$250,List!$F$2)","v":0},{"$f":"INDEX(Piv!F82:F$200,List!$F$2)","v":0},null,{"$f":"INDEX(Piv!H82:H$250,List!$G$2)","v":0},{"$f":"INDEX(Piv!I82:I$200,List!$G$2)","v":0},null,{"$f":"INDEX(Piv!K82:K$250,List!$H$2)","v":0},{"$f":"INDEX(Piv!O82:O$200,List!$H$2)","v":0}]
[79,{"$f":"INDEX(Piv!B83:B$250,ScrollA+List!$J$2)","v":0},{"$f":"INDEX(Piv!C83:C$250,ScrollA+List!$J$2)","v":0},null,{"$f":"INDEX(Piv!E83:E$250,List!$F$2)","v":0},{"$f":"INDEX(Piv!F83:F$200,List!$F$2)","v":0},null,{"$f":"INDEX(Piv!H83:H$250,List!$G$2)","v":0},{"$f":"INDEX(Piv!I83:I$200,List!$G$2)","v":0},null,{"$f":"INDEX(Piv!K83:K$250,List!$H$2)","v":0},{"$f":"INDEX(Piv!O83:O$200,List!$H$2)","v":0}]
[80,{"$f":"INDEX(Piv!B84:B$250,ScrollA+List!$J$2)","v":0},{"$f":"INDEX(Piv!C84:C$250,ScrollA+List!$J$2)","v":0},null,{"$f":"INDEX(Piv!E84:E$250,List!$F$2)","v":0},{"$f":"INDEX(Piv!F84:F$200,List!$F$2)","v":0},null,{"$f":"INDEX(Piv!H84:H$250,List!$G$2)","v":0},{"$f":"INDEX(Piv!I84:I$200,List!$G$2)","v":0},null,{"$f":"INDEX(Piv!K84:K$250,List!$H$2)","v":0},{"$f":"INDEX(Piv!O84:O$200,List!$H$2)","v":0}]
[81,{"$f":"INDEX(Piv!B85:B$250,ScrollA+List!$J$2)","v":0},{"$f":"INDEX(Piv!C85:C$250,ScrollA+List!$J$2)","v":0},null,{"$f":"INDEX(Piv!E85:E$250,List!$F$2)","v":0},{"$f":"INDEX(Piv!F85:F$200,List!$F$2)","v":0},null,{"$f":"INDEX(Piv!H85:H$250,List!$G$2)","v":0},{"$f":"INDEX(Piv!I85:I$200,List!$G$2)","v":0},null,{"$f":"INDEX(Piv!K85:K$250,List!$H$2)","v":0},{"$f":"INDEX(Piv!O85:O$200,List!$H$2)","v":0}]
[82,{"$f":"INDEX(Piv!B86:B$250,ScrollA+List!$J$2)","v":0},{"$f":"INDEX(Piv!C86:C$250,ScrollA+List!$J$2)","v":0},null,{"$f":"INDEX(Piv!E86:E$250,List!$F$2)","v":0},{"$f":"INDEX(Piv!F86:F$200,List!$F$2)","v":0},null,{"$f":"INDEX(Piv!H86:H$250,List!$G$2)","v":0},{"$f":"INDEX(Piv!I86:I$200,List!$G$2)","v":0},null,{"$f":"INDEX(Piv!K86:K$250,List!$H$2)","v":0},{"$f":"INDEX(Piv!O86:O$200,List!$H$2)","v":0}]
[83,{"$f":"INDEX(Piv!B87:B$250,ScrollA+List!$J$2)","v":0},{"$f":"INDEX(Piv!C87:C$250,ScrollA+List!$J$2)","v":0},null,{"$f":"INDEX(Piv!E87:E$250,List!$F$2)","v":0},{"$f":"INDEX(Piv!F87:F$200,List!$F$2)","v":0},null,{"$f":"INDEX(Piv!H87:H$250,List!$G$2)","v":0},{"$f":"INDEX(Piv!I87:I$200,List!$G$2)","v":0},null,{"$f":"INDEX(Piv!K87:K$250,List!$H$2)","v":0},{"$f":"INDEX(Piv!O87:O$200,List!$H$2)","v":0}]
[84,{"$f":"INDEX(Piv!B88:B$250,ScrollA+List!$J$2)","v":0},{"$f":"INDEX(Piv!C88:C$250,ScrollA+List!$J$2)","v":0},null,{"$f":"INDEX(Piv!E88:E$250,List!$F$2)","v":0},{"$f":"INDEX(Piv!F88:F$200,List!$F$2)","v":0},null,{"$f":"INDEX(Piv!H88:H$250,List!$G$2)","v":0},{"$f":"INDEX(Piv!I88:I$200,List!$G$2)","v":0},null,{"$f":"INDEX(Piv!K88:K$250,List!$H$2)","v":0},{"$f":"INDEX(Piv!O88:O$200,List!$H$2)","v":0}]
[85,{"$f":"INDEX(Piv!B89:B$250,ScrollA+List!$J$2)","v":0},{"$f":"INDEX(Piv!C89:C$250,ScrollA+List!$J$2)","v":0},null,{"$f":"INDEX(Piv!E89:E$250,List!$F$2)","v":0},{"$f":"INDEX(Piv!F89:F$200,List!$F$2)","v":0},null,{"$f":"INDEX(Piv!H89:H$250,List!$G$2)","v":0},{"$f":"INDEX(Piv!I89:I$200,List!$G$2)","v":0},null,{"$f":"INDEX(Piv!K89:K$250,List!$H$2)","v":0},{"$f":"INDEX(Piv!O89:O$200,List!$H$2)","v":0}]
[86,{"$f":"INDEX(Piv!B90:B$250,ScrollA+List!$J$2)","v":0},{"$f":"INDEX(Piv!C90:C$250,ScrollA+List!$J$2)","v":0},null,{"$f":"INDEX(Piv!E90:E$250,List!$F$2)","v":0},{"$f":"INDEX(Piv!F90:F$200,List!$F$2)","v":0},null,{"$f":"INDEX(Piv!H90:H$250,List!$G$2)","v":0},{"$f":"INDEX(Piv!I90:I$200,List!$G$2)","v":0},null,{"$f":"INDEX(Piv!K90:K$250,List!$H$2)","v":0},{"$f":"INDEX(Piv!O90:O$200,List!$H$2)","v":0}]
[87,{"$f":"INDEX(Piv!B91:B$250,ScrollA+List!$J$2)","v":0},{"$f":"INDEX(Piv!C91:C$250,ScrollA+List!$J$2)","v":0},null,{"$f":"INDEX(Piv!E91:E$250,List!$F$2)","v":0},{"$f":"INDEX(Piv!F91:F$200,List!$F$2)","v":0},null,{"$f":"INDEX(Piv!H91:H$250,List!$G$2)","v":0},{"$f":"INDEX(Piv!I91:I$200,List!$G$2)","v":0},null,{"$f":"INDEX(Piv!K91:K$250,List!$H$2)","v":0},{"$f":"INDEX(Piv!O91:O$200,List!$H$2)","v":0}]
[88,{"$f":"INDEX(Piv!B92:B$250,ScrollA+List!$J$2)","v":0},{"$f":"INDEX(Piv!C92:C$250,ScrollA+List!$J$2)","v":0},null,{"$f":"INDEX(Piv!E92:E$250,List!$F$2)","v":0},{"$f":"INDEX(Piv!F92:F$200,List!$F$2)","v":0},null,{"$f":"INDEX(Piv!H92:H$250,List!$G$2)","v":0},{"$f":"INDEX(Piv!I92:I$200,List!$G$2)","v":0},null,{"$f":"INDEX(Piv!K92:K$250,List!$H$2)","v":0},{"$f":"INDEX(Piv!O92:O$200,List!$H$2)","v":0}]
[89,{"$f":"INDEX(Piv!B93:B$250,ScrollA+List!$J$2)","v":0},{"$f":"INDEX(Piv!C93:C$250,ScrollA+List!$J$2)","v":0},null,{"$f":"INDEX(Piv!E93:E$250,List!$F$2)","v":0},{"$f":"INDEX(Piv!F93:F$200,List!$F$2)","v":0},null,{"$f":"INDEX(Piv!H93:H$250,List!$G$2)","v":0},{"$f":"INDEX(Piv!I93:I$200,List!$G$2)","v":0},null,{"$f":"INDEX(Piv!K93:K$250,List!$H$2)","v":0},{"$f":"INDEX(Piv!O93:O$200,List!$H$2)","v":0}]
[90,{"$f":"INDEX(Piv!B94:B$250,ScrollA+List!$J$2)","v":0},{"$f":"INDEX(Piv!C94:C$250,ScrollA+List!$J$2)","v":0},null,{"$f":"INDEX(Piv!E94:E$250,List!$F$2)","v":0},{"$f":"INDEX(Piv!F94:F$200,List!$F$2)","v":0},null,{"$f":"INDEX(Piv!H94:H$250,List!$G$2)","v":0},{"$f":"INDEX(Piv!I94:I$200,List!$G$2)","v":0},null,{"$f":"INDEX(Piv!K94:K$250,List!$H$2)","v":0},{"$f":"INDEX(Piv!O94:O$200,List!$H$2)","v":0}]
[91,{"$f":"INDEX(Piv!B95:B$250,ScrollA+List!$J$2)","v":0},{"$f":"INDEX(Piv!C95:C$250,ScrollA+List!$J$2)","v":0},null,{"$f":"INDEX(Piv!E95:E$250,List!$F$2)","v":0},{"$f":"INDEX(Piv!F95:F$200,List!$F$2)","v":0},null,{"$f":"INDEX(Piv!H95:H$250,List!$G$2)","v":0},{"$f":"INDEX(Piv!I95:I$200,List!$G$2)","v":0},null,{"$f":"INDEX(Piv!K95:K$250,List!$H$2)","v":0},{"$f":"INDEX(Piv!O95:O$200,List!$H$2)","v":0}]
[92,{"$f":"INDEX(Piv!B96:B$250,ScrollA+List!$J$2)","v":0},{"$f":"INDEX(Piv!C96:C$250,ScrollA+List!$J$2)","v":0},null,{"$f":"INDEX(Piv!E96:E$250,List!$F$2)","v":0},{"$f":"INDEX(Piv!F96:F$200,List!$F$2)","v":0},null,{"$f":"INDEX(Piv!H96:H$250,List!$G$2)","v":0},{"$f":"INDEX(Piv!I96:I$200,List!$G$2)","v":0},null,{"$f":"INDEX(Piv!K96:K$250,List!$H$2)","v":0},{"$f":"INDEX(Piv!O96:O$200,List!$H$2)","v":0}]
[93,{"$f":"INDEX(Piv!B97:B$250,ScrollA+List!$J$2)","v":0},{"$f":"INDEX(Piv!C97:C$250,ScrollA+List!$J$2)","v":0},null,{"$f":"INDEX(Piv!E97:E$250,List!$F$2)","v":0},{"$f":"INDEX(Piv!F97:F$200,List!$F$2)","v":0},null,{"$f":"INDEX(Piv!H97:H$250,List!$G$2)","v":0},{"$f":"INDEX(Piv!I97:I$200,List!$G$2)","v":0},null,{"$f":"INDEX(Piv!K97:K$250,List!$H$2)","v":0},{"$f":"INDEX(Piv!O97:O$200,List!$H$2)","v":0}]
[94,{"$f":"INDEX(Piv!B98:B$250,ScrollA+List!$J$2)","v":0},{"$f":"INDEX(Piv!C98:C$250,ScrollA+List!$J$2)","v":0},null,{"$f":"INDEX(Piv!E98:E$250,List!$F$2)","v":0},{"$f":"INDEX(Piv!F98:F$200,List!$F$2)","v":0},null,{"$f":"INDEX(Piv!H98:H$250,List!$G$2)","v":0},{"$f":"INDEX(Piv!I98:I$200,List!$G$2)","v":0},null,{"$f":"INDEX(Piv!K98:K$250,List!$H$2)","v":0},{"$f":"INDEX(Piv!O98:O$200,List!$H$2)","v":0}]
[95,{"$f":"INDEX(Piv!B99:B$250,ScrollA+List!$J$2)","v":0},{"$f":"INDEX(Piv!C99:C$250,ScrollA+List!$J$2)","v":0},null,{"$f":"INDEX(Piv!E99:E$250,List!$F$2)","v":0},{"$f":"INDEX(Piv!F99:F$200,List!$F$2)","v":0},null,{"$f":"INDEX(Piv!H99:H$250,List!$G$2)","v":0},{"$f":"INDEX(Piv!I99:I$200,List!$G$2)","v":0},null,{"$f":"INDEX(Piv!K99:K$250,List!$H$2)","v":0},{"$f":"INDEX(Piv!O99:O$200,List!$H$2)","v":0}]
[96,{"$f":"INDEX(Piv!B100:B$250,ScrollA+List!$J$2)","v":0},{"$f":"INDEX(Piv!C100:C$250,ScrollA+List!$J$2)","v":0},null,{"$f":"INDEX(Piv!E100:E$250,List!$F$2)","v":0},{"$f":"INDEX(Piv!F100:F$200,List!$F$2)","v":0},null,{"$f":"INDEX(Piv!H100:H$250,List!$G$2)","v":0},{"$f":"INDEX(Piv!I100:I$200,List!$G$2)","v":0},null,{"$f":"INDEX(Piv!K100:K$250,List!$H$2)","v":0},{"$f":"INDEX(Piv!O100:O$200,List!$H$2)","v":0}]
[97,{"$f":"INDEX(Piv!B101:B$250,ScrollA+List!$J$2)","v":0},{"$f":"INDEX(Piv!C101:C$250,ScrollA+List!$J$2)","v":0},null,{"$f":"INDEX(Piv!E101:E$250,List!$F$2)","v":0},{"$f":"INDEX(Piv!F101:F$200,List!$F$2)","v":0},null,{"$f":"INDEX(Piv!H101:H$250,List!$G$2)","v":0},{"$f":"INDEX(Piv!I101:I$200,List!$G$2)","v":0},null,{"$f":"INDEX(Piv!K101:K$250,List!$H$2)","v":0},{"$f":"INDEX(Piv!O101:O$200,List!$H$2)","v":0}]
[98,{"$f":"INDEX(Piv!B102:B$250,ScrollA+List!$J$2)","v":0},{"$f":"INDEX(Piv!C102:C$250,ScrollA+List!$J$2)","v":0},null,{"$f":"INDEX(Piv!E102:E$250,List!$F$2)","v":0},{"$f":"INDEX(Piv!F102:F$200,List!$F$2)","v":0},null,{"$f":"INDEX(Piv!H102:H$250,List!$G$2)","v":0},{"$f":"INDEX(Piv!I102:I$200,List!$G$2)","v":0},null,{"$f":"INDEX(Piv!K102:K$250,List!$H$2)","v":0},{"$f":"INDEX(Piv!O102:O$200,List!$H$2)","v":0}]
[99,{"$f":"INDEX(Piv!B103:B$250,ScrollA+List!$J$2)","v":0},{"$f":"INDEX(Piv!C103:C$250,ScrollA+List!$J$2)","v":0},null,{"$f":"INDEX(Piv!E103:E$250,List!$F$2)","v":0},{"$f":"INDEX(Piv!F103:F$200,List!$F$2)","v":0},null,{"$f":"INDEX(Piv!H103:H$250,List!$G$2)","v":0},{"$f":"INDEX(Piv!I103:I$200,List!$G$2)","v":0},null,{"$f":"INDEX(Piv!K103:K$250,List!$H$2)","v":0},{"$f":"INDEX(Piv!O103:O$200,List!$H$2)","v":0}]
[100,{"$f":"INDEX(Piv!B104:B$250,ScrollA+List!$J$2)","v":0},{"$f":"INDEX(Piv!C104:C$250,ScrollA+List!$J$2)","v":0},null,{"$f":"INDEX(Piv!E104:E$250,List!$F$2)","v":0},{"$f":"INDEX(Piv!F104:F$200,List!$F$2)","v":0},null,{"$f":"INDEX(Piv!H104:H$250,List!$G$2)","v":0},{"$f":"INDEX(Piv!I104:I$200,List!$G$2)","v":0},null,{"$f":"INDEX(Piv!K104:K$250,List!$H$2)","v":0},{"$f":"INDEX(Piv!O104:O$200,List!$H$2)","v":0}]
[101,{"$f":"INDEX(Piv!B105:B$250,ScrollA+List!$J$2)","v":0},{"$f":"INDEX(Piv!C105:C$250,ScrollA+List!$J$2)","v":0},null,{"$f":"INDEX(Piv!E105:E$250,List!$F$2)","v":0},{"$f":"INDEX(Piv!F105:F$200,List!$F$2)","v":0},null,{"$f":"INDEX(Piv!H105:H$250,List!$G$2)","v":0},{"$f":"INDEX(Piv!I105:I$200,List!$G$2)","v":0},null,{"$f":"INDEX(Piv!K105:K$250,List!$H$2)","v":0},{"$f":"INDEX(Piv!O105:O$200,List!$H$2)","v":0}]
[102,{"$f":"INDEX(Piv!B106:B$250,ScrollA+List!$J$2)","v":0},{"$f":"INDEX(Piv!C106:C$250,ScrollA+List!$J$2)","v":0},null,{"$f":"INDEX(Piv!E106:E$250,List!$F$2)","v":0},{"$f":"INDEX(Piv!F106:F$200,List!$F$2)","v":0},null,{"$f":"INDEX(Piv!H106:H$250,List!$G$2)","v":0},{"$f":"INDEX(Piv!I106:I$200,List!$G$2)","v":0},null,{"$f":"INDEX(Piv!K106:K$250,List!$H$2)","v":0},{"$f":"INDEX(Piv!O106:O$200,List!$H$2)","v":0}]
[103,{"$f":"INDEX(Piv!B107:B$250,ScrollA+List!$J$2)","v":0},{"$f":"INDEX(Piv!C107:C$250,ScrollA+List!$J$2)","v":0},null,{"$f":"INDEX(Piv!E107:E$250,List!$F$2)","v":0},{"$f":"INDEX(Piv!F107:F$200,List!$F$2)","v":0},null,{"$f":"INDEX(Piv!H107:H$250,List!$G$2)","v":0},{"$f":"INDEX(Piv!I107:I$200,List!$G$2)","v":0},null,{"$f":"INDEX(Piv!K107:K$250,List!$H$2)","v":0},{"$f":"INDEX(Piv!O107:O$200,List!$H$2)","v":0}]
[104,{"$f":"INDEX(Piv!B108:B$250,ScrollA+List!$J$2)","v":0},{"$f":"INDEX(Piv!C108:C$250,ScrollA+List!$J$2)","v":0},null,{"$f":"INDEX(Piv!E108:E$250,List!$F$2)","v":0},{"$f":"INDEX(Piv!F108:F$200,List!$F$2)","v":0},null,{"$f":"INDEX(Piv!H108:H$250,List!$G$2)","v":0},{"$f":"INDEX(Piv!I108:I$200,List!$G$2)","v":0},null,{"$f":"INDEX(Piv!K108:K$250,List!$H$2)","v":0},{"$f":"INDEX(Piv!O108:O$200,List!$H$2)","v":0}]
[105,{"$f":"INDEX(Piv!B109:B$250,ScrollA+List!$J$2)","v":0},{"$f":"INDEX(Piv!C109:C$250,ScrollA+List!$J$2)","v":0},null,{"$f":"INDEX(Piv!E109:E$250,List!$F$2)","v":0},{"$f":"INDEX(Piv!F109:F$200,List!$F$2)","v":0},null,{"$f":"INDEX(Piv!H109:H$250,List!$G$2)","v":0},{"$f":"INDEX(Piv!I109:I$200,List!$G$2)","v":0},null,{"$f":"INDEX(Piv!K109:K$250,List!$H$2)","v":0},{"$f":"INDEX(Piv!O109:O$200,List!$H$2)","v":0}]
[106,{"$f":"INDEX(Piv!B110:B$250,ScrollA+List!$J$2)","v":0},{"$f":"INDEX(Piv!C110:C$250,ScrollA+List!$J$2)","v":0},null,{"$f":"INDEX(Piv!E110:E$250,List!$F$2)","v":0},{"$f":"INDEX(Piv!F110:F$200,List!$F$2)","v":0},null,{"$f":"INDEX(Piv!H110:H$250,List!$G$2)","v":0},{"$f":"INDEX(Piv!I110:I$200,List!$G$2)","v":0},null,{"$f":"INDEX(Piv!K110:K$250,List!$H$2)","v":0},{"$f":"INDEX(Piv!O110:O$200,List!$H$2)","v":0}]
[107,{"$f":"INDEX(Piv!B111:B$250,ScrollA+List!$J$2)","v":0},{"$f":"INDEX(Piv!C111:C$250,ScrollA+List!$J$2)","v":0},null,{"$f":"INDEX(Piv!E111:E$250,List!$F$2)","v":0},{"$f":"INDEX(Piv!F111:F$200,List!$F$2)","v":0},null,{"$f":"INDEX(Piv!H111:H$250,List!$G$2)","v":0},{"$f":"INDEX(Piv!I111:I$200,List!$G$2)","v":0},null,{"$f":"INDEX(Piv!K111:K$250,List!$H$2)","v":0},{"$f":"INDEX(Piv!O111:O$200,List!$H$2)","v":0}]
[108,{"$f":"INDEX(Piv!B112:B$250,ScrollA+List!$J$2)","v":0},{"$f":"INDEX(Piv!C112:C$250,ScrollA+List!$J$2)","v":0},null,{"$f":"INDEX(Piv!E112:E$250,List!$F$2)","v":0},{"$f":"INDEX(Piv!F112:F$200,List!$F$2)","v":0},null,{"$f":"INDEX(Piv!H112:H$250,List!$G$2)","v":0},{"$f":"INDEX(Piv!I112:I$200,List!$G$2)","v":0},null,{"$f":"INDEX(Piv!K112:K$250,List!$H$2)","v":0},{"$f":"INDEX(Piv!O112:O$200,List!$H$2)","v":0}]
[109,{"$f":"INDEX(Piv!B113:B$250,ScrollA+List!$J$2)","v":0},{"$f":"INDEX(Piv!C113:C$250,ScrollA+List!$J$2)","v":0},null,{"$f":"INDEX(Piv!E113:E$250,List!$F$2)","v":0},{"$f":"INDEX(Piv!F113:F$200,List!$F$2)","v":0},null,{"$f":"INDEX(Piv!H113:H$250,List!$G$2)","v":0},{"$f":"INDEX(Piv!I113:I$200,List!$G$2)","v":0},null,{"$f":"INDEX(Piv!K113:K$250,List!$H$2)","v":0},{"$f":"INDEX(Piv!O113:O$200,List!$H$2)","v":0}]
[110,{"$f":"INDEX(Piv!B114:B$250,ScrollA+List!$J$2)","v":0},{"$f":"INDEX(Piv!C114:C$250,ScrollA+List!$J$2)","v":0},null,{"$f":"INDEX(Piv!E114:E$250,List!$F$2)","v":0},{"$f":"INDEX(Piv!F114:F$200,List!$F$2)","v":0},null,{"$f":"INDEX(Piv!H114:H$250,List!$G$2)","v":0},{"$f":"INDEX(Piv!I114:I$200,List!$G$2)","v":0},null,{"$f":"INDEX(Piv!K114:K$250,List!$H$2)","v":0},{"$f":"INDEX(Piv!O114:O$200,List!$H$2)","v":0}]
[111,{"$f":"INDEX(Piv!B115:B$250,ScrollA+List!$J$2)","v":0},{"$f":"INDEX(Piv!C115:C$250,ScrollA+List!$J$2)","v":0},null,{"$f":"INDEX(Piv!E115:E$250,List!$F$2)","v":0},{"$f":"INDEX(Piv!F115:F$200,List!$F$2)","v":0},null,{"$f":"INDEX(Piv!H115:H$250,List!$G$2)","v":0},{"$f":"INDEX(Piv!I115:I$200,List!$G$2)","v":0},null,{"$f":"INDEX(Piv!K115:K$250,List!$H$2)","v":0},{"$f":"INDEX(Piv!O115:O$200,List!$H$2)","v":0}]
[112,{"$f":"INDEX(Piv!B116:B$250,ScrollA+List!$J$2)","v":0},{"$f":"INDEX(Piv!C116:C$250,ScrollA+List!$J$2)","v":0},null,{"$f":"INDEX(Piv!E116:E$250,List!$F$2)","v":0},{"$f":"INDEX(Piv!F116:F$200,List!$F$2)","v":0},null,{"$f":"INDEX(Piv!H116:H$250,List!$G$2)","v":0},{"$f":"INDEX(Piv!I116:I$200,List!$G$2)","v":0},null,{"$f":"INDEX(Piv!K116:K$250,List!$H$2)","v":0},{"$f":"INDEX(Piv!O116:O$200,List!$H$2)","v":0}]
[113,{"$f":"INDEX(Piv!B117:B$250,ScrollA+List!$J$2)","v":0},{"$f":"INDEX(Piv!C117:C$250,ScrollA+List!$J$2)","v":0},null,{"$f":"INDEX(Piv!E117:E$250,List!$F$2)","v":0},{"$f":"INDEX(Piv!F117:F$200,List!$F$2)","v":0},null,{"$f":"INDEX(Piv!H117:H$250,List!$G$2)","v":0},{"$f":"INDEX(Piv!I117:I$200,List!$G$2)","v":0},null,{"$f":"INDEX(Piv!K117:K$250,List!$H$2)","v":0},{"$f":"INDEX(Piv!O117:O$200,List!$H$2)","v":0}]
[114,{"$f":"INDEX(Piv!B118:B$250,ScrollA+List!$J$2)","v":0},{"$f":"INDEX(Piv!C118:C$250,ScrollA+List!$J$2)","v":0},null,{"$f":"INDEX(Piv!E118:E$250,List!$F$2)","v":0},{"$f":"INDEX(Piv!F118:F$200,List!$F$2)","v":0},null,{"$f":"INDEX(Piv!H118:H$250,List!$G$2)","v":0},{"$f":"INDEX(Piv!I118:I$200,List!$G$2)","v":0},null,{"$f":"INDEX(Piv!K118:K$250,List!$H$2)","v":0},{"$f":"INDEX(Piv!O118:O$200,List!$H$2)","v":0}]
[115,{"$f":"INDEX(Piv!B119:B$250,ScrollA+List!$J$2)","v":0},{"$f":"INDEX(Piv!C119:C$250,ScrollA+List!$J$2)","v":0},null,{"$f":"INDEX(Piv!E119:E$250,List!$F$2)","v":0},{"$f":"INDEX(Piv!F119:F$200,List!$F$2)","v":0},null,{"$f":"INDEX(Piv!H119:H$250,List!$G$2)","v":0},{"$f":"INDEX(Piv!I119:I$200,List!$G$2)","v":0},null,{"$f":"INDEX(Piv!K119:K$250,List!$H$2)","v":0},{"$f":"INDEX(Piv!O119:O$200,List!$H$2)","v":0}]
[116,{"$f":"INDEX(Piv!B120:B$250,ScrollA+List!$J$2)","v":0},{"$f":"INDEX(Piv!C120:C$250,ScrollA+List!$J$2)","v":0},null,{"$f":"INDEX(Piv!E120:E$250,List!$F$2)","v":0},{"$f":"INDEX(Piv!F120:F$200,List!$F$2)","v":0},null,{"$f":"INDEX(Piv!H120:H$250,List!$G$2)","v":0},{"$f":"INDEX(Piv!I120:I$200,List!$G$2)","v":0},null,{"$f":"INDEX(Piv!K120:K$250,List!$H$2)","v":0},{"$f":"INDEX(Piv!O120:O$200,List!$H$2)","v":0}]
[117,{"$f":"INDEX(Piv!B121:B$250,ScrollA+List!$J$2)","v":0},{"$f":"INDEX(Piv!C121:C$250,ScrollA+List!$J$2)","v":0},null,{"$f":"INDEX(Piv!E121:E$250,List!$F$2)","v":0},{"$f":"INDEX(Piv!F121:F$200,List!$F$2)","v":0},null,{"$f":"INDEX(Piv!H121:H$250,List!$G$2)","v":0},{"$f":"INDEX(Piv!I121:I$200,List!$G$2)","v":0},null,{"$f":"INDEX(Piv!K121:K$250,List!$H$2)","v":0},{"$f":"INDEX(Piv!O121:O$200,List!$H$2)","v":0}]
[118,{"$f":"INDEX(Piv!B122:B$250,ScrollA+List!$J$2)","v":0},{"$f":"INDEX(Piv!C122:C$250,ScrollA+List!$J$2)","v":0},null,{"$f":"INDEX(Piv!E122:E$250,List!$F$2)","v":0},{"$f":"INDEX(Piv!F122:F$200,List!$F$2)","v":0},null,{"$f":"INDEX(Piv!H122:H$250,List!$G$2)","v":0},{"$f":"INDEX(Piv!I122:I$200,List!$G$2)","v":0},null,{"$f":"INDEX(Piv!K122:K$250,List!$H$2)","v":0},{"$f":"INDEX(Piv!O122:O$200,List!$H$2)","v":0}]
[119,{"$f":"INDEX(Piv!B123:B$250,ScrollA+List!$J$2)","v":0},{"$f":"INDEX(Piv!C123:C$250,ScrollA+List!$J$2)","v":0},null,{"$f":"INDEX(Piv!E123:E$250,List!$F$2)","v":0},{"$f":"INDEX(Piv!F123:F$200,List!$F$2)","v":0},null,{"$f":"INDEX(Piv!H123:H$250,List!$G$2)","v":0},{"$f":"INDEX(Piv!I123:I$200,List!$G$2)","v":0},null,{"$f":"INDEX(Piv!K123:K$250,List!$H$2)","v":0},{"$f":"INDEX(Piv!O123:O$200,List!$H$2)","v":0}]
[120,{"$f":"INDEX(Piv!B124:B$250,ScrollA+List!$J$2)","v":0},{"$f":"INDEX(Piv!C124:C$250,ScrollA+List!$J$2)","v":0},null,{"$f":"INDEX(Piv!E124:E$250,List!$F$2)","v":0},{"$f":"INDEX(Piv!F124:F$200,List!$F$2)","v":0},null,{"$f":"INDEX(Piv!H124:H$250,List!$G$2)","v":0},{"$f":"INDEX(Piv!I124:I$200,List!$G$2)","v":0},null,{"$f":"INDEX(Piv!K124:K$250,List!$H$2)","v":0},{"$f":"INDEX(Piv!O124:O$200,List!$H$2)","v":0}]
[121,{"$f":"INDEX(Piv!B125:B$250,ScrollA+List!$J$2)","v":0},{"$f":"INDEX(Piv!C125:C$250,ScrollA+List!$J$2)","v":0},null,{"$f":"INDEX(Piv!E125:E$250,List!$F$2)","v":0},{"$f":"INDEX(Piv!F125:F$200,List!$F$2)","v":0},null,{"$f":"INDEX(Piv!H125:H$250,List!$G$2)","v":0},{"$f":"INDEX(Piv!I125:I$200,List!$G$2)","v":0},null,{"$f":"INDEX(Piv!K125:K$250,List!$H$2)","v":0},{"$f":"INDEX(Piv!O125:O$200,List!$H$2)","v":0}]
[122,{"$f":"INDEX(Piv!B126:B$250,ScrollA+List!$J$2)","v":0},{"$f":"INDEX(Piv!C126:C$250,ScrollA+List!$J$2)","v":0},null,{"$f":"INDEX(Piv!E126:E$250,List!$F$2)","v":0},{"$f":"INDEX(Piv!F126:F$200,List!$F$2)","v":0},null,{"$f":"INDEX(Piv!H126:H$250,List!$G$2)","v":0},{"$f":"INDEX(Piv!I126:I$200,List!$G$2)","v":0},null,{"$f":"INDEX(Piv!K126:K$250,List!$H$2)","v":0},{"$f":"INDEX(Piv!O126:O$200,List!$H$2)","v":0}]
[123,{"$f":"INDEX(Piv!B127:B$250,ScrollA+List!$J$2)","v":0},{"$f":"INDEX(Piv!C127:C$250,ScrollA+List!$J$2)","v":0},null,{"$f":"INDEX(Piv!E127:E$250,List!$F$2)","v":0},{"$f":"INDEX(Piv!F127:F$200,List!$F$2)","v":0},null,{"$f":"INDEX(Piv!H127:H$250,List!$G$2)","v":0},{"$f":"INDEX(Piv!I127:I$200,List!$G$2)","v":0},null,{"$f":"INDEX(Piv!K127:K$250,List!$H$2)","v":0},{"$f":"INDEX(Piv!O127:O$200,List!$H$2)","v":0}]
[124,{"$f":"INDEX(Piv!B128:B$250,ScrollA+List!$J$2)","v":0},{"$f":"INDEX(Piv!C128:C$250,ScrollA+List!$J$2)","v":0},null,{"$f":"INDEX(Piv!E128:E$250,List!$F$2)","v":0},{"$f":"INDEX(Piv!F128:F$200,List!$F$2)","v":0},null,{"$f":"INDEX(Piv!H128:H$250,List!$G$2)","v":0},{"$f":"INDEX(Piv!I128:I$200,List!$G$2)","v":0},null,{"$f":"INDEX(Piv!K128:K$250,List!$H$2)","v":0},{"$f":"INDEX(Piv!O128:O$200,List!$H$2)","v":0}]
[125,{"$f":"INDEX(Piv!B129:B$250,ScrollA+List!$J$2)","v":0},{"$f":"INDEX(Piv!C129:C$250,ScrollA+List!$J$2)","v":0},null,{"$f":"INDEX(Piv!E129:E$250,List!$F$2)","v":0},{"$f":"INDEX(Piv!F129:F$200,List!$F$2)","v":0},null,{"$f":"INDEX(Piv!H129:H$250,List!$G$2)","v":0},{"$f":"INDEX(Piv!I129:I$200,List!$G$2)","v":0},null,{"$f":"INDEX(Piv!K129:K$250,List!$H$2)","v":0},{"$f":"INDEX(Piv!O129:O$200,List!$H$2)","v":0}]
[126,{"$f":"INDEX(Piv!B130:B$250,ScrollA+List!$J$2)","v":0},{"$f":"INDEX(Piv!C130:C$250,ScrollA+List!$J$2)","v":0},null,{"$f":"INDEX(Piv!E130:E$250,List!$F$2)","v":0},{"$f":"INDEX(Piv!F130:F$200,List!$F$2)","v":0},null,{"$f":"INDEX(Piv!H130:H$250,List!$G$2)","v":0},{"$f":"INDEX(Piv!I130:I$200,List!$G$2)","v":0},null,{"$f":"INDEX(Piv!K130:K$250,List!$H$2)","v":0},{"$f":"INDEX(Piv!O130:O$200,List!$H$2)","v":0}]
[127,{"$f":"INDEX(Piv!B131:B$250,ScrollA+List!$J$2)","v":0},{"$f":"INDEX(Piv!C131:C$250,ScrollA+List!$J$2)","v":0},null,{"$f":"INDEX(Piv!E131:E$250,List!$F$2)","v":0},{"$f":"INDEX(Piv!F131:F$200,List!$F$2)","v":0},null,{"$f":"INDEX(Piv!H131:H$250,List!$G$2)","v":0},{"$f":"INDEX(Piv!I131:I$200,List!$G$2)","v":0},null,{"$f":"INDEX(Piv!K131:K$250,List!$H$2)","v":0},{"$f":"INDEX(Piv!O131:O$200,List!$H$2)","v":0}]
[128,{"$f":"INDEX(Piv!B132:B$250,ScrollA+List!$J$2)","v":0},{"$f":"INDEX(Piv!C132:C$250,ScrollA+List!$J$2)","v":0},null,{"$f":"INDEX(Piv!E132:E$250,List!$F$2)","v":0},{"$f":"INDEX(Piv!F132:F$200,List!$F$2)","v":0},null,{"$f":"INDEX(Piv!H132:H$250,List!$G$2)","v":0},{"$f":"INDEX(Piv!I132:I$200,List!$G$2)","v":0},null,{"$f":"INDEX(Piv!K132:K$250,List!$H$2)","v":0},{"$f":"INDEX(Piv!O132:O$200,List!$H$2)","v":0}]
[129,{"$f":"INDEX(Piv!B133:B$250,ScrollA+List!$J$2)","v":0},{"$f":"INDEX(Piv!C133:C$250,ScrollA+List!$J$2)","v":0},null,{"$f":"INDEX(Piv!E133:E$250,List!$F$2)","v":0},{"$f":"INDEX(Piv!F133:F$200,List!$F$2)","v":0},null,{"$f":"INDEX(Piv!H133:H$250,List!$G$2)","v":0},{"$f":"INDEX(Piv!I133:I$200,List!$G$2)","v":0},null,{"$f":"INDEX(Piv!K133:K$250,List!$H$2)","v":0},{"$f":"INDEX(Piv!O133:O$200,List!$H$2)","v":0}]
[130,{"$f":"INDEX(Piv!B134:B$250,ScrollA+List!$J$2)","v":0},{"$f":"INDEX(Piv!C134:C$250,ScrollA+List!$J$2)","v":0},null,{"$f":"INDEX(Piv!E134:E$250,List!$F$2)","v":0},{"$f":"INDEX(Piv!F134:F$200,List!$F$2)","v":0},null,{"$f":"INDEX(Piv!H134:H$250,List!$G$2)","v":0},{"$f":"INDEX(Piv!I134:I$200,List!$G$2)","v":0},null,{"$f":"INDEX(Piv!K134:K$250,List!$H$2)","v":0},{"$f":"INDEX(Piv!O134:O$200,List!$H$2)","v":0}]
[131,{"$f":"INDEX(Piv!B135:B$250,ScrollA+List!$J$2)","v":0},{"$f":"INDEX(Piv!C135:C$250,ScrollA+List!$J$2)","v":0},null,{"$f":"INDEX(Piv!E135:E$250,List!$F$2)","v":0},{"$f":"INDEX(Piv!F135:F$200,List!$F$2)","v":0},null,{"$f":"INDEX(Piv!H135:H$250,List!$G$2)","v":0},{"$f":"INDEX(Piv!I135:I$200,List!$G$2)","v":0},null,{"$f":"INDEX(Piv!K135:K$250,List!$H$2)","v":0},{"$f":"INDEX(Piv!O135:O$200,List!$H$2)","v":0}]
[132,{"$f":"INDEX(Piv!B136:B$250,ScrollA+List!$J$2)","v":0},{"$f":"INDEX(Piv!C136:C$250,ScrollA+List!$J$2)","v":0},null,{"$f":"INDEX(Piv!E136:E$250,List!$F$2)","v":0},{"$f":"INDEX(Piv!F136:F$200,List!$F$2)","v":0},null,{"$f":"INDEX(Piv!H136:H$250,List!$G$2)","v":0},{"$f":"INDEX(Piv!I136:I$200,List!$G$2)","v":0},null,{"$f":"INDEX(Piv!K136:K$250,List!$H$2)","v":0},{"$f":"INDEX(Piv!O136:O$200,List!$H$2)","v":0}]
[133,{"$f":"INDEX(Piv!B137:B$250,ScrollA+List!$J$2)","v":0},{"$f":"INDEX(Piv!C137:C$250,ScrollA+List!$J$2)","v":0},null,{"$f":"INDEX(Piv!E137:E$250,List!$F$2)","v":0},{"$f":"INDEX(Piv!F137:F$200,List!$F$2)","v":0},null,{"$f":"INDEX(Piv!H137:H$250,List!$G$2)","v":0},{"$f":"INDEX(Piv!I137:I$200,List!$G$2)","v":0},null,{"$f":"INDEX(Piv!K137:K$250,List!$H$2)","v":0},{"$f":"INDEX(Piv!O137:O$200,List!$H$2)","v":0}]
[134,{"$f":"INDEX(Piv!B138:B$250,ScrollA+List!$J$2)","v":0},{"$f":"INDEX(Piv!C138:C$250,ScrollA+List!$J$2)","v":0},null,{"$f":"INDEX(Piv!E138:E$250,List!$F$2)","v":0},{"$f":"INDEX(Piv!F138:F$200,List!$F$2)","v":0},null,{"$f":"INDEX(Piv!H138:H$250,List!$G$2)","v":0},{"$f":"INDEX(Piv!I138:I$200,List!$G$2)","v":0},null,{"$f":"INDEX(Piv!K138:K$250,List!$H$2)","v":0},{"$f":"INDEX(Piv!O138:O$200,List!$H$2)","v":0}]
[135,{"$f":"INDEX(Piv!B139:B$250,ScrollA+List!$J$2)","v":0},{"$f":"INDEX(Piv!C139:C$250,ScrollA+List!$J$2)","v":0},null,{"$f":"INDEX(Piv!E139:E$250,List!$F$2)","v":0},{"$f":"INDEX(Piv!F139:F$200,List!$F$2)","v":0},null,{"$f":"INDEX(Piv!H139:H$250,List!$G$2)","v":0},{"$f":"INDEX(Piv!I139:I$200,List!$G$2)","v":0},null,{"$f":"INDEX(Piv!K139:K$250,List!$H$2)","v":0},{"$f":"INDEX(Piv!O139:O$200,List!$H$2)","v":0}]
[136,{"$f":"INDEX(Piv!B140:B$250,ScrollA+List!$J$2)","v":0},{"$f":"INDEX(Piv!C140:C$250,ScrollA+List!$J$2)","v":0},null,{"$f":"INDEX(Piv!E140:E$250,List!$F$2)","v":0},{"$f":"INDEX(Piv!F140:F$200,List!$F$2)","v":0},null,{"$f":"INDEX(Piv!H140:H$250,List!$G$2)","v":0},{"$f":"INDEX(Piv!I140:I$200,List!$G$2)","v":0},null,{"$f":"INDEX(Piv!K140:K$250,List!$H$2)","v":0},{"$f":"INDEX(Piv!O140:O$200,List!$H$2)","v":0}]
[137,{"$f":"INDEX(Piv!B141:B$250,ScrollA+List!$J$2)","v":0},{"$f":"INDEX(Piv!C141:C$250,ScrollA+List!$J$2)","v":0},null,{"$f":"INDEX(Piv!E141:E$250,List!$F$2)","v":0},{"$f":"INDEX(Piv!F141:F$200,List!$F$2)","v":0},null,{"$f":"INDEX(Piv!H141:H$250,List!$G$2)","v":0},{"$f":"INDEX(Piv!I141:I$200,List!$G$2)","v":0},null,{"$f":"INDEX(Piv!K141:K$250,List!$H$2)","v":0},{"$f":"INDEX(Piv!O141:O$200,List!$H$2)","v":0}]
[138,{"$f":"INDEX(Piv!B142:B$250,ScrollA+List!$J$2)","v":0},{"$f":"INDEX(Piv!C142:C$250,ScrollA+List!$J$2)","v":0},null,{"$f":"INDEX(Piv!E142:E$250,List!$F$2)","v":0},{"$f":"INDEX(Piv!F142:F$200,List!$F$2)","v":0},null,{"$f":"INDEX(Piv!H142:H$250,List!$G$2)","v":0},{"$f":"INDEX(Piv!I142:I$200,List!$G$2)","v":0},null,{"$f":"INDEX(Piv!K142:K$250,List!$H$2)","v":0},{"$f":"INDEX(Piv!O142:O$200,List!$H$2)","v":0}]
[139,{"$f":"INDEX(Piv!B143:B$250,ScrollA+List!$J$2)","v":0},{"$f":"INDEX(Piv!C143:C$250,ScrollA+List!$J$2)","v":0},null,{"$f":"INDEX(Piv!E143:E$250,List!$F$2)","v":0},{"$f":"INDEX(Piv!F143:F$200,List!$F$2)","v":0},null,{"$f":"INDEX(Piv!H143:H$250,List!$G$2)","v":0},{"$f":"INDEX(Piv!I143:I$200,List!$G$2)","v":0},null,{"$f":"INDEX(Piv!K143:K$250,List!$H$2)","v":0},{"$f":"INDEX(Piv!O143:O$200,List!$H$2)","v":0}]
[140,{"$f":"INDEX(Piv!B144:B$250,ScrollA+List!$J$2)","v":0},{"$f":"INDEX(Piv!C144:C$250,ScrollA+List!$J$2)","v":0},null,{"$f":"INDEX(Piv!E144:E$250,List!$F$2)","v":0},{"$f":"INDEX(Piv!F144:F$200,List!$F$2)","v":0},null,{"$f":"INDEX(Piv!H144:H$250,List!$G$2)","v":0},{"$f":"INDEX(Piv!I144:I$200,List!$G$2)","v":0},null,{"$f":"INDEX(Piv!K144:K$250,List!$H$2)","v":0},{"$f":"INDEX(Piv!O144:O$200,List!$H$2)","v":0}]
[141,{"$f":"INDEX(Piv!B145:B$250,ScrollA+List!$J$2)","v":0},{"$f":"INDEX(Piv!C145:C$250,ScrollA+List!$J$2)","v":0},null,{"$f":"INDEX(Piv!E145:E$250,List!$F$2)","v":0},{"$f":"INDEX(Piv!F145:F$200,List!$F$2)","v":0},null,{"$f":"INDEX(Piv!H145:H$250,List!$G$2)","v":0},{"$f":"INDEX(Piv!I145:I$200,List!$G$2)","v":0},null,{"$f":"INDEX(Piv!K145:K$250,List!$H$2)","v":0},{"$f":"INDEX(Piv!O145:O$200,List!$H$2)","v":0}]
[142,{"$f":"INDEX(Piv!B146:B$250,ScrollA+List!$J$2)","v":0},{"$f":"INDEX(Piv!C146:C$250,ScrollA+List!$J$2)","v":0},null,{"$f":"INDEX(Piv!E146:E$250,List!$F$2)","v":0},{"$f":"INDEX(Piv!F146:F$200,List!$F$2)","v":0},null,{"$f":"INDEX(Piv!H146:H$250,List!$G$2)","v":0},{"$f":"INDEX(Piv!I146:I$200,List!$G$2)","v":0},null,{"$f":"INDEX(Piv!K146:K$250,List!$H$2)","v":0},{"$f":"INDEX(Piv!O146:O$200,List!$H$2)","v":0}]
[143,{"$f":"INDEX(Piv!B147:B$250,ScrollA+List!$J$2)","v":0},{"$f":"INDEX(Piv!C147:C$250,ScrollA+List!$J$2)","v":0},null,{"$f":"INDEX(Piv!E147:E$250,List!$F$2)","v":0},{"$f":"INDEX(Piv!F147:F$200,List!$F$2)","v":0},null,{"$f":"INDEX(Piv!H147:H$250,List!$G$2)","v":0},{"$f":"INDEX(Piv!I147:I$200,List!$G$2)","v":0},null,{"$f":"INDEX(Piv!K147:K$250,List!$H$2)","v":0},{"$f":"INDEX(Piv!O147:O$200,List!$H$2)","v":0}]
[144,{"$f":"INDEX(Piv!B148:B$250,ScrollA+List!$J$2)","v":0},{"$f":"INDEX(Piv!C148:C$250,ScrollA+List!$J$2)","v":0},null,{"$f":"INDEX(Piv!E148:E$250,List!$F$2)","v":0},{"$f":"INDEX(Piv!F148:F$200,List!$F$2)","v":0},null,{"$f":"INDEX(Piv!H148:H$250,List!$G$2)","v":0},{"$f":"INDEX(Piv!I148:I$200,List!$G$2)","v":0},null,{"$f":"INDEX(Piv!K148:K$250,List!$H$2)","v":0},{"$f":"INDEX(Piv!O148:O$200,List!$H$2)","v":0}]
[145,{"$f":"INDEX(Piv!B149:B$250,ScrollA+List!$J$2)","v":0},{"$f":"INDEX(Piv!C149:C$250,ScrollA+List!$J$2)","v":0},null,{"$f":"INDEX(Piv!E149:E$250,List!$F$2)","v":0},{"$f":"INDEX(Piv!F149:F$200,List!$F$2)","v":0},null,{"$f":"INDEX(Piv!H149:H$250,List!$G$2)","v":0},{"$f":"INDEX(Piv!I149:I$200,List!$G$2)","v":0},null,{"$f":"INDEX(Piv!K149:K$250,List!$H$2)","v":0},{"$f":"INDEX(Piv!O149:O$200,List!$H$2)","v":0}]
[146,{"$f":"INDEX(Piv!B150:B$250,ScrollA+List!$J$2)","v":0},{"$f":"INDEX(Piv!C150:C$250,ScrollA+List!$J$2)","v":0},null,{"$f":"INDEX(Piv!E150:E$250,List!$F$2)","v":0},{"$f":"INDEX(Piv!F150:F$200,List!$F$2)","v":0},null,{"$f":"INDEX(Piv!H150:H$250,List!$G$2)","v":0},{"$f":"INDEX(Piv!I150:I$200,List!$G$2)","v":0},null,{"$f":"INDEX(Piv!K150:K$250,List!$H$2)","v":0},{"$f":"INDEX(Piv!O150:O$200,List!$H$2)","v":0}]
[147,{"$f":"INDEX(Piv!B151:B$250,ScrollA+List!$J$2)","v":0},{"$f":"INDEX(Piv!C151:C$250,ScrollA+List!$J$2)","v":0},null,{"$f":"INDEX(Piv!E151:E$250,List!$F$2)","v":0},{"$f":"INDEX(Piv!F151:F$200,List!$F$2)","v":0},null,{"$f":"INDEX(Piv!H151:H$250,List!$G$2)","v":0},{"$f":"INDEX(Piv!I151:I$200,List!$G$2)","v":0},null,{"$f":"INDEX(Piv!K151:K$250,List!$H$2)","v":0},{"$f":"INDEX(Piv!O151:O$200,List!$H$2)","v":0}]
[148,{"$f":"INDEX(Piv!B152:B$250,ScrollA+List!$J$2)","v":0},{"$f":"INDEX(Piv!C152:C$250,ScrollA+List!$J$2)","v":0},null,{"$f":"INDEX(Piv!E152:E$250,List!$F$2)","v":0},{"$f":"INDEX(Piv!F152:F$200,List!$F$2)","v":0},null,{"$f":"INDEX(Piv!H152:H$250,List!$G$2)","v":0},{"$f":"INDEX(Piv!I152:I$200,List!$G$2)","v":0},null,{"$f":"INDEX(Piv!K152:K$250,List!$H$2)","v":0},{"$f":"INDEX(Piv!O152:O$200,List!$H$2)","v":0}]
[149,{"$f":"INDEX(Piv!B153:B$250,ScrollA+List!$J$2)","v":0},{"$f":"INDEX(Piv!C153:C$250,ScrollA+List!$J$2)","v":0},null,{"$f":"INDEX(Piv!E153:E$250,List!$F$2)","v":0},{"$f":"INDEX(Piv!F153:F$200,List!$F$2)","v":0},null,{"$f":"INDEX(Piv!H153:H$250,List!$G$2)","v":0},{"$f":"INDEX(Piv!I153:I$200,List!$G$2)","v":0},null,{"$f":"INDEX(Piv!K153:K$250,List!$H$2)","v":0},{"$f":"INDEX(Piv!O153:O$200,List!$H$2)","v":0}]
[150,{"$f":"INDEX(Piv!B154:B$250,ScrollA+List!$J$2)","v":0},{"$f":"INDEX(Piv!C154:C$250,ScrollA+List!$J$2)","v":0},null,{"$f":"INDEX(Piv!E154:E$250,List!$F$2)","v":0},{"$f":"INDEX(Piv!F154:F$200,List!$F$2)","v":0},null,{"$f":"INDEX(Piv!H154:H$250,List!$G$2)","v":0},{"$f":"INDEX(Piv!I154:I$200,List!$G$2)","v":0},null,{"$f":"INDEX(Piv!K154:K$250,List!$H$2)","v":0},{"$f":"INDEX(Piv!O154:O$200,List!$H$2)","v":0}]
[151,{"$f":"INDEX(Piv!B155:B$250,ScrollA+List!$J$2)","v":0},{"$f":"INDEX(Piv!C155:C$250,ScrollA+List!$J$2)","v":0},null,{"$f":"INDEX(Piv!E155:E$250,List!$F$2)","v":0},{"$f":"INDEX(Piv!F155:F$200,List!$F$2)","v":0},null,{"$f":"INDEX(Piv!H155:H$250,List!$G$2)","v":0},{"$f":"INDEX(Piv!I155:I$200,List!$G$2)","v":0},null,{"$f":"INDEX(Piv!K155:K$250,List!$H$2)","v":0},{"$f":"INDEX(Piv!O155:O$200,List!$H$2)","v":0}]
[152,{"$f":"INDEX(Piv!B156:B$250,ScrollA+List!$J$2)","v":0},{"$f":"INDEX(Piv!C156:C$250,ScrollA+List!$J$2)","v":0},null,{"$f":"INDEX(Piv!E156:E$250,List!$F$2)","v":0},{"$f":"INDEX(Piv!F156:F$200,List!$F$2)","v":0},null,{"$f":"INDEX(Piv!H156:H$250,List!$G$2)","v":0},{"$f":"INDEX(Piv!I156:I$200,List!$G$2)","v":0},null,{"$f":"INDEX(Piv!K156:K$250,List!$H$2)","v":0},{"$f":"INDEX(Piv!O156:O$200,List!$H$2)","v":0}]
[153,{"$f":"INDEX(Piv!B157:B$250,ScrollA+List!$J$2)","v":0},{"$f":"INDEX(Piv!C157:C$250,ScrollA+List!$J$2)","v":0},null,{"$f":"INDEX(Piv!E157:E$250,List!$F$2)","v":0},{"$f":"INDEX(Piv!F157:F$200,List!$F$2)","v":0},null,{"$f":"INDEX(Piv!H157:H$250,List!$G$2)","v":0},{"$f":"INDEX(Piv!I157:I$200,List!$G$2)","v":0},null,{"$f":"INDEX(Piv!K157:K$250,List!$H$2)","v":0},{"$f":"INDEX(Piv!O157:O$200,List!$H$2)","v":0}]
[154,{"$f":"INDEX(Piv!B158:B$250,ScrollA+List!$J$2)","v":0},{"$f":"INDEX(Piv!C158:C$250,ScrollA+List!$J$2)","v":0},null,{"$f":"INDEX(Piv!E158:E$250,List!$F$2)","v":0},{"$f":"INDEX(Piv!F158:F$200,List!$F$2)","v":0},null,{"$f":"INDEX(Piv!H158:H$250,List!$G$2)","v":0},{"$f":"INDEX(Piv!I158:I$200,List!$G$2)","v":0},null,{"$f":"INDEX(Piv!K158:K$250,List!$H$2)","v":0},{"$f":"INDEX(Piv!O158:O$200,List!$H$2)","v":0}]
[155,{"$f":"INDEX(Piv!B159:B$250,ScrollA+List!$J$2)","v":0},{"$f":"INDEX(Piv!C159:C$250,ScrollA+List!$J$2)","v":0},null,{"$f":"INDEX(Piv!E159:E$250,List!$F$2)","v":0},{"$f":"INDEX(Piv!F159:F$200,List!$F$2)","v":0},null,{"$f":"INDEX(Piv!H159:H$250,List!$G$2)","v":0},{"$f":"INDEX(Piv!I159:I$200,List!$G$2)","v":0},null,{"$f":"INDEX(Piv!K159:K$250,List!$H$2)","v":0},{"$f":"INDEX(Piv!O159:O$200,List!$H$2)","v":0}]
[156,{"$f":"INDEX(Piv!B160:B$250,ScrollA+List!$J$2)","v":0},{"$f":"INDEX(Piv!C160:C$250,ScrollA+List!$J$2)","v":0},null,{"$f":"INDEX(Piv!E160:E$250,List!$F$2)","v":0},{"$f":"INDEX(Piv!F160:F$200,List!$F$2)","v":0},null,{"$f":"INDEX(Piv!H160:H$250,List!$G$2)","v":0},{"$f":"INDEX(Piv!I160:I$200,List!$G$2)","v":0},null,{"$f":"INDEX(Piv!K160:K$250,List!$H$2)","v":0},{"$f":"INDEX(Piv!O160:O$200,List!$H$2)","v":0}]
[157,{"$f":"INDEX(Piv!B161:B$250,ScrollA+List!$J$2)","v":0},{"$f":"INDEX(Piv!C161:C$250,ScrollA+List!$J$2)","v":0},null,{"$f":"INDEX(Piv!E161:E$250,List!$F$2)","v":0},{"$f":"INDEX(Piv!F161:F$200,List!$F$2)","v":0},null,{"$f":"INDEX(Piv!H161:H$250,List!$G$2)","v":0},{"$f":"INDEX(Piv!I161:I$200,List!$G$2)","v":0},null,{"$f":"INDEX(Piv!K161:K$250,List!$H$2)","v":0},{"$f":"INDEX(Piv!O161:O$200,List!$H$2)","v":0}]
[158,{"$f":"INDEX(Piv!B162:B$250,ScrollA+List!$J$2)","v":0},{"$f":"INDEX(Piv!C162:C$250,ScrollA+List!$J$2)","v":0},null,{"$f":"INDEX(Piv!E162:E$250,List!$F$2)","v":0},{"$f":"INDEX(Piv!F162:F$200,List!$F$2)","v":0},null,{"$f":"INDEX(Piv!H162:H$250,List!$G$2)","v":0},{"$f":"INDEX(Piv!I162:I$200,List!$G$2)","v":0},null,{"$f":"INDEX(Piv!K162:K$250,List!$H$2)","v":0},{"$f":"INDEX(Piv!O162:O$200,List!$H$2)","v":0}]
[159,{"$f":"INDEX(Piv!B163:B$250,ScrollA+List!$J$2)","v":0},{"$f":"INDEX(Piv!C163:C$250,ScrollA+List!$J$2)","v":0},null,{"$f":"INDEX(Piv!E163:E$250,List!$F$2)","v":0},{"$f":"INDEX(Piv!F163:F$200,List!$F$2)","v":0},null,{"$f":"INDEX(Piv!H163:H$250,List!$G$2)","v":0},{"$f":"INDEX(Piv!I163:I$200,List!$G$2)","v":0},null,{"$f":"INDEX(Piv!K163:K$250,List!$H$2)","v":0},{"$f":"INDEX(Piv!O163:O$200,List!$H$2)","v":0}]
[160,{"$f":"INDEX(Piv!B164:B$250,ScrollA+List!$J$2)","v":0},{"$f":"INDEX(Piv!C164:C$250,ScrollA+List!$J$2)","v":0},null,{"$f":"INDEX(Piv!E164:E$250,List!$F$2)","v":0},{"$f":"INDEX(Piv!F164:F$200,List!$F$2)","v":0},null,{"$f":"INDEX(Piv!H164:H$250,List!$G$2)","v":0},{"$f":"INDEX(Piv!I164:I$200,List!$G$2)","v":0},null,{"$f":"INDEX(Piv!K164:K$250,List!$H$2)","v":0},{"$f":"INDEX(Piv!O164:O$200,List!$H$2)","v":0}]
[161,{"$f":"INDEX(Piv!B165:B$250,ScrollA+List!$J$2)","v":0},{"$f":"INDEX(Piv!C165:C$250,ScrollA+List!$J$2)","v":0},null,{"$f":"INDEX(Piv!E165:E$250,List!$F$2)","v":0},{"$f":"INDEX(Piv!F165:F$200,List!$F$2)","v":0},null,{"$f":"INDEX(Piv!H165:H$250,List!$G$2)","v":0},{"$f":"INDEX(Piv!I165:I$200,List!$G$2)","v":0},null,{"$f":"INDEX(Piv!K165:K$250,List!$H$2)","v":0},{"$f":"INDEX(Piv!O165:O$200,List!$H$2)","v":0}]
[162,{"$f":"INDEX(Piv!B166:B$250,ScrollA+List!$J$2)","v":0},{"$f":"INDEX(Piv!C166:C$250,ScrollA+List!$J$2)","v":0},null,{"$f":"INDEX(Piv!E166:E$250,List!$F$2)","v":0},{"$f":"INDEX(Piv!F166:F$200,List!$F$2)","v":0},null,{"$f":"INDEX(Piv!H166:H$250,List!$G$2)","v":0},{"$f":"INDEX(Piv!I166:I$200,List!$G$2)","v":0},null,{"$f":"INDEX(Piv!K166:K$250,List!$H$2)","v":0},{"$f":"INDEX(Piv!O166:O$200,List!$H$2)","v":0}]
[163,{"$f":"INDEX(Piv!B167:B$250,ScrollA+List!$J$2)","v":0},{"$f":"INDEX(Piv!C167:C$250,ScrollA+List!$J$2)","v":0},null,{"$f":"INDEX(Piv!E167:E$250,List!$F$2)","v":0},{"$f":"INDEX(Piv!F167:F$200,List!$F$2)","v":0},null,{"$f":"INDEX(Piv!H167:H$250,List!$G$2)","v":0},{"$f":"INDEX(Piv!I167:I$200,List!$G$2)","v":0},null,{"$f":"INDEX(Piv!K167:K$250,List!$H$2)","v":0},{"$f":"INDEX(Piv!O167:O$200,List!$H$2)","v":0}]
[164,{"$f":"INDEX(Piv!B168:B$250,ScrollA+List!$J$2)","v":0},{"$f":"INDEX(Piv!C168:C$250,ScrollA+List!$J$2)","v":0},null,{"$f":"INDEX(Piv!E168:E$250,List!$F$2)","v":0},{"$f":"INDEX(Piv!F168:F$200,List!$F$2)","v":0},null,{"$f":"INDEX(Piv!H168:H$250,List!$G$2)","v":0},{"$f":"INDEX(Piv!I168:I$200,List!$G$2)","v":0},null,{"$f":"INDEX(Piv!K168:K$250,List!$H$2)","v":0},{"$f":"INDEX(Piv!O168:O$200,List!$H$2)","v":0}]
[165,{"$f":"INDEX(Piv!B169:B$250,ScrollA+List!$J$2)","v":0},{"$f":"INDEX(Piv!C169:C$250,ScrollA+List!$J$2)","v":0},null,{"$f":"INDEX(Piv!E169:E$250,List!$F$2)","v":0},{"$f":"INDEX(Piv!F169:F$200,List!$F$2)","v":0},null,{"$f":"INDEX(Piv!H169:H$250,List!$G$2)","v":0},{"$f":"INDEX(Piv!I169:I$200,List!$G$2)","v":0},null,{"$f":"INDEX(Piv!K169:K$250,List!$H$2)","v":0},{"$f":"INDEX(Piv!O169:O$200,List!$H$2)","v":0}]
[166,{"$f":"INDEX(Piv!B170:B$250,ScrollA+List!$J$2)","v":0},{"$f":"INDEX(Piv!C170:C$250,ScrollA+List!$J$2)","v":0},null,{"$f":"INDEX(Piv!E170:E$250,List!$F$2)","v":0},{"$f":"INDEX(Piv!F170:F$200,List!$F$2)","v":0},null,{"$f":"INDEX(Piv!H170:H$250,List!$G$2)","v":0},{"$f":"INDEX(Piv!I170:I$200,List!$G$2)","v":0},null,{"$f":"INDEX(Piv!K170:K$250,List!$H$2)","v":0},{"$f":"INDEX(Piv!O170:O$200,List!$H$2)","v":0}]
[167,{"$f":"INDEX(Piv!B171:B$250,ScrollA+List!$J$2)","v":0},{"$f":"INDEX(Piv!C171:C$250,ScrollA+List!$J$2)","v":0},null,{"$f":"INDEX(Piv!E171:E$250,List!$F$2)","v":0},{"$f":"INDEX(Piv!F171:F$200,List!$F$2)","v":0},null,{"$f":"INDEX(Piv!H171:H$250,List!$G$2)","v":0},{"$f":"INDEX(Piv!I171:I$200,List!$G$2)","v":0},null,{"$f":"INDEX(Piv!K171:K$250,List!$H$2)","v":0},{"$f":"INDEX(Piv!O171:O$200,List!$H$2)","v":0}]
[168,{"$f":"INDEX(Piv!B172:B$250,ScrollA+List!$J$2)","v":0},{"$f":"INDEX(Piv!C172:C$250,ScrollA+List!$J$2)","v":0},null,{"$f":"INDEX(Piv!E172:E$250,List!$F$2)","v":0},{"$f":"INDEX(Piv!F172:F$200,List!$F$2)","v":0},null,{"$f":"INDEX(Piv!H172:H$250,List!$G$2)","v":0},{"$f":"INDEX(Piv!I172:I$200,List!$G$2)","v":0},null,{"$f":"INDEX(Piv!K172:K$250,List!$H$2)","v":0},{"$f":"INDEX(Piv!O172:O$200,List!$H$2)","v":0}]
[169,{"$f":"INDEX(Piv!B173:B$250,ScrollA+List!$J$2)","v":0},{"$f":"INDEX(Piv!C173:C$250,ScrollA+List!$J$2)","v":0},null,{"$f":"INDEX(Piv!E173:E$250,List!$F$2)","v":0},{"$f":"INDEX(Piv!F173:F$200,List!$F$2)","v":0},null,{"$f":"INDEX(Piv!H173:H$250,List!$G$2)","v":0},{"$f":"INDEX(Piv!I173:I$200,List!$G$2)","v":0},null,{"$f":"INDEX(Piv!K173:K$250,List!$H$2)","v":0},{"$f":"INDEX(Piv!O173:O$200,List!$H$2)","v":0}]
[170,{"$f":"INDEX(Piv!B174:B$250,ScrollA+List!$J$2)","v":0},{"$f":"INDEX(Piv!C174:C$250,ScrollA+List!$J$2)","v":0},null,{"$f":"INDEX(Piv!E174:E$250,List!$F$2)","v":0},{"$f":"INDEX(Piv!F174:F$200,List!$F$2)","v":0},null,{"$f":"INDEX(Piv!H174:H$250,List!$G$2)","v":0},{"$f":"INDEX(Piv!I174:I$200,List!$G$2)","v":0},null,{"$f":"INDEX(Piv!K174:K$250,List!$H$2)","v":0},{"$f":"INDEX(Piv!O174:O$200,List!$H$2)","v":0}]
[171,{"$f":"INDEX(Piv!B175:B$250,ScrollA+List!$J$2)","v":0},{"$f":"INDEX(Piv!C175:C$250,ScrollA+List!$J$2)","v":0},null,{"$f":"INDEX(Piv!E175:E$250,List!$F$2)","v":0},{"$f":"INDEX(Piv!F175:F$200,List!$F$2)","v":0},null,{"$f":"INDEX(Piv!H175:H$250,List!$G$2)","v":0},{"$f":"INDEX(Piv!I175:I$200,List!$G$2)","v":0},null,{"$f":"INDEX(Piv!K175:K$250,List!$H$2)","v":0},{"$f":"INDEX(Piv!O175:O$200,List!$H$2)","v":0}]
[172,{"$f":"INDEX(Piv!B176:B$250,ScrollA+List!$J$2)","v":0},{"$f":"INDEX(Piv!C176:C$250,ScrollA+List!$J$2)","v":0},null,{"$f":"INDEX(Piv!E176:E$250,List!$F$2)","v":0},{"$f":"INDEX(Piv!F176:F$200,List!$F$2)","v":0},null,{"$f":"INDEX(Piv!H176:H$250,List!$G$2)","v":0},{"$f":"INDEX(Piv!I176:I$200,List!$G$2)","v":0},null,{"$f":"INDEX(Piv!K176:K$250,List!$H$2)","v":0},{"$f":"INDEX(Piv!O176:O$200,List!$H$2)","v":0}]
[173,{"$f":"INDEX(Piv!B177:B$250,ScrollA+List!$J$2)","v":0},{"$f":"INDEX(Piv!C177:C$250,ScrollA+List!$J$2)","v":0},null,{"$f":"INDEX(Piv!E177:E$250,List!$F$2)","v":0},{"$f":"INDEX(Piv!F177:F$200,List!$F$2)","v":0},null,{"$f":"INDEX(Piv!H177:H$250,List!$G$2)","v":0},{"$f":"INDEX(Piv!I177:I$200,List!$G$2)","v":0},null,{"$f":"INDEX(Piv!K177:K$250,List!$H$2)","v":0},{"$f":"INDEX(Piv!O177:O$200,List!$H$2)","v":0}]
[174,{"$f":"INDEX(Piv!B178:B$250,ScrollA+List!$J$2)","v":0},{"$f":"INDEX(Piv!C178:C$250,ScrollA+List!$J$2)","v":0},null,{"$f":"INDEX(Piv!E178:E$250,List!$F$2)","v":0},{"$f":"INDEX(Piv!F178:F$200,List!$F$2)","v":0},null,{"$f":"INDEX(Piv!H178:H$250,List!$G$2)","v":0},{"$f":"INDEX(Piv!I178:I$200,List!$G$2)","v":0},null,{"$f":"INDEX(Piv!K178:K$250,List!$H$2)","v":0},{"$f":"INDEX(Piv!O178:O$200,List!$H$2)","v":0}]
[175,{"$f":"INDEX(Piv!B179:B$250,ScrollA+List!$J$2)","v":0},{"$f":"INDEX(Piv!C179:C$250,ScrollA+List!$J$2)","v":0},null,{"$f":"INDEX(Piv!E179:E$250,List!$F$2)","v":0},{"$f":"INDEX(Piv!F179:F$200,List!$F$2)","v":0},null,{"$f":"INDEX(Piv!H179:H$250,List!$G$2)","v":0},{"$f":"INDEX(Piv!I179:I$200,List!$G$2)","v":0},null,{"$f":"INDEX(Piv!K179:K$250,List!$H$2)","v":0},{"$f":"INDEX(Piv!O179:O$200,List!$H$2)","v":0}]
[176,{"$f":"INDEX(Piv!B180:B$250,ScrollA+List!$J$2)","v":0},{"$f":"INDEX(Piv!C180:C$250,ScrollA+List!$J$2)","v":0},null,{"$f":"INDEX(Piv!E180:E$250,List!$F$2)","v":0},{"$f":"INDEX(Piv!F180:F$200,List!$F$2)","v":0},null,{"$f":"INDEX(Piv!H180:H$250,List!$G$2)","v":0},{"$f":"INDEX(Piv!I180:I$200,List!$G$2)","v":0},null,{"$f":"INDEX(Piv!K180:K$250,List!$H$2)","v":0},{"$f":"INDEX(Piv!O180:O$200,List!$H$2)","v":0}]
[177,{"$f":"INDEX(Piv!B181:B$250,ScrollA+List!$J$2)","v":0},{"$f":"INDEX(Piv!C181:C$250,ScrollA+List!$J$2)","v":0},null,{"$f":"INDEX(Piv!E181:E$250,List!$F$2)","v":0},{"$f":"INDEX(Piv!F181:F$200,List!$F$2)","v":0},null,{"$f":"INDEX(Piv!H181:H$250,List!$G$2)","v":0},{"$f":"INDEX(Piv!I181:I$200,List!$G$2)","v":0},null,{"$f":"INDEX(Piv!K181:K$250,List!$H$2)","v":0},{"$f":"INDEX(Piv!O181:O$200,List!$H$2)","v":0}]
[178,{"$f":"INDEX(Piv!B182:B$250,ScrollA+List!$J$2)","v":0},{"$f":"INDEX(Piv!C182:C$250,ScrollA+List!$J$2)","v":0},null,{"$f":"INDEX(Piv!E182:E$250,List!$F$2)","v":0},{"$f":"INDEX(Piv!F182:F$200,List!$F$2)","v":0},null,{"$f":"INDEX(Piv!H182:H$250,List!$G$2)","v":0},{"$f":"INDEX(Piv!I182:I$200,List!$G$2)","v":0},null,{"$f":"INDEX(Piv!K182:K$250,List!$H$2)","v":0},{"$f":"INDEX(Piv!O182:O$200,List!$H$2)","v":0}]
[179,{"$f":"INDEX(Piv!B183:B$250,ScrollA+List!$J$2)","v":0},{"$f":"INDEX(Piv!C183:C$250,ScrollA+List!$J$2)","v":0},null,{"$f":"INDEX(Piv!E183:E$250,List!$F$2)","v":0},{"$f":"INDEX(Piv!F183:F$200,List!$F$2)","v":0},null,{"$f":"INDEX(Piv!H183:H$250,List!$G$2)","v":0},{"$f":"INDEX(Piv!I183:I$200,List!$G$2)","v":0},null,{"$f":"INDEX(Piv!K183:K$250,List!$H$2)","v":0},{"$f":"INDEX(Piv!O183:O$200,List!$H$2)","v":0}]
[180,{"$f":"INDEX(Piv!B184:B$250,ScrollA+List!$J$2)","v":0},{"$f":"INDEX(Piv!C184:C$250,ScrollA+List!$J$2)","v":0},null,{"$f":"INDEX(Piv!E184:E$250,List!$F$2)","v":0},{"$f":"INDEX(Piv!F184:F$200,List!$F$2)","v":0},null,{"$f":"INDEX(Piv!H184:H$250,List!$G$2)","v":0},{"$f":"INDEX(Piv!I184:I$200,List!$G$2)","v":0},null,{"$f":"INDEX(Piv!K184:K$250,List!$H$2)","v":0},{"$f":"INDEX(Piv!O184:O$200,List!$H$2)","v":0}]
[181,{"$f":"INDEX(Piv!B185:B$250,ScrollA+List!$J$2)","v":0},{"$f":"INDEX(Piv!C185:C$250,ScrollA+List!$J$2)","v":0},null,{"$f":"INDEX(Piv!E185:E$250,List!$F$2)","v":0},{"$f":"INDEX(Piv!F185:F$200,List!$F$2)","v":0},null,{"$f":"INDEX(Piv!H185:H$250,List!$G$2)","v":0},{"$f":"INDEX(Piv!I185:I$200,List!$G$2)","v":0},null,{"$f":"INDEX(Piv!K185:K$250,List!$H$2)","v":0},{"$f":"INDEX(Piv!O185:O$200,List!$H$2)","v":0}]
[182,{"$f":"INDEX(Piv!B186:B$250,ScrollA+List!$J$2)","v":0},{"$f":"INDEX(Piv!C186:C$250,ScrollA+List!$J$2)","v":0},null,{"$f":"INDEX(Piv!E186:E$250,List!$F$2)","v":0},{"$f":"INDEX(Piv!F186:F$200,List!$F$2)","v":0},null,{"$f":"INDEX(Piv!H186:H$250,List!$G$2)","v":0},{"$f":"INDEX(Piv!I186:I$200,List!$G$2)","v":0},null,{"$f":"INDEX(Piv!K186:K$250,List!$H$2)","v":0},{"$f":"INDEX(Piv!O186:O$200,List!$H$2)","v":0}]
[183,{"$f":"INDEX(Piv!B187:B$250,ScrollA+List!$J$2)","v":0},{"$f":"INDEX(Piv!C187:C$250,ScrollA+List!$J$2)","v":0},null,{"$f":"INDEX(Piv!E187:E$250,List!$F$2)","v":0},{"$f":"INDEX(Piv!F187:F$200,List!$F$2)","v":0},null,{"$f":"INDEX(Piv!H187:H$250,List!$G$2)","v":0},{"$f":"INDEX(Piv!I187:I$200,List!$G$2)","v":0},null,{"$f":"INDEX(Piv!K187:K$250,List!$H$2)","v":0},{"$f":"INDEX(Piv!O187:O$200,List!$H$2)","v":0}]
[184,{"$f":"INDEX(Piv!B188:B$250,ScrollA+List!$J$2)","v":0},{"$f":"INDEX(Piv!C188:C$250,ScrollA+List!$J$2)","v":0},null,{"$f":"INDEX(Piv!E188:E$250,List!$F$2)","v":0},{"$f":"INDEX(Piv!F188:F$200,List!$F$2)","v":0},null,{"$f":"INDEX(Piv!H188:H$250,List!$G$2)","v":0},{"$f":"INDEX(Piv!I188:I$200,List!$G$2)","v":0},null,{"$f":"INDEX(Piv!K188:K$250,List!$H$2)","v":0},{"$f":"INDEX(Piv!O188:O$200,List!$H$2)","v":0}]
[185,{"$f":"INDEX(Piv!B189:B$250,ScrollA+List!$J$2)","v":0},{"$f":"INDEX(Piv!C189:C$250,ScrollA+List!$J$2)","v":0},null,{"$f":"INDEX(Piv!E189:E$250,List!$F$2)","v":0},{"$f":"INDEX(Piv!F189:F$200,List!$F$2)","v":0},null,{"$f":"INDEX(Piv!H189:H$250,List!$G$2)","v":0},{"$f":"INDEX(Piv!I189:I$200,List!$G$2)","v":0},null,{"$f":"INDEX(Piv!K189:K$250,List!$H$2)","v":0},{"$f":"INDEX(Piv!O189:O$200,List!$H$2)","v":0}]
[186,{"$f":"INDEX(Piv!B190:B$250,ScrollA+List!$J$2)","v":0},{"$f":"INDEX(Piv!C190:C$250,ScrollA+List!$J$2)","v":0},null,{"$f":"INDEX(Piv!E190:E$250,List!$F$2)","v":0},{"$f":"INDEX(Piv!F190:F$200,List!$F$2)","v":0},null,{"$f":"INDEX(Piv!H190:H$250,List!$G$2)","v":0},{"$f":"INDEX(Piv!I190:I$200,List!$G$2)","v":0},null,{"$f":"INDEX(Piv!K190:K$250,List!$H$2)","v":0},{"$f":"INDEX(Piv!O190:O$200,List!$H$2)","v":0}]
[187,{"$f":"INDEX(Piv!B191:B$250,ScrollA+List!$J$2)","v":0},{"$f":"INDEX(Piv!C191:C$250,ScrollA+List!$J$2)","v":0},null,{"$f":"INDEX(Piv!E191:E$250,List!$F$2)","v":0},{"$f":"INDEX(Piv!F191:F$200,List!$F$2)","v":0},null,{"$f":"INDEX(Piv!H191:H$250,List!$G$2)","v":0},{"$f":"INDEX(Piv!I191:I$200,List!$G$2)","v":0},null,{"$f":"INDEX(Piv!K191:K$250,List!$H$2)","v":0},{"$f":"INDEX(Piv!O191:O$200,List!$H$2)","v":0}]

{"sheet":"Calc","index":9,"n_rows":7,"n_cols":12,"rows_kept":7,"cut":false,"hidden":false,"merged":[]}
[null,"Metric","Data","< a Week",null,"Metric","Active","Recover","Death",null,"Country","Double N"]
[null,"Total Countries",{"$f":"MAX(Rank!A2:A300)","v":187},null,null,"Chart",{"$f":"SUMIFS(Piv!P$5:P$190,Piv!$K$5:$K$190,Dash!$B$2)","v":0},{"$f":"SUMIFS(Piv!Q$5:Q$190,Piv!$K$5:$K$190,Dash!$B$2)","v":0},{"$f":"SUMIFS(Piv!R$5:R$190,Piv!$K$5:$K$190,Dash!$B$2)","v":0},null,"World",11]
[null,"Confirmed",{"$f":"SUMIFS(Piv!$C$4:$C$249,Piv!$B$4:$B$249,Dash!$B$2)","v":0},{"$f":"SUMIFS('Piv2'!$C$4:$C$250,'Piv2'!$B$4:$B$250,Dash!$B$2)","v":0},null,null,null,null,null,null,"Italy",17]
[null,"Deaths",{"$f":"SUMIFS(Piv!$F$4:$F$249,Piv!$E$4:$E$249,Dash!$B$2)","v":0},{"$f":"SUMIFS('Piv2'!$F$4:$F$250,'Piv2'!$E$4:$E$250,Dash!$B$2)","v":0},null,null,null,null,null,null,"Spain",13]
[null,"Recovered",{"$f":"SUMIFS(Piv!$I$4:$I$249,Piv!$H$4:$H$249,Dash!$B$2)","v":0},{"$f":"SUMIFS('Piv2'!$I$4:$I$250,'Piv2'!$H$4:$H$250,Dash!$B$2)","v":0},null,null,null,null,null,null,"US",17]
[null,"Active",{"$f":"C3-C4-C5","v":0},null,null,null,null,null,null,null,"China",56]
[null,"Closed",{"$f":"C5/(C5+C4)","v":{"$error":"#DIV/0!"}}]

{"sheet":"Map","index":10,"n_rows":429,"n_cols":17,"rows_kept":429,"cut":false,"hidden":false,"merged":[]}
["Nation","Cases","Size","Long","Latt","Size","Long","Latt",null,null,null,null,null,null,null,null,"Map Sandpit"]
["Australia",6000,60,-78.902298000000002,30.318231399999998,{"$f":"IF(LEN($A2)>1,IF(A2=Dash!$B$2,List!$M$2,B2/SUM($B$2:$B$429)*List!$N$2),#N/A)","v":0.23364485981308408},{"$f":"IF(LEN($A2)>1,D2,#N/A)","v":-78.902298000000002},{"$f":"IF(LEN($A2)>1,E2,#N/A)","v":30.318231399999998}]
["Papua New Guinea",6000,60,-77.402298000000002,32.618231399999999,{"$f":"IF(LEN($A3)>1,IF(A3=Dash!$B$2,List!$M$2,B3/SUM($B$2:$B$429)*List!$N$2),#N/A)","v":0.23364485981308408},{"$f":"IF(LEN($A3)>1,D3,#N/A)","v":-77.402298000000002},{"$f":"IF(LEN($A3)>1,E3,#N/A)","v":32.618231399999999}]
["Indonesia",6000,60,-81.902298000000002,32.918231400000003,{"$f":"IF(LEN($A4)>1,IF(A4=Dash!$B$2,List!$M$2,B4/SUM($B$2:$B$429)*List!$N$2),#N/A)","v":0.23364485981308408},{"$f":"IF(LEN($A4)>1,D4,#N/A)","v":-81.902298000000002},{"$f":"IF(LEN($A4)>1,E4,#N/A)","v":32.918231400000003}]
["Thailand",6000,60,-84.402298000000002,34.318231400000002,{"$f":"IF(LEN($A5)>1,IF(A5=Dash!$B$2,List!$M$2,B5/SUM($B$2:$B$429)*List!$N$2),#N/A)","v":0.23364485981308408},{"$f":"IF(LEN($A5)>1,D5,#N/A)","v":-84.402298000000002},{"$f":"IF(LEN($A5)>1,E5,#N/A)","v":34.318231400000002}]
["Portugal",6000,60,-101.2,38,{"$f":"IF(LEN($A6)>1,IF(A6=Dash!$B$2,List!$M$2,B6/SUM($B$2:$B$429)*List!$N$2),#N/A)","v":0.23364485981308408},-101.2,38]
["France",6000,60,-99.5,38.799999999999997,{"$f":"IF(LEN($A7)>1,IF(A7=Dash!$B$2,List!$M$2,B7/SUM($B$2:$B$429)*List!$N$2),#N/A)","v":0.23364485981308408},-99.5,38.799999999999997]
["Germany",6000,60,-98.5,39.6,{"$f":"IF(LEN($A8)>1,IF(A8=Dash!$B$2,List!$M$2,B8/SUM($B$2:$B$429)*List!$N$2),#N/A)","v":0.23364485981308408},-98.5,39.6]
["Netherlands",6000,60,-99.2,39.6,{"$f":"IF(LEN($A9)>1,IF(A9=Dash!$B$2,List!$M$2,B9/SUM($B$2:$B$429)*List!$N$2),#N/A)","v":0.23364485981308408},-99.2,39.6]
["Belgium",6000,60,-99.1,39.6,{"$f":"IF(LEN($A10)>1,IF(A10=Dash!$B$2,List!$M$2,B10/SUM($B$2:$B$429)*List!$N$2),#N/A)","v":0.23364485981308408},-99.1,39.6]
["Austria",6000,60,-98,39.6,{"$f":"IF(LEN($A11)>1,IF(A11=Dash!$B$2,List!$M$2,B11/SUM($B$2:$B$429)*List!$N$2),#N/A)","v":0.23364485981308408},-98,39.6]
["Poland",6000,60,-97.3,39.9,{"$f":"IF(LEN($A12)>1,IF(A12=Dash!$B$2,List!$M$2,B12/SUM($B$2:$B$429)*List!$N$2),#N/A)","v":0.23364485981308408},-97.3,39.9]
["Ukraine",6000,60,-95,39.4,{"$f":"IF(LEN($A13)>1,IF(A13=Dash!$B$2,List!$M$2,B13/SUM($B$2:$B$429)*List!$N$2),#N/A)","v":0.23364485981308408},-95,39.4]
["Belarus",6000,60,-96,39.9,{"$f":"IF(LEN($A14)>1,IF(A14=Dash!$B$2,List!$M$2,B14/SUM($B$2:$B$429)*List!$N$2),#N/A)","v":0.23364485981308408},-96,39.9]
["Romania",6000,60,-96,38.9,{"$f":"IF(LEN($A15)>1,IF(A15=Dash!$B$2,List!$M$2,B15/SUM($B$2:$B$429)*List!$N$2),#N/A)","v":0.23364485981308408},-96,38.9]
["Sweden",6000,60,-97.5,42,{"$f":"IF(LEN($A16)>1,IF(A16=Dash!$B$2,List!$M$2,B16/SUM($B$2:$B$429)*List!$N$2),#N/A)","v":0.23364485981308408},-97.5,42]
["Norway",6000,60,-98.5,41.5,{"$f":"IF(LEN($A17)>1,IF(A17=Dash!$B$2,List!$M$2,B17/SUM($B$2:$B$429)*List!$N$2),#N/A)","v":0.23364485981308408},-98.5,41.5]
["Lithuania",6000,60,-96.5,40.5,{"$f":"IF(LEN($A18)>1,IF(A18=Dash!$B$2,List!$M$2,B18/SUM($B$2:$B$429)*List!$N$2),#N/A)","v":0.23364485981308408},-96.5,40.5]
["Latvia",6000,60,-96,40.799999999999997,{"$f":"IF(LEN($A19)>1,IF(A19=Dash!$B$2,List!$M$2,B19/SUM($B$2:$B$429)*List!$N$2),#N/A)","v":0.23364485981308408},-96,40.799999999999997]
["Estonia",6000,60,-96,41,{"$f":"IF(LEN($A20)>1,IF(A20=Dash!$B$2,List!$M$2,B20/SUM($B$2:$B$429)*List!$N$2),#N/A)","v":0.23364485981308408},-96,41]
["Turkey",6000,60,-95,37.700000000000003,{"$f":"IF(LEN($A21)>1,IF(A21=Dash!$B$2,List!$M$2,B21/SUM($B$2:$B$429)*List!$N$2),#N/A)","v":0.23364485981308408},-95,37.700000000000003]
["Kyrgyzstan",6000,60,-89,39,{"$f":"IF(LEN($A22)>1,IF(A22=Dash!$B$2,List!$M$2,B22/SUM($B$2:$B$429)*List!$N$2),#N/A)","v":0.23364485981308408},-89,39]
["Uzbekistan",6000,60,-90,38.5,{"$f":"IF(LEN($A23)>1,IF(A23=Dash!$B$2,List!$M$2,B23/SUM($B$2:$B$429)*List!$N$2),#N/A)","v":0.23364485981308408},-90,38.5]
["Switzerland",6000,60,-98.5,38.799999999999997,{"$f":"IF(LEN($A24)>1,IF(A24=Dash!$B$2,List!$M$2,B24/SUM($B$2:$B$429)*List!$N$2),#N/A)","v":0.23364485981308408},-98.5,38.799999999999997]
["Iran",6000,60,-91.3,36.700000000000003,{"$f":"IF(LEN($A25)>1,IF(A25=Dash!$B$2,List!$M$2,B25/SUM($B$2:$B$429)*List!$N$2),#N/A)","v":0.23364485981308408},-91.3,36.700000000000003]
["Afghanistan",6000,60,-90,36.700000000000003,{"$f":"IF(LEN($A26)>1,IF(A26=Dash!$B$2,List!$M$2,B26/SUM($B$2:$B$429)*List!$N$2),#N/A)","v":0.23364485981308408},-90,36.700000000000003]
["Pakistan",6000,60,-88.7,36.700000000000003,{"$f":"IF(LEN($A27)>1,IF(A27=Dash!$B$2,List!$M$2,B27/SUM($B$2:$B$429)*List!$N$2),#N/A)","v":0.23364485981308408},-88.7,36.700000000000003]
["Japan",6000,60,-78,37.5,{"$f":"IF(LEN($A28)>1,IF(A28=Dash!$B$2,List!$M$2,B28/SUM($B$2:$B$429)*List!$N$2),#N/A)","v":0.23364485981308408},-78,37.5]
["Korea, South",6000,60,-80,37.5,{"$f":"IF(LEN($A29)>1,IF(A29=Dash!$B$2,List!$M$2,B29/SUM($B$2:$B$429)*List!$N$2),#N/A)","v":0.23364485981308408},-80,37.5]
["Chile",6000,60,-111.5,28.5,{"$f":"IF(LEN($A30)>1,IF(A30=Dash!$B$2,List!$M$2,B30/SUM($B$2:$B$429)*List!$N$2),#N/A)","v":0.23364485981308408},-111.5,28.5]
["China",6000,60,-83,37.5,{"$f":"IF(LEN($A31)>1,IF(A31=Dash!$B$2,List!$M$2,B31/SUM($B$2:$B$429)*List!$N$2),#N/A)","v":0.23364485981308408},-83,37.5]
["China1",6000,60,-87,37,{"$f":"IF(LEN($A32)>1,IF(A32=Dash!$B$2,List!$M$2,B32/SUM($B$2:$B$429)*List!$N$2),#N/A)","v":0.23364485981308408},-87,37]
["China2",6000,60,-81.2,35.799999999999997,{"$f":"IF(LEN($A33)>1,IF(A33=Dash!$B$2,List!$M$2,B33/SUM($B$2:$B$429)*List!$N$2),#N/A)","v":0.23364485981308408},-81.2,35.799999999999997]
["China3",6000,60,1,0.95,{"$f":"IF(LEN($A34)>1,IF(A34=Dash!$B$2,List!$M$2,B34/SUM($B$2:$B$429)*List!$N$2),#N/A)","v":0.23364485981308408},1,0.95]
["China4",6000,60,-82.76,38.76,{"$f":"IF(LEN($A35)>1,IF(A35=Dash!$B$2,List!$M$2,B35/SUM($B$2:$B$429)*List!$N$2),#N/A)","v":0.23364485981308408},{"$f":"IF(LEN($A35)>1,D35,#N/A)","v":-82.76},{"$f":"IF(LEN($A35)>1,E35,#N/A)","v":38.76}]
["China5",6000,60,-83.56,38.51,{"$f":"IF(LEN($A36)>1,IF(A36=Dash!$B$2,List!$M$2,B36/SUM($B$2:$B$429)*List!$N$2),#N/A)","v":0.23364485981308408},-83.56,38.51]
["China6",6000,60,-81.38,35.67,{"$f":"IF(LEN($A37)>1,IF(A37=Dash!$B$2,List!$M$2,B37/SUM($B$2:$B$429)*List!$N$2),#N/A)","v":0.23364485981308408},-81.38,35.67]
["China7",6000,60,-84.03,35.81,{"$f":"IF(LEN($A38)>1,IF(A38=Dash!$B$2,List!$M$2,B38/SUM($B$2:$B$429)*List!$N$2),#N/A)","v":0.23364485981308408},-84.03,35.81]
["China8",6000,60,-81.93,36,{"$f":"IF(LEN($A39)>1,IF(A39=Dash!$B$2,List!$M$2,B39/SUM($B$2:$B$429)*List!$N$2),#N/A)","v":0.23364485981308408},-81.93,36]
["China9",6000,60,-82.17,38.74,{"$f":"IF(LEN($A40)>1,IF(A40=Dash!$B$2,List!$M$2,B40/SUM($B$2:$B$429)*List!$N$2),#N/A)","v":0.23364485981308408},-82.17,38.74]
["China10",6000,60,-84.92,38.75,{"$f":"IF(LEN($A41)>1,IF(A41=Dash!$B$2,List!$M$2,B41/SUM($B$2:$B$429)*List!$N$2),#N/A)","v":0.23364485981308408},-84.92,38.75]
["China11",6000,60,-86.63,37.770000000000003,{"$f":"IF(LEN($A42)>1,IF(A42=Dash!$B$2,List!$M$2,B42/SUM($B$2:$B$429)*List!$N$2),#N/A)","v":0.23364485981308408},-86.63,37.770000000000003]
["China12",6000,60,-84.8,35.76,{"$f":"IF(LEN($A43)>1,IF(A43=Dash!$B$2,List!$M$2,B43/SUM($B$2:$B$429)*List!$N$2),#N/A)","v":0.23364485981308408},-84.8,35.76]
["China13",6000,60,-84.9,36.29,{"$f":"IF(LEN($A44)>1,IF(A44=Dash!$B$2,List!$M$2,B44/SUM($B$2:$B$429)*List!$N$2),#N/A)","v":0.23364485981308408},-84.9,36.29]
["China14",6000,60,-85.08,37.380000000000003,{"$f":"IF(LEN($A45)>1,IF(A45=Dash!$B$2,List!$M$2,B45/SUM($B$2:$B$429)*List!$N$2),#N/A)","v":0.23364485981308408},-85.08,37.380000000000003]
["China15",6000,60,-84.67,36.97,{"$f":"IF(LEN($A46)>1,IF(A46=Dash!$B$2,List!$M$2,B46/SUM($B$2:$B$429)*List!$N$2),#N/A)","v":0.23364485981308408},-84.67,36.97]
["China16",6000,60,-82.91,38.39,{"$f":"IF(LEN($A47)>1,IF(A47=Dash!$B$2,List!$M$2,B47/SUM($B$2:$B$429)*List!$N$2),#N/A)","v":0.23364485981308408},-82.91,38.39]
["China17",6000,60,-81.59,38.78,{"$f":"IF(LEN($A48)>1,IF(A48=Dash!$B$2,List!$M$2,B48/SUM($B$2:$B$429)*List!$N$2),#N/A)","v":0.23364485981308408},-81.59,38.78]
["China19",6000,60,-81.94,35.700000000000003,{"$f":"IF(LEN($A49)>1,IF(A49=Dash!$B$2,List!$M$2,B49/SUM($B$2:$B$429)*List!$N$2),#N/A)","v":0.23364485981308408},-81.94,35.700000000000003]
["China20",6000,60,-81.650000000000006,36.06,{"$f":"IF(LEN($A50)>1,IF(A50=Dash!$B$2,List!$M$2,B50/SUM($B$2:$B$429)*List!$N$2),#N/A)","v":0.23364485981308408},-81.650000000000006,36.06]
["China22",6000,60,-85.22,35.21,{"$f":"IF(LEN($A51)>1,IF(A51=Dash!$B$2,List!$M$2,B51/SUM($B$2:$B$429)*List!$N$2),#N/A)","v":0.23364485981308408},-85.22,35.21]
["China23",6000,60,-85.68,35.729999999999997,{"$f":"IF(LEN($A52)>1,IF(A52=Dash!$B$2,List!$M$2,B52/SUM($B$2:$B$429)*List!$N$2),#N/A)","v":0.23364485981308408},-85.68,35.729999999999997]
["China24",6000,60,-86.64,36.01,{"$f":"IF(LEN($A53)>1,IF(A53=Dash!$B$2,List!$M$2,B53/SUM($B$2:$B$429)*List!$N$2),#N/A)","v":0.23364485981308408},-86.64,36.01]
["China25",6000,60,-84.87,37.619999999999997,{"$f":"IF(LEN($A54)>1,IF(A54=Dash!$B$2,List!$M$2,B54/SUM($B$2:$B$429)*List!$N$2),#N/A)","v":0.23364485981308408},-84.87,37.619999999999997]
["China26",6000,60,-81.31,38.19,{"$f":"IF(LEN($A55)>1,IF(A55=Dash!$B$2,List!$M$2,B55/SUM($B$2:$B$429)*List!$N$2),#N/A)","v":0.23364485981308408},{"$f":"IF(LEN($A55)>1,D55,#N/A)","v":-81.31},{"$f":"IF(LEN($A55)>1,E55,#N/A)","v":38.19}]
["China27",6000,60,-86.08,36.46,{"$f":"IF(LEN($A56)>1,IF(A56=Dash!$B$2,List!$M$2,B56/SUM($B$2:$B$429)*List!$N$2),#N/A)","v":0.23364485981308408},-86.08,36.46]
["China28",6000,60,-84.69,35.06,{"$f":"IF(LEN($A57)>1,IF(A57=Dash!$B$2,List!$M$2,B57/SUM($B$2:$B$429)*List!$N$2),#N/A)","v":0.23364485981308408},-84.69,35.06]
["China29",6000,60,-81.650000000000006,36.83,{"$f":"IF(LEN($A58)>1,IF(A58=Dash!$B$2,List!$M$2,B58/SUM($B$2:$B$429)*List!$N$2),#N/A)","v":0.23364485981308408},-81.650000000000006,36.83]
["China30",6000,60,-83.2,36.5,{"$f":"IF(LEN($A59)>1,IF(A59=Dash!$B$2,List!$M$2,B59/SUM($B$2:$B$429)*List!$N$2),#N/A)","v":0.23364485981308408},-83.2,36.5]
["China31",6000,60,-85.76,38.93,{"$f":"IF(LEN($A60)>1,IF(A60=Dash!$B$2,List!$M$2,B60/SUM($B$2:$B$429)*List!$N$2),#N/A)","v":0.23364485981308408},-85.76,38.93]
["China32",6000,60,-86.59,38.36,{"$f":"IF(LEN($A61)>1,IF(A61=Dash!$B$2,List!$M$2,B61/SUM($B$2:$B$429)*List!$N$2),#N/A)","v":0.23364485981308408},-86.59,38.36]
["China33",6000,60,-82.77,35.97,{"$f":"IF(LEN($A62)>1,IF(A62=Dash!$B$2,List!$M$2,B62/SUM($B$2:$B$429)*List!$N$2),#N/A)","v":0.23364485981308408},-82.77,35.97]
["China34",6000,60,-82.36,37.68,{"$f":"IF(LEN($A63)>1,IF(A63=Dash!$B$2,List!$M$2,B63/SUM($B$2:$B$429)*List!$N$2),#N/A)","v":0.23364485981308408},-82.36,37.68]
["China35",6000,60,-84.87,37.92,{"$f":"IF(LEN($A64)>1,IF(A64=Dash!$B$2,List!$M$2,B64/SUM($B$2:$B$429)*List!$N$2),#N/A)","v":0.23364485981308408},-84.87,37.92]
["China37",6000,60,-84.15,37.770000000000003,{"$f":"IF(LEN($A65)>1,IF(A65=Dash!$B$2,List!$M$2,B65/SUM($B$2:$B$429)*List!$N$2),#N/A)","v":0.23364485981308408},-84.15,37.770000000000003]
["China38",6000,60,-84.63,35.520000000000003,{"$f":"IF(LEN($A66)>1,IF(A66=Dash!$B$2,List!$M$2,B66/SUM($B$2:$B$429)*List!$N$2),#N/A)","v":0.23364485981308408},-84.63,35.520000000000003]
["China39",6000,60,-82.33,36.67,{"$f":"IF(LEN($A67)>1,IF(A67=Dash!$B$2,List!$M$2,B67/SUM($B$2:$B$429)*List!$N$2),#N/A)","v":0.23364485981308408},-82.33,36.67]
["China40",6000,60,-82.3,37.26,{"$f":"IF(LEN($A68)>1,IF(A68=Dash!$B$2,List!$M$2,B68/SUM($B$2:$B$429)*List!$N$2),#N/A)","v":0.23364485981308408},-82.3,37.26]
["China41",6000,60,-85.85,35.36,{"$f":"IF(LEN($A69)>1,IF(A69=Dash!$B$2,List!$M$2,B69/SUM($B$2:$B$429)*List!$N$2),#N/A)","v":0.23364485981308408},-85.85,35.36]
["China42",6000,60,-82.35,35.99,{"$f":"IF(LEN($A70)>1,IF(A70=Dash!$B$2,List!$M$2,B70/SUM($B$2:$B$429)*List!$N$2),#N/A)","v":0.23364485981308408},-82.35,35.99]
["China43",6000,60,-83.82,37.53,{"$f":"IF(LEN($A71)>1,IF(A71=Dash!$B$2,List!$M$2,B71/SUM($B$2:$B$429)*List!$N$2),#N/A)","v":0.23364485981308408},-83.82,37.53]
["China44",6000,60,-86.75,37.69,{"$f":"IF(LEN($A72)>1,IF(A72=Dash!$B$2,List!$M$2,B72/SUM($B$2:$B$429)*List!$N$2),#N/A)","v":0.23364485981308408},-86.75,37.69]
["China45",6000,60,-84.08,36.74,{"$f":"IF(LEN($A73)>1,IF(A73=Dash!$B$2,List!$M$2,B73/SUM($B$2:$B$429)*List!$N$2),#N/A)","v":0.23364485981308408},-84.08,36.74]
["China46",6000,60,-85.97,36.200000000000003,{"$f":"IF(LEN($A74)>1,IF(A74=Dash!$B$2,List!$M$2,B74/SUM($B$2:$B$429)*List!$N$2),#N/A)","v":0.23364485981308408},-85.97,36.200000000000003]
["China47",6000,60,-86.58,35.82,{"$f":"IF(LEN($A75)>1,IF(A75=Dash!$B$2,List!$M$2,B75/SUM($B$2:$B$429)*List!$N$2),#N/A)","v":0.23364485981308408},-86.58,35.82]
["China48",6000,60,-81.96,38.65,{"$f":"IF(LEN($A76)>1,IF(A76=Dash!$B$2,List!$M$2,B76/SUM($B$2:$B$429)*List!$N$2),#N/A)","v":0.23364485981308408},-81.96,38.65]
["China49",6000,60,-86.41,38.159999999999997,{"$f":"IF(LEN($A77)>1,IF(A77=Dash!$B$2,List!$M$2,B77/SUM($B$2:$B$429)*List!$N$2),#N/A)","v":0.23364485981308408},-86.41,38.159999999999997]
["China50",6000,60,-86.48,35.270000000000003,{"$f":"IF(LEN($A78)>1,IF(A78=Dash!$B$2,List!$M$2,B78/SUM($B$2:$B$429)*List!$N$2),#N/A)","v":0.23364485981308408},-86.48,35.270000000000003]
["China51",6000,60,-82.81,38.64,{"$f":"IF(LEN($A79)>1,IF(A79=Dash!$B$2,List!$M$2,B79/SUM($B$2:$B$429)*List!$N$2),#N/A)","v":0.23364485981308408},-82.81,38.64]
["China52",6000,60,-85.3,35.81,{"$f":"IF(LEN($A80)>1,IF(A80=Dash!$B$2,List!$M$2,B80/SUM($B$2:$B$429)*List!$N$2),#N/A)","v":0.23364485981308408},-85.3,35.81]
["China53",6000,60,-82.75,35.630000000000003,{"$f":"IF(LEN($A81)>1,IF(A81=Dash!$B$2,List!$M$2,B81/SUM($B$2:$B$429)*List!$N$2),#N/A)","v":0.23364485981308408},-82.75,35.630000000000003]
["China54",6000,60,-85.42,36.200000000000003,{"$f":"IF(LEN($A82)>1,IF(A82=Dash!$B$2,List!$M$2,B82/SUM($B$2:$B$429)*List!$N$2),#N/A)","v":0.23364485981308408},-85.42,36.200000000000003]
["China55",6000,60,-82.99,36.15,{"$f":"IF(LEN($A83)>1,IF(A83=Dash!$B$2,List!$M$2,B83/SUM($B$2:$B$429)*List!$N$2),#N/A)","v":0.23364485981308408},-82.99,36.15]
["China56",6000,60,-81.430000000000007,35.869999999999997,{"$f":"IF(LEN($A84)>1,IF(A84=Dash!$B$2,List!$M$2,B84/SUM($B$2:$B$429)*List!$N$2),#N/A)","v":0.23364485981308408},-81.430000000000007,35.869999999999997]
["China57",6000,60,-84.19,35.86,{"$f":"IF(LEN($A85)>1,IF(A85=Dash!$B$2,List!$M$2,B85/SUM($B$2:$B$429)*List!$N$2),#N/A)","v":0.23364485981308408},-84.19,35.86]
["China58",6000,60,-86.95,35.799999999999997,{"$f":"IF(LEN($A86)>1,IF(A86=Dash!$B$2,List!$M$2,B86/SUM($B$2:$B$429)*List!$N$2),#N/A)","v":0.23364485981308408},-86.95,35.799999999999997]
["China59",6000,60,-85.06,35.159999999999997,{"$f":"IF(LEN($A87)>1,IF(A87=Dash!$B$2,List!$M$2,B87/SUM($B$2:$B$429)*List!$N$2),#N/A)","v":0.23364485981308408},-85.06,35.159999999999997]
["China60",6000,60,-86.51,37.11,{"$f":"IF(LEN($A88)>1,IF(A88=Dash!$B$2,List!$M$2,B88/SUM($B$2:$B$429)*List!$N$2),#N/A)","v":0.23364485981308408},-86.51,37.11]
["China61",6000,60,-82.25,37.42,{"$f":"IF(LEN($A89)>1,IF(A89=Dash!$B$2,List!$M$2,B89/SUM($B$2:$B$429)*List!$N$2),#N/A)","v":0.23364485981308408},-82.25,37.42]
["China62",6000,60,-85.87,36.200000000000003,{"$f":"IF(LEN($A90)>1,IF(A90=Dash!$B$2,List!$M$2,B90/SUM($B$2:$B$429)*List!$N$2),#N/A)","v":0.23364485981308408},-85.87,36.200000000000003]
["China63",6000,60,-85.84,38.130000000000003,{"$f":"IF(LEN($A91)>1,IF(A91=Dash!$B$2,List!$M$2,B91/SUM($B$2:$B$429)*List!$N$2),#N/A)","v":0.23364485981308408},-85.84,38.130000000000003]
["China64",6000,60,-82.53,37.020000000000003,{"$f":"IF(LEN($A92)>1,IF(A92=Dash!$B$2,List!$M$2,B92/SUM($B$2:$B$429)*List!$N$2),#N/A)","v":0.23364485981308408},-82.53,37.020000000000003]
["China65",6000,60,-84.17,37.68,{"$f":"IF(LEN($A93)>1,IF(A93=Dash!$B$2,List!$M$2,B93/SUM($B$2:$B$429)*List!$N$2),#N/A)","v":0.23364485981308408},-84.17,37.68]
["China66",6000,60,-84.1,36.880000000000003,{"$f":"IF(LEN($A94)>1,IF(A94=Dash!$B$2,List!$M$2,B94/SUM($B$2:$B$429)*List!$N$2),#N/A)","v":0.23364485981308408},-84.1,36.880000000000003]
["China67",6000,60,-85.06,35.25,{"$f":"IF(LEN($A95)>1,IF(A95=Dash!$B$2,List!$M$2,B95/SUM($B$2:$B$429)*List!$N$2),#N/A)","v":0.23364485981308408},-85.06,35.25]
["China68",6000,60,-82.74,36.97,{"$f":"IF(LEN($A96)>1,IF(A96=Dash!$B$2,List!$M$2,B96/SUM($B$2:$B$429)*List!$N$2),#N/A)","v":0.23364485981308408},-82.74,36.97]
["China69",6000,60,-83.95,38.82,{"$f":"IF(LEN($A97)>1,IF(A97=Dash!$B$2,List!$M$2,B97/SUM($B$2:$B$429)*List!$N$2),#N/A)","v":0.23364485981308408},-83.95,38.82]
["China70",6000,60,-81.739999999999995,36.909999999999997,{"$f":"IF(LEN($A98)>1,IF(A98=Dash!$B$2,List!$M$2,B98/SUM($B$2:$B$429)*List!$N$2),#N/A)","v":0.23364485981308408},-81.739999999999995,36.909999999999997]
["China71",6000,60,-82.44,36.01,{"$f":"IF(LEN($A99)>1,IF(A99=Dash!$B$2,List!$M$2,B99/SUM($B$2:$B$429)*List!$N$2),#N/A)","v":0.23364485981308408},-82.44,36.01]
["China72",6000,60,-83.96,36.33,{"$f":"IF(LEN($A100)>1,IF(A100=Dash!$B$2,List!$M$2,B100/SUM($B$2:$B$429)*List!$N$2),#N/A)","v":0.23364485981308408},-83.96,36.33]
["China73",6000,60,-83.91,37.479999999999997,{"$f":"IF(LEN($A101)>1,IF(A101=Dash!$B$2,List!$M$2,B101/SUM($B$2:$B$429)*List!$N$2),#N/A)","v":0.23364485981308408},-83.91,37.479999999999997]
["China74",6000,60,-86.85,35.520000000000003,{"$f":"IF(LEN($A102)>1,IF(A102=Dash!$B$2,List!$M$2,B102/SUM($B$2:$B$429)*List!$N$2),#N/A)","v":0.23364485981308408},-86.85,35.520000000000003]
["China75",6000,60,-81.849999999999994,38.78,{"$f":"IF(LEN($A103)>1,IF(A103=Dash!$B$2,List!$M$2,B103/SUM($B$2:$B$429)*List!$N$2),#N/A)","v":0.23364485981308408},-81.849999999999994,38.78]
["China76",6000,60,-86.74,35.68,{"$f":"IF(LEN($A104)>1,IF(A104=Dash!$B$2,List!$M$2,B104/SUM($B$2:$B$429)*List!$N$2),#N/A)","v":0.23364485981308408},-86.74,35.68]
["China77",6000,60,-85.36,36.51,{"$f":"IF(LEN($A105)>1,IF(A105=Dash!$B$2,List!$M$2,B105/SUM($B$2:$B$429)*List!$N$2),#N/A)","v":0.23364485981308408},-85.36,36.51]
["China78",6000,60,-82.82,37.270000000000003,{"$f":"IF(LEN($A106)>1,IF(A106=Dash!$B$2,List!$M$2,B106/SUM($B$2:$B$429)*List!$N$2),#N/A)","v":0.23364485981308408},-82.82,37.270000000000003]
["China79",6000,60,-85.88,37.979999999999997,{"$f":"IF(LEN($A107)>1,IF(A107=Dash!$B$2,List!$M$2,B107/SUM($B$2:$B$429)*List!$N$2),#N/A)","v":0.23364485981308408},-85.88,37.979999999999997]
["China80",6000,60,-82.47,38.729999999999997,{"$f":"IF(LEN($A108)>1,IF(A108=Dash!$B$2,List!$M$2,B108/SUM($B$2:$B$429)*List!$N$2),#N/A)","v":0.23364485981308408},-82.47,38.729999999999997]
["China81",6000,60,-85.02,38.4,{"$f":"IF(LEN($A109)>1,IF(A109=Dash!$B$2,List!$M$2,B109/SUM($B$2:$B$429)*List!$N$2),#N/A)","v":0.23364485981308408},-85.02,38.4]
["China82",6000,60,-82.61,37.36,{"$f":"IF(LEN($A110)>1,IF(A110=Dash!$B$2,List!$M$2,B110/SUM($B$2:$B$429)*List!$N$2),#N/A)","v":0.23364485981308408},-82.61,37.36]
["China83",6000,60,-84.85,38.86,{"$f":"IF(LEN($A111)>1,IF(A111=Dash!$B$2,List!$M$2,B111/SUM($B$2:$B$429)*List!$N$2),#N/A)","v":0.23364485981308408},-84.85,38.86]
["China84",6000,60,-83.45,36.82,{"$f":"IF(LEN($A112)>1,IF(A112=Dash!$B$2,List!$M$2,B112/SUM($B$2:$B$429)*List!$N$2),#N/A)","v":0.23364485981308408},-83.45,36.82]
["China85",6000,60,-82.09,36.79,{"$f":"IF(LEN($A113)>1,IF(A113=Dash!$B$2,List!$M$2,B113/SUM($B$2:$B$429)*List!$N$2),#N/A)","v":0.23364485981308408},-82.09,36.79]
["China86",6000,60,-85.17,35.26,{"$f":"IF(LEN($A114)>1,IF(A114=Dash!$B$2,List!$M$2,B114/SUM($B$2:$B$429)*List!$N$2),#N/A)","v":0.23364485981308408},-85.17,35.26]
["China87",6000,60,-86.34,37.880000000000003,{"$f":"IF(LEN($A115)>1,IF(A115=Dash!$B$2,List!$M$2,B115/SUM($B$2:$B$429)*List!$N$2),#N/A)","v":0.23364485981308408},-86.34,37.880000000000003]
["China88",6000,60,-82.5,38.520000000000003,{"$f":"IF(LEN($A116)>1,IF(A116=Dash!$B$2,List!$M$2,B116/SUM($B$2:$B$429)*List!$N$2),#N/A)","v":0.23364485981308408},-82.5,38.520000000000003]
["China90",6000,60,-82.39,36.78,{"$f":"IF(LEN($A117)>1,IF(A117=Dash!$B$2,List!$M$2,B117/SUM($B$2:$B$429)*List!$N$2),#N/A)","v":0.23364485981308408},{"$f":"IF(LEN($A117)>1,D117,#N/A)","v":-82.39},{"$f":"IF(LEN($A117)>1,E117,#N/A)","v":36.78}]
["China91",6000,60,-85.67,37.33,{"$f":"IF(LEN($A118)>1,IF(A118=Dash!$B$2,List!$M$2,B118/SUM($B$2:$B$429)*List!$N$2),#N/A)","v":0.23364485981308408},-85.67,37.33]
["China92",6000,60,-84.12,36.72,{"$f":"IF(LEN($A119)>1,IF(A119=Dash!$B$2,List!$M$2,B119/SUM($B$2:$B$429)*List!$N$2),#N/A)","v":0.23364485981308408},-84.12,36.72]
["China93",6000,60,-84.66,35.42,{"$f":"IF(LEN($A120)>1,IF(A120=Dash!$B$2,List!$M$2,B120/SUM($B$2:$B$429)*List!$N$2),#N/A)","v":0.23364485981308408},-84.66,35.42]
["China94",6000,60,-84.97,37.14,{"$f":"IF(LEN($A121)>1,IF(A121=Dash!$B$2,List!$M$2,B121/SUM($B$2:$B$429)*List!$N$2),#N/A)","v":0.23364485981308408},-84.97,37.14]
["China95",6000,60,-82.14,38.35,{"$f":"IF(LEN($A122)>1,IF(A122=Dash!$B$2,List!$M$2,B122/SUM($B$2:$B$429)*List!$N$2),#N/A)","v":0.23364485981308408},-82.14,38.35]
["China96",6000,60,-83.9,37.869999999999997,{"$f":"IF(LEN($A123)>1,IF(A123=Dash!$B$2,List!$M$2,B123/SUM($B$2:$B$429)*List!$N$2),#N/A)","v":0.23364485981308408},-83.9,37.869999999999997]
["China97",6000,60,-85.18,36.71,{"$f":"IF(LEN($A124)>1,IF(A124=Dash!$B$2,List!$M$2,B124/SUM($B$2:$B$429)*List!$N$2),#N/A)","v":0.23364485981308408},-85.18,36.71]
["China98",6000,60,-81.91,38.5,{"$f":"IF(LEN($A125)>1,IF(A125=Dash!$B$2,List!$M$2,B125/SUM($B$2:$B$429)*List!$N$2),#N/A)","v":0.23364485981308408},-81.91,38.5]
["China99",6000,60,-84.23,36.700000000000003,{"$f":"IF(LEN($A126)>1,IF(A126=Dash!$B$2,List!$M$2,B126/SUM($B$2:$B$429)*List!$N$2),#N/A)","v":0.23364485981308408},-84.23,36.700000000000003]
["China100",6000,60,-85.03,36.11,{"$f":"IF(LEN($A127)>1,IF(A127=Dash!$B$2,List!$M$2,B127/SUM($B$2:$B$429)*List!$N$2),#N/A)","v":0.23364485981308408},-85.03,36.11]
["China101",6000,60,-86.57,35.9,{"$f":"IF(LEN($A128)>1,IF(A128=Dash!$B$2,List!$M$2,B128/SUM($B$2:$B$429)*List!$N$2),#N/A)","v":0.23364485981308408},-86.57,35.9]
["China104",6000,60,-86.15,36.71,{"$f":"IF(LEN($A129)>1,IF(A129=Dash!$B$2,List!$M$2,B129/SUM($B$2:$B$429)*List!$N$2),#N/A)","v":0.23364485981308408},-86.15,36.71]
["China105",6000,60,-81.8,37.39,{"$f":"IF(LEN($A130)>1,IF(A130=Dash!$B$2,List!$M$2,B130/SUM($B$2:$B$429)*List!$N$2),#N/A)","v":0.23364485981308408},-81.8,37.39]
["China106",6000,60,-83.45,35.9,{"$f":"IF(LEN($A131)>1,IF(A131=Dash!$B$2,List!$M$2,B131/SUM($B$2:$B$429)*List!$N$2),#N/A)","v":0.23364485981308408},-83.45,35.9]
["China107",6000,60,-81.96,38.869999999999997,{"$f":"IF(LEN($A132)>1,IF(A132=Dash!$B$2,List!$M$2,B132/SUM($B$2:$B$429)*List!$N$2),#N/A)","v":0.23364485981308408},-81.96,38.869999999999997]
["China108",6000,60,-83.56,37.94,{"$f":"IF(LEN($A133)>1,IF(A133=Dash!$B$2,List!$M$2,B133/SUM($B$2:$B$429)*List!$N$2),#N/A)","v":0.23364485981308408},-83.56,37.94]
["China109",6000,60,-82.53,37.86,{"$f":"IF(LEN($A134)>1,IF(A134=Dash!$B$2,List!$M$2,B134/SUM($B$2:$B$429)*List!$N$2),#N/A)","v":0.23364485981308408},-82.53,37.86]
["China110",6000,60,-86.69,38.049999999999997,{"$f":"IF(LEN($A135)>1,IF(A135=Dash!$B$2,List!$M$2,B135/SUM($B$2:$B$429)*List!$N$2),#N/A)","v":0.23364485981308408},-86.69,38.049999999999997]
["China111",6000,60,-84.6,38.01,{"$f":"IF(LEN($A136)>1,IF(A136=Dash!$B$2,List!$M$2,B136/SUM($B$2:$B$429)*List!$N$2),#N/A)","v":0.23364485981308408},-84.6,38.01]
["China112",6000,60,-81.94,38.64,{"$f":"IF(LEN($A137)>1,IF(A137=Dash!$B$2,List!$M$2,B137/SUM($B$2:$B$429)*List!$N$2),#N/A)","v":0.23364485981308408},-81.94,38.64]
["China113",6000,60,-86.26,35.409999999999997,{"$f":"IF(LEN($A138)>1,IF(A138=Dash!$B$2,List!$M$2,B138/SUM($B$2:$B$429)*List!$N$2),#N/A)","v":0.23364485981308408},-86.26,35.409999999999997]
["China114",6000,60,-84,36.03,{"$f":"IF(LEN($A139)>1,IF(A139=Dash!$B$2,List!$M$2,B139/SUM($B$2:$B$429)*List!$N$2),#N/A)","v":0.23364485981308408},-84,36.03]
["China115",6000,60,-85.52,38.229999999999997,{"$f":"IF(LEN($A140)>1,IF(A140=Dash!$B$2,List!$M$2,B140/SUM($B$2:$B$429)*List!$N$2),#N/A)","v":0.23364485981308408},-85.52,38.229999999999997]
["China116",6000,60,-83.38,38.97,{"$f":"IF(LEN($A141)>1,IF(A141=Dash!$B$2,List!$M$2,B141/SUM($B$2:$B$429)*List!$N$2),#N/A)","v":0.23364485981308408},-83.38,38.97]
["China117",6000,60,-86.4,36.29,{"$f":"IF(LEN($A142)>1,IF(A142=Dash!$B$2,List!$M$2,B142/SUM($B$2:$B$429)*List!$N$2),#N/A)","v":0.23364485981308408},-86.4,36.29]
["China118",6000,60,-83.52,35.4,{"$f":"IF(LEN($A143)>1,IF(A143=Dash!$B$2,List!$M$2,B143/SUM($B$2:$B$429)*List!$N$2),#N/A)","v":0.23364485981308408},-83.52,35.4]
["China119",6000,60,-86.49,38.01,{"$f":"IF(LEN($A144)>1,IF(A144=Dash!$B$2,List!$M$2,B144/SUM($B$2:$B$429)*List!$N$2),#N/A)","v":0.23364485981308408},-86.49,38.01]
["China120",6000,60,-83.52,38.06,{"$f":"IF(LEN($A145)>1,IF(A145=Dash!$B$2,List!$M$2,B145/SUM($B$2:$B$429)*List!$N$2),#N/A)","v":0.23364485981308408},-83.52,38.06]
["China121",6000,60,-84.08,35.520000000000003,{"$f":"IF(LEN($A146)>1,IF(A146=Dash!$B$2,List!$M$2,B146/SUM($B$2:$B$429)*List!$N$2),#N/A)","v":0.23364485981308408},-84.08,35.520000000000003]
["China122",6000,60,-83.94,35.270000000000003,{"$f":"IF(LEN($A147)>1,IF(A147=Dash!$B$2,List!$M$2,B147/SUM($B$2:$B$429)*List!$N$2),#N/A)","v":0.23364485981308408},-83.94,35.270000000000003]
["China124",6000,60,-84.01,37.28,{"$f":"IF(LEN($A148)>1,IF(A148=Dash!$B$2,List!$M$2,B148/SUM($B$2:$B$429)*List!$N$2),#N/A)","v":0.23364485981308408},-84.01,37.28]
["US",6000,60,-116.0937311,37.548928099999998,{"$f":"IF(LEN($A149)>1,IF(A149=Dash!$B$2,List!$M$2,B149/SUM($B$2:$B$429)*List!$N$2),#N/A)","v":0.23364485981308408},{"$f":"IF(LEN($A149)>1,D149,#N/A)","v":-116.0937311},37.548928099999998]
["US1",6000,60,-119.0937311,37.048928099999998,{"$f":"IF(LEN($A150)>1,IF(A150=Dash!$B$2,List!$M$2,B150/SUM($B$2:$B$429)*List!$N$2),#N/A)","v":0.23364485981308408},-119.0937311,37.048928099999998]
["US2",6000,60,-115.0937311,38.008928099999999,{"$f":"IF(LEN($A151)>1,IF(A151=Dash!$B$2,List!$M$2,B151/SUM($B$2:$B$429)*List!$N$2),#N/A)","v":0.23364485981308408},-115.0937311,38.008928099999999]
["US3",6000,60,-113.0937311,37.048928099999998,{"$f":"IF(LEN($A152)>1,IF(A152=Dash!$B$2,List!$M$2,B152/SUM($B$2:$B$429)*List!$N$2),#N/A)","v":0.23364485981308408},-113.0937311,37.048928099999998]
["US4",6000,60,-118.0937311,38.048928099999998,{"$f":"IF(LEN($A153)>1,IF(A153=Dash!$B$2,List!$M$2,B153/SUM($B$2:$B$429)*List!$N$2),#N/A)","v":0.23364485981308408},-118.0937311,38.048928099999998]
["US5",6000,60,-117.0937311,38.048928099999998,{"$f":"IF(LEN($A154)>1,IF(A154=Dash!$B$2,List!$M$2,B154/SUM($B$2:$B$429)*List!$N$2),#N/A)","v":0.23364485981308408},{"$f":"IF(LEN($A154)>1,D154,#N/A)","v":-117.0937311},{"$f":"IF(LEN($A154)>1,E154,#N/A)","v":38.048928099999998}]
["US6",6000,60,-118.0937311,37.048928099999998,{"$f":"IF(LEN($A155)>1,IF(A155=Dash!$B$2,List!$M$2,B155/SUM($B$2:$B$429)*List!$N$2),#N/A)","v":0.23364485981308408},-118.0937311,37.048928099999998]
["US7",6000,60,-119.5937311,38.548928099999998,{"$f":"IF(LEN($A156)>1,IF(A156=Dash!$B$2,List!$M$2,B156/SUM($B$2:$B$429)*List!$N$2),#N/A)","v":0.23364485981308408},-119.5937311,38.548928099999998]
["US8",6000,60,-117.0937311,38.048928099999998,{"$f":"IF(LEN($A157)>1,IF(A157=Dash!$B$2,List!$M$2,B157/SUM($B$2:$B$429)*List!$N$2),#N/A)","v":0.23364485981308408},-117.0937311,38.048928099999998]
["US9",6000,60,-119.0937311,37.548928099999998,{"$f":"IF(LEN($A158)>1,IF(A158=Dash!$B$2,List!$M$2,B158/SUM($B$2:$B$429)*List!$N$2),#N/A)","v":0.23364485981308408},-119.0937311,37.548928099999998]
["US10",6000,60,-114.0937311,37.048928099999998,{"$f":"IF(LEN($A159)>1,IF(A159=Dash!$B$2,List!$M$2,B159/SUM($B$2:$B$429)*List!$N$2),#N/A)","v":0.23364485981308408},-114.0937311,37.048928099999998]
["US11",6000,60,-115.0937311,36.348928100000002,{"$f":"IF(LEN($A160)>1,IF(A160=Dash!$B$2,List!$M$2,B160/SUM($B$2:$B$429)*List!$N$2),#N/A)","v":0.23364485981308408},-115.0937311,36.348928100000002]
["US12",6000,60,-115.0937311,36.848928100000002,{"$f":"IF(LEN($A161)>1,IF(A161=Dash!$B$2,List!$M$2,B161/SUM($B$2:$B$429)*List!$N$2),#N/A)","v":0.23364485981308408},-115.0937311,36.848928100000002]
["US13",6000,60,-116.0937311,36.048928099999998,{"$f":"IF(LEN($A162)>1,IF(A162=Dash!$B$2,List!$M$2,B162/SUM($B$2:$B$429)*List!$N$2),#N/A)","v":0.23364485981308408},-116.0937311,36.048928099999998]
["US14",6000,60,-113.0937311,36.048928099999998,{"$f":"IF(LEN($A163)>1,IF(A163=Dash!$B$2,List!$M$2,B163/SUM($B$2:$B$429)*List!$N$2),#N/A)","v":0.23364485981308408},-113.0937311,36.048928099999998]
["US15",6000,60,-111.0937311,38.048928099999998,{"$f":"IF(LEN($A164)>1,IF(A164=Dash!$B$2,List!$M$2,B164/SUM($B$2:$B$429)*List!$N$2),#N/A)","v":0.23364485981308408},-111.0937311,38.048928099999998]
["US16",6000,60,-111.0937311,38.048928099999998,{"$f":"IF(LEN($A165)>1,IF(A165=Dash!$B$2,List!$M$2,B165/SUM($B$2:$B$429)*List!$N$2),#N/A)","v":0.23364485981308408},{"$f":"IF(LEN($A165)>1,D165,#N/A)","v":-111.0937311},{"$f":"IF(LEN($A165)>1,E165,#N/A)","v":38.048928099999998}]
["US17",6000,60,-111.0937311,38.048928099999998,{"$f":"IF(LEN($A166)>1,IF(A166=Dash!$B$2,List!$M$2,B166/SUM($B$2:$B$429)*List!$N$2),#N/A)","v":0.23364485981308408},{"$f":"IF(LEN($A166)>1,D166,#N/A)","v":-111.0937311},{"$f":"IF(LEN($A166)>1,E166,#N/A)","v":38.048928099999998}]
["US18",6000,60,-112.0937311,38.048928099999998,{"$f":"IF(LEN($A167)>1,IF(A167=Dash!$B$2,List!$M$2,B167/SUM($B$2:$B$429)*List!$N$2),#N/A)","v":0.23364485981308408},-112.0937311,38.048928099999998]
["US19",6000,60,-112.0937311,37.048928099999998,{"$f":"IF(LEN($A168)>1,IF(A168=Dash!$B$2,List!$M$2,B168/SUM($B$2:$B$429)*List!$N$2),#N/A)","v":0.23364485981308408},{"$f":"IF(LEN($A168)>1,D168,#N/A)","v":-112.0937311},{"$f":"IF(LEN($A168)>1,E168,#N/A)","v":37.048928099999998}]
["US20",6000,60,-113.0937311,37.348928100000002,{"$f":"IF(LEN($A169)>1,IF(A169=Dash!$B$2,List!$M$2,B169/SUM($B$2:$B$429)*List!$N$2),#N/A)","v":0.23364485981308408},-113.0937311,37.348928100000002]
["US21",6000,60,-113.0937311,37.648928099999999,{"$f":"IF(LEN($A170)>1,IF(A170=Dash!$B$2,List!$M$2,B170/SUM($B$2:$B$429)*List!$N$2),#N/A)","v":0.23364485981308408},-113.0937311,37.648928099999999]
["US22",6000,60,-114.0937311,36.348928100000002,{"$f":"IF(LEN($A171)>1,IF(A171=Dash!$B$2,List!$M$2,B171/SUM($B$2:$B$429)*List!$N$2),#N/A)","v":0.23364485981308408},-114.0937311,36.348928100000002]
["US23",6000,60,-117.0937311,36.648928099999999,{"$f":"IF(LEN($A172)>1,IF(A172=Dash!$B$2,List!$M$2,B172/SUM($B$2:$B$429)*List!$N$2),#N/A)","v":0.23364485981308408},-117.0937311,36.648928099999999]
["US24",6000,60,-118.0937311,38.648928099999999,{"$f":"IF(LEN($A173)>1,IF(A173=Dash!$B$2,List!$M$2,B173/SUM($B$2:$B$429)*List!$N$2),#N/A)","v":0.23364485981308408},-118.0937311,38.648928099999999]
["US25",6000,60,-118.0937311,36.648928099999999,{"$f":"IF(LEN($A174)>1,IF(A174=Dash!$B$2,List!$M$2,B174/SUM($B$2:$B$429)*List!$N$2),#N/A)","v":0.23364485981308408},-118.0937311,36.648928099999999]
["US26",6000,60,-117.0937311,36.648928099999999,{"$f":"IF(LEN($A175)>1,IF(A175=Dash!$B$2,List!$M$2,B175/SUM($B$2:$B$429)*List!$N$2),#N/A)","v":0.23364485981308408},-117.0937311,36.648928099999999]
["US27",6000,60,-118.0937311,36.648928099999999,{"$f":"IF(LEN($A176)>1,IF(A176=Dash!$B$2,List!$M$2,B176/SUM($B$2:$B$429)*List!$N$2),#N/A)","v":0.23364485981308408},-118.0937311,36.648928099999999]
["US28",6000,60,-117.0937311,37.648928099999999,{"$f":"IF(LEN($A177)>1,IF(A177=Dash!$B$2,List!$M$2,B177/SUM($B$2:$B$429)*List!$N$2),#N/A)","v":0.23364485981308408},{"$f":"IF(LEN($A177)>1,D177,#N/A)","v":-117.0937311},{"$f":"IF(LEN($A177)>1,E177,#N/A)","v":37.648928099999999}]
["US29",6000,60,-116,37.248928100000001,{"$f":"IF(LEN($A178)>1,IF(A178=Dash!$B$2,List!$M$2,B178/SUM($B$2:$B$429)*List!$N$2),#N/A)","v":0.23364485981308408},-116,37.248928100000001]
["US30",6000,60,-116.5,37.248928100000001,{"$f":"IF(LEN($A179)>1,IF(A179=Dash!$B$2,List!$M$2,B179/SUM($B$2:$B$429)*List!$N$2),#N/A)","v":0.23364485981308408},-116.5,37.248928100000001]
["US31",6000,60,-116.5,37.048928099999998,{"$f":"IF(LEN($A180)>1,IF(A180=Dash!$B$2,List!$M$2,B180/SUM($B$2:$B$429)*List!$N$2),#N/A)","v":0.23364485981308408},-116.5,37.048928099999998]
["US33",6000,60,-119.0937311,38.048928099999998,{"$f":"IF(LEN($A181)>1,IF(A181=Dash!$B$2,List!$M$2,B181/SUM($B$2:$B$429)*List!$N$2),#N/A)","v":0.23364485981308408},-119.0937311,38.048928099999998]
["US34",6000,60,-119.0937311,38.448928100000003,{"$f":"IF(LEN($A182)>1,IF(A182=Dash!$B$2,List!$M$2,B182/SUM($B$2:$B$429)*List!$N$2),#N/A)","v":0.23364485981308408},-119.0937311,38.448928100000003]
["US35",6000,60,-117.0937311,37.648928099999999,{"$f":"IF(LEN($A183)>1,IF(A183=Dash!$B$2,List!$M$2,B183/SUM($B$2:$B$429)*List!$N$2),#N/A)","v":0.23364485981308408},-117.0937311,37.648928099999999]
["US36",6000,60,-116.49373110000001,37.948928100000003,{"$f":"IF(LEN($A184)>1,IF(A184=Dash!$B$2,List!$M$2,B184/SUM($B$2:$B$429)*List!$N$2),#N/A)","v":0.23364485981308408},-116.49373110000001,37.948928100000003]
["US37",6000,60,-116.49373110000001,38.448928100000003,{"$f":"IF(LEN($A185)>1,IF(A185=Dash!$B$2,List!$M$2,B185/SUM($B$2:$B$429)*List!$N$2),#N/A)","v":0.23364485981308408},-116.49373110000001,38.448928100000003]
["US38",6000,60,-117.0937311,36.648928099999999,{"$f":"IF(LEN($A186)>1,IF(A186=Dash!$B$2,List!$M$2,B186/SUM($B$2:$B$429)*List!$N$2),#N/A)","v":0.23364485981308408},-117.0937311,36.648928099999999]
["US39",6000,60,-117.0937311,36.648928099999999,{"$f":"IF(LEN($A187)>1,IF(A187=Dash!$B$2,List!$M$2,B187/SUM($B$2:$B$429)*List!$N$2),#N/A)","v":0.23364485981308408},-117.0937311,36.648928099999999]
["US40",6000,60,-117.0937311,36.648928099999999,{"$f":"IF(LEN($A188)>1,IF(A188=Dash!$B$2,List!$M$2,B188/SUM($B$2:$B$429)*List!$N$2),#N/A)","v":0.23364485981308408},{"$f":"IF(LEN($A188)>1,D188,#N/A)","v":-117.0937311},{"$f":"IF(LEN($A188)>1,E188,#N/A)","v":36.648928099999999}]
["US41",6000,60,-118.2937311,39.448928100000003,{"$f":"IF(LEN($A189)>1,IF(A189=Dash!$B$2,List!$M$2,B189/SUM($B$2:$B$429)*List!$N$2),#N/A)","v":0.23364485981308408},{"$f":"IF(LEN($A189)>1,D189,#N/A)","v":-118.2937311},{"$f":"IF(LEN($A189)>1,E189,#N/A)","v":39.448928100000003}]
["US42",6000,60,-117.0937311,36.648928099999999,{"$f":"IF(LEN($A190)>1,IF(A190=Dash!$B$2,List!$M$2,B190/SUM($B$2:$B$429)*List!$N$2),#N/A)","v":0.23364485981308408},-117.0937311,36.648928099999999]
["US43",6000,60,-119.0937311,37.748928100000001,{"$f":"IF(LEN($A191)>1,IF(A191=Dash!$B$2,List!$M$2,B191/SUM($B$2:$B$429)*List!$N$2),#N/A)","v":0.23364485981308408},-119.0937311,37.748928100000001]
["US44",6000,60,-119.3937311,37.348928100000002,{"$f":"IF(LEN($A192)>1,IF(A192=Dash!$B$2,List!$M$2,B192/SUM($B$2:$B$429)*List!$N$2),#N/A)","v":0.23364485981308408},-119.3937311,37.348928100000002]
["US46",6000,60,-117.0937311,36.648928099999999,{"$f":"IF(LEN($A193)>1,IF(A193=Dash!$B$2,List!$M$2,B193/SUM($B$2:$B$429)*List!$N$2),#N/A)","v":0.23364485981308408},-117.0937311,36.648928099999999]
["US47",6000,60,-117.0937311,36.648928099999999,{"$f":"IF(LEN($A194)>1,IF(A194=Dash!$B$2,List!$M$2,B194/SUM($B$2:$B$429)*List!$N$2),#N/A)","v":0.23364485981308408},-117.0937311,36.648928099999999]
["US48",6000,60,-117.0937311,36.648928099999999,{"$f":"IF(LEN($A195)>1,IF(A195=Dash!$B$2,List!$M$2,B195/SUM($B$2:$B$429)*List!$N$2),#N/A)","v":0.23364485981308408},-117.0937311,36.648928099999999]
["US49",6000,60,-117.0937311,36.648928099999999,{"$f":"IF(LEN($A196)>1,IF(A196=Dash!$B$2,List!$M$2,B196/SUM($B$2:$B$429)*List!$N$2),#N/A)","v":0.23364485981308408},-117.0937311,36.648928099999999]
["US50",6000,60,-124.0937311,42,{"$f":"IF(LEN($A197)>1,IF(A197=Dash!$B$2,List!$M$2,B197/SUM($B$2:$B$429)*List!$N$2),#N/A)","v":0.23364485981308408},{"$f":"IF(LEN($A197)>1,D197,#N/A)","v":-124.0937311},{"$f":"IF(LEN($A197)>1,E197,#N/A)","v":42}]
["US51",6000,60,-118.57,37.17,{"$f":"IF(LEN($A198)>1,IF(A198=Dash!$B$2,List!$M$2,B198/SUM($B$2:$B$429)*List!$N$2),#N/A)","v":0.23364485981308408},{"$f":"IF(LEN($A198)>1,D198,#N/A)","v":-118.57},{"$f":"IF(LEN($A198)>1,E198,#N/A)","v":37.17}]
["US52",6000,60,-114.85,38.630000000000003,{"$f":"IF(LEN($A199)>1,IF(A199=Dash!$B$2,List!$M$2,B199/SUM($B$2:$B$429)*List!$N$2),#N/A)","v":0.23364485981308408},-114.85,38.630000000000003]
["US53",6000,60,-116.93,38.93,{"$f":"IF(LEN($A200)>1,IF(A200=Dash!$B$2,List!$M$2,B200/SUM($B$2:$B$429)*List!$N$2),#N/A)","v":0.23364485981308408},-116.93,38.93]
["US54",6000,60,-114.22,37.79,{"$f":"IF(LEN($A201)>1,IF(A201=Dash!$B$2,List!$M$2,B201/SUM($B$2:$B$429)*List!$N$2),#N/A)","v":0.23364485981308408},-114.22,37.79]
["US55",6000,60,-112.18,38.979999999999997,{"$f":"IF(LEN($A202)>1,IF(A202=Dash!$B$2,List!$M$2,B202/SUM($B$2:$B$429)*List!$N$2),#N/A)","v":0.23364485981308408},-112.18,38.979999999999997]
["US56",6000,60,-112.48,38.04,{"$f":"IF(LEN($A203)>1,IF(A203=Dash!$B$2,List!$M$2,B203/SUM($B$2:$B$429)*List!$N$2),#N/A)","v":0.23364485981308408},-112.48,38.04]
["US57",6000,60,-116.42,38.340000000000003,{"$f":"IF(LEN($A204)>1,IF(A204=Dash!$B$2,List!$M$2,B204/SUM($B$2:$B$429)*List!$N$2),#N/A)","v":0.23364485981308408},-116.42,38.340000000000003]
["US58",6000,60,-118.49,39.33,{"$f":"IF(LEN($A205)>1,IF(A205=Dash!$B$2,List!$M$2,B205/SUM($B$2:$B$429)*List!$N$2),#N/A)","v":0.23364485981308408},-118.49,39.33]
["US59",6000,60,-114.53,38.409999999999997,{"$f":"IF(LEN($A206)>1,IF(A206=Dash!$B$2,List!$M$2,B206/SUM($B$2:$B$429)*List!$N$2),#N/A)","v":0.23364485981308408},-114.53,38.409999999999997]
["US60",6000,60,-111.28,38.39,{"$f":"IF(LEN($A207)>1,IF(A207=Dash!$B$2,List!$M$2,B207/SUM($B$2:$B$429)*List!$N$2),#N/A)","v":0.23364485981308408},-111.28,38.39]
["US61",6000,60,-115.05,37.14,{"$f":"IF(LEN($A208)>1,IF(A208=Dash!$B$2,List!$M$2,B208/SUM($B$2:$B$429)*List!$N$2),#N/A)","v":0.23364485981308408},-115.05,37.14]
["US62",6000,60,-113.9,37.42,{"$f":"IF(LEN($A209)>1,IF(A209=Dash!$B$2,List!$M$2,B209/SUM($B$2:$B$429)*List!$N$2),#N/A)","v":0.23364485981308408},-113.9,37.42]
["US63",6000,60,-112.27,38,{"$f":"IF(LEN($A210)>1,IF(A210=Dash!$B$2,List!$M$2,B210/SUM($B$2:$B$429)*List!$N$2),#N/A)","v":0.23364485981308408},-112.27,38]
["US64",6000,60,-112.51,37.619999999999997,{"$f":"IF(LEN($A211)>1,IF(A211=Dash!$B$2,List!$M$2,B211/SUM($B$2:$B$429)*List!$N$2),#N/A)","v":0.23364485981308408},-112.51,37.619999999999997]
["US65",6000,60,-118.34,38.07,{"$f":"IF(LEN($A212)>1,IF(A212=Dash!$B$2,List!$M$2,B212/SUM($B$2:$B$429)*List!$N$2),#N/A)","v":0.23364485981308408},-118.34,38.07]
["US66",6000,60,-114.32,39.43,{"$f":"IF(LEN($A213)>1,IF(A213=Dash!$B$2,List!$M$2,B213/SUM($B$2:$B$429)*List!$N$2),#N/A)","v":0.23364485981308408},-114.32,39.43]
["US67",6000,60,-111.91,39.39,{"$f":"IF(LEN($A214)>1,IF(A214=Dash!$B$2,List!$M$2,B214/SUM($B$2:$B$429)*List!$N$2),#N/A)","v":0.23364485981308408},-111.91,39.39]
["US68",6000,60,-112.35,37.51,{"$f":"IF(LEN($A215)>1,IF(A215=Dash!$B$2,List!$M$2,B215/SUM($B$2:$B$429)*List!$N$2),#N/A)","v":0.23364485981308408},-112.35,37.51]
["US69",6000,60,-117.77,38.35,{"$f":"IF(LEN($A216)>1,IF(A216=Dash!$B$2,List!$M$2,B216/SUM($B$2:$B$429)*List!$N$2),#N/A)","v":0.23364485981308408},-117.77,38.35]
["US70",6000,60,-111.58,38.549999999999997,{"$f":"IF(LEN($A217)>1,IF(A217=Dash!$B$2,List!$M$2,B217/SUM($B$2:$B$429)*List!$N$2),#N/A)","v":0.23364485981308408},-111.58,38.549999999999997]
["US71",6000,60,-111.74,39.21,{"$f":"IF(LEN($A218)>1,IF(A218=Dash!$B$2,List!$M$2,B218/SUM($B$2:$B$429)*List!$N$2),#N/A)","v":0.23364485981308408},-111.74,39.21]
["US72",6000,60,-112.22,37.15,{"$f":"IF(LEN($A219)>1,IF(A219=Dash!$B$2,List!$M$2,B219/SUM($B$2:$B$429)*List!$N$2),#N/A)","v":0.23364485981308408},-112.22,37.15]
["US73",6000,60,-115,38.43,{"$f":"IF(LEN($A220)>1,IF(A220=Dash!$B$2,List!$M$2,B220/SUM($B$2:$B$429)*List!$N$2),#N/A)","v":0.23364485981308408},-115,38.43]
["US74",6000,60,-112.97,37.49,{"$f":"IF(LEN($A221)>1,IF(A221=Dash!$B$2,List!$M$2,B221/SUM($B$2:$B$429)*List!$N$2),#N/A)","v":0.23364485981308408},-112.97,37.49]
["US75",6000,60,-111.01,38.54,{"$f":"IF(LEN($A222)>1,IF(A222=Dash!$B$2,List!$M$2,B222/SUM($B$2:$B$429)*List!$N$2),#N/A)","v":0.23364485981308408},{"$f":"IF(LEN($A222)>1,D222,#N/A)","v":-111.01},{"$f":"IF(LEN($A222)>1,E222,#N/A)","v":38.54}]
["US76",6000,60,-112.57,39.08,{"$f":"IF(LEN($A223)>1,IF(A223=Dash!$B$2,List!$M$2,B223/SUM($B$2:$B$429)*List!$N$2),#N/A)","v":0.23364485981308408},-112.57,39.08]
["US77",6000,60,-114.46,38.28,{"$f":"IF(LEN($A224)>1,IF(A224=Dash!$B$2,List!$M$2,B224/SUM($B$2:$B$429)*List!$N$2),#N/A)","v":0.23364485981308408},-114.46,38.28]
["US78",6000,60,-115.78,38.53,{"$f":"IF(LEN($A225)>1,IF(A225=Dash!$B$2,List!$M$2,B225/SUM($B$2:$B$429)*List!$N$2),#N/A)","v":0.23364485981308408},-115.78,38.53]
["US79",6000,60,-111.85,37.479999999999997,{"$f":"IF(LEN($A226)>1,IF(A226=Dash!$B$2,List!$M$2,B226/SUM($B$2:$B$429)*List!$N$2),#N/A)","v":0.23364485981308408},-111.85,37.479999999999997]
["US80",6000,60,-116.49,39.08,{"$f":"IF(LEN($A227)>1,IF(A227=Dash!$B$2,List!$M$2,B227/SUM($B$2:$B$429)*List!$N$2),#N/A)","v":0.23364485981308408},-116.49,39.08]
["US81",6000,60,-116.7,38.94,{"$f":"IF(LEN($A228)>1,IF(A228=Dash!$B$2,List!$M$2,B228/SUM($B$2:$B$429)*List!$N$2),#N/A)","v":0.23364485981308408},-116.7,38.94]
["US82",6000,60,-110.98,38.229999999999997,{"$f":"IF(LEN($A229)>1,IF(A229=Dash!$B$2,List!$M$2,B229/SUM($B$2:$B$429)*List!$N$2),#N/A)","v":0.23364485981308408},-110.98,38.229999999999997]
["US83",6000,60,-118.98,37.909999999999997,{"$f":"IF(LEN($A230)>1,IF(A230=Dash!$B$2,List!$M$2,B230/SUM($B$2:$B$429)*List!$N$2),#N/A)","v":0.23364485981308408},-118.98,37.909999999999997]
["US84",6000,60,-111.99,38.200000000000003,{"$f":"IF(LEN($A231)>1,IF(A231=Dash!$B$2,List!$M$2,B231/SUM($B$2:$B$429)*List!$N$2),#N/A)","v":0.23364485981308408},-111.99,38.200000000000003]
["US85",6000,60,-117.46,39.36,{"$f":"IF(LEN($A232)>1,IF(A232=Dash!$B$2,List!$M$2,B232/SUM($B$2:$B$429)*List!$N$2),#N/A)","v":0.23364485981308408},-117.46,39.36]
["US86",6000,60,-112.13,37.6,{"$f":"IF(LEN($A233)>1,IF(A233=Dash!$B$2,List!$M$2,B233/SUM($B$2:$B$429)*List!$N$2),#N/A)","v":0.23364485981308408},-112.13,37.6]
["US87",6000,60,-112.42,38.15,{"$f":"IF(LEN($A234)>1,IF(A234=Dash!$B$2,List!$M$2,B234/SUM($B$2:$B$429)*List!$N$2),#N/A)","v":0.23364485981308408},-112.42,38.15]
["US88",6000,60,-115.03,37.1,{"$f":"IF(LEN($A235)>1,IF(A235=Dash!$B$2,List!$M$2,B235/SUM($B$2:$B$429)*List!$N$2),#N/A)","v":0.23364485981308408},-115.03,37.1]
["US89",6000,60,-118.41,38.53,{"$f":"IF(LEN($A236)>1,IF(A236=Dash!$B$2,List!$M$2,B236/SUM($B$2:$B$429)*List!$N$2),#N/A)","v":0.23364485981308408},-118.41,38.53]
["US90",6000,60,-116.23,37.25,{"$f":"IF(LEN($A237)>1,IF(A237=Dash!$B$2,List!$M$2,B237/SUM($B$2:$B$429)*List!$N$2),#N/A)","v":0.23364485981308408},-116.23,37.25]
["US91",6000,60,-117.25,37.33,{"$f":"IF(LEN($A238)>1,IF(A238=Dash!$B$2,List!$M$2,B238/SUM($B$2:$B$429)*List!$N$2),#N/A)","v":0.23364485981308408},-117.25,37.33]
["US92",6000,60,-116.15,37.369999999999997,{"$f":"IF(LEN($A239)>1,IF(A239=Dash!$B$2,List!$M$2,B239/SUM($B$2:$B$429)*List!$N$2),#N/A)","v":0.23364485981308408},-116.15,37.369999999999997]
["US93",6000,60,-118.12,38.71,{"$f":"IF(LEN($A240)>1,IF(A240=Dash!$B$2,List!$M$2,B240/SUM($B$2:$B$429)*List!$N$2),#N/A)","v":0.23364485981308408},-118.12,38.71]
["US94",6000,60,-113.26,37.96,{"$f":"IF(LEN($A241)>1,IF(A241=Dash!$B$2,List!$M$2,B241/SUM($B$2:$B$429)*List!$N$2),#N/A)","v":0.23364485981308408},-113.26,37.96]
["US95",6000,60,-112.42,39.380000000000003,{"$f":"IF(LEN($A242)>1,IF(A242=Dash!$B$2,List!$M$2,B242/SUM($B$2:$B$429)*List!$N$2),#N/A)","v":0.23364485981308408},-112.42,39.380000000000003]
["US96",6000,60,-111.57,38.68,{"$f":"IF(LEN($A243)>1,IF(A243=Dash!$B$2,List!$M$2,B243/SUM($B$2:$B$429)*List!$N$2),#N/A)","v":0.23364485981308408},-111.57,38.68]
["US97",6000,60,-111,38.340000000000003,{"$f":"IF(LEN($A244)>1,IF(A244=Dash!$B$2,List!$M$2,B244/SUM($B$2:$B$429)*List!$N$2),#N/A)","v":0.23364485981308408},-111,38.340000000000003]
["US98",6000,60,-118.09,38.81,{"$f":"IF(LEN($A245)>1,IF(A245=Dash!$B$2,List!$M$2,B245/SUM($B$2:$B$429)*List!$N$2),#N/A)","v":0.23364485981308408},-118.09,38.81]
["US99",6000,60,-116.25,37.5,{"$f":"IF(LEN($A246)>1,IF(A246=Dash!$B$2,List!$M$2,B246/SUM($B$2:$B$429)*List!$N$2),#N/A)","v":0.23364485981308408},-116.25,37.5]
["US100",6000,60,-111.96,38.409999999999997,{"$f":"IF(LEN($A247)>1,IF(A247=Dash!$B$2,List!$M$2,B247/SUM($B$2:$B$429)*List!$N$2),#N/A)","v":0.23364485981308408},-111.96,38.409999999999997]
["US101",6000,60,-114.6,38.89,{"$f":"IF(LEN($A248)>1,IF(A248=Dash!$B$2,List!$M$2,B248/SUM($B$2:$B$429)*List!$N$2),#N/A)","v":0.23364485981308408},-114.6,38.89]
["US102",6000,60,-115.99,37.24,{"$f":"IF(LEN($A249)>1,IF(A249=Dash!$B$2,List!$M$2,B249/SUM($B$2:$B$429)*List!$N$2),#N/A)","v":0.23364485981308408},-115.99,37.24]
["US103",6000,60,-111.21,38.340000000000003,{"$f":"IF(LEN($A250)>1,IF(A250=Dash!$B$2,List!$M$2,B250/SUM($B$2:$B$429)*List!$N$2),#N/A)","v":0.23364485981308408},-111.21,38.340000000000003]
["US104",6000,60,-114.56,38.85,{"$f":"IF(LEN($A251)>1,IF(A251=Dash!$B$2,List!$M$2,B251/SUM($B$2:$B$429)*List!$N$2),#N/A)","v":0.23364485981308408},-114.56,38.85]
["US105",6000,60,-112.75,38.93,{"$f":"IF(LEN($A252)>1,IF(A252=Dash!$B$2,List!$M$2,B252/SUM($B$2:$B$429)*List!$N$2),#N/A)","v":0.23364485981308408},-112.75,38.93]
["US106",6000,60,-113.32,38.32,{"$f":"IF(LEN($A253)>1,IF(A253=Dash!$B$2,List!$M$2,B253/SUM($B$2:$B$429)*List!$N$2),#N/A)","v":0.23364485981308408},-113.32,38.32]
["US107",6000,60,-112.07,39.14,{"$f":"IF(LEN($A254)>1,IF(A254=Dash!$B$2,List!$M$2,B254/SUM($B$2:$B$429)*List!$N$2),#N/A)","v":0.23364485981308408},-112.07,39.14]
["US108",6000,60,-117.88,37.39,{"$f":"IF(LEN($A255)>1,IF(A255=Dash!$B$2,List!$M$2,B255/SUM($B$2:$B$429)*List!$N$2),#N/A)","v":0.23364485981308408},-117.88,37.39]
["US109",6000,60,-116.3,37.39,{"$f":"IF(LEN($A256)>1,IF(A256=Dash!$B$2,List!$M$2,B256/SUM($B$2:$B$429)*List!$N$2),#N/A)","v":0.23364485981308408},-116.3,37.39]
["US110",6000,60,-113.29,37.89,{"$f":"IF(LEN($A257)>1,IF(A257=Dash!$B$2,List!$M$2,B257/SUM($B$2:$B$429)*List!$N$2),#N/A)","v":0.23364485981308408},-113.29,37.89]
["US111",6000,60,-112.2,38.29,{"$f":"IF(LEN($A258)>1,IF(A258=Dash!$B$2,List!$M$2,B258/SUM($B$2:$B$429)*List!$N$2),#N/A)","v":0.23364485981308408},-112.2,38.29]
["US112",6000,60,-111.36,39.25,{"$f":"IF(LEN($A259)>1,IF(A259=Dash!$B$2,List!$M$2,B259/SUM($B$2:$B$429)*List!$N$2),#N/A)","v":0.23364485981308408},-111.36,39.25]
["US113",6000,60,-116.99,39.119999999999997,{"$f":"IF(LEN($A260)>1,IF(A260=Dash!$B$2,List!$M$2,B260/SUM($B$2:$B$429)*List!$N$2),#N/A)","v":0.23364485981308408},-116.99,39.119999999999997]
["Mexico",6000,60,-117.0937311,36.648928099999999,{"$f":"IF(LEN($A261)>1,IF(A261=Dash!$B$2,List!$M$2,B261/SUM($B$2:$B$429)*List!$N$2),#N/A)","v":0.23364485981308408},{"$f":"IF(LEN($A261)>1,D261,#N/A)","v":-117.0937311},{"$f":"IF(LEN($A261)>1,E261,#N/A)","v":36.648928099999999}]
["Russia",6000,60,-87,42,{"$f":"IF(LEN($A262)>1,IF(A262=Dash!$B$2,List!$M$2,B262/SUM($B$2:$B$429)*List!$N$2),#N/A)","v":0.23364485981308408},-87,42]
["Canada",6000,60,-119.2937311,41.448928100000003,{"$f":"IF(LEN($A263)>1,IF(A263=Dash!$B$2,List!$M$2,B263/SUM($B$2:$B$429)*List!$N$2),#N/A)","v":0.23364485981308408},-119.2937311,41.448928100000003]
["Canada1",6000,60,-117.0937311,39.248928100000001,{"$f":"IF(LEN($A264)>1,IF(A264=Dash!$B$2,List!$M$2,B264/SUM($B$2:$B$429)*List!$N$2),#N/A)","v":0.23364485981308408},-117.0937311,39.248928100000001]
["Canada2",6000,60,-116.0937311,39.248928100000001,{"$f":"IF(LEN($A265)>1,IF(A265=Dash!$B$2,List!$M$2,B265/SUM($B$2:$B$429)*List!$N$2),#N/A)","v":0.23364485981308408},-116.0937311,39.248928100000001]
["Canada3",6000,60,-115.0937311,39.248928100000001,{"$f":"IF(LEN($A266)>1,IF(A266=Dash!$B$2,List!$M$2,B266/SUM($B$2:$B$429)*List!$N$2),#N/A)","v":0.23364485981308408},-115.0937311,39.248928100000001]
["Canada4",6000,60,-113.0937311,39.248928100000001,{"$f":"IF(LEN($A267)>1,IF(A267=Dash!$B$2,List!$M$2,B267/SUM($B$2:$B$429)*List!$N$2),#N/A)","v":0.23364485981308408},-113.0937311,39.248928100000001]
["United Kingdom",6000,60,-100.5,40.299999999999997,{"$f":"IF(LEN($A268)>1,IF(A268=Dash!$B$2,List!$M$2,B268/SUM($B$2:$B$429)*List!$N$2),#N/A)","v":60},-100.5,40.299999999999997]
["India",6000,60,-87.5,35.5,{"$f":"IF(LEN($A269)>1,IF(A269=Dash!$B$2,List!$M$2,B269/SUM($B$2:$B$429)*List!$N$2),#N/A)","v":0.23364485981308408},-87.5,35.5]
["Sth Africa",6000,60,-96.8,29.018231400000001,{"$f":"IF(LEN($A270)>1,IF(A270=Dash!$B$2,List!$M$2,B270/SUM($B$2:$B$429)*List!$N$2),#N/A)","v":0.23364485981308408},-96.8,29.018231400000001]
["Namibia",6000,60,-97.3,30,{"$f":"IF(LEN($A271)>1,IF(A271=Dash!$B$2,List!$M$2,B271/SUM($B$2:$B$429)*List!$N$2),#N/A)","v":0.23364485981308408},-97.3,30]
["Angola",6000,60,-97.5,31.3,{"$f":"IF(LEN($A272)>1,IF(A272=Dash!$B$2,List!$M$2,B272/SUM($B$2:$B$429)*List!$N$2),#N/A)","v":0.23364485981308408},-97.5,31.3]
["Zimbabwe",6000,60,-95.8,30.5,{"$f":"IF(LEN($A273)>1,IF(A273=Dash!$B$2,List!$M$2,B273/SUM($B$2:$B$429)*List!$N$2),#N/A)","v":0.23364485981308408},-95.8,30.5]
["Zambia",6000,60,-95,30.618231399999999,{"$f":"IF(LEN($A274)>1,IF(A274=Dash!$B$2,List!$M$2,B274/SUM($B$2:$B$429)*List!$N$2),#N/A)","v":0.23364485981308408},-95,30.618231399999999]
["Tanzania",6000,60,-96.5,29.618231399999999,{"$f":"IF(LEN($A275)>1,IF(A275=Dash!$B$2,List!$M$2,B275/SUM($B$2:$B$429)*List!$N$2),#N/A)","v":0.23364485981308408},-96.5,29.618231399999999]
["Italy",6000,60,-98,38.299999999999997,{"$f":"IF(LEN($A276)>1,IF(A276=Dash!$B$2,List!$M$2,B276/SUM($B$2:$B$429)*List!$N$2),#N/A)","v":0.23364485981308408},-98,38.299999999999997]
["Brazil",6000,60,-108.0937311,31.5,{"$f":"IF(LEN($A277)>1,IF(A277=Dash!$B$2,List!$M$2,B277/SUM($B$2:$B$429)*List!$N$2),#N/A)","v":0.23364485981308408},-108.0937311,31.5]
["Brazil1",6000,60,-110.0937311,31,{"$f":"IF(LEN($A278)>1,IF(A278=Dash!$B$2,List!$M$2,B278/SUM($B$2:$B$429)*List!$N$2),#N/A)","v":0.23364485981308408},{"$f":"IF(LEN($A278)>1,D278,#N/A)","v":-110.0937311},{"$f":"IF(LEN($A278)>1,E278,#N/A)","v":31}]
["Brazil2",6000,60,-108.0937311,31.5,{"$f":"IF(LEN($A279)>1,IF(A279=Dash!$B$2,List!$M$2,B279/SUM($B$2:$B$429)*List!$N$2),#N/A)","v":0.23364485981308408},-108.0937311,31.5]
["Brazil3",6000,60,-108.0937311,31.5,{"$f":"IF(LEN($A280)>1,IF(A280=Dash!$B$2,List!$M$2,B280/SUM($B$2:$B$429)*List!$N$2),#N/A)","v":0.23364485981308408},-108.0937311,31.5]
["Brazil4",6000,60,-108.0937311,31.5,{"$f":"IF(LEN($A281)>1,IF(A281=Dash!$B$2,List!$M$2,B281/SUM($B$2:$B$429)*List!$N$2),#N/A)","v":0.23364485981308408},-108.0937311,31.5]
["Brazil5",6000,60,-108.0937311,31.5,{"$f":"IF(LEN($A282)>1,IF(A282=Dash!$B$2,List!$M$2,B282/SUM($B$2:$B$429)*List!$N$2),#N/A)","v":0.23364485981308408},-108.0937311,31.5]
["Brazil6",6000,60,-108.0937311,31.5,{"$f":"IF(LEN($A283)>1,IF(A283=Dash!$B$2,List!$M$2,B283/SUM($B$2:$B$429)*List!$N$2),#N/A)","v":0.23364485981308408},-108.0937311,31.5]
["Argentina",6000,60,-110,28.5,{"$f":"IF(LEN($A284)>1,IF(A284=Dash!$B$2,List!$M$2,B284/SUM($B$2:$B$429)*List!$N$2),#N/A)","v":0.23364485981308408},{"$f":"IF(LEN($A284)>1,D284,#N/A)","v":-110},{"$f":"IF(LEN($A284)>1,E284,#N/A)","v":28.5}]
["Sau",6000,60,-93,35.5,{"$f":"IF(LEN($A285)>1,IF(A285=Dash!$B$2,List!$M$2,B285/SUM($B$2:$B$429)*List!$N$2),#N/A)","v":0.23364485981308408},-93,35.5]
["Spain",6000,60,-100.5,38,{"$f":"IF(LEN($A286)>1,IF(A286=Dash!$B$2,List!$M$2,B286/SUM($B$2:$B$429)*List!$N$2),#N/A)","v":0.23364485981308408},-100.5,38]
["Spain1",6000,60,-100.8,38.200000000000003,{"$f":"IF(LEN($A287)>1,IF(A287=Dash!$B$2,List!$M$2,B287/SUM($B$2:$B$429)*List!$N$2),#N/A)","v":0.23364485981308408},-100.8,38.200000000000003]
["Spain2",6000,60,-100.3,37.799999999999997,{"$f":"IF(LEN($A288)>1,IF(A288=Dash!$B$2,List!$M$2,B288/SUM($B$2:$B$429)*List!$N$2),#N/A)","v":0.23364485981308408},-100.3,37.799999999999997]
["Portugal1",6000,60,-99,38.299999999999997,{"$f":"IF(LEN($A289)>1,IF(A289=Dash!$B$2,List!$M$2,B289/SUM($B$2:$B$429)*List!$N$2),#N/A)","v":0.23364485981308408},-99,38.299999999999997]
["Nigeria",6000,60,-99,34,{"$f":"IF(LEN($A290)>1,IF(A290=Dash!$B$2,List!$M$2,B290/SUM($B$2:$B$429)*List!$N$2),#N/A)","v":0.23364485981308408},-99,34]
["Finland",6000,60,-96,42,{"$f":"IF(LEN($A291)>1,IF(A291=Dash!$B$2,List!$M$2,B291/SUM($B$2:$B$429)*List!$N$2),#N/A)","v":0.23364485981308408},-96,42]
["Greenland",6000,60,-107,46,{"$f":"IF(LEN($A292)>1,IF(A292=Dash!$B$2,List!$M$2,B292/SUM($B$2:$B$429)*List!$N$2),#N/A)","v":0.23364485981308408},-107,46]
["New Zealand",6000,60,-72.902298000000002,28.5,{"$f":"IF(LEN($A293)>1,IF(A293=Dash!$B$2,List!$M$2,B293/SUM($B$2:$B$429)*List!$N$2),#N/A)","v":0.23364485981308408},-72.902298000000002,28.5]
["Peru",6000,60,-112,31.5,{"$f":"IF(LEN($A294)>1,IF(A294=Dash!$B$2,List!$M$2,B294/SUM($B$2:$B$429)*List!$N$2),#N/A)","v":0.23364485981308408},-112,31.5]
["Albania",6000,60,null,null,{"$f":"IF(LEN($A295)>1,IF(A295=Dash!$B$2,List!$M$2,B295/SUM($B$2:$B$429)*List!$N$2),#N/A)","v":0.23364485981308408},{"$f":"IF(LEN($A295)>1,D295,#N/A)","v":0},{"$f":"IF(LEN($A295)>1,E295,#N/A)","v":0}]
["Algeria",6000,60,null,null,{"$f":"IF(LEN($A296)>1,IF(A296=Dash!$B$2,List!$M$2,B296/SUM($B$2:$B$429)*List!$N$2),#N/A)","v":0.23364485981308408},0,0]
["Andorra",6000,60,null,null,{"$f":"IF(LEN($A297)>1,IF(A297=Dash!$B$2,List!$M$2,B297/SUM($B$2:$B$429)*List!$N$2),#N/A)","v":0.23364485981308408},0,0]
["Antigua and Barbuda",6000,60,null,null,{"$f":"IF(LEN($A298)>1,IF(A298=Dash!$B$2,List!$M$2,B298/SUM($B$2:$B$429)*List!$N$2),#N/A)","v":0.23364485981308408},0,0]
["Armenia",6000,60,null,null,{"$f":"IF(LEN($A299)>1,IF(A299=Dash!$B$2,List!$M$2,B299/SUM($B$2:$B$429)*List!$N$2),#N/A)","v":0.23364485981308408},0,0]
["Azerbaijan",6000,60,null,null,{"$f":"IF(LEN($A300)>1,IF(A300=Dash!$B$2,List!$M$2,B300/SUM($B$2:$B$429)*List!$N$2),#N/A)","v":0.23364485981308408},0,0]
["Bahamas",6000,60,null,null,{"$f":"IF(LEN($A301)>1,IF(A301=Dash!$B$2,List!$M$2,B301/SUM($B$2:$B$429)*List!$N$2),#N/A)","v":0.23364485981308408},0,0]
["Bahrain",6000,60,null,null,{"$f":"IF(LEN($A302)>1,IF(A302=Dash!$B$2,List!$M$2,B302/SUM($B$2:$B$429)*List!$N$2),#N/A)","v":0.23364485981308408},0,0]
["Bangladesh",6000,60,null,null,{"$f":"IF(LEN($A303)>1,IF(A303=Dash!$B$2,List!$M$2,B303/SUM($B$2:$B$429)*List!$N$2),#N/A)","v":0.23364485981308408},0,0]
["Barbados",6000,60,null,null,{"$f":"IF(LEN($A304)>1,IF(A304=Dash!$B$2,List!$M$2,B304/SUM($B$2:$B$429)*List!$N$2),#N/A)","v":0.23364485981308408},0,0]
["Belize",6000,60,null,null,{"$f":"IF(LEN($A305)>1,IF(A305=Dash!$B$2,List!$M$2,B305/SUM($B$2:$B$429)*List!$N$2),#N/A)","v":0.23364485981308408},0,0]
["Benin",6000,60,null,null,{"$f":"IF(LEN($A306)>1,IF(A306=Dash!$B$2,List!$M$2,B306/SUM($B$2:$B$429)*List!$N$2),#N/A)","v":0.23364485981308408},0,0]
["Bhutan",6000,60,null,null,{"$f":"IF(LEN($A307)>1,IF(A307=Dash!$B$2,List!$M$2,B307/SUM($B$2:$B$429)*List!$N$2),#N/A)","v":0.23364485981308408},0,0]
["Bolivia",6000,60,null,null,{"$f":"IF(LEN($A308)>1,IF(A308=Dash!$B$2,List!$M$2,B308/SUM($B$2:$B$429)*List!$N$2),#N/A)","v":0.23364485981308408},0,0]
["Bosnia and Herzegovina",6000,60,null,null,{"$f":"IF(LEN($A309)>1,IF(A309=Dash!$B$2,List!$M$2,B309/SUM($B$2:$B$429)*List!$N$2),#N/A)","v":0.23364485981308408},0,0]
["Botswana",6000,60,null,null,{"$f":"IF(LEN($A310)>1,IF(A310=Dash!$B$2,List!$M$2,B310/SUM($B$2:$B$429)*List!$N$2),#N/A)","v":0.23364485981308408},0,0]
["Brunei",6000,60,null,null,{"$f":"IF(LEN($A311)>1,IF(A311=Dash!$B$2,List!$M$2,B311/SUM($B$2:$B$429)*List!$N$2),#N/A)","v":0.23364485981308408},0,0]
["Bulgaria",6000,60,null,null,{"$f":"IF(LEN($A312)>1,IF(A312=Dash!$B$2,List!$M$2,B312/SUM($B$2:$B$429)*List!$N$2),#N/A)","v":0.23364485981308408},0,0]
["Burkina Faso",6000,60,null,null,{"$f":"IF(LEN($A313)>1,IF(A313=Dash!$B$2,List!$M$2,B313/SUM($B$2:$B$429)*List!$N$2),#N/A)","v":0.23364485981308408},0,0]
["Burma",6000,60,null,null,{"$f":"IF(LEN($A314)>1,IF(A314=Dash!$B$2,List!$M$2,B314/SUM($B$2:$B$429)*List!$N$2),#N/A)","v":0.23364485981308408},0,0]
["Burundi",6000,60,null,null,{"$f":"IF(LEN($A315)>1,IF(A315=Dash!$B$2,List!$M$2,B315/SUM($B$2:$B$429)*List!$N$2),#N/A)","v":0.23364485981308408},0,0]
["Cabo Verde",6000,60,null,null,{"$f":"IF(LEN($A316)>1,IF(A316=Dash!$B$2,List!$M$2,B316/SUM($B$2:$B$429)*List!$N$2),#N/A)","v":0.23364485981308408},0,0]
["Cambodia",6000,60,null,null,{"$f":"IF(LEN($A317)>1,IF(A317=Dash!$B$2,List!$M$2,B317/SUM($B$2:$B$429)*List!$N$2),#N/A)","v":0.23364485981308408},0,0]
["Cameroon",6000,60,null,null,{"$f":"IF(LEN($A318)>1,IF(A318=Dash!$B$2,List!$M$2,B318/SUM($B$2:$B$429)*List!$N$2),#N/A)","v":0.23364485981308408},0,0]
["Central African Republic",6000,60,null,null,{"$f":"IF(LEN($A319)>1,IF(A319=Dash!$B$2,List!$M$2,B319/SUM($B$2:$B$429)*List!$N$2),#N/A)","v":0.23364485981308408},0,0]
["Chad",6000,60,null,null,{"$f":"IF(LEN($A320)>1,IF(A320=Dash!$B$2,List!$M$2,B320/SUM($B$2:$B$429)*List!$N$2),#N/A)","v":0.23364485981308408},0,0]
["Colombia",6000,60,null,null,{"$f":"IF(LEN($A321)>1,IF(A321=Dash!$B$2,List!$M$2,B321/SUM($B$2:$B$429)*List!$N$2),#N/A)","v":0.23364485981308408},0,0]
["Congo (Brazzaville)",6000,60,null,null,{"$f":"IF(LEN($A322)>1,IF(A322=Dash!$B$2,List!$M$2,B322/SUM($B$2:$B$429)*List!$N$2),#N/A)","v":0.23364485981308408},0,0]
["Congo (Kinshasa)",6000,60,null,null,{"$f":"IF(LEN($A323)>1,IF(A323=Dash!$B$2,List!$M$2,B323/SUM($B$2:$B$429)*List!$N$2),#N/A)","v":0.23364485981308408},0,0]
["Costa Rica",6000,60,null,null,{"$f":"IF(LEN($A324)>1,IF(A324=Dash!$B$2,List!$M$2,B324/SUM($B$2:$B$429)*List!$N$2),#N/A)","v":0.23364485981308408},0,0]
["Cote d'Ivoire",6000,60,null,null,{"$f":"IF(LEN($A325)>1,IF(A325=Dash!$B$2,List!$M$2,B325/SUM($B$2:$B$429)*List!$N$2),#N/A)","v":0.23364485981308408},0,0]
["Croatia",6000,60,null,null,{"$f":"IF(LEN($A326)>1,IF(A326=Dash!$B$2,List!$M$2,B326/SUM($B$2:$B$429)*List!$N$2),#N/A)","v":0.23364485981308408},0,0]
["Cuba",6000,60,null,null,{"$f":"IF(LEN($A327)>1,IF(A327=Dash!$B$2,List!$M$2,B327/SUM($B$2:$B$429)*List!$N$2),#N/A)","v":0.23364485981308408},0,0]
["Cyprus",6000,60,null,null,{"$f":"IF(LEN($A328)>1,IF(A328=Dash!$B$2,List!$M$2,B328/SUM($B$2:$B$429)*List!$N$2),#N/A)","v":0.23364485981308408},0,0]
["Czechia",6000,60,null,null,{"$f":"IF(LEN($A329)>1,IF(A329=Dash!$B$2,List!$M$2,B329/SUM($B$2:$B$429)*List!$N$2),#N/A)","v":0.23364485981308408},0,0]
["Denmark",6000,60,null,null,{"$f":"IF(LEN($A330)>1,IF(A330=Dash!$B$2,List!$M$2,B330/SUM($B$2:$B$429)*List!$N$2),#N/A)","v":0.23364485981308408},0,0]
["Diamond Princess",6000,60,null,null,{"$f":"IF(LEN($A331)>1,IF(A331=Dash!$B$2,List!$M$2,B331/SUM($B$2:$B$429)*List!$N$2),#N/A)","v":0.23364485981308408},0,0]
["Djibouti",6000,60,null,null,{"$f":"IF(LEN($A332)>1,IF(A332=Dash!$B$2,List!$M$2,B332/SUM($B$2:$B$429)*List!$N$2),#N/A)","v":0.23364485981308408},0,0]
["Dominica",6000,60,null,null,{"$f":"IF(LEN($A333)>1,IF(A333=Dash!$B$2,List!$M$2,B333/SUM($B$2:$B$429)*List!$N$2),#N/A)","v":0.23364485981308408},0,0]
["Dominican Republic",6000,60,null,null,{"$f":"IF(LEN($A334)>1,IF(A334=Dash!$B$2,List!$M$2,B334/SUM($B$2:$B$429)*List!$N$2),#N/A)","v":0.23364485981308408},0,0]
["Ecuador",6000,60,null,null,{"$f":"IF(LEN($A335)>1,IF(A335=Dash!$B$2,List!$M$2,B335/SUM($B$2:$B$429)*List!$N$2),#N/A)","v":0.23364485981308408},0,0]
["Egypt",6000,60,null,null,{"$f":"IF(LEN($A336)>1,IF(A336=Dash!$B$2,List!$M$2,B336/SUM($B$2:$B$429)*List!$N$2),#N/A)","v":0.23364485981308408},0,0]
["El Salvador",6000,60,null,null,{"$f":"IF(LEN($A337)>1,IF(A337=Dash!$B$2,List!$M$2,B337/SUM($B$2:$B$429)*List!$N$2),#N/A)","v":0.23364485981308408},0,0]
["Equatorial Guinea",6000,60,null,null,{"$f":"IF(LEN($A338)>1,IF(A338=Dash!$B$2,List!$M$2,B338/SUM($B$2:$B$429)*List!$N$2),#N/A)","v":0.23364485981308408},0,0]
["Eritrea",6000,60,null,null,{"$f":"IF(LEN($A339)>1,IF(A339=Dash!$B$2,List!$M$2,B339/SUM($B$2:$B$429)*List!$N$2),#N/A)","v":0.23364485981308408},0,0]
["Eswatini",6000,60,null,null,{"$f":"IF(LEN($A340)>1,IF(A340=Dash!$B$2,List!$M$2,B340/SUM($B$2:$B$429)*List!$N$2),#N/A)","v":0.23364485981308408},0,0]
["Ethiopia",6000,60,null,null,{"$f":"IF(LEN($A341)>1,IF(A341=Dash!$B$2,List!$M$2,B341/SUM($B$2:$B$429)*List!$N$2),#N/A)","v":0.23364485981308408},0,0]
["Fiji",6000,60,null,null,{"$f":"IF(LEN($A342)>1,IF(A342=Dash!$B$2,List!$M$2,B342/SUM($B$2:$B$429)*List!$N$2),#N/A)","v":0.23364485981308408},0,0]
["Gabon",6000,60,null,null,{"$f":"IF(LEN($A343)>1,IF(A343=Dash!$B$2,List!$M$2,B343/SUM($B$2:$B$429)*List!$N$2),#N/A)","v":0.23364485981308408},0,0]
["Gambia",6000,60,null,null,{"$f":"IF(LEN($A344)>1,IF(A344=Dash!$B$2,List!$M$2,B344/SUM($B$2:$B$429)*List!$N$2),#N/A)","v":0.23364485981308408},0,0]
["Georgia",6000,60,null,null,{"$f":"IF(LEN($A345)>1,IF(A345=Dash!$B$2,List!$M$2,B345/SUM($B$2:$B$429)*List!$N$2),#N/A)","v":0.23364485981308408},0,0]
["Ghana",6000,60,null,null,{"$f":"IF(LEN($A346)>1,IF(A346=Dash!$B$2,List!$M$2,B346/SUM($B$2:$B$429)*List!$N$2),#N/A)","v":0.23364485981308408},0,0]
["Greece",6000,60,null,null,{"$f":"IF(LEN($A347)>1,IF(A347=Dash!$B$2,List!$M$2,B347/SUM($B$2:$B$429)*List!$N$2),#N/A)","v":0.23364485981308408},0,0]
["Grenada",6000,60,null,null,{"$f":"IF(LEN($A348)>1,IF(A348=Dash!$B$2,List!$M$2,B348/SUM($B$2:$B$429)*List!$N$2),#N/A)","v":0.23364485981308408},0,0]
["Guatemala",6000,60,null,null,{"$f":"IF(LEN($A349)>1,IF(A349=Dash!$B$2,List!$M$2,B349/SUM($B$2:$B$429)*List!$N$2),#N/A)","v":0.23364485981308408},0,0]
["Guinea",6000,60,null,null,{"$f":"IF(LEN($A350)>1,IF(A350=Dash!$B$2,List!$M$2,B350/SUM($B$2:$B$429)*List!$N$2),#N/A)","v":0.23364485981308408},0,0]
["Guinea-Bissau",6000,60,null,null,{"$f":"IF(LEN($A351)>1,IF(A351=Dash!$B$2,List!$M$2,B351/SUM($B$2:$B$429)*List!$N$2),#N/A)","v":0.23364485981308408},0,0]
["Guyana",6000,60,null,null,{"$f":"IF(LEN($A352)>1,IF(A352=Dash!$B$2,List!$M$2,B352/SUM($B$2:$B$429)*List!$N$2),#N/A)","v":0.23364485981308408},0,0]
["Haiti",6000,60,null,null,{"$f":"IF(LEN($A353)>1,IF(A353=Dash!$B$2,List!$M$2,B353/SUM($B$2:$B$429)*List!$N$2),#N/A)","v":0.23364485981308408},0,0]
["Holy See",6000,60,null,null,{"$f":"IF(LEN($A354)>1,IF(A354=Dash!$B$2,List!$M$2,B354/SUM($B$2:$B$429)*List!$N$2),#N/A)","v":0.23364485981308408},0,0]
["Honduras",6000,60,null,null,{"$f":"IF(LEN($A355)>1,IF(A355=Dash!$B$2,List!$M$2,B355/SUM($B$2:$B$429)*List!$N$2),#N/A)","v":0.23364485981308408},0,0]
["Hungary",6000,60,null,null,{"$f":"IF(LEN($A356)>1,IF(A356=Dash!$B$2,List!$M$2,B356/SUM($B$2:$B$429)*List!$N$2),#N/A)","v":0.23364485981308408},0,0]
["Iceland",6000,60,null,null,{"$f":"IF(LEN($A357)>1,IF(A357=Dash!$B$2,List!$M$2,B357/SUM($B$2:$B$429)*List!$N$2),#N/A)","v":0.23364485981308408},0,0]
["Iraq",6000,60,null,null,{"$f":"IF(LEN($A358)>1,IF(A358=Dash!$B$2,List!$M$2,B358/SUM($B$2:$B$429)*List!$N$2),#N/A)","v":0.23364485981308408},0,0]
["Ireland",6000,60,null,null,{"$f":"IF(LEN($A359)>1,IF(A359=Dash!$B$2,List!$M$2,B359/SUM($B$2:$B$429)*List!$N$2),#N/A)","v":0.23364485981308408},{"$f":"IF(LEN($A359)>1,D359,#N/A)","v":0},{"$f":"IF(LEN($A359)>1,E359,#N/A)","v":0}]
["Israel",6000,60,null,null,{"$f":"IF(LEN($A360)>1,IF(A360=Dash!$B$2,List!$M$2,B360/SUM($B$2:$B$429)*List!$N$2),#N/A)","v":0.23364485981308408},0,0]
["Jamaica",6000,60,null,null,{"$f":"IF(LEN($A361)>1,IF(A361=Dash!$B$2,List!$M$2,B361/SUM($B$2:$B$429)*List!$N$2),#N/A)","v":0.23364485981308408},0,0]
["Jordan",6000,60,null,null,{"$f":"IF(LEN($A362)>1,IF(A362=Dash!$B$2,List!$M$2,B362/SUM($B$2:$B$429)*List!$N$2),#N/A)","v":0.23364485981308408},0,0]
["Kazakhstan",6000,60,null,null,{"$f":"IF(LEN($A363)>1,IF(A363=Dash!$B$2,List!$M$2,B363/SUM($B$2:$B$429)*List!$N$2),#N/A)","v":0.23364485981308408},0,0]
["Kenya",6000,60,null,null,{"$f":"IF(LEN($A364)>1,IF(A364=Dash!$B$2,List!$M$2,B364/SUM($B$2:$B$429)*List!$N$2),#N/A)","v":0.23364485981308408},0,0]
["Kosovo",6000,60,null,null,{"$f":"IF(LEN($A365)>1,IF(A365=Dash!$B$2,List!$M$2,B365/SUM($B$2:$B$429)*List!$N$2),#N/A)","v":0.23364485981308408},0,0]
["Kuwait",6000,60,null,null,{"$f":"IF(LEN($A366)>1,IF(A366=Dash!$B$2,List!$M$2,B366/SUM($B$2:$B$429)*List!$N$2),#N/A)","v":0.23364485981308408},0,0]
["Laos",6000,60,null,null,{"$f":"IF(LEN($A367)>1,IF(A367=Dash!$B$2,List!$M$2,B367/SUM($B$2:$B$429)*List!$N$2),#N/A)","v":0.23364485981308408},0,0]
["Lebanon",6000,60,null,null,{"$f":"IF(LEN($A368)>1,IF(A368=Dash!$B$2,List!$M$2,B368/SUM($B$2:$B$429)*List!$N$2),#N/A)","v":0.23364485981308408},0,0]
["Liberia",6000,60,null,null,{"$f":"IF(LEN($A369)>1,IF(A369=Dash!$B$2,List!$M$2,B369/SUM($B$2:$B$429)*List!$N$2),#N/A)","v":0.23364485981308408},0,0]
["Libya",6000,60,null,null,{"$f":"IF(LEN($A370)>1,IF(A370=Dash!$B$2,List!$M$2,B370/SUM($B$2:$B$429)*List!$N$2),#N/A)","v":0.23364485981308408},0,0]
["Liechtenstein",6000,60,null,null,{"$f":"IF(LEN($A371)>1,IF(A371=Dash!$B$2,List!$M$2,B371/SUM($B$2:$B$429)*List!$N$2),#N/A)","v":0.23364485981308408},0,0]
["Luxembourg",6000,60,null,null,{"$f":"IF(LEN($A372)>1,IF(A372=Dash!$B$2,List!$M$2,B372/SUM($B$2:$B$429)*List!$N$2),#N/A)","v":0.23364485981308408},0,0]
["Madagascar",6000,60,null,null,{"$f":"IF(LEN($A373)>1,IF(A373=Dash!$B$2,List!$M$2,B373/SUM($B$2:$B$429)*List!$N$2),#N/A)","v":0.23364485981308408},0,0]
["Malawi",6000,60,null,null,{"$f":"IF(LEN($A374)>1,IF(A374=Dash!$B$2,List!$M$2,B374/SUM($B$2:$B$429)*List!$N$2),#N/A)","v":0.23364485981308408},0,0]
["Malaysia",6000,60,null,null,{"$f":"IF(LEN($A375)>1,IF(A375=Dash!$B$2,List!$M$2,B375/SUM($B$2:$B$429)*List!$N$2),#N/A)","v":0.23364485981308408},0,0]
["Maldives",6000,60,null,null,{"$f":"IF(LEN($A376)>1,IF(A376=Dash!$B$2,List!$M$2,B376/SUM($B$2:$B$429)*List!$N$2),#N/A)","v":0.23364485981308408},0,0]
["Mali",6000,60,null,null,{"$f":"IF(LEN($A377)>1,IF(A377=Dash!$B$2,List!$M$2,B377/SUM($B$2:$B$429)*List!$N$2),#N/A)","v":0.23364485981308408},0,0]
["Malta",6000,60,null,null,{"$f":"IF(LEN($A378)>1,IF(A378=Dash!$B$2,List!$M$2,B378/SUM($B$2:$B$429)*List!$N$2),#N/A)","v":0.23364485981308408},0,0]
["Mauritania",6000,60,null,null,{"$f":"IF(LEN($A379)>1,IF(A379=Dash!$B$2,List!$M$2,B379/SUM($B$2:$B$429)*List!$N$2),#N/A)","v":0.23364485981308408},0,0]
["Mauritius",6000,60,null,null,{"$f":"IF(LEN($A380)>1,IF(A380=Dash!$B$2,List!$M$2,B380/SUM($B$2:$B$429)*List!$N$2),#N/A)","v":0.23364485981308408},0,0]
["Moldova",6000,60,null,null,{"$f":"IF(LEN($A381)>1,IF(A381=Dash!$B$2,List!$M$2,B381/SUM($B$2:$B$429)*List!$N$2),#N/A)","v":0.23364485981308408},0,0]
["Monaco",6000,60,null,null,{"$f":"IF(LEN($A382)>1,IF(A382=Dash!$B$2,List!$M$2,B382/SUM($B$2:$B$429)*List!$N$2),#N/A)","v":0.23364485981308408},0,0]
["Mongolia",6000,60,null,null,{"$f":"IF(LEN($A383)>1,IF(A383=Dash!$B$2,List!$M$2,B383/SUM($B$2:$B$429)*List!$N$2),#N/A)","v":0.23364485981308408},0,0]
["Montenegro",6000,60,null,null,{"$f":"IF(LEN($A384)>1,IF(A384=Dash!$B$2,List!$M$2,B384/SUM($B$2:$B$429)*List!$N$2),#N/A)","v":0.23364485981308408},0,0]
["Morocco",6000,60,null,null,{"$f":"IF(LEN($A385)>1,IF(A385=Dash!$B$2,List!$M$2,B385/SUM($B$2:$B$429)*List!$N$2),#N/A)","v":0.23364485981308408},0,0]
["Mozambique",6000,60,null,null,{"$f":"IF(LEN($A386)>1,IF(A386=Dash!$B$2,List!$M$2,B386/SUM($B$2:$B$429)*List!$N$2),#N/A)","v":0.23364485981308408},0,0]
["MS Zaandam",6000,60,null,null,{"$f":"IF(LEN($A387)>1,IF(A387=Dash!$B$2,List!$M$2,B387/SUM($B$2:$B$429)*List!$N$2),#N/A)","v":0.23364485981308408},0,0]
["Nepal",6000,60,null,null,{"$f":"IF(LEN($A388)>1,IF(A388=Dash!$B$2,List!$M$2,B388/SUM($B$2:$B$429)*List!$N$2),#N/A)","v":0.23364485981308408},0,0]
["Nicaragua",6000,60,null,null,{"$f":"IF(LEN($A389)>1,IF(A389=Dash!$B$2,List!$M$2,B389/SUM($B$2:$B$429)*List!$N$2),#N/A)","v":0.23364485981308408},0,0]
["Niger",6000,60,null,null,{"$f":"IF(LEN($A390)>1,IF(A390=Dash!$B$2,List!$M$2,B390/SUM($B$2:$B$429)*List!$N$2),#N/A)","v":0.23364485981308408},0,0]
["North Macedonia",6000,60,null,null,{"$f":"IF(LEN($A391)>1,IF(A391=Dash!$B$2,List!$M$2,B391/SUM($B$2:$B$429)*List!$N$2),#N/A)","v":0.23364485981308408},0,0]
["Oman",6000,60,null,null,{"$f":"IF(LEN($A392)>1,IF(A392=Dash!$B$2,List!$M$2,B392/SUM($B$2:$B$429)*List!$N$2),#N/A)","v":0.23364485981308408},0,0]
["Panama",6000,60,null,null,{"$f":"IF(LEN($A393)>1,IF(A393=Dash!$B$2,List!$M$2,B393/SUM($B$2:$B$429)*List!$N$2),#N/A)","v":0.23364485981308408},0,0]
["Paraguay",6000,60,null,null,{"$f":"IF(LEN($A394)>1,IF(A394=Dash!$B$2,List!$M$2,B394/SUM($B$2:$B$429)*List!$N$2),#N/A)","v":0.23364485981308408},0,0]
["Philippines",6000,60,null,null,{"$f":"IF(LEN($A395)>1,IF(A395=Dash!$B$2,List!$M$2,B395/SUM($B$2:$B$429)*List!$N$2),#N/A)","v":0.23364485981308408},0,0]
["Qatar",6000,60,null,null,{"$f":"IF(LEN($A396)>1,IF(A396=Dash!$B$2,List!$M$2,B396/SUM($B$2:$B$429)*List!$N$2),#N/A)","v":0.23364485981308408},0,0]
["Rwanda",6000,60,null,null,{"$f":"IF(LEN($A397)>1,IF(A397=Dash!$B$2,List!$M$2,B397/SUM($B$2:$B$429)*List!$N$2),#N/A)","v":0.23364485981308408},0,0]
["Saint Kitts and Nevis",6000,60,null,null,{"$f":"IF(LEN($A398)>1,IF(A398=Dash!$B$2,List!$M$2,B398/SUM($B$2:$B$429)*List!$N$2),#N/A)","v":0.23364485981308408},0,0]
["Saint Lucia",6000,60,null,null,{"$f":"IF(LEN($A399)>1,IF(A399=Dash!$B$2,List!$M$2,B399/SUM($B$2:$B$429)*List!$N$2),#N/A)","v":0.23364485981308408},0,0]
["Saint Vincent and the Grenadines",6000,60,null,null,{"$f":"IF(LEN($A400)>1,IF(A400=Dash!$B$2,List!$M$2,B400/SUM($B$2:$B$429)*List!$N$2),#N/A)","v":0.23364485981308408},0,0]
["San Marino",6000,60,null,null,{"$f":"IF(LEN($A401)>1,IF(A401=Dash!$B$2,List!$M$2,B401/SUM($B$2:$B$429)*List!$N$2),#N/A)","v":0.23364485981308408},0,0]
["Saudi Arabia",6000,60,null,null,{"$f":"IF(LEN($A402)>1,IF(A402=Dash!$B$2,List!$M$2,B402/SUM($B$2:$B$429)*List!$N$2),#N/A)","v":0.23364485981308408},0,0]
["Senegal",6000,60,null,null,{"$f":"IF(LEN($A403)>1,IF(A403=Dash!$B$2,List!$M$2,B403/SUM($B$2:$B$429)*List!$N$2),#N/A)","v":0.23364485981308408},0,0]
["Serbia",6000,60,null,null,{"$f":"IF(LEN($A404)>1,IF(A404=Dash!$B$2,List!$M$2,B404/SUM($B$2:$B$429)*List!$N$2),#N/A)","v":0.23364485981308408},0,0]
["Seychelles",6000,60,null,null,{"$f":"IF(LEN($A405)>1,IF(A405=Dash!$B$2,List!$M$2,B405/SUM($B$2:$B$429)*List!$N$2),#N/A)","v":0.23364485981308408},0,0]
["Sierra Leone",6000,60,null,null,{"$f":"IF(LEN($A406)>1,IF(A406=Dash!$B$2,List!$M$2,B406/SUM($B$2:$B$429)*List!$N$2),#N/A)","v":0.23364485981308408},0,0]
["Singapore",6000,60,null,null,{"$f":"IF(LEN($A407)>1,IF(A407=Dash!$B$2,List!$M$2,B407/SUM($B$2:$B$429)*List!$N$2),#N/A)","v":0.23364485981308408},0,0]
["Slovakia",6000,60,null,null,{"$f":"IF(LEN($A408)>1,IF(A408=Dash!$B$2,List!$M$2,B408/SUM($B$2:$B$429)*List!$N$2),#N/A)","v":0.23364485981308408},0,0]
["Slovenia",6000,60,null,null,{"$f":"IF(LEN($A409)>1,IF(A409=Dash!$B$2,List!$M$2,B409/SUM($B$2:$B$429)*List!$N$2),#N/A)","v":0.23364485981308408},0,0]
["Somalia",6000,60,null,null,{"$f":"IF(LEN($A410)>1,IF(A410=Dash!$B$2,List!$M$2,B410/SUM($B$2:$B$429)*List!$N$2),#N/A)","v":0.23364485981308408},0,0]
["South Africa",6000,60,null,null,{"$f":"IF(LEN($A411)>1,IF(A411=Dash!$B$2,List!$M$2,B411/SUM($B$2:$B$429)*List!$N$2),#N/A)","v":0.23364485981308408},0,0]
["South Sudan",6000,60,null,null,{"$f":"IF(LEN($A412)>1,IF(A412=Dash!$B$2,List!$M$2,B412/SUM($B$2:$B$429)*List!$N$2),#N/A)","v":0.23364485981308408},0,0]
["Sri Lanka",6000,60,null,null,{"$f":"IF(LEN($A413)>1,IF(A413=Dash!$B$2,List!$M$2,B413/SUM($B$2:$B$429)*List!$N$2),#N/A)","v":0.23364485981308408},0,0]
["Sudan",6000,60,null,null,{"$f":"IF(LEN($A414)>1,IF(A414=Dash!$B$2,List!$M$2,B414/SUM($B$2:$B$429)*List!$N$2),#N/A)","v":0.23364485981308408},0,0]
["Suriname",6000,60,null,null,{"$f":"IF(LEN($A415)>1,IF(A415=Dash!$B$2,List!$M$2,B415/SUM($B$2:$B$429)*List!$N$2),#N/A)","v":0.23364485981308408},0,0]
["Syria",6000,60,null,null,{"$f":"IF(LEN($A416)>1,IF(A416=Dash!$B$2,List!$M$2,B416/SUM($B$2:$B$429)*List!$N$2),#N/A)","v":0.23364485981308408},0,0]
["Taiwan*",6000,60,null,null,{"$f":"IF(LEN($A417)>1,IF(A417=Dash!$B$2,List!$M$2,B417/SUM($B$2:$B$429)*List!$N$2),#N/A)","v":0.23364485981308408},0,0]
["Timor-Leste",6000,60,null,null,{"$f":"IF(LEN($A418)>1,IF(A418=Dash!$B$2,List!$M$2,B418/SUM($B$2:$B$429)*List!$N$2),#N/A)","v":0.23364485981308408},0,0]
["Togo",6000,60,null,null,{"$f":"IF(LEN($A419)>1,IF(A419=Dash!$B$2,List!$M$2,B419/SUM($B$2:$B$429)*List!$N$2),#N/A)","v":0.23364485981308408},0,0]
["Trinidad and Tobago",6000,60,null,null,{"$f":"IF(LEN($A420)>1,IF(A420=Dash!$B$2,List!$M$2,B420/SUM($B$2:$B$429)*List!$N$2),#N/A)","v":0.23364485981308408},0,0]
["Tunisia",6000,60,null,null,{"$f":"IF(LEN($A421)>1,IF(A421=Dash!$B$2,List!$M$2,B421/SUM($B$2:$B$429)*List!$N$2),#N/A)","v":0.23364485981308408},0,0]
["Uganda",6000,60,null,null,{"$f":"IF(LEN($A422)>1,IF(A422=Dash!$B$2,List!$M$2,B422/SUM($B$2:$B$429)*List!$N$2),#N/A)","v":0.23364485981308408},0,0]
["United Arab Emirates",6000,60,null,null,{"$f":"IF(LEN($A423)>1,IF(A423=Dash!$B$2,List!$M$2,B423/SUM($B$2:$B$429)*List!$N$2),#N/A)","v":0.23364485981308408},{"$f":"IF(LEN($A423)>1,D423,#N/A)","v":0},{"$f":"IF(LEN($A423)>1,E423,#N/A)","v":0}]
["Uruguay",6000,60,null,null,{"$f":"IF(LEN($A424)>1,IF(A424=Dash!$B$2,List!$M$2,B424/SUM($B$2:$B$429)*List!$N$2),#N/A)","v":0.23364485981308408},0,0]
["Venezuela",6000,60,null,null,{"$f":"IF(LEN($A425)>1,IF(A425=Dash!$B$2,List!$M$2,B425/SUM($B$2:$B$429)*List!$N$2),#N/A)","v":0.23364485981308408},0,0]
["Vietnam",6000,60,null,null,{"$f":"IF(LEN($A426)>1,IF(A426=Dash!$B$2,List!$M$2,B426/SUM($B$2:$B$429)*List!$N$2),#N/A)","v":0.23364485981308408},0,0]
["West Bank and Gaza",6000,60,null,null,{"$f":"IF(LEN($A427)>1,IF(A427=Dash!$B$2,List!$M$2,B427/SUM($B$2:$B$429)*List!$N$2),#N/A)","v":0.23364485981308408},0,0]
["Western Sahara",6000,60,null,null,{"$f":"IF(LEN($A428)>1,IF(A428=Dash!$B$2,List!$M$2,B428/SUM($B$2:$B$429)*List!$N$2),#N/A)","v":0.23364485981308408},0,0]
["Lybia",6000,60,-97.5,36,{"$f":"IF(LEN($A429)>1,IF(A429=Dash!$B$2,List!$M$2,B429/SUM($B$2:$B$429)*List!$N$2),#N/A)","v":0.23364485981308408},-97.5,36]

{"sheet":"Gauge","index":11,"n_rows":26,"n_cols":12,"rows_kept":26,"cut":false,"hidden":false,"merged":[]}
[null,"Metric","Needle","x","y","Angle","Radius","Const",null,null,"Criteria","Value"]
[null,"Zero",null,0,0,null,null,null,null,null,"Half Circle",180]
[null,"Closed Cases",{"$f":"Calc!C7*List!N2","v":{"$error":"#DIV/0!"}},{"$f":"(G3*COS(F3*PI()/$L$2))","v":{"$error":"#DIV/0!"}},{"$f":"(G3*SIN(F3*PI()/$L$2))","v":{"$error":"#DIV/0!"}},{"$f":"C3*I3+H3","v":{"$error":"#DIV/0!"}},4.3,{"$f":"-$L$4*$L$2/($L$3-$L$4)","v":180},{"$f":"$L$2/($L$3-$L$4)","v":-1.8},null,"Min",0]
[null,"Leave Blank",null,null,null,null,null,null,null,null,"Max",100]
[null,"Straight Line",{"$f":"L3","v":0},{"$f":"(G5*COS(F5*PI()/$L$2))","v":-4.3},{"$f":"(G5*SIN(F5*PI()/$L$2))","v":5.268138356107066E-16},{"$f":"C5*I5+H5","v":180},{"$f":"G3","v":4.3},{"$f":"-$L$4*$L$2/($L$3-$L$4)","v":180},{"$f":"$L$2/($L$3-$L$4)","v":-1.8},null,"Angle",-5]
[]
[null,null,"Markers"]
[null,"Data Point","Value","x","y","Angle","Radius","Const","Grad",null,"Doughnut"]
[null,"Data Point 1",-10,{"$f":"G9*COS(F9*PI()/$L$2)","v":-4.0895430200691596},{"$f":"G9*SIN(F9*PI()/$L$2)","v":-1.3287730758122751},{"$f":"C9*I9+H9","v":198},4.3,{"$f":"-$L$4*$L$2/($L$3-$L$4)","v":180},{"$f":"$L$2/($L$3-$L$4)","v":-1.8},null,5]
[null,"Data Point 2",0,{"$f":"G10*COS(F10*PI()/$L$2)","v":-4.3},{"$f":"G10*SIN(F10*PI()/$L$2)","v":5.268138356107066E-16},{"$f":"C10*I10+H10","v":180},4.3,{"$f":"-$L$4*$L$2/($L$3-$L$4)","v":180},{"$f":"$L$2/($L$3-$L$4)","v":-1.8},null,5]
[null,"Data Point 3",10,-4.0895430200691596,1.3287730758122742,162,4.3,180,-1.8,null,5]
[null,"Data Point 4",20,-3.4787730758122732,2.5274765848576348,144,4.3,180,-1.8,null,5]
[null,"Data Point 5",30,-2.5274765848576339,3.4787730758122737,126,4.3,180,-1.8,null,5]
[null,"Data Point 6",40,-1.3287730758122736,4.0895430200691605,108,4.3,180,-1.8,null,5]
[null,"Data Point 7",50,2.634069178053533E-16,4.3,90,4.3,180,-1.8,null,5]
[null,"Data Point 8",60,1.328773075812274,4.0895430200691596,72,4.3,180,-1.8,null,5]
[null,"Data Point 9",70,2.5274765848576344,3.4787730758122737,54,4.3,180,-1.8,null,5]
[null,"Data Point 10",80,3.4787730758122737,2.5274765848576344,36,4.3,180,-1.8,null,5]
[null,"Data Point 11",90,4.0895430200691596,1.3287730758122738,18,4.3,180,-1.8,null,50]
[null,"Data Point 12",100,4.3,0,0,4.3,180,-1.8]
[]
[null,"Sandpit"]
[null,"Zero",null,0,0]
[null,"Closed Cases",45,{"$f":"(G24*COS(F24*PI()/$L$2))","v":-0.67266819967299341},{"$f":"(G24*SIN(F24*PI()/$L$2))","v":4.247059864559092},{"$f":"C24*I24+H24","v":99},4.3,{"$f":"-$L$4*$L$2/($L$3-$L$4)","v":180},{"$f":"$L$2/($L$3-$L$4)","v":-1.8}]
[null,"Leave Blank"]
[null,"Straight Line",{"$f":"L24","v":0},{"$f":"(G26*COS(F26*PI()/$L$2))","v":-4.3},{"$f":"(G26*SIN(F26*PI()/$L$2))","v":5.268138356107066E-16},{"$f":"C26*I26+H26","v":180},{"$f":"G24","v":4.3},{"$f":"-$L$4*$L$2/($L$3-$L$4)","v":180},{"$f":"$L$2/($L$3-$L$4)","v":-1.8}]

{"sheet":"Line","index":12,"n_rows":103,"n_cols":7,"rows_kept":103,"cut":false,"hidden":false,"merged":[]}
[null,"Channel","Row Labels","Confirmed","Deaths","Recovered","Active"]
[null,{"$f":"IF(Dash!$B$2=\"All\", \"*\",Dash!$B$2)","v":"United Kingdom"},{"$f":"IF(Timing!B2>Date,NA(),Timing!B2)","v":"2020-01-22"}]
[null,{"$f":"IF(Dash!$B$2=\"All\", \"*\",Dash!$B$2)","v":"United Kingdom"},{"$f":"IF(Timing!B3>Date,NA(),Timing!B3)","v":"2020-01-23"}]
[null,{"$f":"IF(Dash!$B$2=\"All\", \"*\",Dash!$B$2)","v":"United Kingdom"},{"$f":"IF(Timing!B4>Date,NA(),Timing!B4)","v":"2020-01-24"}]
[null,{"$f":"IF(Dash!$B$2=\"All\", \"*\",Dash!$B$2)","v":"United Kingdom"},{"$f":"IF(Timing!B5>Date,NA(),Timing!B5)","v":"2020-01-25"}]
[null,{"$f":"IF(Dash!$B$2=\"All\", \"*\",Dash!$B$2)","v":"United Kingdom"},{"$f":"IF(Timing!B6>Date,NA(),Timing!B6)","v":"2020-01-26"}]
[null,{"$f":"IF(Dash!$B$2=\"All\", \"*\",Dash!$B$2)","v":"United Kingdom"},{"$f":"IF(Timing!B7>Date,NA(),Timing!B7)","v":"2020-01-27"}]
[null,{"$f":"IF(Dash!$B$2=\"All\", \"*\",Dash!$B$2)","v":"United Kingdom"},{"$f":"IF(Timing!B8>Date,NA(),Timing!B8)","v":"2020-01-28"}]
[null,{"$f":"IF(Dash!$B$2=\"All\", \"*\",Dash!$B$2)","v":"United Kingdom"},{"$f":"IF(Timing!B9>Date,NA(),Timing!B9)","v":"2020-01-29"}]
[null,{"$f":"IF(Dash!$B$2=\"All\", \"*\",Dash!$B$2)","v":"United Kingdom"},{"$f":"IF(Timing!B10>Date,NA(),Timing!B10)","v":"2020-01-30"}]
[null,{"$f":"IF(Dash!$B$2=\"All\", \"*\",Dash!$B$2)","v":"United Kingdom"},{"$f":"IF(Timing!B11>Date,NA(),Timing!B11)","v":"2020-01-31"}]
[null,{"$f":"IF(Dash!$B$2=\"All\", \"*\",Dash!$B$2)","v":"United Kingdom"},{"$f":"IF(Timing!B12>Date,NA(),Timing!B12)","v":"2020-02-01"}]
[null,{"$f":"IF(Dash!$B$2=\"All\", \"*\",Dash!$B$2)","v":"United Kingdom"},{"$f":"IF(Timing!B13>Date,NA(),Timing!B13)","v":"2020-02-02"}]
[null,{"$f":"IF(Dash!$B$2=\"All\", \"*\",Dash!$B$2)","v":"United Kingdom"},{"$f":"IF(Timing!B14>Date,NA(),Timing!B14)","v":"2020-02-03"}]
[null,{"$f":"IF(Dash!$B$2=\"All\", \"*\",Dash!$B$2)","v":"United Kingdom"},{"$f":"IF(Timing!B15>Date,NA(),Timing!B15)","v":"2020-02-04"}]
[null,{"$f":"IF(Dash!$B$2=\"All\", \"*\",Dash!$B$2)","v":"United Kingdom"},{"$f":"IF(Timing!B16>Date,NA(),Timing!B16)","v":"2020-02-05"}]
[null,{"$f":"IF(Dash!$B$2=\"All\", \"*\",Dash!$B$2)","v":"United Kingdom"},{"$f":"IF(Timing!B17>Date,NA(),Timing!B17)","v":"2020-02-06"}]
[null,{"$f":"IF(Dash!$B$2=\"All\", \"*\",Dash!$B$2)","v":"United Kingdom"},{"$f":"IF(Timing!B18>Date,NA(),Timing!B18)","v":"2020-02-07"}]
[null,{"$f":"IF(Dash!$B$2=\"All\", \"*\",Dash!$B$2)","v":"United Kingdom"},{"$f":"IF(Timing!B19>Date,NA(),Timing!B19)","v":"2020-02-08"}]
[null,{"$f":"IF(Dash!$B$2=\"All\", \"*\",Dash!$B$2)","v":"United Kingdom"},{"$f":"IF(Timing!B20>Date,NA(),Timing!B20)","v":"2020-02-09"}]
[null,{"$f":"IF(Dash!$B$2=\"All\", \"*\",Dash!$B$2)","v":"United Kingdom"},{"$f":"IF(Timing!B21>Date,NA(),Timing!B21)","v":"2020-02-10"}]
[null,{"$f":"IF(Dash!$B$2=\"All\", \"*\",Dash!$B$2)","v":"United Kingdom"},{"$f":"IF(Timing!B22>Date,NA(),Timing!B22)","v":"2020-02-11"}]
[null,{"$f":"IF(Dash!$B$2=\"All\", \"*\",Dash!$B$2)","v":"United Kingdom"},{"$f":"IF(Timing!B23>Date,NA(),Timing!B23)","v":"2020-02-12"}]
[null,{"$f":"IF(Dash!$B$2=\"All\", \"*\",Dash!$B$2)","v":"United Kingdom"},{"$f":"IF(Timing!B24>Date,NA(),Timing!B24)","v":"2020-02-13"}]
[null,{"$f":"IF(Dash!$B$2=\"All\", \"*\",Dash!$B$2)","v":"United Kingdom"},{"$f":"IF(Timing!B25>Date,NA(),Timing!B25)","v":"2020-02-14"}]
[null,{"$f":"IF(Dash!$B$2=\"All\", \"*\",Dash!$B$2)","v":"United Kingdom"},{"$f":"IF(Timing!B26>Date,NA(),Timing!B26)","v":"2020-02-15"}]
[null,{"$f":"IF(Dash!$B$2=\"All\", \"*\",Dash!$B$2)","v":"United Kingdom"},{"$f":"IF(Timing!B27>Date,NA(),Timing!B27)","v":"2020-02-16"}]
[null,{"$f":"IF(Dash!$B$2=\"All\", \"*\",Dash!$B$2)","v":"United Kingdom"},{"$f":"IF(Timing!B28>Date,NA(),Timing!B28)","v":"2020-02-17"}]
[null,{"$f":"IF(Dash!$B$2=\"All\", \"*\",Dash!$B$2)","v":"United Kingdom"},{"$f":"IF(Timing!B29>Date,NA(),Timing!B29)","v":"2020-02-18"}]
[null,{"$f":"IF(Dash!$B$2=\"All\", \"*\",Dash!$B$2)","v":"United Kingdom"},{"$f":"IF(Timing!B30>Date,NA(),Timing!B30)","v":"2020-02-19"}]
[null,{"$f":"IF(Dash!$B$2=\"All\", \"*\",Dash!$B$2)","v":"United Kingdom"},{"$f":"IF(Timing!B31>Date,NA(),Timing!B31)","v":"2020-02-20"}]
[null,{"$f":"IF(Dash!$B$2=\"All\", \"*\",Dash!$B$2)","v":"United Kingdom"},{"$f":"IF(Timing!B32>Date,NA(),Timing!B32)","v":"2020-02-21"}]
[null,{"$f":"IF(Dash!$B$2=\"All\", \"*\",Dash!$B$2)","v":"United Kingdom"},{"$f":"IF(Timing!B33>Date,NA(),Timing!B33)","v":"2020-02-22"}]
[null,{"$f":"IF(Dash!$B$2=\"All\", \"*\",Dash!$B$2)","v":"United Kingdom"},{"$f":"IF(Timing!B34>Date,NA(),Timing!B34)","v":"2020-02-23"}]
[null,{"$f":"IF(Dash!$B$2=\"All\", \"*\",Dash!$B$2)","v":"United Kingdom"},{"$f":"IF(Timing!B35>Date,NA(),Timing!B35)","v":"2020-02-24"}]
[null,{"$f":"IF(Dash!$B$2=\"All\", \"*\",Dash!$B$2)","v":"United Kingdom"},{"$f":"IF(Timing!B36>Date,NA(),Timing!B36)","v":"2020-02-25"}]
[null,{"$f":"IF(Dash!$B$2=\"All\", \"*\",Dash!$B$2)","v":"United Kingdom"},{"$f":"IF(Timing!B37>Date,NA(),Timing!B37)","v":"2020-02-26"}]
[null,{"$f":"IF(Dash!$B$2=\"All\", \"*\",Dash!$B$2)","v":"United Kingdom"},{"$f":"IF(Timing!B38>Date,NA(),Timing!B38)","v":"2020-02-27"}]
[null,{"$f":"IF(Dash!$B$2=\"All\", \"*\",Dash!$B$2)","v":"United Kingdom"},{"$f":"IF(Timing!B39>Date,NA(),Timing!B39)","v":"2020-02-28"}]
[null,{"$f":"IF(Dash!$B$2=\"All\", \"*\",Dash!$B$2)","v":"United Kingdom"},{"$f":"IF(Timing!B40>Date,NA(),Timing!B40)","v":"2020-02-29"}]
[null,{"$f":"IF(Dash!$B$2=\"All\", \"*\",Dash!$B$2)","v":"United Kingdom"},{"$f":"IF(Timing!B41>Date,NA(),Timing!B41)","v":"2020-03-01"}]
[null,{"$f":"IF(Dash!$B$2=\"All\", \"*\",Dash!$B$2)","v":"United Kingdom"},{"$f":"IF(Timing!B42>Date,NA(),Timing!B42)","v":"2020-03-02"}]
[null,{"$f":"IF(Dash!$B$2=\"All\", \"*\",Dash!$B$2)","v":"United Kingdom"},{"$f":"IF(Timing!B43>Date,NA(),Timing!B43)","v":"2020-03-03"}]
[null,{"$f":"IF(Dash!$B$2=\"All\", \"*\",Dash!$B$2)","v":"United Kingdom"},{"$f":"IF(Timing!B44>Date,NA(),Timing!B44)","v":"2020-03-04"}]
[null,{"$f":"IF(Dash!$B$2=\"All\", \"*\",Dash!$B$2)","v":"United Kingdom"},{"$f":"IF(Timing!B45>Date,NA(),Timing!B45)","v":"2020-03-05"}]
[null,{"$f":"IF(Dash!$B$2=\"All\", \"*\",Dash!$B$2)","v":"United Kingdom"},{"$f":"IF(Timing!B46>Date,NA(),Timing!B46)","v":"2020-03-06"}]
[null,{"$f":"IF(Dash!$B$2=\"All\", \"*\",Dash!$B$2)","v":"United Kingdom"},{"$f":"IF(Timing!B47>Date,NA(),Timing!B47)","v":"2020-03-07"}]
[null,{"$f":"IF(Dash!$B$2=\"All\", \"*\",Dash!$B$2)","v":"United Kingdom"},{"$f":"IF(Timing!B48>Date,NA(),Timing!B48)","v":"2020-03-08"}]
[null,{"$f":"IF(Dash!$B$2=\"All\", \"*\",Dash!$B$2)","v":"United Kingdom"},{"$f":"IF(Timing!B49>Date,NA(),Timing!B49)","v":"2020-03-09"}]
[null,{"$f":"IF(Dash!$B$2=\"All\", \"*\",Dash!$B$2)","v":"United Kingdom"},{"$f":"IF(Timing!B50>Date,NA(),Timing!B50)","v":"2020-03-10"}]
[null,{"$f":"IF(Dash!$B$2=\"All\", \"*\",Dash!$B$2)","v":"United Kingdom"},{"$f":"IF(Timing!B51>Date,NA(),Timing!B51)","v":"2020-03-11"}]
[null,{"$f":"IF(Dash!$B$2=\"All\", \"*\",Dash!$B$2)","v":"United Kingdom"},{"$f":"IF(Timing!B52>Date,NA(),Timing!B52)","v":"2020-03-12"}]
[null,{"$f":"IF(Dash!$B$2=\"All\", \"*\",Dash!$B$2)","v":"United Kingdom"},{"$f":"IF(Timing!B53>Date,NA(),Timing!B53)","v":"2020-03-13"}]
[null,{"$f":"IF(Dash!$B$2=\"All\", \"*\",Dash!$B$2)","v":"United Kingdom"},{"$f":"IF(Timing!B54>Date,NA(),Timing!B54)","v":"2020-03-14"}]
[null,{"$f":"IF(Dash!$B$2=\"All\", \"*\",Dash!$B$2)","v":"United Kingdom"},{"$f":"IF(Timing!B55>Date,NA(),Timing!B55)","v":"2020-03-15"}]
[null,{"$f":"IF(Dash!$B$2=\"All\", \"*\",Dash!$B$2)","v":"United Kingdom"},{"$f":"IF(Timing!B56>Date,NA(),Timing!B56)","v":"2020-03-16"}]
[null,{"$f":"IF(Dash!$B$2=\"All\", \"*\",Dash!$B$2)","v":"United Kingdom"},{"$f":"IF(Timing!B57>Date,NA(),Timing!B57)","v":"2020-03-17"}]
[null,{"$f":"IF(Dash!$B$2=\"All\", \"*\",Dash!$B$2)","v":"United Kingdom"},{"$f":"IF(Timing!B58>Date,NA(),Timing!B58)","v":"2020-03-18"}]
[null,{"$f":"IF(Dash!$B$2=\"All\", \"*\",Dash!$B$2)","v":"United Kingdom"},{"$f":"IF(Timing!B59>Date,NA(),Timing!B59)","v":"2020-03-19"}]
[null,{"$f":"IF(Dash!$B$2=\"All\", \"*\",Dash!$B$2)","v":"United Kingdom"},{"$f":"IF(Timing!B60>Date,NA(),Timing!B60)","v":"2020-03-20"}]
[null,{"$f":"IF(Dash!$B$2=\"All\", \"*\",Dash!$B$2)","v":"United Kingdom"},{"$f":"IF(Timing!B61>Date,NA(),Timing!B61)","v":"2020-03-21"}]
[null,{"$f":"IF(Dash!$B$2=\"All\", \"*\",Dash!$B$2)","v":"United Kingdom"},{"$f":"IF(Timing!B62>Date,NA(),Timing!B62)","v":"2020-03-22"}]
[null,{"$f":"IF(Dash!$B$2=\"All\", \"*\",Dash!$B$2)","v":"United Kingdom"},{"$f":"IF(Timing!B63>Date,NA(),Timing!B63)","v":"2020-03-23"}]
[null,{"$f":"IF(Dash!$B$2=\"All\", \"*\",Dash!$B$2)","v":"United Kingdom"},{"$f":"IF(Timing!B64>Date,NA(),Timing!B64)","v":"2020-03-24"}]
[null,{"$f":"IF(Dash!$B$2=\"All\", \"*\",Dash!$B$2)","v":"United Kingdom"},{"$f":"IF(Timing!B65>Date,NA(),Timing!B65)","v":"2020-03-25"}]
[null,{"$f":"IF(Dash!$B$2=\"All\", \"*\",Dash!$B$2)","v":"United Kingdom"},{"$f":"IF(Timing!B66>Date,NA(),Timing!B66)","v":"2020-03-26"}]
[null,{"$f":"IF(Dash!$B$2=\"All\", \"*\",Dash!$B$2)","v":"United Kingdom"},{"$f":"IF(Timing!B67>Date,NA(),Timing!B67)","v":"2020-03-27"}]
[null,{"$f":"IF(Dash!$B$2=\"All\", \"*\",Dash!$B$2)","v":"United Kingdom"},{"$f":"IF(Timing!B68>Date,NA(),Timing!B68)","v":"2020-03-28"}]
[null,{"$f":"IF(Dash!$B$2=\"All\", \"*\",Dash!$B$2)","v":"United Kingdom"},{"$f":"IF(Timing!B69>Date,NA(),Timing!B69)","v":"2020-03-29"}]
[null,{"$f":"IF(Dash!$B$2=\"All\", \"*\",Dash!$B$2)","v":"United Kingdom"},{"$f":"IF(Timing!B70>Date,NA(),Timing!B70)","v":"2020-03-30"}]
[null,{"$f":"IF(Dash!$B$2=\"All\", \"*\",Dash!$B$2)","v":"United Kingdom"},{"$f":"IF(Timing!B71>Date,NA(),Timing!B71)","v":"2020-03-31"}]
[null,{"$f":"IF(Dash!$B$2=\"All\", \"*\",Dash!$B$2)","v":"United Kingdom"},{"$f":"IF(Timing!B72>Date,NA(),Timing!B72)","v":"2020-04-01"}]
[null,{"$f":"IF(Dash!$B$2=\"All\", \"*\",Dash!$B$2)","v":"United Kingdom"},{"$f":"IF(Timing!B73>Date,NA(),Timing!B73)","v":"2020-04-02"}]
[null,{"$f":"IF(Dash!$B$2=\"All\", \"*\",Dash!$B$2)","v":"United Kingdom"},{"$f":"IF(Timing!B74>Date,NA(),Timing!B74)","v":"2020-04-03"}]
[null,{"$f":"IF(Dash!$B$2=\"All\", \"*\",Dash!$B$2)","v":"United Kingdom"},{"$f":"IF(Timing!B75>Date,NA(),Timing!B75)","v":"2020-04-04"}]
[null,{"$f":"IF(Dash!$B$2=\"All\", \"*\",Dash!$B$2)","v":"United Kingdom"},{"$f":"IF(Timing!B76>Date,NA(),Timing!B76)","v":"2020-04-05"}]
[null,{"$f":"IF(Dash!$B$2=\"All\", \"*\",Dash!$B$2)","v":"United Kingdom"},{"$f":"IF(Timing!B77>Date,NA(),Timing!B77)","v":"2020-04-06"}]
[null,{"$f":"IF(Dash!$B$2=\"All\", \"*\",Dash!$B$2)","v":"United Kingdom"},{"$f":"IF(Timing!B78>Date,NA(),Timing!B78)","v":"2020-04-07"}]
[null,{"$f":"IF(Dash!$B$2=\"All\", \"*\",Dash!$B$2)","v":"United Kingdom"},{"$f":"IF(Timing!B79>Date,NA(),Timing!B79)","v":"2020-04-08"}]
[null,{"$f":"IF(Dash!$B$2=\"All\", \"*\",Dash!$B$2)","v":"United Kingdom"},{"$f":"IF(Timing!B80>Date,NA(),Timing!B80)","v":"2020-04-09"}]
[null,{"$f":"IF(Dash!$B$2=\"All\", \"*\",Dash!$B$2)","v":"United Kingdom"},{"$f":"IF(Timing!B81>Date,NA(),Timing!B81)","v":"2020-04-10"}]
[null,{"$f":"IF(Dash!$B$2=\"All\", \"*\",Dash!$B$2)","v":"United Kingdom"},{"$f":"IF(Timing!B82>Date,NA(),Timing!B82)","v":"2020-04-11"}]
[null,{"$f":"IF(Dash!$B$2=\"All\", \"*\",Dash!$B$2)","v":"United Kingdom"},{"$f":"IF(Timing!B83>Date,NA(),Timing!B83)","v":"2020-04-12"}]
[null,{"$f":"IF(Dash!$B$2=\"All\", \"*\",Dash!$B$2)","v":"United Kingdom"},{"$f":"IF(Timing!B84>Date,NA(),Timing!B84)","v":"2020-04-13"}]
[null,{"$f":"IF(Dash!$B$2=\"All\", \"*\",Dash!$B$2)","v":"United Kingdom"},{"$f":"IF(Timing!B85>Date,NA(),Timing!B85)","v":"2020-04-14"}]
[null,{"$f":"IF(Dash!$B$2=\"All\", \"*\",Dash!$B$2)","v":"United Kingdom"},{"$f":"IF(Timing!B86>Date,NA(),Timing!B86)","v":"2020-04-15"}]
[null,{"$f":"IF(Dash!$B$2=\"All\", \"*\",Dash!$B$2)","v":"United Kingdom"},{"$f":"IF(Timing!B87>Date,NA(),Timing!B87)","v":"2020-04-16"}]
[null,{"$f":"IF(Dash!$B$2=\"All\", \"*\",Dash!$B$2)","v":"United Kingdom"},{"$f":"IF(Timing!B88>Date,NA(),Timing!B88)","v":"2020-04-17"}]
[null,{"$f":"IF(Dash!$B$2=\"All\", \"*\",Dash!$B$2)","v":"United Kingdom"},{"$f":"IF(Timing!B89>Date,NA(),Timing!B89)","v":"2020-04-18"}]
[null,{"$f":"IF(Dash!$B$2=\"All\", \"*\",Dash!$B$2)","v":"United Kingdom"},{"$f":"IF(Timing!B90>Date,NA(),Timing!B90)","v":"2020-04-19"}]
[null,{"$f":"IF(Dash!$B$2=\"All\", \"*\",Dash!$B$2)","v":"United Kingdom"},{"$f":"IF(Timing!B91>Date,NA(),Timing!B91)","v":"2020-04-20"}]
[null,{"$f":"IF(Dash!$B$2=\"All\", \"*\",Dash!$B$2)","v":"United Kingdom"},{"$f":"IF(Timing!B92>Date,NA(),Timing!B92)","v":"2020-04-21"}]
[null,{"$f":"IF(Dash!$B$2=\"All\", \"*\",Dash!$B$2)","v":"United Kingdom"},{"$f":"IF(Timing!B93>Date,NA(),Timing!B93)","v":"2020-04-22"}]
[null,{"$f":"IF(Dash!$B$2=\"All\", \"*\",Dash!$B$2)","v":"United Kingdom"},{"$f":"IF(Timing!B94>Date,NA(),Timing!B94)","v":"2020-04-23"}]
[null,{"$f":"IF(Dash!$B$2=\"All\", \"*\",Dash!$B$2)","v":"United Kingdom"},{"$f":"IF(Timing!B95>Date,NA(),Timing!B95)","v":"2020-04-24"}]
[null,{"$f":"IF(Dash!$B$2=\"All\", \"*\",Dash!$B$2)","v":"United Kingdom"},{"$f":"IF(Timing!B96>Date,NA(),Timing!B96)","v":"2020-04-25"}]
[null,{"$f":"IF(Dash!$B$2=\"All\", \"*\",Dash!$B$2)","v":"United Kingdom"},{"$f":"IF(Timing!B97>Date,NA(),Timing!B97)","v":"2020-04-26"}]
[null,{"$f":"IF(Dash!$B$2=\"All\", \"*\",Dash!$B$2)","v":"United Kingdom"},{"$f":"IF(Timing!B98>Date,NA(),Timing!B98)","v":"2020-04-27"}]
[null,{"$f":"IF(Dash!$B$2=\"All\", \"*\",Dash!$B$2)","v":"United Kingdom"},{"$f":"IF(Timing!B99>Date,NA(),Timing!B99)","v":"2020-04-28"}]
[null,{"$f":"IF(Dash!$B$2=\"All\", \"*\",Dash!$B$2)","v":"United Kingdom"},{"$f":"IF(Timing!B100>Date,NA(),Timing!B100)","v":"2020-04-29"}]
[null,{"$f":"IF(Dash!$B$2=\"All\", \"*\",Dash!$B$2)","v":"United Kingdom"},{"$f":"IF(Timing!B101>Date,NA(),Timing!B101)","v":"2020-04-30"}]
[null,{"$f":"IF(Dash!$B$2=\"All\", \"*\",Dash!$B$2)","v":"United Kingdom"},{"$f":"IF(Timing!B102>Date,NA(),Timing!B102)","v":"2020-05-01"}]
[null,{"$f":"IF(Dash!$B$2=\"All\", \"*\",Dash!$B$2)","v":"United Kingdom"},{"$f":"IF(Timing!B103>Date,NA(),Timing!B103)","v":"2020-05-02"}]

{"sheet":"Bar","index":13,"n_rows":30,"n_cols":12,"rows_kept":30,"cut":false,"hidden":false,"merged":[]}
[null,"Confirmed",null,null,null,"Deaths",null,null,null,"Recovered"]
[null,"Confirmed",{"$f":"Calc!C3","v":0},null,null,"Deaths",{"$f":"Calc!C4","v":0},null,null,"Recovered",{"$f":"Calc!C5","v":0}]
[null,"Past",{"$f":"Calc!D3","v":0},null,null,"Past",{"$f":"Calc!D4","v":0},null,null,"Past",{"$f":"Calc!D5","v":0}]
[null,"Deviation",0,null,null,"Deviation",0,null,null,"Deviation",0]
[]
[null,"Below",{"$f":"MIN(C2:C3)","v":0},null,null,"Below",{"$f":"MIN(G2:G3)","v":0},null,null,"Below",{"$f":"MIN(K2:K3)","v":0}]
[null,"Invisible",{"$f":"IF(AND(C3>C2,(C3-C2)/C3>=C4),C3-C2,NA())","v":{"$error":"#DIV/0!"}},null,null,"Invisible",{"$f":"IF(AND(G3>G2,(G3-G2)/G3>=G4),G3-G2,NA())","v":{"$error":"#DIV/0!"}},null,null,"Invisible",{"$f":"IF(AND(K3>K2,(K3-K2)/K3>=K4),K3-K2,NA())","v":{"$error":"#DIV/0!"}}]
[null,"Above",{"$f":"IF(AND(C3<C2,(C2-C3)/C3>=C4),C2-C3,NA())","v":{"$error":"#DIV/0!"}},null,null,"Above",{"$f":"IF(AND(G3<G2,(G2-G3)/G3>=G4),G2-G3,NA())","v":{"$error":"#DIV/0!"}},null,null,"Above",{"$f":"IF(AND(K3<K2,(K2-K3)/K3>=K4),K2-K3,NA())","v":{"$error":"#DIV/0!"}}]
[]
[null,"% of Target",{"$f":"(C3-C2)/C3","v":{"$error":"#DIV/0!"}},null,null,"% of Target",{"$f":"(G3-G2)/G3","v":{"$error":"#DIV/0!"}},null,null,"% of Target",{"$f":"(K3-K2)/K3","v":{"$error":"#DIV/0!"}}]
[null,"Exc. in % of Target",{"$f":"(C2-C3)/C3","v":{"$error":"#DIV/0!"}},null,null,"Exc. in % of Target",{"$f":"(G2-G3)/G3","v":{"$error":"#DIV/0!"}},null,null,"Exc. in % of Target",{"$f":"(K2-K3)/K3","v":{"$error":"#DIV/0!"}}]
[]
[null,"Confirmed",{"$f":"C2","v":0},{"$f":"C2","v":0},null,"Confirmed",{"$f":"G2","v":0},{"$f":"G2","v":0},null,"Confirmed",{"$f":"K2","v":0},{"$f":"K2","v":0}]
[null,"Target Y",0,1,null,"Target Y",0,1,null,"Target Y",0,1]
[null,"Scale Target",{"$f":"MAX(C2:C3)","v":0},{"$f":"C15","v":0},null,"Scale Target",{"$f":"MAX(G2:G3)","v":0},{"$f":"G15","v":0},null,"Scale Target",{"$f":"MAX(K2:K3)","v":0},{"$f":"K15","v":0}]
[]
[null,null,"X","Y",null,null,"X","Y",null,null,"X","Y"]
[null,"Gap Center",{"$f":"C2+C7/List!$Q$2","v":{"$error":"#DIV/0!"}},{"$f":"(D14-C14)/List!$Q$2","v":0.5},null,"Gap Center",{"$f":"G2+G7/List!$Q$2","v":{"$error":"#DIV/0!"}},{"$f":"(H14-G14)/List!$Q$2","v":0.5},null,"Gap Center",{"$f":"K2+K7/List!$Q$2","v":{"$error":"#DIV/0!"}},{"$f":"(L14-K14)/List!$Q$2","v":0.5}]
[null,"Gap Error Bar",{"$f":"C7/List!$Q$2","v":{"$error":"#DIV/0!"}},null,null,"Gap Error Bar",{"$f":"G7/List!$Q$2","v":{"$error":"#DIV/0!"}},null,null,"Gap Error Bar",{"$f":"K7/List!$Q$2","v":{"$error":"#DIV/0!"}}]
[]
[null,"Exceedance Center",{"$f":"C3+C8/List!$Q$2","v":{"$error":"#DIV/0!"}},{"$f":"(D14-C14)/List!$Q$2","v":0.5},null,"Exceedance Center",{"$f":"G3+G8/List!$Q$2","v":{"$error":"#DIV/0!"}},{"$f":"(H14-G14)/List!$Q$2","v":0.5},null,"Exceedance Center",{"$f":"K3+K8/List!$Q$2","v":{"$error":"#DIV/0!"}},{"$f":"(L14-K14)/List!$Q$2","v":0.5}]
[null,"Exceedance Error Bar",{"$f":"C8/List!$Q$2","v":{"$error":"#DIV/0!"}},null,null,"Exceedance Error Bar",{"$f":"G8/List!$Q$2","v":{"$error":"#DIV/0!"}},null,null,"Exceedance Error Bar",{"$f":"K8/List!$Q$2","v":{"$error":"#DIV/0!"}}]
[]
[null,"Dummy Data for Sandbox"]
[null,"Confirmed",{"$f":"C13*1.2","v":0},{"$f":"D13*1.2","v":0}]
[null,"Target Y",0,1]
[]
[]
[null,null,null,null,null,"Bar Chart Sandbox"]
[null,null,null,null,null,"PY - Actual - Target (Green)"]

{"sheet":"Check","index":14,"n_rows":38,"n_cols":6,"rows_kept":38,"cut":false,"hidden":false,"merged":[]}
[null,"Country Check"]
[null,"Check","Tap Source","Reported","Variance","Date"]
[null,"Confirmed",{"$f":"SUMIFS(URL_2[Data],URL_2[Reports],$B3,URL_2[Date],$F$3,URL_2[Country/Region],Dash!$B$2)","v":183500},{"$f":"Calc!C3","v":0},{"$f":"C3-D3","v":183500},{"$f":"Date","v":"2020-05-02"}]
[null,"Deaths",{"$f":"SUMIFS(URL_2[Data],URL_2[Reports],$B4,URL_2[Date],$F$3,URL_2[Country/Region],Dash!$B$2)","v":28205},{"$f":"Calc!C4","v":0},{"$f":"C4-D4","v":28205}]
[null,"Recovered",{"$f":"SUMIFS(URL_2[Data],URL_2[Reports],$B5,URL_2[Date],$F$3,URL_2[Country/Region],Dash!$B$2)","v":896},{"$f":"Calc!C5","v":0},896]
[]
[null,"Balance",{"$f":"E7=0","v":false},null,{"$f":"SUM(E3:E6)","v":212601}]
[]
[]
[null,"High Level Check"]
[null,"Check","Tap Source","Reported","Variance","Date"]
[null,"Confirmed",{"$f":"SUMIFS(URL_2[Data],URL_2[Reports],$B12,URL_2[Date],$F$12)","v":3427343},{"$f":"GETPIVOTDATA(\"data\",Piv!$B$4)","v":{"$error":"#REF!"}},{"$f":"C12-D12","v":{"$error":"#REF!"}},{"$f":"Date","v":"2020-05-02"}]
[null,"Deaths",{"$f":"SUMIFS(URL_2[Data],URL_2[Reports],$B13,URL_2[Date],$F$12)","v":243808},{"$f":"GETPIVOTDATA(\"Data\",Piv!$E$4)","v":{"$error":"#REF!"}},{"$f":"C13-D13","v":{"$error":"#REF!"}}]
[null,"Recovered",{"$f":"SUMIFS(URL_2[Data],URL_2[Reports],$B14,URL_2[Date],$F$12)","v":1093112},{"$f":"GETPIVOTDATA(\"Data\",Piv!$H$4)","v":{"$error":"#REF!"}},{"$error":"#REF!"}]
[]
[null,"Balance",{"$f":"E16=0","v":{"$error":"#REF!"}},null,{"$f":"SUM(E12:E15)","v":{"$error":"#REF!"}}]
[]
[null,{"$f":"IF(AND(C7,C16),List!$Y$4,List!$Y$2)","v":{"$error":"#REF!"}}]
[]
[]
[null,"Charts"]
[null,"Check","Tap Source","Reported","Variance","Date"]
[null,"Confirmed",{"$f":"SUMIFS(URL_2[Data],URL_2[Reports],B23,URL_2[Country/Region],Dash!$B$2,URL_2[Date],$F$23)","v":183500},{"$f":"Calc!C3","v":0},{"$f":"C23-D23","v":183500},{"$f":"Date","v":"2020-05-02"}]
[null,"Deaths",{"$f":"SUMIFS(URL_2[Data],URL_2[Reports],B24,URL_2[Country/Region],Dash!$B$2,URL_2[Date],$F$23)","v":28205},{"$f":"Calc!C4","v":0},{"$f":"C24-D24","v":28205}]
[null,"Recovered",{"$f":"SUMIFS(URL_2[Data],URL_2[Reports],B25,URL_2[Country/Region],Dash!$B$2,URL_2[Date],$F$23)","v":896},{"$f":"Calc!C5","v":0},896]
[]
[null,"Balance",{"$f":"E27=0","v":false},null,{"$f":"SUM(E23:E26)","v":212601}]
[]
[null,{"$f":"IF(C27,List!$Y$5,List!$Y$2)","v":"Check Model"}]
[]
[]
[]
[null,"Check","Tap Source","Reported","Variance"]
[null,"Check Countries",{"$f":"COUNTA(Piv!$B$5:$B$250)-List!J2","v":-1},{"$f":"Calc!C2","v":187},{"$f":"C34-D34","v":-188}]
[]
[null,"Balance",{"$f":"E36=0","v":false},null,{"$f":"SUM(E34:E35)","v":-188}]
[]
[null,{"$f":"IF(C36,List!$Y$7,List!$Y$6)","v":"Check Countries"}]

{"sheet":"Dash","index":15,"n_rows":33,"n_cols":23,"rows_kept":33,"cut":false,"hidden":false,"merged":[[5,1,7,2],[5,18,7,19],[5,21,7,22],[5,24,7,25]]}
[]
[null,"United Kingdom",null,null,null,null,null,null,null,null,null,null,null,null,null,null,null,null,null,null,null,"Active Date >>","2020-05-02"]
[]
[]
[]
[]
[]
[]
[]
[]
[]
[]
[]
[]
[]
[]
[]
[]
[]
[]
[]
[]
[]
[]
[]
[]
[null,{"$f":"Calc!K2","v":"World"},{"$f":"Calc!L2","v":11}]
[null,{"$f":"Calc!K3","v":"Italy"},{"$f":"Calc!L3","v":17}]
[null,{"$f":"Calc!K4","v":"Spain"},{"$f":"Calc!L4","v":13}]
[null,{"$f":"Calc!K5","v":"US"},{"$f":"Calc!L5","v":17}]
[null,{"$f":"Calc!K6","v":"China"},{"$f":"Calc!L6","v":56}]
[]
[null,{"$f":"Check!B18","v":{"$error":"#REF!"}},null,null,"** Source Data on List Sheet",null,null,null,null,null,null,null,null,null,null,null,null,null,null,null,null,null,{"$f":"Check!B29","v":"Check Model"}]